{"text_format":"1","workbook":"xlsx","n_sheets":7,"sheets":["Macros","Summary","Help","Print","Calculations","RawData","Sheet1"],"not_rendered":{"charts":2,"images":76,"macros":1,"external_links":1,"defined_names":59,"comments":0,"pivot_tables":0},"unopened":[],"bounds":{"document_bytes":16777216,"sheet_cells":100000,"rows_first":2000,"rows_last":500,"rows_between":2000,"halvings":0,"cell_chars":16384,"cell_head_chars":4096},"cells_cut":0,"cells_raw":0,"read":"whole","date_system":"1900"}

{"sheet":"Macros","index":0,"n_rows":17,"n_cols":4,"rows_kept":17,"cut":false,"hidden":true,"merged":[[5,3,5,11],[6,3,6,11],[9,3,9,11],[8,3,8,11],[12,3,12,11],[13,3,13,11],[14,3,14,11],[15,3,15,11],[16,3,16,11],[10,3,10,11]]}
[]
[]
[]
[]
[]
[null,null,null,"Your macros are not enabled."]
[null,null,null,"To use the Days Suitable for Fieldwork spreadsheet, you must enable your macros."]
[]
[null,null,null,"Excel 2003"]
[null,null,null,"Please go to Tools/Macro/Security and set your macro security to Medium"]
[null,null,null,"You must then restart Excel and Enable Macros in this spreadsheet"]
[]
[null,null,null,"Excel 2007+"]
[null,null,null," Click the Microsoft Office Button (or File Tab), and then click Excel Options."]
[null,null,null,"In the Trust Center category,click Trust Center Settings, "]
[null,null,null,"and then click the Macro Settings category. Select Disalbe Macros with Notification."]
[null,null,null,"You must restart Excel and allow macros/enable Active content."]

{"sheet":"Summary","index":1,"n_rows":36,"n_cols":13,"rows_kept":36,"cut":false,"hidden":false,"merged":[[2,1,2,13],[5,7,5,13],[26,9,26,12],[5,1,5,5],[7,8,7,12],[11,2,11,4],[24,9,24,12]]}
[]
[]
[null,"Probable Fieldwork Days Model"]
[null,null,null,null,null,null,null,null,null,"version 4.29.16"]
[]
[null,"Scenario",null,null,null,null,null,"Results"]
[]
[null,"State",null,null,null,null,null,null,{"$f":"\"Probability of Completing Acres (\"&fnmonthname(VLOOKUP(cllStartDate,Calculations!$D$56:$F$94,2,FALSE))&\" \"&DAY(VLOOKUP(cllStartDate,Calculations!$D$56:$F$94,2,FALSE))&\" to \"&fnmonthname(VLOOKUP(cllEndDate,Calculations!$D$56:$F$94,3,FALSE))&\" \"&DAY(VLOOKUP(cllEndDate,Calculations!$D$56:$F$94,3,FALSE))&\")\"","v":"Probability of Completing Acres (Oct 21 to Nov 24)"}]
[]
[null,"Region"]
[]
[null,"Implement description","Row crop planter"]
[]
[null,"Implement width (ft)",40]
[null,"Implement speed (mph)",5.5]
[null,"Field efficiency",0.83]
[null,"Acres worked per hour",{"$f":"(C15*C14*C16)/8.25","v":22.133333333333333}]
[]
[null,"Acres",2000]
[null,"Calculated hours needed",{"$f":"C19/C17","v":90.361445783132538}]
[]
[null,"Hours in field per day"]
[null,null,{"$f":"ROUND(MIN(OFFSET(DaylightHours,2,cllStartDate,1,cllEndDate-cllStartDate+1)),1) & \" - \" & ROUND(MAX(OFFSET(DaylightHours,2,cllStartDate,1,cllEndDate-cllStartDate+1)),1)","v":"9.8 - 10.8"}]
[]
[null,null,null,null,null,null,null,null,null,{"$f":"\"Cumulative Acres Completed if Starting \" & fnmonthname(VLOOKUP(cllStartDate,Calculations!$D$56:$F$94,2,FALSE)) & \" \" & DAY(VLOOKUP(cllStartDate,Calculations!$D$56:$F$94,2,FALSE))","v":"Cumulative Acres Completed if Starting Oct 21"}]
[]
[null,"Days worked in 7",7,null,null,null,null,null,"Completion","and Ending on These Dates"]
[null,null,null,null,null,null,null,null,"Percentile",{"$f":"fnmonthname(VLOOKUP(cllEndDate-1,Calculations!$D$56:$F$94,3,FALSE)) & \" \" & DAY(VLOOKUP(cllEndDate-1,Calculations!$D$56:$F$94,3,FALSE))","v":"Nov 17"},{"$f":"fnmonthname(VLOOKUP(cllEndDate,Calculations!$D$56:$F$94,3,FALSE)) & \" \" & DAY(VLOOKUP(cllEndDate,Calculations!$D$56:$F$94,3,FALSE))","v":"Nov 24"},{"$f":"fnmonthname(VLOOKUP(cllEndDate+1,Calculations!$D$56:$F$94,3,FALSE)) & \" \" & DAY(VLOOKUP(cllEndDate+1,Calculations!$D$56:$F$94,3,FALSE))","v":{"$error":"#VALUE!"}},{"$f":"fnmonthname(VLOOKUP(cllEndDate+2,Calculations!$D$56:$F$94,3,FALSE)) & \" \" & DAY(VLOOKUP(cllEndDate+2,Calculations!$D$56:$F$94,3,FALSE))","v":{"$error":"#VALUE!"}}]
[null,"Start date",null,null,null,null,null,null,{"$f":"SMALL(union(Percentile,{50,60,70,80,85,90,95}),ROW(INDIRECT(\"1:8\")))","v":50},{"$f":"PERCENTILE(rngSumAcres0,1-$I29/100)","v":3978.3457527256378},{"$f":"PERCENTILE(rngSumAcres1,1-$I29/100)","v":4519.7374022077784},{"$f":"PERCENTILE(rngSumAcres2,1-$I29/100)","v":4617.136496308497},{"$f":"PERCENTILE(rngSumAcres3,1-$I29/100)","v":3716.7334631598051}]
[null,null,null,null,null,null,null,null,60,3575.846711239556,4086.4986654619074,4090.1646536760422,3569.0112554895345]
[null,"End date",null,null,null,null,null,null,70,3339.1502727965631,3631.1815046920556,3572.0698130522542,3421.2890478192639]
[null,null,null,null,null,null,null,null,80,2719.1040782929358,2945.4546294583083,2787.1750269760864,3087.8237652198395]
[null,"Days in selected period",{"$f":"(cllEndDate-cllStartDate+1)*7","v":35},null,null,null,null,null,85,2356.4004252031209,2703.0338586474272,2478.4278699923316,2828.2195864555506]
[null,"Average days suitable in period",{"$f":"ROUND(AVERAGE(rngSumDays1),1)","v":18.600000000000001},null,null,null,null,null,90,1863.1958126989418,2198.8914695576823,2267.6997405909506,2568.6154076912617]
[null,"Average hours suitable in period",{"$f":"ROUND(AVERAGE(rngSumHours1),0)","v":195},null,null,null,null,null,91.34329597,1677.5745380697285,1999.9999986710568,2211.7634032469382,2498.8703582654157]
[null,"Years of data history ",{"$f":"COUNT(rngSumAcres1)","v":25},null,null,null,null,null,95,1523.5044950138222,1900.3235381986053,2063.3567472754812,2309.0112289269728]

{"sheet":"Help","index":2,"n_rows":31,"n_cols":7,"rows_kept":31,"cut":false,"hidden":false,"merged":[[9,6,10,14],[30,6,30,14],[1,6,1,14],[25,6,25,14],[22,6,22,14],[28,6,28,14],[4,6,4,14],[13,6,13,14],[7,6,7,14],[19,6,19,14]]}
[]
[null,null,null,null,null,null,"Objects"]
[]
[null,null,null,null,null,null,"State and region"]
[null,null,null,null,null,null,"Select your state and USDA crop reporting district from the list of USDA crop reporting districts.  If you are unsure, click on the 'Select Region' button.  You can select your region by clicking on it in the map."]
[]
[null,null,null,null,null,null,"Help Me Decide"]
[null,null,null,null,null,null,"If you are unsure of the speed and field efficiency for your implement, use this button to automatically import engineering estimates."]
[null,null,null,null,null,null,"Field efficiency"]
[null,null,null,null,null,null,"Field efficiency is a decimal between one and zero to account for turning around in fields, refilling planters, etc.  A field efficiency of .70 for a planter can be translated as 30% of the time in the field is not spent putting seed in the ground."]
[]
[]
[null,null,null,null,null,null,"Acres"]
[null,null,null,null,null,null,"Enter the number of acres that you plan to cover with the implement in the time period."]
[]
[null,null,null,null,null,null,"Hours in field per day"]
[null,null,null,null,null,null,"Choose between hours of daylight for that period or enter a constant amount of hours per day."]
[]
[null,null,null,null,null,null,"Days worked in 7"]
[null,null,null,null,null,null,"Enter the number of days that you typically work in a week, such as 6.5."]
[]
[null,null,null,null,null,null,"Dates"]
[null,null,null,null,null,null,"Use the drop-down box to select the beginning and ending dates that you plan to complete fieldwork activity.  The model allows dates in seven day increments."]
[]
[null,null,null,null,null,null,"Chart"]
[null,null,null,null,null,null,"The chart plots acres completed against the probability of completion for the selections made in the scenario.  The green dot marks the acres selected."]
[]
[null,null,null,null,null,null,"Table"]
[null,null,null,null,null,null,"The starting date is the same as the one you selected above.  The ending date is incremented by one week across the columns with the blue highlighted column being the ending date that was selected.  The acres in the table are the acres completed within the starting date and ending date of the column. The rows correspond to the certainty of completing the number of acres with the green row pertaining to the acres entered in the 'Scenario' section."]
[]
[null,null,null,null,null,null,"For additional information, please refer to MU Guide 363 \"Fieldwork Days and Machinery Capacity.\""]

{"sheet":"Print","index":3,"n_rows":38,"n_cols":12,"rows_kept":38,"cut":false,"hidden":true,"merged":[[8,8,8,11],[9,8,9,11],[20,6,20,11]]}
[]
[]
[]
[]
[null,"Probable Fieldwork Days Model"]
[null,{"$f":"NOW()","v":"2020-05-26T17:03:20.240"}]
[]
[]
[null,null,null,null,null,null,null,null,{"$f":"Summary!J25","v":"Cumulative Acres Completed if Starting Oct 21"}]
[null,null,null,null,null,null,null,"Completion","and Ending on These Dates"]
[null,null,null,null,null,null,null,{"$f":"Summary!I28","v":"Percentile"},{"$f":"Summary!J28","v":"Nov 17"},{"$f":"Summary!K28","v":"Nov 24"},{"$f":"Summary!L28","v":{"$error":"#VALUE!"}},{"$f":"Summary!M28","v":{"$error":"#VALUE!"}}]
[null,null,null,null,null,null,null,{"$f":"Summary!I29","v":50},{"$f":"Summary!J29","v":3978.3457527256378},{"$f":"Summary!K29","v":4519.7374022077784},{"$f":"Summary!L29","v":4617.136496308497},{"$f":"Summary!M29","v":3716.7334631598051}]
[null,null,null,null,null,null,null,{"$f":"Summary!I30","v":60},{"$f":"Summary!J30","v":3575.846711239556},{"$f":"Summary!K30","v":4086.4986654619074},{"$f":"Summary!L30","v":4090.1646536760422},{"$f":"Summary!M30","v":3569.0112554895345}]
[null,null,null,null,null,null,null,{"$f":"Summary!I31","v":70},{"$f":"Summary!J31","v":3339.1502727965631},{"$f":"Summary!K31","v":3631.1815046920556},{"$f":"Summary!L31","v":3572.0698130522542},{"$f":"Summary!M31","v":3421.2890478192639}]
[null,null,null,null,null,null,null,{"$f":"Summary!I32","v":80},{"$f":"Summary!J32","v":2719.1040782929358},{"$f":"Summary!K32","v":2945.4546294583083},{"$f":"Summary!L32","v":2787.1750269760864},{"$f":"Summary!M32","v":3087.8237652198395}]
[null,null,null,null,null,null,null,{"$f":"Summary!I33","v":85},{"$f":"Summary!J33","v":2356.4004252031209},{"$f":"Summary!K33","v":2703.0338586474272},{"$f":"Summary!L33","v":2478.4278699923316},{"$f":"Summary!M33","v":2828.2195864555506}]
[null,null,null,null,null,null,null,{"$f":"Summary!I34","v":90},{"$f":"Summary!J34","v":1863.1958126989418},{"$f":"Summary!K34","v":2198.8914695576823},{"$f":"Summary!L34","v":2267.6997405909506},{"$f":"Summary!M34","v":2568.6154076912617}]
[null,null,null,null,null,null,null,{"$f":"Summary!I35","v":91.34329597},{"$f":"Summary!J35","v":1677.5745380697285},{"$f":"Summary!K35","v":1999.9999986710568},{"$f":"Summary!L35","v":2211.7634032469382},{"$f":"Summary!M35","v":2498.8703582654157}]
[null,null,null,null,null,null,null,{"$f":"Summary!I36","v":95},{"$f":"Summary!J36","v":1523.5044950138222},{"$f":"Summary!K36","v":1900.3235381986053},{"$f":"Summary!L36","v":2063.3567472754812},{"$f":"Summary!M36","v":2309.0112289269728}]
[]
[null,null,null,null,null,null,{"$f":"\"Probability of completing acres (\"&fnmonthname(VLOOKUP(cllStartDate,Calculations!$D$56:$F$94,2,TRUE))&\" \"&DAY(VLOOKUP(cllStartDate,Calculations!$D$56:$F$94,2,FALSE))&\" to \"&fnmonthname(VLOOKUP(cllEndDate,Calculations!$D$56:$F$94,3,FALSE))&\" \"&DAY(VLOOKUP(cllEndDate,Calculations!$D$56:$F$94,3,FALSE))&\")\"","v":"Probability of completing acres (Oct 21 to Nov 24)"}]
[null,"Input Data"]
[null,"Hours worked per day",null,null,{"$f":"IF(Calculations!B10=1,ROUND(MIN(OFFSET(DaylightHours,2,cllStartDate,1,cllEndDate-cllStartDate+1)),1) & \" - \" & ROUND(MAX(OFFSET(DaylightHours,2,cllStartDate,1,cllEndDate-cllStartDate+1)),1),Calculations!B11)","v":"9.8 - 10.8"}]
[null,"Days worked per week",null,null,{"$f":"cllDaysPerWeek","v":7}]
[null,"Period selected",null,null,{"$f":"fnmonthname(VLOOKUP(cllStartDate,Calculations!$D$56:$F$94,2,FALSE)) & \" \" & DAY(VLOOKUP(cllStartDate,Calculations!$D$56:$F$94,2,FALSE)) & \" to \" & fnmonthname(VLOOKUP(cllEndDate,Calculations!$D$56:$F$94,3,FALSE)) & \" \" & DAY(VLOOKUP(cllEndDate,Calculations!$D$56:$F$94,3,FALSE))","v":"Oct 21 to Nov 24"}]
[null,"Days in selected period",null,null,{"$f":"(cllEndDate-cllStartDate+1)*7","v":35}]
[]
[null,"Implement",null,null,{"$f":"cllDescription","v":"Row crop planter"}]
[null,"Implement width (ft)",null,null,{"$f":"Summary!C14","v":40}]
[null,"Implement speed (mph)",null,null,{"$f":"cllSpeed","v":5.5}]
[null,"Field efficiency",null,null,{"$f":"cllEfficiency","v":0.83}]
[null,"Calculated acres worked per hour",null,null,{"$f":"Summary!C17","v":22.133333333333333}]
[]
[null,"Average of \"weather\" data for selected period"]
[null,"Average percent of days suitable",null,null,{"$f":"(Summary!C34/Summary!C33)*100","v":53.142857142857146}]
[null,"Average days suitable  for fieldwork",null,null,{"$f":"Summary!C34","v":18.600000000000001}]
[null,"Average hours suitable for fieldwork",null,null,{"$f":"Summary!C35","v":195}]
[null,"Years of data history available for this period",null,null,{"$f":"Summary!C36","v":25}]

{"sheet":"Calculations","index":4,"n_rows":99,"n_cols":67,"rows_kept":99,"cut":false,"hidden":true,"merged":[[0,49,0,51],[0,57,0,59],[0,61,0,63],[0,65,0,66]]}
["User input",null,null,"Probability calculations",null,null,null,null,null,null,null,null,null,null,null,null,null,null,null,null,null,null,null,null,null,null,null,null,null,null,null,null,null,null,null,null,null,"Ends","2020-10-27",{"$f":"AM1+7","v":"2020-11-03"},{"$f":"AN1+7","v":"2020-11-10"},"2020-11-17","2020-11-24",null,null,null,null,null,null,"Week 0",null,null,null,"Week 1",null,null,null,"Week 2",null,null,null,"Week 3",null,null,null,"Chart"]
[null,null,null,"Week ",1,2,3,4,5,6,7,8,9,10,11,12,13,14,15,16,17,18,19,20,21,22,23,24,25,26,27,28,29,30,31,32,33,34,35,36,37,38,39,40,41,42,43,44,null,"Sum days","Sum hours","Sum acres",null,"Sum days","Sum hours","Sum acres",null,"Sum days","Sum hours","Sum acres",null,"Sum days","Sum hours","Sum acres",null,"X","Y"]
["Start date",35,null,1977,{"$f":"IF(TYPE(VLOOKUP($B$6&$D3&E$2,data,$B$7+5,FALSE))=1,VLOOKUP($B$6&$D3&E$2,data,$B$7+5,FALSE),\"\")","v":""},"","","",1.4,0.9,3,6,3.2,5,{"$f":"IF(TYPE(VLOOKUP($B$6&$D3&O$2,data,$B$7+5,FALSE))=1,VLOOKUP($B$6&$D3&O$2,data,$B$7+5,FALSE),\"\")","v":2.4},4.0999999999999996,5.7,5.7,5.6,5.0999999999999996,6.1,4.0999999999999996,4,5.4,{"$f":"IF(TYPE(VLOOKUP($B$6&$D3&Y$2,data,$B$7+5,FALSE))=1,VLOOKUP($B$6&$D3&Y$2,data,$B$7+5,FALSE),\"\")","v":5},6.2,5.7,5,0.3,2.9,5.4,2.8,3.9,0.5,{"$f":"IF(TYPE(VLOOKUP($B$6&$D3&AI$2,data,$B$7+5,FALSE))=1,VLOOKUP($B$6&$D3&AI$2,data,$B$7+5,FALSE),\"\")","v":1.8},3.9,1.9,1.2,4.2,0.4,0.1,0.4,3.1,3.4,3.5,0.5,"","",null,{"$f":"IF(COUNT(INDIRECT(ADDRESS(ROW($A3),4+cllStartDate) & \":\" & ADDRESS(ROW($A3),4+cllEndDate-1))) = (cllEndDate-cllStartDate),SUM(INDIRECT(ADDRESS(ROW($A3),4+cllStartDate) & \":\" & ADDRESS(ROW($A3),4+cllEndDate-1)))*cllDaysPerWeek/7,\"\")","v":5.1000000000000005},{"$f":"IF(AX3<>\"\",IF($B$10=1,SUMPRODUCT(INDIRECT(ADDRESS(INDEX(ROW($A3),1,1),4+cllStartDate) & \":\" & ADDRESS(INDEX(ROW($A3),1,1),4+cllEndDate-1)),INDIRECT(ADDRESS(INDEX(ROW($A$47),1,1),4+cllStartDate) & \":\" & ADDRESS(INDEX(ROW($A$47),1,1),4+cllEndDate-1)))*cllDaysPerWeek/7,AX3*$B$11),\"\")","v":54.815047383300985},{"$f":"IF(AY3<>\"\",AY3*(Summary!$C$15*Summary!$C$14*Summary!$C$16)/8.25,\"\")","v":1213.2397154170617},null,{"$f":"IF(COUNT(INDIRECT(ADDRESS(ROW($A3),4+cllStartDate) & \":\" & ADDRESS(ROW($A3),4+cllEndDate))) = (cllEndDate-cllStartDate+1),SUM(INDIRECT(ADDRESS(ROW($A3),4+cllStartDate) & \":\" & ADDRESS(ROW($A3),4+cllEndDate)))*cllDaysPerWeek/7,\"\")","v":8.2000000000000011},{"$f":"IF(BB3<>\"\",IF($B$10=1,SUMPRODUCT(INDIRECT(ADDRESS(INDEX(ROW($A3),1,1),4+cllStartDate) & \":\" & ADDRESS(INDEX(ROW($A3),1,1),4+cllEndDate)),INDIRECT(ADDRESS(INDEX(ROW($A$47),1,1),4+cllStartDate) & \":\" & ADDRESS(INDEX(ROW($A$47),1,1),4+cllEndDate)))*cllDaysPerWeek/7,BB3*$B$11),\"\")","v":85.27292955503188},{"$f":"IF(BC3<>\"\",BC3*(Summary!$C$15*Summary!$C$14*Summary!$C$16)/8.25,\"\")","v":1887.3741741513722},null,{"$f":"IF(COUNT(INDIRECT(ADDRESS(ROW($A3),4+cllStartDate) & \":\" & ADDRESS(ROW($A3),4+cllEndDate+1))) = (cllEndDate-cllStartDate+2),SUM(INDIRECT(ADDRESS(ROW($A3),4+cllStartDate) & \":\" & ADDRESS(ROW($A3),4+cllEndDate+1)))*cllDaysPerWeek/7,\"\")","v":11.600000000000003},{"$f":"IF(BF3<>\"\",IF($B$10=1,SUMPRODUCT(INDIRECT(ADDRESS(INDEX(ROW($A3),1,1),4+cllStartDate) & \":\" & ADDRESS(INDEX(ROW($A3),1,1),4+cllEndDate+1)),INDIRECT(ADDRESS(INDEX(ROW($A$47),1,1),4+cllStartDate) & \":\" & ADDRESS(INDEX(ROW($A$47),1,1),4+cllEndDate+1)))*cllDaysPerWeek/7,BF3*$B$11),\"\")","v":118.03588503173049},{"$f":"IF(BG3<>\"\",BG3*(Summary!$C$15*Summary!$C$14*Summary!$C$16)/8.25,\"\")","v":2612.5275887023013},null,{"$f":"IF(COUNT(INDIRECT(ADDRESS(ROW($A3),4+cllStartDate) & \":\" & ADDRESS(ROW($A3),4+cllEndDate+2))) = (cllEndDate-cllStartDate+3),SUM(INDIRECT(ADDRESS(ROW($A3),4+cllStartDate) & \":\" & ADDRESS(ROW($A3),4+cllEndDate+2)))*cllDaysPerWeek/7,\"\")","v":15.100000000000003},{"$f":"IF(BJ3<>\"\",IF($B$10=1,SUMPRODUCT(INDIRECT(ADDRESS(INDEX(ROW($A3),1,1),4+cllStartDate) & \":\" & ADDRESS(INDEX(ROW($A3),1,1),4+cllEndDate+2)),INDIRECT(ADDRESS(INDEX(ROW($A$47),1,1),4+cllStartDate) & \":\" & ADDRESS(INDEX(ROW($A$47),1,1),4+cllEndDate+2)))*cllDaysPerWeek/7,BJ3*$B$11),\"\")","v":151.23921433663233},{"$f":"IF(BK3<>\"\",BK3*(Summary!$C$15*Summary!$C$14*Summary!$C$16)/8.25,\"\")","v":3347.4279439841284},null,{"$f":"SMALL(rngSumAcres1,ROW(INDIRECT(\"1:\" & COUNT(rngSumAcres1))))","v":1540.5120490236275},{"$f":"1-PERCENTRANK(rngSumAcres1,SMALL(rngSumAcres1,ROW(INDIRECT(\"1:\" & COUNT(rngSumAcres1)))))","v":1}]
["End date",39,null,1978,"","","","","",0.1,0,0.2,0,0.6,0.8,0.3,2,2.1,2.7,5.4,6,5.2,4.9000000000000004,5.0999999999999996,2.4,2.4,5.9,2.9,4.5,5,6,5.7,6.2,6,1.9,5.8,4.7,3,6,5,"","","","","","","","",null,{"$f":"IF(COUNT(INDIRECT(ADDRESS(ROW($A4),4+cllStartDate) & \":\" & ADDRESS(ROW($A4),4+cllEndDate-1))) = (cllEndDate-cllStartDate),SUM(INDIRECT(ADDRESS(ROW($A4),4+cllStartDate) & \":\" & ADDRESS(ROW($A4),4+cllEndDate-1)))*cllDaysPerWeek/7,\"\")","v":""},{"$f":"IF(AX4<>\"\",IF($B$10=1,SUMPRODUCT(INDIRECT(ADDRESS(INDEX(ROW($A4),1,1),4+cllStartDate) & \":\" & ADDRESS(INDEX(ROW($A4),1,1),4+cllEndDate-1)),INDIRECT(ADDRESS(INDEX(ROW($A$47),1,1),4+cllStartDate) & \":\" & ADDRESS(INDEX(ROW($A$47),1,1),4+cllEndDate-1)))*cllDaysPerWeek/7,AX4*$B$11),\"\")","v":""},{"$f":"IF(AY4<>\"\",AY4*(Summary!$C$15*Summary!$C$14*Summary!$C$16)/8.25,\"\")","v":""},null,"",{"$f":"IF(BB4<>\"\",IF($B$10=1,SUMPRODUCT(INDIRECT(ADDRESS(INDEX(ROW($A4),1,1),4+cllStartDate) & \":\" & ADDRESS(INDEX(ROW($A4),1,1),4+cllEndDate)),INDIRECT(ADDRESS(INDEX(ROW($A$47),1,1),4+cllStartDate) & \":\" & ADDRESS(INDEX(ROW($A$47),1,1),4+cllEndDate)))*cllDaysPerWeek/7,BB4*$B$11),\"\")","v":""},{"$f":"IF(BC4<>\"\",BC4*(Summary!$C$15*Summary!$C$14*Summary!$C$16)/8.25,\"\")","v":""},null,"",{"$f":"IF(BF4<>\"\",IF($B$10=1,SUMPRODUCT(INDIRECT(ADDRESS(INDEX(ROW($A4),1,1),4+cllStartDate) & \":\" & ADDRESS(INDEX(ROW($A4),1,1),4+cllEndDate+1)),INDIRECT(ADDRESS(INDEX(ROW($A$47),1,1),4+cllStartDate) & \":\" & ADDRESS(INDEX(ROW($A$47),1,1),4+cllEndDate+1)))*cllDaysPerWeek/7,BF4*$B$11),\"\")","v":""},{"$f":"IF(BG4<>\"\",BG4*(Summary!$C$15*Summary!$C$14*Summary!$C$16)/8.25,\"\")","v":""},null,"",{"$f":"IF(BJ4<>\"\",IF($B$10=1,SUMPRODUCT(INDIRECT(ADDRESS(INDEX(ROW($A4),1,1),4+cllStartDate) & \":\" & ADDRESS(INDEX(ROW($A4),1,1),4+cllEndDate+2)),INDIRECT(ADDRESS(INDEX(ROW($A$47),1,1),4+cllStartDate) & \":\" & ADDRESS(INDEX(ROW($A$47),1,1),4+cllEndDate+2)))*cllDaysPerWeek/7,BJ4*$B$11),\"\")","v":""},{"$f":"IF(BK4<>\"\",BK4*(Summary!$C$15*Summary!$C$14*Summary!$C$16)/8.25,\"\")","v":""},null,1887.3741741513722,0.95899999999999996]
["State index",4,null,1979,"","","","","",0,0,0.2,0.9,0.8,1,4.2,5.0999999999999996,5.9,5.7,4.5999999999999996,2.4,5.4,2.8,4,5.6,6,3.4,3.1,6.2,4.9000000000000004,4.8,3.6,4,5.7,5.8,6.4,6.1,6.3,5.6,3.9,4.0999999999999996,3.7,5.3,1.7,"","","","",null,17.3,{"$f":"IF(AX5<>\"\",IF($B$10=1,SUMPRODUCT(INDIRECT(ADDRESS(INDEX(ROW($A5),1,1),4+cllStartDate) & \":\" & ADDRESS(INDEX(ROW($A5),1,1),4+cllEndDate-1)),INDIRECT(ADDRESS(INDEX(ROW($A$47),1,1),4+cllStartDate) & \":\" & ADDRESS(INDEX(ROW($A$47),1,1),4+cllEndDate-1)))*cllDaysPerWeek/7,AX5*$B$11),\"\")","v":181.29210270822207},{"$f":"IF(AY5<>\"\",AY5*(Summary!$C$15*Summary!$C$14*Summary!$C$16)/8.25,\"\")","v":4012.5985399419819},null,22.6,{"$f":"IF(BB5<>\"\",IF($B$10=1,SUMPRODUCT(INDIRECT(ADDRESS(INDEX(ROW($A5),1,1),4+cllStartDate) & \":\" & ADDRESS(INDEX(ROW($A5),1,1),4+cllEndDate)),INDIRECT(ADDRESS(INDEX(ROW($A$47),1,1),4+cllStartDate) & \":\" & ADDRESS(INDEX(ROW($A$47),1,1),4+cllEndDate)))*cllDaysPerWeek/7,BB5*$B$11),\"\")","v":233.3652560986007},{"$f":"IF(BC5<>\"\",BC5*(Summary!$C$15*Summary!$C$14*Summary!$C$16)/8.25,\"\")","v":5165.1510016490283},null,24.3,{"$f":"IF(BF5<>\"\",IF($B$10=1,SUMPRODUCT(INDIRECT(ADDRESS(INDEX(ROW($A5),1,1),4+cllStartDate) & \":\" & ADDRESS(INDEX(ROW($A5),1,1),4+cllEndDate+1)),INDIRECT(ADDRESS(INDEX(ROW($A$47),1,1),4+cllStartDate) & \":\" & ADDRESS(INDEX(ROW($A$47),1,1),4+cllEndDate+1)))*cllDaysPerWeek/7,BF5*$B$11),\"\")","v":249.74673383695},{"$f":"IF(BG5<>\"\",BG5*(Summary!$C$15*Summary!$C$14*Summary!$C$16)/8.25,\"\")","v":5527.7277089244926},null,"",{"$f":"IF(BJ5<>\"\",IF($B$10=1,SUMPRODUCT(INDIRECT(ADDRESS(INDEX(ROW($A5),1,1),4+cllStartDate) & \":\" & ADDRESS(INDEX(ROW($A5),1,1),4+cllEndDate+2)),INDIRECT(ADDRESS(INDEX(ROW($A$47),1,1),4+cllStartDate) & \":\" & ADDRESS(INDEX(ROW($A$47),1,1),4+cllEndDate+2)))*cllDaysPerWeek/7,BJ5*$B$11),\"\")","v":""},{"$f":"IF(BK5<>\"\",BK5*(Summary!$C$15*Summary!$C$14*Summary!$C$16)/8.25,\"\")","v":""},null,1952.1209943875369,0.91700000000000004]
["State",{"$f":"VLOOKUP(B5,O66:Q69,3,FALSE)","v":"MO"},null,1980,"","","","","","",0.6,1,4.9000000000000004,6.2,6.6,4.5,3.7,6,1.3,5,5.5,5.6,3.6,6.2,6.1,6,6.3,5.4,4.5999999999999996,4.5,6.3,2.4,4.8,2.6,5.4,6.3,6.4,3.6,5.3,2.2000000000000002,5.8,5.2,"","","","","","",null,18.5,{"$f":"IF(AX6<>\"\",IF($B$10=1,SUMPRODUCT(INDIRECT(ADDRESS(INDEX(ROW($A6),1,1),4+cllStartDate) & \":\" & ADDRESS(INDEX(ROW($A6),1,1),4+cllEndDate-1)),INDIRECT(ADDRESS(INDEX(ROW($A$47),1,1),4+cllStartDate) & \":\" & ADDRESS(INDEX(ROW($A$47),1,1),4+cllEndDate-1)))*cllDaysPerWeek/7,AX6*$B$11),\"\")","v":192.65471039903136},{"$f":"IF(AY6<>\"\",AY6*(Summary!$C$15*Summary!$C$14*Summary!$C$16)/8.25,\"\")","v":4264.0909234985611},null,"",{"$f":"IF(BB6<>\"\",IF($B$10=1,SUMPRODUCT(INDIRECT(ADDRESS(INDEX(ROW($A6),1,1),4+cllStartDate) & \":\" & ADDRESS(INDEX(ROW($A6),1,1),4+cllEndDate)),INDIRECT(ADDRESS(INDEX(ROW($A$47),1,1),4+cllStartDate) & \":\" & ADDRESS(INDEX(ROW($A$47),1,1),4+cllEndDate)))*cllDaysPerWeek/7,BB6*$B$11),\"\")","v":""},{"$f":"IF(BC6<>\"\",BC6*(Summary!$C$15*Summary!$C$14*Summary!$C$16)/8.25,\"\")","v":""},null,"",{"$f":"IF(BF6<>\"\",IF($B$10=1,SUMPRODUCT(INDIRECT(ADDRESS(INDEX(ROW($A6),1,1),4+cllStartDate) & \":\" & ADDRESS(INDEX(ROW($A6),1,1),4+cllEndDate+1)),INDIRECT(ADDRESS(INDEX(ROW($A$47),1,1),4+cllStartDate) & \":\" & ADDRESS(INDEX(ROW($A$47),1,1),4+cllEndDate+1)))*cllDaysPerWeek/7,BF6*$B$11),\"\")","v":""},{"$f":"IF(BG6<>\"\",BG6*(Summary!$C$15*Summary!$C$14*Summary!$C$16)/8.25,\"\")","v":""},null,"",{"$f":"IF(BJ6<>\"\",IF($B$10=1,SUMPRODUCT(INDIRECT(ADDRESS(INDEX(ROW($A6),1,1),4+cllStartDate) & \":\" & ADDRESS(INDEX(ROW($A6),1,1),4+cllEndDate+2)),INDIRECT(ADDRESS(INDEX(ROW($A$47),1,1),4+cllStartDate) & \":\" & ADDRESS(INDEX(ROW($A$47),1,1),4+cllEndDate+2)))*cllDaysPerWeek/7,BJ6*$B$11),\"\")","v":""},{"$f":"IF(BK6<>\"\",BK6*(Summary!$C$15*Summary!$C$14*Summary!$C$16)/8.25,\"\")","v":""},null,2569.0471823129014,0.875]
["Region",2,null,1981,"","","","","",6.4,6.2,1.4,0.6,4.5,3.4,0.1,0.2,1.7,3.7,3.5,2.1,1.8,1.5,3.1,4.4000000000000004,1.7,0.7,1.9,4.2,5.8,4.2,5,4.8,5.8,5.3,5.8,6,1.6,4.4000000000000004,5.3,0.5,4,4,4.5999999999999996,"","","","",null,14.2,{"$f":"IF(AX7<>\"\",IF($B$10=1,SUMPRODUCT(INDIRECT(ADDRESS(INDEX(ROW($A7),1,1),4+cllStartDate) & \":\" & ADDRESS(INDEX(ROW($A7),1,1),4+cllEndDate-1)),INDIRECT(ADDRESS(INDEX(ROW($A$47),1,1),4+cllStartDate) & \":\" & ADDRESS(INDEX(ROW($A$47),1,1),4+cllEndDate-1)))*cllDaysPerWeek/7,AX7*$B$11),\"\")","v":149.02100227148989},{"$f":"IF(AY7<>\"\",AY7*(Summary!$C$15*Summary!$C$14*Summary!$C$16)/8.25,\"\")","v":3298.3315169423095},null,18.2,{"$f":"IF(BB7<>\"\",IF($B$10=1,SUMPRODUCT(INDIRECT(ADDRESS(INDEX(ROW($A7),1,1),4+cllStartDate) & \":\" & ADDRESS(INDEX(ROW($A7),1,1),4+cllEndDate)),INDIRECT(ADDRESS(INDEX(ROW($A$47),1,1),4+cllStartDate) & \":\" & ADDRESS(INDEX(ROW($A$47),1,1),4+cllEndDate)))*cllDaysPerWeek/7,BB7*$B$11),\"\")","v":188.32149539630399},{"$f":"IF(BC7<>\"\",BC7*(Summary!$C$15*Summary!$C$14*Summary!$C$16)/8.25,\"\")","v":4168.1824314381956},null,22.799999999999994,{"$f":"IF(BF7<>\"\",IF($B$10=1,SUMPRODUCT(INDIRECT(ADDRESS(INDEX(ROW($A7),1,1),4+cllStartDate) & \":\" & ADDRESS(INDEX(ROW($A7),1,1),4+cllEndDate+1)),INDIRECT(ADDRESS(INDEX(ROW($A$47),1,1),4+cllStartDate) & \":\" & ADDRESS(INDEX(ROW($A$47),1,1),4+cllEndDate+1)))*cllDaysPerWeek/7,BF7*$B$11),\"\")","v":232.64784692360209},{"$f":"IF(BG7<>\"\",BG7*(Summary!$C$15*Summary!$C$14*Summary!$C$16)/8.25,\"\")","v":5149.2723452423934},null,"",{"$f":"IF(BJ7<>\"\",IF($B$10=1,SUMPRODUCT(INDIRECT(ADDRESS(INDEX(ROW($A7),1,1),4+cllStartDate) & \":\" & ADDRESS(INDEX(ROW($A7),1,1),4+cllEndDate+2)),INDIRECT(ADDRESS(INDEX(ROW($A$47),1,1),4+cllStartDate) & \":\" & ADDRESS(INDEX(ROW($A$47),1,1),4+cllEndDate+2)))*cllDaysPerWeek/7,BJ7*$B$11),\"\")","v":""},{"$f":"IF(BK7<>\"\",BK7*(Summary!$C$15*Summary!$C$14*Summary!$C$16)/8.25,\"\")","v":""},null,2792.3583095371109,0.83399999999999996]
["Index",{"$f":"SUM(IF(U55:U90=cllRegion,S55:S90,0)*IF(T55:T90=cllState,1,0))","v":29},null,1982,"","","","","","","",3.1,3.4,5.6,4.0999999999999996,3.4,0.6,0.2,0.1,0.2,0.8,4.8,4,4.9000000000000004,3.8,4,6,5.8,3.2,3.3,1.7,1,1.4,1.6,3.7,5.8,5.4,4.5,4.3,4.9000000000000004,3.5,4.0999999999999996,3.1,1.2,"","","","",null,16.799999999999997,{"$f":"IF(AX8<>\"\",IF($B$10=1,SUMPRODUCT(INDIRECT(ADDRESS(INDEX(ROW($A8),1,1),4+cllStartDate) & \":\" & ADDRESS(INDEX(ROW($A8),1,1),4+cllEndDate-1)),INDIRECT(ADDRESS(INDEX(ROW($A$47),1,1),4+cllStartDate) & \":\" & ADDRESS(INDEX(ROW($A$47),1,1),4+cllEndDate-1)))*cllDaysPerWeek/7,AX8*$B$11),\"\")","v":175.59934325260355},{"$f":"IF(AY8<>\"\",AY8*(Summary!$C$15*Summary!$C$14*Summary!$C$16)/8.25,\"\")","v":3886.5987973242918},null,19.899999999999999,{"$f":"IF(BB8<>\"\",IF($B$10=1,SUMPRODUCT(INDIRECT(ADDRESS(INDEX(ROW($A8),1,1),4+cllStartDate) & \":\" & ADDRESS(INDEX(ROW($A8),1,1),4+cllEndDate)),INDIRECT(ADDRESS(INDEX(ROW($A$47),1,1),4+cllStartDate) & \":\" & ADDRESS(INDEX(ROW($A$47),1,1),4+cllEndDate)))*cllDaysPerWeek/7,BB8*$B$11),\"\")","v":206.05722542433446},{"$f":"IF(BC8<>\"\",BC8*(Summary!$C$15*Summary!$C$14*Summary!$C$16)/8.25,\"\")","v":4560.7332560586028},null,21.099999999999998,{"$f":"IF(BF8<>\"\",IF($B$10=1,SUMPRODUCT(INDIRECT(ADDRESS(INDEX(ROW($A8),1,1),4+cllStartDate) & \":\" & ADDRESS(INDEX(ROW($A8),1,1),4+cllEndDate+1)),INDIRECT(ADDRESS(INDEX(ROW($A$47),1,1),4+cllStartDate) & \":\" & ADDRESS(INDEX(ROW($A$47),1,1),4+cllEndDate+1)))*cllDaysPerWeek/7,BF8*$B$11),\"\")","v":217.62062147493393},{"$f":"IF(BG8<>\"\",BG8*(Summary!$C$15*Summary!$C$14*Summary!$C$16)/8.25,\"\")","v":4816.6697553118711},null,"",{"$f":"IF(BJ8<>\"\",IF($B$10=1,SUMPRODUCT(INDIRECT(ADDRESS(INDEX(ROW($A8),1,1),4+cllStartDate) & \":\" & ADDRESS(INDEX(ROW($A8),1,1),4+cllEndDate+2)),INDIRECT(ADDRESS(INDEX(ROW($A$47),1,1),4+cllStartDate) & \":\" & ADDRESS(INDEX(ROW($A$47),1,1),4+cllEndDate+2)))*cllDaysPerWeek/7,BJ8*$B$11),\"\")","v":""},{"$f":"IF(BK8<>\"\",BK8*(Summary!$C$15*Summary!$C$14*Summary!$C$16)/8.25,\"\")","v":""},null,2983.7287094386079,0.79200000000000004]
[null,null,null,1983,"","","","","","","","","",3,1.5,2.9,1,2.1,3.2,5.5,5.6,4.8,3.9,5.0999999999999996,6.2,6.4,6.3,5.8,6.4,6.5,5.9,5.2,6.1,4.0999999999999996,4,6.1,6.3,3.5,2.5,3.8,0.5,0.4,1.2,1.3,"","","","",null,7.2,{"$f":"IF(AX9<>\"\",IF($B$10=1,SUMPRODUCT(INDIRECT(ADDRESS(INDEX(ROW($A9),1,1),4+cllStartDate) & \":\" & ADDRESS(INDEX(ROW($A9),1,1),4+cllEndDate-1)),INDIRECT(ADDRESS(INDEX(ROW($A$47),1,1),4+cllStartDate) & \":\" & ADDRESS(INDEX(ROW($A$47),1,1),4+cllEndDate-1)))*cllDaysPerWeek/7,AX9*$B$11),\"\")","v":76.408089760787874},{"$f":"IF(AY9<>\"\",AY9*(Summary!$C$15*Summary!$C$14*Summary!$C$16)/8.25,\"\")","v":1691.1657200387715},null,{"$f":"IF(COUNT(INDIRECT(ADDRESS(ROW($A9),4+cllStartDate) & \":\" & ADDRESS(ROW($A9),4+cllEndDate))) = (cllEndDate-cllStartDate+1),SUM(INDIRECT(ADDRESS(ROW($A9),4+cllStartDate) & \":\" & ADDRESS(ROW($A9),4+cllEndDate)))*cllDaysPerWeek/7,\"\")","v":8.4},{"$f":"IF(BB9<>\"\",IF($B$10=1,SUMPRODUCT(INDIRECT(ADDRESS(INDEX(ROW($A9),1,1),4+cllStartDate) & \":\" & ADDRESS(INDEX(ROW($A9),1,1),4+cllEndDate)),INDIRECT(ADDRESS(INDEX(ROW($A$47),1,1),4+cllStartDate) & \":\" & ADDRESS(INDEX(ROW($A$47),1,1),4+cllEndDate)))*cllDaysPerWeek/7,BB9*$B$11),\"\")","v":88.198237698232091},{"$f":"IF(BC9<>\"\",BC9*(Summary!$C$15*Summary!$C$14*Summary!$C$16)/8.25,\"\")","v":1952.1209943875369},null,9.7000000000000011,{"$f":"IF(BF9<>\"\",IF($B$10=1,SUMPRODUCT(INDIRECT(ADDRESS(INDEX(ROW($A9),1,1),4+cllStartDate) & \":\" & ADDRESS(INDEX(ROW($A9),1,1),4+cllEndDate+1)),INDIRECT(ADDRESS(INDEX(ROW($A$47),1,1),4+cllStartDate) & \":\" & ADDRESS(INDEX(ROW($A$47),1,1),4+cllEndDate+1)))*cllDaysPerWeek/7,BF9*$B$11),\"\")","v":100.72525008638156},{"$f":"IF(BG9<>\"\",BG9*(Summary!$C$15*Summary!$C$14*Summary!$C$16)/8.25,\"\")","v":2229.3855352452451},null,"",{"$f":"IF(BJ9<>\"\",IF($B$10=1,SUMPRODUCT(INDIRECT(ADDRESS(INDEX(ROW($A9),1,1),4+cllStartDate) & \":\" & ADDRESS(INDEX(ROW($A9),1,1),4+cllEndDate+2)),INDIRECT(ADDRESS(INDEX(ROW($A$47),1,1),4+cllStartDate) & \":\" & ADDRESS(INDEX(ROW($A$47),1,1),4+cllEndDate+2)))*cllDaysPerWeek/7,BJ9*$B$11),\"\")","v":""},{"$f":"IF(BK9<>\"\",BK9*(Summary!$C$15*Summary!$C$14*Summary!$C$16)/8.25,\"\")","v":""},null,3165.8441560046444,0.75]
["Daylight hours",1,null,1984,"","","","","","","","",0.7,0.7,0.8,2.1,2.7,1.6,1.8,4.5999999999999996,1.5,2,4.4000000000000004,4.7,5.0999999999999996,6.1,5.7,6.6,6.1,6.5,6.5,6.4,6.4,2.7,5.5,3.7,6.3,3.9,1,1.7,0.5,3.8,5.5,4.5999999999999996,3.2,3.3,"","",null,7,{"$f":"IF(AX10<>\"\",IF($B$10=1,SUMPRODUCT(INDIRECT(ADDRESS(INDEX(ROW($A10),1,1),4+cllStartDate) & \":\" & ADDRESS(INDEX(ROW($A10),1,1),4+cllEndDate-1)),INDIRECT(ADDRESS(INDEX(ROW($A$47),1,1),4+cllStartDate) & \":\" & ADDRESS(INDEX(ROW($A$47),1,1),4+cllEndDate-1)))*cllDaysPerWeek/7,AX10*$B$11),\"\")","v":72.122588950539296},{"$f":"IF(AY10<>\"\",AY10*(Summary!$C$15*Summary!$C$14*Summary!$C$16)/8.25,\"\")","v":1596.3133021052697},null,12.5,{"$f":"IF(BB10<>\"\",IF($B$10=1,SUMPRODUCT(INDIRECT(ADDRESS(INDEX(ROW($A10),1,1),4+cllStartDate) & \":\" & ADDRESS(INDEX(ROW($A10),1,1),4+cllEndDate)),INDIRECT(ADDRESS(INDEX(ROW($A$47),1,1),4+cllStartDate) & \":\" & ADDRESS(INDEX(ROW($A$47),1,1),4+cllEndDate)))*cllDaysPerWeek/7,BB10*$B$11),\"\")","v":126.16076699715863},{"$f":"IF(BC10<>\"\",BC10*(Summary!$C$15*Summary!$C$14*Summary!$C$16)/8.25,\"\")","v":2792.3583095371109},null,17.100000000000001,{"$f":"IF(BF10<>\"\",IF($B$10=1,SUMPRODUCT(INDIRECT(ADDRESS(INDEX(ROW($A10),1,1),4+cllStartDate) & \":\" & ADDRESS(INDEX(ROW($A10),1,1),4+cllEndDate+1)),INDIRECT(ADDRESS(INDEX(ROW($A$47),1,1),4+cllStartDate) & \":\" & ADDRESS(INDEX(ROW($A$47),1,1),4+cllEndDate+1)))*cllDaysPerWeek/7,BF10*$B$11),\"\")","v":170.48711852445672},{"$f":"IF(BG10<>\"\",BG10*(Summary!$C$15*Summary!$C$14*Summary!$C$16)/8.25,\"\")","v":3773.4482233413082},null,20.3,{"$f":"IF(BJ10<>\"\",IF($B$10=1,SUMPRODUCT(INDIRECT(ADDRESS(INDEX(ROW($A10),1,1),4+cllStartDate) & \":\" & ADDRESS(INDEX(ROW($A10),1,1),4+cllEndDate+2)),INDIRECT(ADDRESS(INDEX(ROW($A$47),1,1),4+cllStartDate) & \":\" & ADDRESS(INDEX(ROW($A$47),1,1),4+cllEndDate+2)))*cllDaysPerWeek/7,BJ10*$B$11),\"\")","v":200.84444817465268},{"$f":"IF(BK10<>\"\",BK10*(Summary!$C$15*Summary!$C$14*Summary!$C$16)/8.25,\"\")","v":4445.3571195989789},null,3626.943503318254,0.70900000000000007]
["Constant hours",{"$f":"cllHrsPerDay","v":0},null,1985,"","","","","","",3.6,5.0999999999999996,6.5,3.1,4.7,1.3,5.6,4.2,2.9,4.2,4.3,3,5.9,6.5,5.9,3.6,2.1,4.0999999999999996,1.8,0.6,3,5.4,6.4,6.1,1,2.1,1.5,1.4,0.9,2.2000000000000002,2.4,0.5,0.7,1.5,0.9,1.2,"","",null,6,{"$f":"IF(AX11<>\"\",IF($B$10=1,SUMPRODUCT(INDIRECT(ADDRESS(INDEX(ROW($A11),1,1),4+cllStartDate) & \":\" & ADDRESS(INDEX(ROW($A11),1,1),4+cllEndDate-1)),INDIRECT(ADDRESS(INDEX(ROW($A$47),1,1),4+cllStartDate) & \":\" & ADDRESS(INDEX(ROW($A$47),1,1),4+cllEndDate-1)))*cllDaysPerWeek/7,AX11*$B$11),\"\")","v":62.723861701213004},{"$f":"IF(AY11<>\"\",AY11*(Summary!$C$15*Summary!$C$14*Summary!$C$16)/8.25,\"\")","v":1388.2881389868478},null,6.7,{"$f":"IF(BB11<>\"\",IF($B$10=1,SUMPRODUCT(INDIRECT(ADDRESS(INDEX(ROW($A11),1,1),4+cllStartDate) & \":\" & ADDRESS(INDEX(ROW($A11),1,1),4+cllEndDate)),INDIRECT(ADDRESS(INDEX(ROW($A$47),1,1),4+cllStartDate) & \":\" & ADDRESS(INDEX(ROW($A$47),1,1),4+cllEndDate)))*cllDaysPerWeek/7,BB11*$B$11),\"\")","v":69.601447998055463},{"$f":"IF(BC11<>\"\",BC11*(Summary!$C$15*Summary!$C$14*Summary!$C$16)/8.25,\"\")","v":1540.5120490236275},null,8.1999999999999993,{"$f":"IF(BF11<>\"\",IF($B$10=1,SUMPRODUCT(INDIRECT(ADDRESS(INDEX(ROW($A11),1,1),4+cllStartDate) & \":\" & ADDRESS(INDEX(ROW($A11),1,1),4+cllEndDate+1)),INDIRECT(ADDRESS(INDEX(ROW($A$47),1,1),4+cllStartDate) & \":\" & ADDRESS(INDEX(ROW($A$47),1,1),4+cllEndDate+1)))*cllDaysPerWeek/7,BF11*$B$11),\"\")","v":84.055693061304851},{"$f":"IF(BG11<>\"\",BG11*(Summary!$C$15*Summary!$C$14*Summary!$C$16)/8.25,\"\")","v":1860.4326730902139},null,9.1,{"$f":"IF(BJ11<>\"\",IF($B$10=1,SUMPRODUCT(INDIRECT(ADDRESS(INDEX(ROW($A11),1,1),4+cllStartDate) & \":\" & ADDRESS(INDEX(ROW($A11),1,1),4+cllEndDate+2)),INDIRECT(ADDRESS(INDEX(ROW($A$47),1,1),4+cllStartDate) & \":\" & ADDRESS(INDEX(ROW($A$47),1,1),4+cllEndDate+2)))*cllDaysPerWeek/7,BJ11*$B$11),\"\")","v":92.59369202542247},{"$f":"IF(BK11<>\"\",BK11*(Summary!$C$15*Summary!$C$14*Summary!$C$16)/8.25,\"\")","v":2049.4070501626838},null,3648.1335101872619,0.66700000000000004]
[null,null,null,1986,"","","","","","",4,4.2,4.8,4.5999999999999996,4.0999999999999996,1.6,0.8,3.7,5.4,4.7,5.6,5.2,4,3.1,2.8,5.8,5.5,4,4.3,6.2,6.1,6.2,4.4000000000000004,3.2,1.6,0.2,1.8,2.2000000000000002,3.2,2.4,1.7,2.9,3.7,1.5,1.1000000000000001,"","","",null,10.199999999999999,{"$f":"IF(AX12<>\"\",IF($B$10=1,SUMPRODUCT(INDIRECT(ADDRESS(INDEX(ROW($A12),1,1),4+cllStartDate) & \":\" & ADDRESS(INDEX(ROW($A12),1,1),4+cllEndDate-1)),INDIRECT(ADDRESS(INDEX(ROW($A$47),1,1),4+cllStartDate) & \":\" & ADDRESS(INDEX(ROW($A$47),1,1),4+cllEndDate-1)))*cllDaysPerWeek/7,AX12*$B$11),\"\")","v":106.68217138987733},{"$f":"IF(AY12<>\"\",AY12*(Summary!$C$15*Summary!$C$14*Summary!$C$16)/8.25,\"\")","v":2361.2320600959515},null,13.899999999999997,{"$f":"IF(BB12<>\"\",IF($B$10=1,SUMPRODUCT(INDIRECT(ADDRESS(INDEX(ROW($A12),1,1),4+cllStartDate) & \":\" & ADDRESS(INDEX(ROW($A12),1,1),4+cllEndDate)),INDIRECT(ADDRESS(INDEX(ROW($A$47),1,1),4+cllStartDate) & \":\" & ADDRESS(INDEX(ROW($A$47),1,1),4+cllEndDate)))*cllDaysPerWeek/7,BB12*$B$11),\"\")","v":143.03512753033033},{"$f":"IF(BC12<>\"\",BC12*(Summary!$C$15*Summary!$C$14*Summary!$C$16)/8.25,\"\")","v":3165.8441560046444},null,15.399999999999997,{"$f":"IF(BF12<>\"\",IF($B$10=1,SUMPRODUCT(INDIRECT(ADDRESS(INDEX(ROW($A12),1,1),4+cllStartDate) & \":\" & ADDRESS(INDEX(ROW($A12),1,1),4+cllEndDate+1)),INDIRECT(ADDRESS(INDEX(ROW($A$47),1,1),4+cllStartDate) & \":\" & ADDRESS(INDEX(ROW($A$47),1,1),4+cllEndDate+1)))*cllDaysPerWeek/7,BF12*$B$11),\"\")","v":157.4893725935797},{"$f":"IF(BG12<>\"\",BG12*(Summary!$C$15*Summary!$C$14*Summary!$C$16)/8.25,\"\")","v":3485.7647800712307},null,16.5,{"$f":"IF(BJ12<>\"\",IF($B$10=1,SUMPRODUCT(INDIRECT(ADDRESS(INDEX(ROW($A12),1,1),4+cllStartDate) & \":\" & ADDRESS(INDEX(ROW($A12),1,1),4+cllEndDate+2)),INDIRECT(ADDRESS(INDEX(ROW($A$47),1,1),4+cllStartDate) & \":\" & ADDRESS(INDEX(ROW($A$47),1,1),4+cllEndDate+2)))*cllDaysPerWeek/7,BJ12*$B$11),\"\")","v":167.92470466083458},{"$f":"IF(BK12<>\"\",BK12*(Summary!$C$15*Summary!$C$14*Summary!$C$16)/8.25,\"\")","v":3716.7334631598051},null,3963.973016497474,0.625]
["Latitude",{"$f":"VLOOKUP(B8,S55:W90,5,FALSE)","v":40},null,1987,{"$f":"IF(TYPE(VLOOKUP($B$6&$D13&E$2,data,$B$7+5,FALSE))=1,VLOOKUP($B$6&$D13&E$2,data,$B$7+5,FALSE),\"\")","v":""},"","","","",0.7,4.8,0.4,2,5.5,{"$f":"IF(TYPE(VLOOKUP($B$6&$D13&O$2,data,$B$7+5,FALSE))=1,VLOOKUP($B$6&$D13&O$2,data,$B$7+5,FALSE),\"\")","v":2.9},6.2,3.2,3.6,3.9,4.8,5.8,5.0999999999999996,4.5,1.5,{"$f":"IF(TYPE(VLOOKUP($B$6&$D13&Y$2,data,$B$7+5,FALSE))=1,VLOOKUP($B$6&$D13&Y$2,data,$B$7+5,FALSE),\"\")","v":2.1},6.2,6.6,5.6,4.0999999999999996,4.5,2.4,5.9,4.4000000000000004,1.2,{"$f":"IF(TYPE(VLOOKUP($B$6&$D13&AI$2,data,$B$7+5,FALSE))=1,VLOOKUP($B$6&$D13&AI$2,data,$B$7+5,FALSE),\"\")","v":5.8},4.9000000000000004,6.3,5.7,5,5.6,4.2,"","","","","","","",null,"",{"$f":"IF(AX13<>\"\",IF($B$10=1,SUMPRODUCT(INDIRECT(ADDRESS(INDEX(ROW($A13),1,1),4+cllStartDate) & \":\" & ADDRESS(INDEX(ROW($A13),1,1),4+cllEndDate-1)),INDIRECT(ADDRESS(INDEX(ROW($A$47),1,1),4+cllStartDate) & \":\" & ADDRESS(INDEX(ROW($A$47),1,1),4+cllEndDate-1)))*cllDaysPerWeek/7,AX13*$B$11),\"\")","v":""},{"$f":"IF(AY13<>\"\",AY13*(Summary!$C$15*Summary!$C$14*Summary!$C$16)/8.25,\"\")","v":""},null,"",{"$f":"IF(BB13<>\"\",IF($B$10=1,SUMPRODUCT(INDIRECT(ADDRESS(INDEX(ROW($A13),1,1),4+cllStartDate) & \":\" & ADDRESS(INDEX(ROW($A13),1,1),4+cllEndDate)),INDIRECT(ADDRESS(INDEX(ROW($A$47),1,1),4+cllStartDate) & \":\" & ADDRESS(INDEX(ROW($A$47),1,1),4+cllEndDate)))*cllDaysPerWeek/7,BB13*$B$11),\"\")","v":""},{"$f":"IF(BC13<>\"\",BC13*(Summary!$C$15*Summary!$C$14*Summary!$C$16)/8.25,\"\")","v":""},null,"",{"$f":"IF(BF13<>\"\",IF($B$10=1,SUMPRODUCT(INDIRECT(ADDRESS(INDEX(ROW($A13),1,1),4+cllStartDate) & \":\" & ADDRESS(INDEX(ROW($A13),1,1),4+cllEndDate+1)),INDIRECT(ADDRESS(INDEX(ROW($A$47),1,1),4+cllStartDate) & \":\" & ADDRESS(INDEX(ROW($A$47),1,1),4+cllEndDate+1)))*cllDaysPerWeek/7,BF13*$B$11),\"\")","v":""},{"$f":"IF(BG13<>\"\",BG13*(Summary!$C$15*Summary!$C$14*Summary!$C$16)/8.25,\"\")","v":""},null,"",{"$f":"IF(BJ13<>\"\",IF($B$10=1,SUMPRODUCT(INDIRECT(ADDRESS(INDEX(ROW($A13),1,1),4+cllStartDate) & \":\" & ADDRESS(INDEX(ROW($A13),1,1),4+cllEndDate+2)),INDIRECT(ADDRESS(INDEX(ROW($A$47),1,1),4+cllStartDate) & \":\" & ADDRESS(INDEX(ROW($A$47),1,1),4+cllEndDate+2)))*cllDaysPerWeek/7,BJ13*$B$11),\"\")","v":""},{"$f":"IF(BK13<>\"\",BK13*(Summary!$C$15*Summary!$C$14*Summary!$C$16)/8.25,\"\")","v":""},null,4168.1824314381956,0.58400000000000007]
[null,null,null,1988,"","","","","",1.8,2.2999999999999998,5.5,6.4,6.5,6.2,6,6.5,4.0999999999999996,5.3,6.2,6.8,6.8,5.7,6.8,6.4,4.9000000000000004,6.6,6.2,4.9000000000000004,6.4,4.4000000000000004,6.2,6.7,5.6,4.9000000000000004,4.5999999999999996,5.8,6.3,5.7,6.1,6.7,5.7,"","","","","","",null,24.2,{"$f":"IF(AX14<>\"\",IF($B$10=1,SUMPRODUCT(INDIRECT(ADDRESS(INDEX(ROW($A14),1,1),4+cllStartDate) & \":\" & ADDRESS(INDEX(ROW($A14),1,1),4+cllEndDate-1)),INDIRECT(ADDRESS(INDEX(ROW($A$47),1,1),4+cllStartDate) & \":\" & ADDRESS(INDEX(ROW($A$47),1,1),4+cllEndDate-1)))*cllDaysPerWeek/7,AX14*$B$11),\"\")","v":252.47013727832467},{"$f":"IF(AY14<>\"\",AY14*(Summary!$C$15*Summary!$C$14*Summary!$C$16)/8.25,\"\")","v":5588.0057050935857},null,"",{"$f":"IF(BB14<>\"\",IF($B$10=1,SUMPRODUCT(INDIRECT(ADDRESS(INDEX(ROW($A14),1,1),4+cllStartDate) & \":\" & ADDRESS(INDEX(ROW($A14),1,1),4+cllEndDate)),INDIRECT(ADDRESS(INDEX(ROW($A$47),1,1),4+cllStartDate) & \":\" & ADDRESS(INDEX(ROW($A$47),1,1),4+cllEndDate)))*cllDaysPerWeek/7,BB14*$B$11),\"\")","v":""},{"$f":"IF(BC14<>\"\",BC14*(Summary!$C$15*Summary!$C$14*Summary!$C$16)/8.25,\"\")","v":""},null,"",{"$f":"IF(BF14<>\"\",IF($B$10=1,SUMPRODUCT(INDIRECT(ADDRESS(INDEX(ROW($A14),1,1),4+cllStartDate) & \":\" & ADDRESS(INDEX(ROW($A14),1,1),4+cllEndDate+1)),INDIRECT(ADDRESS(INDEX(ROW($A$47),1,1),4+cllStartDate) & \":\" & ADDRESS(INDEX(ROW($A$47),1,1),4+cllEndDate+1)))*cllDaysPerWeek/7,BF14*$B$11),\"\")","v":""},{"$f":"IF(BG14<>\"\",BG14*(Summary!$C$15*Summary!$C$14*Summary!$C$16)/8.25,\"\")","v":""},null,"",{"$f":"IF(BJ14<>\"\",IF($B$10=1,SUMPRODUCT(INDIRECT(ADDRESS(INDEX(ROW($A14),1,1),4+cllStartDate) & \":\" & ADDRESS(INDEX(ROW($A14),1,1),4+cllEndDate+2)),INDIRECT(ADDRESS(INDEX(ROW($A$47),1,1),4+cllStartDate) & \":\" & ADDRESS(INDEX(ROW($A$47),1,1),4+cllEndDate+2)))*cllDaysPerWeek/7,BJ14*$B$11),\"\")","v":""},{"$f":"IF(BK14<>\"\",BK14*(Summary!$C$15*Summary!$C$14*Summary!$C$16)/8.25,\"\")","v":""},null,4412.8310212302767,0.54200000000000004]
["Probability",{"$f":"100*(1-PERCENTRANK(rngSumAcres1,MAX(MIN(Summary!C19,MAX(rngSumAcres1)),MIN(rngSumAcres1)),10))","v":91.34329597},null,1989,"","","","","",2.4,1.9,4.3,6.4,5.9,5.2,5.9,4.9000000000000004,3,2.4,4.5999999999999996,4.0999999999999996,5.5,4.9000000000000004,6.1,6.1,4.5,6.1,5.5,6.5,6.5,2.9,1.3,2.1,1.3,4.9000000000000004,6.3,5.5,6.6,3.4,6.4,2.6,5.7,"","","","","","",null,18.100000000000001,{"$f":"IF(AX15<>\"\",IF($B$10=1,SUMPRODUCT(INDIRECT(ADDRESS(INDEX(ROW($A15),1,1),4+cllStartDate) & \":\" & ADDRESS(INDEX(ROW($A15),1,1),4+cllEndDate-1)),INDIRECT(ADDRESS(INDEX(ROW($A$47),1,1),4+cllStartDate) & \":\" & ADDRESS(INDEX(ROW($A$47),1,1),4+cllEndDate-1)))*cllDaysPerWeek/7,AX15*$B$11),\"\")","v":188.49249629727274},{"$f":"IF(AY15<>\"\",AY15*(Summary!$C$15*Summary!$C$14*Summary!$C$16)/8.25,\"\")","v":4171.9672513796368},null,"",{"$f":"IF(BB15<>\"\",IF($B$10=1,SUMPRODUCT(INDIRECT(ADDRESS(INDEX(ROW($A15),1,1),4+cllStartDate) & \":\" & ADDRESS(INDEX(ROW($A15),1,1),4+cllEndDate)),INDIRECT(ADDRESS(INDEX(ROW($A$47),1,1),4+cllStartDate) & \":\" & ADDRESS(INDEX(ROW($A$47),1,1),4+cllEndDate)))*cllDaysPerWeek/7,BB15*$B$11),\"\")","v":""},{"$f":"IF(BC15<>\"\",BC15*(Summary!$C$15*Summary!$C$14*Summary!$C$16)/8.25,\"\")","v":""},null,"",{"$f":"IF(BF15<>\"\",IF($B$10=1,SUMPRODUCT(INDIRECT(ADDRESS(INDEX(ROW($A15),1,1),4+cllStartDate) & \":\" & ADDRESS(INDEX(ROW($A15),1,1),4+cllEndDate+1)),INDIRECT(ADDRESS(INDEX(ROW($A$47),1,1),4+cllStartDate) & \":\" & ADDRESS(INDEX(ROW($A$47),1,1),4+cllEndDate+1)))*cllDaysPerWeek/7,BF15*$B$11),\"\")","v":""},{"$f":"IF(BG15<>\"\",BG15*(Summary!$C$15*Summary!$C$14*Summary!$C$16)/8.25,\"\")","v":""},null,"",{"$f":"IF(BJ15<>\"\",IF($B$10=1,SUMPRODUCT(INDIRECT(ADDRESS(INDEX(ROW($A15),1,1),4+cllStartDate) & \":\" & ADDRESS(INDEX(ROW($A15),1,1),4+cllEndDate+2)),INDIRECT(ADDRESS(INDEX(ROW($A$47),1,1),4+cllStartDate) & \":\" & ADDRESS(INDEX(ROW($A$47),1,1),4+cllEndDate+2)))*cllDaysPerWeek/7,BJ15*$B$11),\"\")","v":""},{"$f":"IF(BK15<>\"\",BK15*(Summary!$C$15*Summary!$C$14*Summary!$C$16)/8.25,\"\")","v":""},null,4519.7374022077784,0.5]
["Graph Percentile",{"$f":"Percentile/100","v":0.91343295970000005},null,1990,"","","","","",0.6,2,2.2999999999999998,1.5,4.7,0.7,0.4,0.1,1.1000000000000001,2.9,1.9,1.6,1.9,4,5.9,2.9,4.9000000000000004,3.4,4.8,4.4000000000000004,2.5,4.2,6.1,6.5,6.5,4.9000000000000004,5.9,4.4000000000000004,2.1,5.7,5.9,6.2,1.5,5.6,"","","","","",null,19.3,{"$f":"IF(AX16<>\"\",IF($B$10=1,SUMPRODUCT(INDIRECT(ADDRESS(INDEX(ROW($A16),1,1),4+cllStartDate) & \":\" & ADDRESS(INDEX(ROW($A16),1,1),4+cllEndDate-1)),INDIRECT(ADDRESS(INDEX(ROW($A$47),1,1),4+cllStartDate) & \":\" & ADDRESS(INDEX(ROW($A$47),1,1),4+cllEndDate-1)))*cllDaysPerWeek/7,AX16*$B$11),\"\")","v":203.01455601482112},{"$f":"IF(AY16<>\"\",AY16*(Summary!$C$15*Summary!$C$14*Summary!$C$16)/8.25,\"\")","v":4493.3888397947076},null,24.9,{"$f":"IF(BB16<>\"\",IF($B$10=1,SUMPRODUCT(INDIRECT(ADDRESS(INDEX(ROW($A16),1,1),4+cllStartDate) & \":\" & ADDRESS(INDEX(ROW($A16),1,1),4+cllEndDate)),INDIRECT(ADDRESS(INDEX(ROW($A$47),1,1),4+cllStartDate) & \":\" & ADDRESS(INDEX(ROW($A$47),1,1),4+cllEndDate)))*cllDaysPerWeek/7,BB16*$B$11),\"\")","v":258.03524638956083},{"$f":"IF(BC16<>\"\",BC16*(Summary!$C$15*Summary!$C$14*Summary!$C$16)/8.25,\"\")","v":5711.1801200889458},null,"",{"$f":"IF(BF16<>\"\",IF($B$10=1,SUMPRODUCT(INDIRECT(ADDRESS(INDEX(ROW($A16),1,1),4+cllStartDate) & \":\" & ADDRESS(INDEX(ROW($A16),1,1),4+cllEndDate+1)),INDIRECT(ADDRESS(INDEX(ROW($A$47),1,1),4+cllStartDate) & \":\" & ADDRESS(INDEX(ROW($A$47),1,1),4+cllEndDate+1)))*cllDaysPerWeek/7,BF16*$B$11),\"\")","v":""},{"$f":"IF(BG16<>\"\",BG16*(Summary!$C$15*Summary!$C$14*Summary!$C$16)/8.25,\"\")","v":""},null,"",{"$f":"IF(BJ16<>\"\",IF($B$10=1,SUMPRODUCT(INDIRECT(ADDRESS(INDEX(ROW($A16),1,1),4+cllStartDate) & \":\" & ADDRESS(INDEX(ROW($A16),1,1),4+cllEndDate+2)),INDIRECT(ADDRESS(INDEX(ROW($A$47),1,1),4+cllStartDate) & \":\" & ADDRESS(INDEX(ROW($A$47),1,1),4+cllEndDate+2)))*cllDaysPerWeek/7,BJ16*$B$11),\"\")","v":""},{"$f":"IF(BK16<>\"\",BK16*(Summary!$C$15*Summary!$C$14*Summary!$C$16)/8.25,\"\")","v":""},null,4560.7332560586028,0.45899999999999996]
[null,null,null,1991,"","","","",3,4.8,"",1.3,0.9,1.3,0.5,1.6,1.9,2.8,2.8,5.2,6.1,6.3,6.6,3.1,5.5,5.9,6.6,4.9000000000000004,6.4,6.8,6.7,5.6,5.9,4.4000000000000004,6.3,4.7,5,6.5,5.7,2,1.2,0.7,1.4,"","","","","",null,9.6,{"$f":"IF(AX17<>\"\",IF($B$10=1,SUMPRODUCT(INDIRECT(ADDRESS(INDEX(ROW($A17),1,1),4+cllStartDate) & \":\" & ADDRESS(INDEX(ROW($A17),1,1),4+cllEndDate-1)),INDIRECT(ADDRESS(INDEX(ROW($A$47),1,1),4+cllStartDate) & \":\" & ADDRESS(INDEX(ROW($A$47),1,1),4+cllEndDate-1)))*cllDaysPerWeek/7,AX17*$B$11),\"\")","v":102.3162362457534},{"$f":"IF(AY17<>\"\",AY17*(Summary!$C$15*Summary!$C$14*Summary!$C$16)/8.25,\"\")","v":2264.5993622393416},null,11,{"$f":"IF(BB17<>\"\",IF($B$10=1,SUMPRODUCT(INDIRECT(ADDRESS(INDEX(ROW($A17),1,1),4+cllStartDate) & \":\" & ADDRESS(INDEX(ROW($A17),1,1),4+cllEndDate)),INDIRECT(ADDRESS(INDEX(ROW($A$47),1,1),4+cllStartDate) & \":\" & ADDRESS(INDEX(ROW($A$47),1,1),4+cllEndDate)))*cllDaysPerWeek/7,BB17*$B$11),\"\")","v":116.07140883943832},{"$f":"IF(BC17<>\"\",BC17*(Summary!$C$15*Summary!$C$14*Summary!$C$16)/8.25,\"\")","v":2569.0471823129014},null,"",{"$f":"IF(BF17<>\"\",IF($B$10=1,SUMPRODUCT(INDIRECT(ADDRESS(INDEX(ROW($A17),1,1),4+cllStartDate) & \":\" & ADDRESS(INDEX(ROW($A17),1,1),4+cllEndDate+1)),INDIRECT(ADDRESS(INDEX(ROW($A$47),1,1),4+cllStartDate) & \":\" & ADDRESS(INDEX(ROW($A$47),1,1),4+cllEndDate+1)))*cllDaysPerWeek/7,BF17*$B$11),\"\")","v":""},{"$f":"IF(BG17<>\"\",BG17*(Summary!$C$15*Summary!$C$14*Summary!$C$16)/8.25,\"\")","v":""},null,"",{"$f":"IF(BJ17<>\"\",IF($B$10=1,SUMPRODUCT(INDIRECT(ADDRESS(INDEX(ROW($A17),1,1),4+cllStartDate) & \":\" & ADDRESS(INDEX(ROW($A17),1,1),4+cllEndDate+2)),INDIRECT(ADDRESS(INDEX(ROW($A$47),1,1),4+cllStartDate) & \":\" & ADDRESS(INDEX(ROW($A$47),1,1),4+cllEndDate+2)))*cllDaysPerWeek/7,BJ17*$B$11),\"\")","v":""},{"$f":"IF(BK17<>\"\",BK17*(Summary!$C$15*Summary!$C$14*Summary!$C$16)/8.25,\"\")","v":""},null,4606.4720542953937,0.41700000000000004]
[null,null,null,1992,"","","","","",0.5,4.0999999999999996,2.8,0.1,1.6,6.3,5.6,5.6,5.6,6.4,5.5,6,6.6,6.5,4.7,1.6,1.1000000000000001,0.5,3.2,4.3,5.9,4.4000000000000004,5.7,2.5,3.6,3.8,5.8,5,5,6.2,4.8,0.1,0.6,1,"",2.1,"","","",null,11.7,{"$f":"IF(AX18<>\"\",IF($B$10=1,SUMPRODUCT(INDIRECT(ADDRESS(INDEX(ROW($A18),1,1),4+cllStartDate) & \":\" & ADDRESS(INDEX(ROW($A18),1,1),4+cllEndDate-1)),INDIRECT(ADDRESS(INDEX(ROW($A$47),1,1),4+cllStartDate) & \":\" & ADDRESS(INDEX(ROW($A$47),1,1),4+cllEndDate-1)))*cllDaysPerWeek/7,AX18*$B$11),\"\")","v":124.98189672355291},{"$f":"IF(AY18<>\"\",AY18*(Summary!$C$15*Summary!$C$14*Summary!$C$16)/8.25,\"\")","v":2766.2659808146373},null,12.7,{"$f":"IF(BB18<>\"\",IF($B$10=1,SUMPRODUCT(INDIRECT(ADDRESS(INDEX(ROW($A18),1,1),4+cllStartDate) & \":\" & ADDRESS(INDEX(ROW($A18),1,1),4+cllEndDate)),INDIRECT(ADDRESS(INDEX(ROW($A$47),1,1),4+cllStartDate) & \":\" & ADDRESS(INDEX(ROW($A$47),1,1),4+cllEndDate)))*cllDaysPerWeek/7,BB18*$B$11),\"\")","v":134.8070200047564},{"$f":"IF(BC18<>\"\",BC18*(Summary!$C$15*Summary!$C$14*Summary!$C$16)/8.25,\"\")","v":2983.7287094386079},null,"",{"$f":"IF(BF18<>\"\",IF($B$10=1,SUMPRODUCT(INDIRECT(ADDRESS(INDEX(ROW($A18),1,1),4+cllStartDate) & \":\" & ADDRESS(INDEX(ROW($A18),1,1),4+cllEndDate+1)),INDIRECT(ADDRESS(INDEX(ROW($A$47),1,1),4+cllStartDate) & \":\" & ADDRESS(INDEX(ROW($A$47),1,1),4+cllEndDate+1)))*cllDaysPerWeek/7,BF18*$B$11),\"\")","v":""},{"$f":"IF(BG18<>\"\",BG18*(Summary!$C$15*Summary!$C$14*Summary!$C$16)/8.25,\"\")","v":""},null,"",{"$f":"IF(BJ18<>\"\",IF($B$10=1,SUMPRODUCT(INDIRECT(ADDRESS(INDEX(ROW($A18),1,1),4+cllStartDate) & \":\" & ADDRESS(INDEX(ROW($A18),1,1),4+cllEndDate+2)),INDIRECT(ADDRESS(INDEX(ROW($A$47),1,1),4+cllStartDate) & \":\" & ADDRESS(INDEX(ROW($A$47),1,1),4+cllEndDate+2)))*cllDaysPerWeek/7,BJ18*$B$11),\"\")","v":""},{"$f":"IF(BK18<>\"\",BK18*(Summary!$C$15*Summary!$C$14*Summary!$C$16)/8.25,\"\")","v":""},null,4784.1275837284038,0.375]
[null,null,null,1993,"","","","","",0.1,0.1,0,0.2,0.6,0.2,0.4,3.8,5.3,3.9,1.3,5.2,4.0999999999999996,0.8,0.5,0.8,1.1000000000000001,2.9,4.2,2.2000000000000002,4.8,6.6,4.5999999999999996,3.5,1.6,0.3,2.7,5.4,5.3,1.9,5.4,6.3,5,"","","","","","",null,18.600000000000001,{"$f":"IF(AX19<>\"\",IF($B$10=1,SUMPRODUCT(INDIRECT(ADDRESS(INDEX(ROW($A19),1,1),4+cllStartDate) & \":\" & ADDRESS(INDEX(ROW($A19),1,1),4+cllEndDate-1)),INDIRECT(ADDRESS(INDEX(ROW($A$47),1,1),4+cllStartDate) & \":\" & ADDRESS(INDEX(ROW($A$47),1,1),4+cllEndDate-1)))*cllDaysPerWeek/7,AX19*$B$11),\"\")","v":192.72172537190289},{"$f":"IF(AY19<>\"\",AY19*(Summary!$C$15*Summary!$C$14*Summary!$C$16)/8.25,\"\")","v":4265.5741882314505},null,"",{"$f":"IF(BB19<>\"\",IF($B$10=1,SUMPRODUCT(INDIRECT(ADDRESS(INDEX(ROW($A19),1,1),4+cllStartDate) & \":\" & ADDRESS(INDEX(ROW($A19),1,1),4+cllEndDate)),INDIRECT(ADDRESS(INDEX(ROW($A$47),1,1),4+cllStartDate) & \":\" & ADDRESS(INDEX(ROW($A$47),1,1),4+cllEndDate)))*cllDaysPerWeek/7,BB19*$B$11),\"\")","v":""},{"$f":"IF(BC19<>\"\",BC19*(Summary!$C$15*Summary!$C$14*Summary!$C$16)/8.25,\"\")","v":""},null,"",{"$f":"IF(BF19<>\"\",IF($B$10=1,SUMPRODUCT(INDIRECT(ADDRESS(INDEX(ROW($A19),1,1),4+cllStartDate) & \":\" & ADDRESS(INDEX(ROW($A19),1,1),4+cllEndDate+1)),INDIRECT(ADDRESS(INDEX(ROW($A$47),1,1),4+cllStartDate) & \":\" & ADDRESS(INDEX(ROW($A$47),1,1),4+cllEndDate+1)))*cllDaysPerWeek/7,BF19*$B$11),\"\")","v":""},{"$f":"IF(BG19<>\"\",BG19*(Summary!$C$15*Summary!$C$14*Summary!$C$16)/8.25,\"\")","v":""},null,"",{"$f":"IF(BJ19<>\"\",IF($B$10=1,SUMPRODUCT(INDIRECT(ADDRESS(INDEX(ROW($A19),1,1),4+cllStartDate) & \":\" & ADDRESS(INDEX(ROW($A19),1,1),4+cllEndDate+2)),INDIRECT(ADDRESS(INDEX(ROW($A$47),1,1),4+cllStartDate) & \":\" & ADDRESS(INDEX(ROW($A$47),1,1),4+cllEndDate+2)))*cllDaysPerWeek/7,BJ19*$B$11),\"\")","v":""},{"$f":"IF(BK19<>\"\",BK19*(Summary!$C$15*Summary!$C$14*Summary!$C$16)/8.25,\"\")","v":""},null,4946.8630709115305,0.33399999999999996]
[null,null,null,1994,"","","","","",5.6,4,0.5,3.4,2.7,0.7,2.6,6.1,4.8,2.9,2.5,5.6,5.5,6,5.6,5.8,5.2,6.1,5.3,6.7,6.6,6.8,5.2,5.7,6.7,4.7,5.4,5.0999999999999996,5.9,4.5,6,2.7,2.1,3.9,"","","","","",null,15.299999999999999,{"$f":"IF(AX20<>\"\",IF($B$10=1,SUMPRODUCT(INDIRECT(ADDRESS(INDEX(ROW($A20),1,1),4+cllStartDate) & \":\" & ADDRESS(INDEX(ROW($A20),1,1),4+cllEndDate-1)),INDIRECT(ADDRESS(INDEX(ROW($A$47),1,1),4+cllStartDate) & \":\" & ADDRESS(INDEX(ROW($A$47),1,1),4+cllEndDate-1)))*cllDaysPerWeek/7,AX20*$B$11),\"\")","v":161.05691474081883},{"$f":"IF(AY20<>\"\",AY20*(Summary!$C$15*Summary!$C$14*Summary!$C$16)/8.25,\"\")","v":3564.7263795967901},null,19.2,{"$f":"IF(BB20<>\"\",IF($B$10=1,SUMPRODUCT(INDIRECT(ADDRESS(INDEX(ROW($A20),1,1),4+cllStartDate) & \":\" & ADDRESS(INDEX(ROW($A20),1,1),4+cllEndDate)),INDIRECT(ADDRESS(INDEX(ROW($A$47),1,1),4+cllStartDate) & \":\" & ADDRESS(INDEX(ROW($A$47),1,1),4+cllEndDate)))*cllDaysPerWeek/7,BB20*$B$11),\"\")","v":199.37489553751251},{"$f":"IF(BC20<>\"\",BC20*(Summary!$C$15*Summary!$C$14*Summary!$C$16)/8.25,\"\")","v":4412.8310212302767},null,"",{"$f":"IF(BF20<>\"\",IF($B$10=1,SUMPRODUCT(INDIRECT(ADDRESS(INDEX(ROW($A20),1,1),4+cllStartDate) & \":\" & ADDRESS(INDEX(ROW($A20),1,1),4+cllEndDate+1)),INDIRECT(ADDRESS(INDEX(ROW($A$47),1,1),4+cllStartDate) & \":\" & ADDRESS(INDEX(ROW($A$47),1,1),4+cllEndDate+1)))*cllDaysPerWeek/7,BF20*$B$11),\"\")","v":""},{"$f":"IF(BG20<>\"\",BG20*(Summary!$C$15*Summary!$C$14*Summary!$C$16)/8.25,\"\")","v":""},null,"",{"$f":"IF(BJ20<>\"\",IF($B$10=1,SUMPRODUCT(INDIRECT(ADDRESS(INDEX(ROW($A20),1,1),4+cllStartDate) & \":\" & ADDRESS(INDEX(ROW($A20),1,1),4+cllEndDate+2)),INDIRECT(ADDRESS(INDEX(ROW($A$47),1,1),4+cllStartDate) & \":\" & ADDRESS(INDEX(ROW($A$47),1,1),4+cllEndDate+2)))*cllDaysPerWeek/7,BJ20*$B$11),\"\")","v":""},{"$f":"IF(BK20<>\"\",BK20*(Summary!$C$15*Summary!$C$14*Summary!$C$16)/8.25,\"\")","v":""},null,5165.1510016490283,0.29200000000000004]
[null,null,null,1995,"","","","","",3.6,5.3,1.9,0.4,0.6,0,0,0.2,0.2,0.6,0.8,4.3,6.6,1,1.5,5.6,4.9000000000000004,4.2,2,4.4000000000000004,3.3,6.3,5.9,5.8,5.6,3.4,6.1,4.9000000000000004,6.4,6.7,6.5,1.2,2.7,3.6,"","","","","",null,17.099999999999998,{"$f":"IF(AX21<>\"\",IF($B$10=1,SUMPRODUCT(INDIRECT(ADDRESS(INDEX(ROW($A21),1,1),4+cllStartDate) & \":\" & ADDRESS(INDEX(ROW($A21),1,1),4+cllEndDate-1)),INDIRECT(ADDRESS(INDEX(ROW($A$47),1,1),4+cllStartDate) & \":\" & ADDRESS(INDEX(ROW($A$47),1,1),4+cllEndDate-1)))*cllDaysPerWeek/7,AX21*$B$11),\"\")","v":180.77989882599883},{"$f":"IF(AY21<>\"\",AY21*(Summary!$C$15*Summary!$C$14*Summary!$C$16)/8.25,\"\")","v":4001.2617606821077},null,20.7,{"$f":"IF(BB21<>\"\",IF($B$10=1,SUMPRODUCT(INDIRECT(ADDRESS(INDEX(ROW($A21),1,1),4+cllStartDate) & \":\" & ADDRESS(INDEX(ROW($A21),1,1),4+cllEndDate)),INDIRECT(ADDRESS(INDEX(ROW($A$47),1,1),4+cllStartDate) & \":\" & ADDRESS(INDEX(ROW($A$47),1,1),4+cllEndDate)))*cllDaysPerWeek/7,BB21*$B$11),\"\")","v":216.15034263833149},{"$f":"IF(BC21<>\"\",BC21*(Summary!$C$15*Summary!$C$14*Summary!$C$16)/8.25,\"\")","v":4784.1275837284038},null,"",{"$f":"IF(BF21<>\"\",IF($B$10=1,SUMPRODUCT(INDIRECT(ADDRESS(INDEX(ROW($A21),1,1),4+cllStartDate) & \":\" & ADDRESS(INDEX(ROW($A21),1,1),4+cllEndDate+1)),INDIRECT(ADDRESS(INDEX(ROW($A$47),1,1),4+cllStartDate) & \":\" & ADDRESS(INDEX(ROW($A$47),1,1),4+cllEndDate+1)))*cllDaysPerWeek/7,BF21*$B$11),\"\")","v":""},{"$f":"IF(BG21<>\"\",BG21*(Summary!$C$15*Summary!$C$14*Summary!$C$16)/8.25,\"\")","v":""},null,"",{"$f":"IF(BJ21<>\"\",IF($B$10=1,SUMPRODUCT(INDIRECT(ADDRESS(INDEX(ROW($A21),1,1),4+cllStartDate) & \":\" & ADDRESS(INDEX(ROW($A21),1,1),4+cllEndDate+2)),INDIRECT(ADDRESS(INDEX(ROW($A$47),1,1),4+cllStartDate) & \":\" & ADDRESS(INDEX(ROW($A$47),1,1),4+cllEndDate+2)))*cllDaysPerWeek/7,BJ21*$B$11),\"\")","v":""},{"$f":"IF(BK21<>\"\",BK21*(Summary!$C$15*Summary!$C$14*Summary!$C$16)/8.25,\"\")","v":""},null,5173.2210250634062,0.25]
[null,null,null,1996,"","","","","",2.5,5.9,5.3,6.3,2.9,0.1,0.1,1.9,0.5,1.6,3,3.5,5.0999999999999996,5.9,6.4,6.4,3.7,6.2,5.4,5.6,3.8,5.8,6.4,5.4,5.0999999999999996,2.2999999999999998,5.4,6,5.9,3.1,4.5,3.2,4.7,"","","","","","",null,15.5,{"$f":"IF(AX22<>\"\",IF($B$10=1,SUMPRODUCT(INDIRECT(ADDRESS(INDEX(ROW($A22),1,1),4+cllStartDate) & \":\" & ADDRESS(INDEX(ROW($A22),1,1),4+cllEndDate-1)),INDIRECT(ADDRESS(INDEX(ROW($A$47),1,1),4+cllStartDate) & \":\" & ADDRESS(INDEX(ROW($A$47),1,1),4+cllEndDate-1)))*cllDaysPerWeek/7,AX22*$B$11),\"\")","v":161.30240289256258},{"$f":"IF(AY22<>\"\",AY22*(Summary!$C$15*Summary!$C$14*Summary!$C$16)/8.25,\"\")","v":3570.1598506887181},null,"",{"$f":"IF(BB22<>\"\",IF($B$10=1,SUMPRODUCT(INDIRECT(ADDRESS(INDEX(ROW($A22),1,1),4+cllStartDate) & \":\" & ADDRESS(INDEX(ROW($A22),1,1),4+cllEndDate)),INDIRECT(ADDRESS(INDEX(ROW($A$47),1,1),4+cllStartDate) & \":\" & ADDRESS(INDEX(ROW($A$47),1,1),4+cllEndDate)))*cllDaysPerWeek/7,BB22*$B$11),\"\")","v":""},{"$f":"IF(BC22<>\"\",BC22*(Summary!$C$15*Summary!$C$14*Summary!$C$16)/8.25,\"\")","v":""},null,"",{"$f":"IF(BF22<>\"\",IF($B$10=1,SUMPRODUCT(INDIRECT(ADDRESS(INDEX(ROW($A22),1,1),4+cllStartDate) & \":\" & ADDRESS(INDEX(ROW($A22),1,1),4+cllEndDate+1)),INDIRECT(ADDRESS(INDEX(ROW($A$47),1,1),4+cllStartDate) & \":\" & ADDRESS(INDEX(ROW($A$47),1,1),4+cllEndDate+1)))*cllDaysPerWeek/7,BF22*$B$11),\"\")","v":""},{"$f":"IF(BG22<>\"\",BG22*(Summary!$C$15*Summary!$C$14*Summary!$C$16)/8.25,\"\")","v":""},null,"",{"$f":"IF(BJ22<>\"\",IF($B$10=1,SUMPRODUCT(INDIRECT(ADDRESS(INDEX(ROW($A22),1,1),4+cllStartDate) & \":\" & ADDRESS(INDEX(ROW($A22),1,1),4+cllEndDate+2)),INDIRECT(ADDRESS(INDEX(ROW($A$47),1,1),4+cllStartDate) & \":\" & ADDRESS(INDEX(ROW($A$47),1,1),4+cllEndDate+2)))*cllDaysPerWeek/7,BJ22*$B$11),\"\")","v":""},{"$f":"IF(BK22<>\"\",BK22*(Summary!$C$15*Summary!$C$14*Summary!$C$16)/8.25,\"\")","v":""},null,5481.6573527807313,0.20899999999999996]
[null,null,null,1997,{"$f":"IF(TYPE(VLOOKUP($B$6&$D23&E$2,data,$B$7+5,FALSE))=1,VLOOKUP($B$6&$D23&E$2,data,$B$7+5,FALSE),\"\")","v":""},"","","","",5.5,1.4,0.7,0.4,2.2999999999999998,{"$f":"IF(TYPE(VLOOKUP($B$6&$D23&O$2,data,$B$7+5,FALSE))=1,VLOOKUP($B$6&$D23&O$2,data,$B$7+5,FALSE),\"\")","v":3.8},5.9,4.7,1.1000000000000001,4.9000000000000004,4.3,4.7,3.8,5.2,6.1,{"$f":"IF(TYPE(VLOOKUP($B$6&$D23&Y$2,data,$B$7+5,FALSE))=1,VLOOKUP($B$6&$D23&Y$2,data,$B$7+5,FALSE),\"\")","v":6.9},6.4,6.7,6.9,5.8,4,6.8,5.3,6.4,5.0999999999999996,{"$f":"IF(TYPE(VLOOKUP($B$6&$D23&AI$2,data,$B$7+5,FALSE))=1,VLOOKUP($B$6&$D23&AI$2,data,$B$7+5,FALSE),\"\")","v":4.4000000000000004},6.8,4.8,4.3,5.8,2.2999999999999998,2.4,4.2,5.5,"","","","","",null,14.7,{"$f":"IF(AX23<>\"\",IF($B$10=1,SUMPRODUCT(INDIRECT(ADDRESS(INDEX(ROW($A23),1,1),4+cllStartDate) & \":\" & ADDRESS(INDEX(ROW($A23),1,1),4+cllEndDate-1)),INDIRECT(ADDRESS(INDEX(ROW($A$47),1,1),4+cllStartDate) & \":\" & ADDRESS(INDEX(ROW($A$47),1,1),4+cllEndDate-1)))*cllDaysPerWeek/7,AX23*$B$11),\"\")","v":154.08555934624488},{"$f":"IF(AY23<>\"\",AY23*(Summary!$C$15*Summary!$C$14*Summary!$C$16)/8.25,\"\")","v":3410.4270468635532},null,20.2,{"$f":"IF(BB23<>\"\",IF($B$10=1,SUMPRODUCT(INDIRECT(ADDRESS(INDEX(ROW($A23),1,1),4+cllStartDate) & \":\" & ADDRESS(INDEX(ROW($A23),1,1),4+cllEndDate)),INDIRECT(ADDRESS(INDEX(ROW($A$47),1,1),4+cllStartDate) & \":\" & ADDRESS(INDEX(ROW($A$47),1,1),4+cllEndDate)))*cllDaysPerWeek/7,BB23*$B$11),\"\")","v":208.12373739286417},{"$f":"IF(BC23<>\"\",BC23*(Summary!$C$15*Summary!$C$14*Summary!$C$16)/8.25,\"\")","v":4606.4720542953937},null,"",{"$f":"IF(BF23<>\"\",IF($B$10=1,SUMPRODUCT(INDIRECT(ADDRESS(INDEX(ROW($A23),1,1),4+cllStartDate) & \":\" & ADDRESS(INDEX(ROW($A23),1,1),4+cllEndDate+1)),INDIRECT(ADDRESS(INDEX(ROW($A$47),1,1),4+cllStartDate) & \":\" & ADDRESS(INDEX(ROW($A$47),1,1),4+cllEndDate+1)))*cllDaysPerWeek/7,BF23*$B$11),\"\")","v":""},{"$f":"IF(BG23<>\"\",BG23*(Summary!$C$15*Summary!$C$14*Summary!$C$16)/8.25,\"\")","v":""},null,"",{"$f":"IF(BJ23<>\"\",IF($B$10=1,SUMPRODUCT(INDIRECT(ADDRESS(INDEX(ROW($A23),1,1),4+cllStartDate) & \":\" & ADDRESS(INDEX(ROW($A23),1,1),4+cllEndDate+2)),INDIRECT(ADDRESS(INDEX(ROW($A$47),1,1),4+cllStartDate) & \":\" & ADDRESS(INDEX(ROW($A$47),1,1),4+cllEndDate+2)))*cllDaysPerWeek/7,BJ23*$B$11),\"\")","v":""},{"$f":"IF(BK23<>\"\",BK23*(Summary!$C$15*Summary!$C$14*Summary!$C$16)/8.25,\"\")","v":""},null,5711.1801200889458,0.16700000000000004]
[null,null,null,1998,"","","","","",0.4,0.7,0.6,2.7,1.6,1.7,4.3,4.7,4.7,4.7,1.9,1.1000000000000001,2.8,4,3,5.9,5.9,3.1,4.2,5.5,6.2,4.4000000000000004,5.0999999999999996,6.7,1.9,3.4,5,1.5,5,4.4000000000000004,4.9000000000000004,0.4,1.6,4.5,"","","","","",null,11.3,{"$f":"IF(AX24<>\"\",IF($B$10=1,SUMPRODUCT(INDIRECT(ADDRESS(INDEX(ROW($A24),1,1),4+cllStartDate) & \":\" & ADDRESS(INDEX(ROW($A24),1,1),4+cllEndDate-1)),INDIRECT(ADDRESS(INDEX(ROW($A$47),1,1),4+cllStartDate) & \":\" & ADDRESS(INDEX(ROW($A$47),1,1),4+cllEndDate-1)))*cllDaysPerWeek/7,AX24*$B$11),\"\")","v":119.65487460137277},{"$f":"IF(AY24<>\"\",AY24*(Summary!$C$15*Summary!$C$14*Summary!$C$16)/8.25,\"\")","v":2648.3612245103836},null,15.8,{"$f":"IF(BB24<>\"\",IF($B$10=1,SUMPRODUCT(INDIRECT(ADDRESS(INDEX(ROW($A24),1,1),4+cllStartDate) & \":\" & ADDRESS(INDEX(ROW($A24),1,1),4+cllEndDate)),INDIRECT(ADDRESS(INDEX(ROW($A$47),1,1),4+cllStartDate) & \":\" & ADDRESS(INDEX(ROW($A$47),1,1),4+cllEndDate)))*cllDaysPerWeek/7,BB24*$B$11),\"\")","v":163.86792936678859},{"$f":"IF(BC24<>\"\",BC24*(Summary!$C$15*Summary!$C$14*Summary!$C$16)/8.25,\"\")","v":3626.943503318254},null,"",{"$f":"IF(BF24<>\"\",IF($B$10=1,SUMPRODUCT(INDIRECT(ADDRESS(INDEX(ROW($A24),1,1),4+cllStartDate) & \":\" & ADDRESS(INDEX(ROW($A24),1,1),4+cllEndDate+1)),INDIRECT(ADDRESS(INDEX(ROW($A$47),1,1),4+cllStartDate) & \":\" & ADDRESS(INDEX(ROW($A$47),1,1),4+cllEndDate+1)))*cllDaysPerWeek/7,BF24*$B$11),\"\")","v":""},{"$f":"IF(BG24<>\"\",BG24*(Summary!$C$15*Summary!$C$14*Summary!$C$16)/8.25,\"\")","v":""},null,"",{"$f":"IF(BJ24<>\"\",IF($B$10=1,SUMPRODUCT(INDIRECT(ADDRESS(INDEX(ROW($A24),1,1),4+cllStartDate) & \":\" & ADDRESS(INDEX(ROW($A24),1,1),4+cllEndDate+2)),INDIRECT(ADDRESS(INDEX(ROW($A$47),1,1),4+cllStartDate) & \":\" & ADDRESS(INDEX(ROW($A$47),1,1),4+cllEndDate+2)))*cllDaysPerWeek/7,BJ24*$B$11),\"\")","v":""},{"$f":"IF(BK24<>\"\",BK24*(Summary!$C$15*Summary!$C$14*Summary!$C$16)/8.25,\"\")","v":""},null,5983.8269918730402,0.125]
[null,null,null,1999,"","","","","",5.0999999999999996,3.8,1.9,0,0.6,1.2,1.5,1.5,6.1,5.2,5.0999999999999996,5.3,5,4.2,6.4,6.6,6.7,7,6,6.3,6.5,6.9,6.9,6.9,6.7,6.9,3.3,5.5,6.3,6.9,3.3,7,"","","","","","","",null,"",{"$f":"IF(AX25<>\"\",IF($B$10=1,SUMPRODUCT(INDIRECT(ADDRESS(INDEX(ROW($A25),1,1),4+cllStartDate) & \":\" & ADDRESS(INDEX(ROW($A25),1,1),4+cllEndDate-1)),INDIRECT(ADDRESS(INDEX(ROW($A$47),1,1),4+cllStartDate) & \":\" & ADDRESS(INDEX(ROW($A$47),1,1),4+cllEndDate-1)))*cllDaysPerWeek/7,AX25*$B$11),\"\")","v":""},{"$f":"IF(AY25<>\"\",AY25*(Summary!$C$15*Summary!$C$14*Summary!$C$16)/8.25,\"\")","v":""},null,"",{"$f":"IF(BB25<>\"\",IF($B$10=1,SUMPRODUCT(INDIRECT(ADDRESS(INDEX(ROW($A25),1,1),4+cllStartDate) & \":\" & ADDRESS(INDEX(ROW($A25),1,1),4+cllEndDate)),INDIRECT(ADDRESS(INDEX(ROW($A$47),1,1),4+cllStartDate) & \":\" & ADDRESS(INDEX(ROW($A$47),1,1),4+cllEndDate)))*cllDaysPerWeek/7,BB25*$B$11),\"\")","v":""},{"$f":"IF(BC25<>\"\",BC25*(Summary!$C$15*Summary!$C$14*Summary!$C$16)/8.25,\"\")","v":""},null,"",{"$f":"IF(BF25<>\"\",IF($B$10=1,SUMPRODUCT(INDIRECT(ADDRESS(INDEX(ROW($A25),1,1),4+cllStartDate) & \":\" & ADDRESS(INDEX(ROW($A25),1,1),4+cllEndDate+1)),INDIRECT(ADDRESS(INDEX(ROW($A$47),1,1),4+cllStartDate) & \":\" & ADDRESS(INDEX(ROW($A$47),1,1),4+cllEndDate+1)))*cllDaysPerWeek/7,BF25*$B$11),\"\")","v":""},{"$f":"IF(BG25<>\"\",BG25*(Summary!$C$15*Summary!$C$14*Summary!$C$16)/8.25,\"\")","v":""},null,"",{"$f":"IF(BJ25<>\"\",IF($B$10=1,SUMPRODUCT(INDIRECT(ADDRESS(INDEX(ROW($A25),1,1),4+cllStartDate) & \":\" & ADDRESS(INDEX(ROW($A25),1,1),4+cllEndDate+2)),INDIRECT(ADDRESS(INDEX(ROW($A$47),1,1),4+cllStartDate) & \":\" & ADDRESS(INDEX(ROW($A$47),1,1),4+cllEndDate+2)))*cllDaysPerWeek/7,BJ25*$B$11),\"\")","v":""},{"$f":"IF(BK25<>\"\",BK25*(Summary!$C$15*Summary!$C$14*Summary!$C$16)/8.25,\"\")","v":""},null,6223.0782570075917,8.3999999999999964E-2]
[null,null,null,2000,"","","","","",6.3,6.7,6.7,5.7,5.4,6.9,5.3,6.3,4.8,5.9,5.6,3,2.5,4.5999999999999996,4.5999999999999996,5.2,5.2,4.8,4.8,4.4000000000000004,4.4000000000000004,5.0999999999999996,6.7,6.9,6,4.0999999999999996,5.5,4,5.5,4.9000000000000004,2.8,3.8,"","","","","","","",null,"",{"$f":"IF(AX26<>\"\",IF($B$10=1,SUMPRODUCT(INDIRECT(ADDRESS(INDEX(ROW($A26),1,1),4+cllStartDate) & \":\" & ADDRESS(INDEX(ROW($A26),1,1),4+cllEndDate-1)),INDIRECT(ADDRESS(INDEX(ROW($A$47),1,1),4+cllStartDate) & \":\" & ADDRESS(INDEX(ROW($A$47),1,1),4+cllEndDate-1)))*cllDaysPerWeek/7,AX26*$B$11),\"\")","v":""},{"$f":"IF(AY26<>\"\",AY26*(Summary!$C$15*Summary!$C$14*Summary!$C$16)/8.25,\"\")","v":""},null,"",{"$f":"IF(BB26<>\"\",IF($B$10=1,SUMPRODUCT(INDIRECT(ADDRESS(INDEX(ROW($A26),1,1),4+cllStartDate) & \":\" & ADDRESS(INDEX(ROW($A26),1,1),4+cllEndDate)),INDIRECT(ADDRESS(INDEX(ROW($A$47),1,1),4+cllStartDate) & \":\" & ADDRESS(INDEX(ROW($A$47),1,1),4+cllEndDate)))*cllDaysPerWeek/7,BB26*$B$11),\"\")","v":""},{"$f":"IF(BC26<>\"\",BC26*(Summary!$C$15*Summary!$C$14*Summary!$C$16)/8.25,\"\")","v":""},null,"",{"$f":"IF(BF26<>\"\",IF($B$10=1,SUMPRODUCT(INDIRECT(ADDRESS(INDEX(ROW($A26),1,1),4+cllStartDate) & \":\" & ADDRESS(INDEX(ROW($A26),1,1),4+cllEndDate+1)),INDIRECT(ADDRESS(INDEX(ROW($A$47),1,1),4+cllStartDate) & \":\" & ADDRESS(INDEX(ROW($A$47),1,1),4+cllEndDate+1)))*cllDaysPerWeek/7,BF26*$B$11),\"\")","v":""},{"$f":"IF(BG26<>\"\",BG26*(Summary!$C$15*Summary!$C$14*Summary!$C$16)/8.25,\"\")","v":""},null,"",{"$f":"IF(BJ26<>\"\",IF($B$10=1,SUMPRODUCT(INDIRECT(ADDRESS(INDEX(ROW($A26),1,1),4+cllStartDate) & \":\" & ADDRESS(INDEX(ROW($A26),1,1),4+cllEndDate+2)),INDIRECT(ADDRESS(INDEX(ROW($A$47),1,1),4+cllStartDate) & \":\" & ADDRESS(INDEX(ROW($A$47),1,1),4+cllEndDate+2)))*cllDaysPerWeek/7,BJ26*$B$11),\"\")","v":""},{"$f":"IF(BK26<>\"\",BK26*(Summary!$C$15*Summary!$C$14*Summary!$C$16)/8.25,\"\")","v":""},null,6856.3505778305607,4.2000000000000037E-2]
[null,null,null,2001,"","","","","",1,2.2999999999999998,1.5,3.1,5,2.8,1.9,1.7,2.9,1.2,0.4,2.8,2,6.1,5.2,6,5.6,3.1,6.1,6.9,6.1,4,5.0999999999999996,5.3,6,2.1,6.5,4.5999999999999996,3.2,3.7,4.3,6.7,6.9,"","","","","","",null,21.6,{"$f":"IF(AX27<>\"\",IF($B$10=1,SUMPRODUCT(INDIRECT(ADDRESS(INDEX(ROW($A27),1,1),4+cllStartDate) & \":\" & ADDRESS(INDEX(ROW($A27),1,1),4+cllEndDate-1)),INDIRECT(ADDRESS(INDEX(ROW($A$47),1,1),4+cllStartDate) & \":\" & ADDRESS(INDEX(ROW($A$47),1,1),4+cllEndDate-1)))*cllDaysPerWeek/7,AX27*$B$11),\"\")","v":223.82862726961133},{"$f":"IF(AY27<>\"\",AY27*(Summary!$C$15*Summary!$C$14*Summary!$C$16)/8.25,\"\")","v":4954.0736169007305},null,"",{"$f":"IF(BB27<>\"\",IF($B$10=1,SUMPRODUCT(INDIRECT(ADDRESS(INDEX(ROW($A27),1,1),4+cllStartDate) & \":\" & ADDRESS(INDEX(ROW($A27),1,1),4+cllEndDate)),INDIRECT(ADDRESS(INDEX(ROW($A$47),1,1),4+cllStartDate) & \":\" & ADDRESS(INDEX(ROW($A$47),1,1),4+cllEndDate)))*cllDaysPerWeek/7,BB27*$B$11),\"\")","v":""},{"$f":"IF(BC27<>\"\",BC27*(Summary!$C$15*Summary!$C$14*Summary!$C$16)/8.25,\"\")","v":""},null,"",{"$f":"IF(BF27<>\"\",IF($B$10=1,SUMPRODUCT(INDIRECT(ADDRESS(INDEX(ROW($A27),1,1),4+cllStartDate) & \":\" & ADDRESS(INDEX(ROW($A27),1,1),4+cllEndDate+1)),INDIRECT(ADDRESS(INDEX(ROW($A$47),1,1),4+cllStartDate) & \":\" & ADDRESS(INDEX(ROW($A$47),1,1),4+cllEndDate+1)))*cllDaysPerWeek/7,BF27*$B$11),\"\")","v":""},{"$f":"IF(BG27<>\"\",BG27*(Summary!$C$15*Summary!$C$14*Summary!$C$16)/8.25,\"\")","v":""},null,"",{"$f":"IF(BJ27<>\"\",IF($B$10=1,SUMPRODUCT(INDIRECT(ADDRESS(INDEX(ROW($A27),1,1),4+cllStartDate) & \":\" & ADDRESS(INDEX(ROW($A27),1,1),4+cllEndDate+2)),INDIRECT(ADDRESS(INDEX(ROW($A$47),1,1),4+cllStartDate) & \":\" & ADDRESS(INDEX(ROW($A$47),1,1),4+cllEndDate+2)))*cllDaysPerWeek/7,BJ27*$B$11),\"\")","v":""},{"$f":"IF(BK27<>\"\",BK27*(Summary!$C$15*Summary!$C$14*Summary!$C$16)/8.25,\"\")","v":""},null,6904.3931516577632,0]
[null,null,null,2002,"","","","","",6.1,4.5999999999999996,4.2,1.3,2.1,0,0.7,2.7,5.3,7,2.9,6.9,7,6.4,4.3,6.8,5.9,6.2,6.6,4.7,2.5,6.9,6.9,6.6,4.8,6.9,4,6.2,5.2,2.8,1.4,4.3,"","","","","","","",null,"",{"$f":"IF(AX28<>\"\",IF($B$10=1,SUMPRODUCT(INDIRECT(ADDRESS(INDEX(ROW($A28),1,1),4+cllStartDate) & \":\" & ADDRESS(INDEX(ROW($A28),1,1),4+cllEndDate-1)),INDIRECT(ADDRESS(INDEX(ROW($A$47),1,1),4+cllStartDate) & \":\" & ADDRESS(INDEX(ROW($A$47),1,1),4+cllEndDate-1)))*cllDaysPerWeek/7,AX28*$B$11),\"\")","v":""},{"$f":"IF(AY28<>\"\",AY28*(Summary!$C$15*Summary!$C$14*Summary!$C$16)/8.25,\"\")","v":""},null,"",{"$f":"IF(BB28<>\"\",IF($B$10=1,SUMPRODUCT(INDIRECT(ADDRESS(INDEX(ROW($A28),1,1),4+cllStartDate) & \":\" & ADDRESS(INDEX(ROW($A28),1,1),4+cllEndDate)),INDIRECT(ADDRESS(INDEX(ROW($A$47),1,1),4+cllStartDate) & \":\" & ADDRESS(INDEX(ROW($A$47),1,1),4+cllEndDate)))*cllDaysPerWeek/7,BB28*$B$11),\"\")","v":""},{"$f":"IF(BC28<>\"\",BC28*(Summary!$C$15*Summary!$C$14*Summary!$C$16)/8.25,\"\")","v":""},null,"",{"$f":"IF(BF28<>\"\",IF($B$10=1,SUMPRODUCT(INDIRECT(ADDRESS(INDEX(ROW($A28),1,1),4+cllStartDate) & \":\" & ADDRESS(INDEX(ROW($A28),1,1),4+cllEndDate+1)),INDIRECT(ADDRESS(INDEX(ROW($A$47),1,1),4+cllStartDate) & \":\" & ADDRESS(INDEX(ROW($A$47),1,1),4+cllEndDate+1)))*cllDaysPerWeek/7,BF28*$B$11),\"\")","v":""},{"$f":"IF(BG28<>\"\",BG28*(Summary!$C$15*Summary!$C$14*Summary!$C$16)/8.25,\"\")","v":""},null,"",{"$f":"IF(BJ28<>\"\",IF($B$10=1,SUMPRODUCT(INDIRECT(ADDRESS(INDEX(ROW($A28),1,1),4+cllStartDate) & \":\" & ADDRESS(INDEX(ROW($A28),1,1),4+cllEndDate+2)),INDIRECT(ADDRESS(INDEX(ROW($A$47),1,1),4+cllStartDate) & \":\" & ADDRESS(INDEX(ROW($A$47),1,1),4+cllEndDate+2)))*cllDaysPerWeek/7,BJ28*$B$11),\"\")","v":""},{"$f":"IF(BK28<>\"\",BK28*(Summary!$C$15*Summary!$C$14*Summary!$C$16)/8.25,\"\")","v":""},null,{"$error":"#N/A"},{"$error":"#N/A"}]
[null,null,null,2003,"","","","","",4.5999999999999996,5.7,3.14,1.8,1.4,1.1000000000000001,3,4.3,5.6,2.5,2.2000000000000002,6.2,4.5999999999999996,6.4,6,5.4,6.9,6.6,6.9,6.9,6.9,6.9,5.3,3.3,3.4,5.3,6.4,5.9,4.7,6.2,4.8,5.5,5.2,"","","","","","",null,21.7,{"$f":"IF(AX29<>\"\",IF($B$10=1,SUMPRODUCT(INDIRECT(ADDRESS(INDEX(ROW($A29),1,1),4+cllStartDate) & \":\" & ADDRESS(INDEX(ROW($A29),1,1),4+cllEndDate-1)),INDIRECT(ADDRESS(INDEX(ROW($A$47),1,1),4+cllStartDate) & \":\" & ADDRESS(INDEX(ROW($A$47),1,1),4+cllEndDate-1)))*cllDaysPerWeek/7,AX29*$B$11),\"\")","v":226.78546838905723},{"$f":"IF(AY29<>\"\",AY29*(Summary!$C$15*Summary!$C$14*Summary!$C$16)/8.25,\"\")","v":5019.5183670111337},null,"",{"$f":"IF(BB29<>\"\",IF($B$10=1,SUMPRODUCT(INDIRECT(ADDRESS(INDEX(ROW($A29),1,1),4+cllStartDate) & \":\" & ADDRESS(INDEX(ROW($A29),1,1),4+cllEndDate)),INDIRECT(ADDRESS(INDEX(ROW($A$47),1,1),4+cllStartDate) & \":\" & ADDRESS(INDEX(ROW($A$47),1,1),4+cllEndDate)))*cllDaysPerWeek/7,BB29*$B$11),\"\")","v":""},{"$f":"IF(BC29<>\"\",BC29*(Summary!$C$15*Summary!$C$14*Summary!$C$16)/8.25,\"\")","v":""},null,"",{"$f":"IF(BF29<>\"\",IF($B$10=1,SUMPRODUCT(INDIRECT(ADDRESS(INDEX(ROW($A29),1,1),4+cllStartDate) & \":\" & ADDRESS(INDEX(ROW($A29),1,1),4+cllEndDate+1)),INDIRECT(ADDRESS(INDEX(ROW($A$47),1,1),4+cllStartDate) & \":\" & ADDRESS(INDEX(ROW($A$47),1,1),4+cllEndDate+1)))*cllDaysPerWeek/7,BF29*$B$11),\"\")","v":""},{"$f":"IF(BG29<>\"\",BG29*(Summary!$C$15*Summary!$C$14*Summary!$C$16)/8.25,\"\")","v":""},null,"",{"$f":"IF(BJ29<>\"\",IF($B$10=1,SUMPRODUCT(INDIRECT(ADDRESS(INDEX(ROW($A29),1,1),4+cllStartDate) & \":\" & ADDRESS(INDEX(ROW($A29),1,1),4+cllEndDate+2)),INDIRECT(ADDRESS(INDEX(ROW($A$47),1,1),4+cllStartDate) & \":\" & ADDRESS(INDEX(ROW($A$47),1,1),4+cllEndDate+2)))*cllDaysPerWeek/7,BJ29*$B$11),\"\")","v":""},{"$f":"IF(BK29<>\"\",BK29*(Summary!$C$15*Summary!$C$14*Summary!$C$16)/8.25,\"\")","v":""},null,{"$error":"#N/A"},{"$error":"#N/A"}]
[null,null,null,2004,"","","","","",3.6,4.8,7,2.6,2.6,5,3.9,2.6,1.3,4.0999999999999996,2.1,1,3.7,3.9,2.4,4.4000000000000004,4.8,5.5,3.2,6.7,5.0999999999999996,1,4.2,6.2,4.4000000000000004,6.6,5.5,3.8,4.0999999999999996,2.2999999999999998,1.7,2.9,5.5,5.2,"","","","","",null,12.4,{"$f":"IF(AX30<>\"\",IF($B$10=1,SUMPRODUCT(INDIRECT(ADDRESS(INDEX(ROW($A30),1,1),4+cllStartDate) & \":\" & ADDRESS(INDEX(ROW($A30),1,1),4+cllEndDate-1)),INDIRECT(ADDRESS(INDEX(ROW($A$47),1,1),4+cllStartDate) & \":\" & ADDRESS(INDEX(ROW($A$47),1,1),4+cllEndDate-1)))*cllDaysPerWeek/7,AX30*$B$11),\"\")","v":128.00452534576013},{"$f":"IF(AY30<>\"\",AY30*(Summary!$C$15*Summary!$C$14*Summary!$C$16)/8.25,\"\")","v":2833.1668276528244},null,17.600000000000001,{"$f":"IF(BB30<>\"\",IF($B$10=1,SUMPRODUCT(INDIRECT(ADDRESS(INDEX(ROW($A30),1,1),4+cllStartDate) & \":\" & ADDRESS(INDEX(ROW($A30),1,1),4+cllEndDate)),INDIRECT(ADDRESS(INDEX(ROW($A$47),1,1),4+cllStartDate) & \":\" & ADDRESS(INDEX(ROW($A$47),1,1),4+cllEndDate)))*cllDaysPerWeek/7,BB30*$B$11),\"\")","v":179.0951664080184},{"$f":"IF(BC30<>\"\",BC30*(Summary!$C$15*Summary!$C$14*Summary!$C$16)/8.25,\"\")","v":3963.973016497474},null,"",{"$f":"IF(BF30<>\"\",IF($B$10=1,SUMPRODUCT(INDIRECT(ADDRESS(INDEX(ROW($A30),1,1),4+cllStartDate) & \":\" & ADDRESS(INDEX(ROW($A30),1,1),4+cllEndDate+1)),INDIRECT(ADDRESS(INDEX(ROW($A$47),1,1),4+cllStartDate) & \":\" & ADDRESS(INDEX(ROW($A$47),1,1),4+cllEndDate+1)))*cllDaysPerWeek/7,BF30*$B$11),\"\")","v":""},{"$f":"IF(BG30<>\"\",BG30*(Summary!$C$15*Summary!$C$14*Summary!$C$16)/8.25,\"\")","v":""},null,"",{"$f":"IF(BJ30<>\"\",IF($B$10=1,SUMPRODUCT(INDIRECT(ADDRESS(INDEX(ROW($A30),1,1),4+cllStartDate) & \":\" & ADDRESS(INDEX(ROW($A30),1,1),4+cllEndDate+2)),INDIRECT(ADDRESS(INDEX(ROW($A$47),1,1),4+cllStartDate) & \":\" & ADDRESS(INDEX(ROW($A$47),1,1),4+cllEndDate+2)))*cllDaysPerWeek/7,BJ30*$B$11),\"\")","v":""},{"$f":"IF(BK30<>\"\",BK30*(Summary!$C$15*Summary!$C$14*Summary!$C$16)/8.25,\"\")","v":""},null,{"$error":"#N/A"},{"$error":"#N/A"}]
[null,null,null,2005,"","","","","",5.53,5.78,3.3,2.6,2.8,5.3,2.8,4.5,6.1,4.5,1.3,5.4,6.8,4.5999999999999996,6.3,6.9,6.8,5.7,6.7,4.8,4,3.9,6.7,6.9,5.6,5,4.5,5.2,6.6,4.0999999999999996,6.1,5.9,6.6,"","","","","","",null,22.700000000000006,{"$f":"IF(AX31<>\"\",IF($B$10=1,SUMPRODUCT(INDIRECT(ADDRESS(INDEX(ROW($A31),1,1),4+cllStartDate) & \":\" & ADDRESS(INDEX(ROW($A31),1,1),4+cllEndDate-1)),INDIRECT(ADDRESS(INDEX(ROW($A$47),1,1),4+cllStartDate) & \":\" & ADDRESS(INDEX(ROW($A$47),1,1),4+cllEndDate-1)))*cllDaysPerWeek/7,AX31*$B$11),\"\")","v":235.92734825280135},{"$f":"IF(AY31<>\"\",AY31*(Summary!$C$15*Summary!$C$14*Summary!$C$16)/8.25,\"\")","v":5221.8586413286694},null,"",{"$f":"IF(BB31<>\"\",IF($B$10=1,SUMPRODUCT(INDIRECT(ADDRESS(INDEX(ROW($A31),1,1),4+cllStartDate) & \":\" & ADDRESS(INDEX(ROW($A31),1,1),4+cllEndDate)),INDIRECT(ADDRESS(INDEX(ROW($A$47),1,1),4+cllStartDate) & \":\" & ADDRESS(INDEX(ROW($A$47),1,1),4+cllEndDate)))*cllDaysPerWeek/7,BB31*$B$11),\"\")","v":""},{"$f":"IF(BC31<>\"\",BC31*(Summary!$C$15*Summary!$C$14*Summary!$C$16)/8.25,\"\")","v":""},null,"",{"$f":"IF(BF31<>\"\",IF($B$10=1,SUMPRODUCT(INDIRECT(ADDRESS(INDEX(ROW($A31),1,1),4+cllStartDate) & \":\" & ADDRESS(INDEX(ROW($A31),1,1),4+cllEndDate+1)),INDIRECT(ADDRESS(INDEX(ROW($A$47),1,1),4+cllStartDate) & \":\" & ADDRESS(INDEX(ROW($A$47),1,1),4+cllEndDate+1)))*cllDaysPerWeek/7,BF31*$B$11),\"\")","v":""},{"$f":"IF(BG31<>\"\",BG31*(Summary!$C$15*Summary!$C$14*Summary!$C$16)/8.25,\"\")","v":""},null,"",{"$f":"IF(BJ31<>\"\",IF($B$10=1,SUMPRODUCT(INDIRECT(ADDRESS(INDEX(ROW($A31),1,1),4+cllStartDate) & \":\" & ADDRESS(INDEX(ROW($A31),1,1),4+cllEndDate+2)),INDIRECT(ADDRESS(INDEX(ROW($A$47),1,1),4+cllStartDate) & \":\" & ADDRESS(INDEX(ROW($A$47),1,1),4+cllEndDate+2)))*cllDaysPerWeek/7,BJ31*$B$11),\"\")","v":""},{"$f":"IF(BK31<>\"\",BK31*(Summary!$C$15*Summary!$C$14*Summary!$C$16)/8.25,\"\")","v":""},null,{"$error":"#N/A"},{"$error":"#N/A"}]
[null,null,null,2006,"","","","","",1.9,3.9,6.1,3.2,4.2,1.7,3.8,6.3,6.7,4.4000000000000004,5.0999999999999996,5.7,4.5999999999999996,6.3,6.4,5.5,5.7,6.4,6.5,5.2,4.3,4.2,4.8,5.4,5.0999999999999996,5.8,6.6,6.8,5.6,2.9,2.2000000000000002,5.7,4.9000000000000004,6.2,"","","","","",null,15.700000000000001,{"$f":"IF(AX32<>\"\",IF($B$10=1,SUMPRODUCT(INDIRECT(ADDRESS(INDEX(ROW($A32),1,1),4+cllStartDate) & \":\" & ADDRESS(INDEX(ROW($A32),1,1),4+cllEndDate-1)),INDIRECT(ADDRESS(INDEX(ROW($A$47),1,1),4+cllStartDate) & \":\" & ADDRESS(INDEX(ROW($A$47),1,1),4+cllEndDate-1)))*cllDaysPerWeek/7,AX32*$B$11),\"\")","v":162.58708524591458},{"$f":"IF(AY32<>\"\",AY32*(Summary!$C$15*Summary!$C$14*Summary!$C$16)/8.25,\"\")","v":3598.5941534429089},null,21.900000000000002,{"$f":"IF(BB32<>\"\",IF($B$10=1,SUMPRODUCT(INDIRECT(ADDRESS(INDEX(ROW($A32),1,1),4+cllStartDate) & \":\" & ADDRESS(INDEX(ROW($A32),1,1),4+cllEndDate)),INDIRECT(ADDRESS(INDEX(ROW($A$47),1,1),4+cllStartDate) & \":\" & ADDRESS(INDEX(ROW($A$47),1,1),4+cllEndDate)))*cllDaysPerWeek/7,BB32*$B$11),\"\")","v":223.50284958937638},{"$f":"IF(BC32<>\"\",BC32*(Summary!$C$15*Summary!$C$14*Summary!$C$16)/8.25,\"\")","v":4946.8630709115305},null,"",{"$f":"IF(BF32<>\"\",IF($B$10=1,SUMPRODUCT(INDIRECT(ADDRESS(INDEX(ROW($A32),1,1),4+cllStartDate) & \":\" & ADDRESS(INDEX(ROW($A32),1,1),4+cllEndDate+1)),INDIRECT(ADDRESS(INDEX(ROW($A$47),1,1),4+cllStartDate) & \":\" & ADDRESS(INDEX(ROW($A$47),1,1),4+cllEndDate+1)))*cllDaysPerWeek/7,BF32*$B$11),\"\")","v":""},{"$f":"IF(BG32<>\"\",BG32*(Summary!$C$15*Summary!$C$14*Summary!$C$16)/8.25,\"\")","v":""},null,"",{"$f":"IF(BJ32<>\"\",IF($B$10=1,SUMPRODUCT(INDIRECT(ADDRESS(INDEX(ROW($A32),1,1),4+cllStartDate) & \":\" & ADDRESS(INDEX(ROW($A32),1,1),4+cllEndDate+2)),INDIRECT(ADDRESS(INDEX(ROW($A$47),1,1),4+cllStartDate) & \":\" & ADDRESS(INDEX(ROW($A$47),1,1),4+cllEndDate+2)))*cllDaysPerWeek/7,BJ32*$B$11),\"\")","v":""},{"$f":"IF(BK32<>\"\",BK32*(Summary!$C$15*Summary!$C$14*Summary!$C$16)/8.25,\"\")","v":""},null,{"$error":"#N/A"},{"$error":"#N/A"}]
[null,null,null,2007,{"$f":"IF(TYPE(VLOOKUP($B$6&$D33&E$2,data,$B$7+5,FALSE))=1,VLOOKUP($B$6&$D33&E$2,data,$B$7+5,FALSE),\"\")","v":""},"","","","",1.8,1.5,1.9,4.5999999999999996,2,{"$f":"IF(TYPE(VLOOKUP($B$6&$D33&O$2,data,$B$7+5,FALSE))=1,VLOOKUP($B$6&$D33&O$2,data,$B$7+5,FALSE),\"\")","v":1.4},1.6,4.8,4.3,2.6,4.4000000000000004,6.4,5.5,3.2,6.1,{"$f":"IF(TYPE(VLOOKUP($B$6&$D33&Y$2,data,$B$7+5,FALSE))=1,VLOOKUP($B$6&$D33&Y$2,data,$B$7+5,FALSE),\"\")","v":5.6},6.6,6.8,6.9,5.5,"",4.4000000000000004,6.7,5.0999999999999996,6.6,{"$f":"IF(TYPE(VLOOKUP($B$6&$D33&AI$2,data,$B$7+5,FALSE))=1,VLOOKUP($B$6&$D33&AI$2,data,$B$7+5,FALSE),\"\")","v":6.5},5.6,4.9000000000000004,4.5,2.4,5.2,6.9,6.6,6.4,"","","","","",null,21.1,{"$f":"IF(AX33<>\"\",IF($B$10=1,SUMPRODUCT(INDIRECT(ADDRESS(INDEX(ROW($A33),1,1),4+cllStartDate) & \":\" & ADDRESS(INDEX(ROW($A33),1,1),4+cllEndDate-1)),INDIRECT(ADDRESS(INDEX(ROW($A$47),1,1),4+cllStartDate) & \":\" & ADDRESS(INDEX(ROW($A$47),1,1),4+cllEndDate-1)))*cllDaysPerWeek/7,AX33*$B$11),\"\")","v":218.28238526268871},{"$f":"IF(AY33<>\"\",AY33*(Summary!$C$15*Summary!$C$14*Summary!$C$16)/8.25,\"\")","v":4831.316793814176},null,27.5,{"$f":"IF(BB33<>\"\",IF($B$10=1,SUMPRODUCT(INDIRECT(ADDRESS(INDEX(ROW($A33),1,1),4+cllStartDate) & \":\" & ADDRESS(INDEX(ROW($A33),1,1),4+cllEndDate)),INDIRECT(ADDRESS(INDEX(ROW($A$47),1,1),4+cllStartDate) & \":\" & ADDRESS(INDEX(ROW($A$47),1,1),4+cllEndDate)))*cllDaysPerWeek/7,BB33*$B$11),\"\")","v":281.16317426239118},{"$f":"IF(BC33<>\"\",BC33*(Summary!$C$15*Summary!$C$14*Summary!$C$16)/8.25,\"\")","v":6223.0782570075917},null,"",{"$f":"IF(BF33<>\"\",IF($B$10=1,SUMPRODUCT(INDIRECT(ADDRESS(INDEX(ROW($A33),1,1),4+cllStartDate) & \":\" & ADDRESS(INDEX(ROW($A33),1,1),4+cllEndDate+1)),INDIRECT(ADDRESS(INDEX(ROW($A$47),1,1),4+cllStartDate) & \":\" & ADDRESS(INDEX(ROW($A$47),1,1),4+cllEndDate+1)))*cllDaysPerWeek/7,BF33*$B$11),\"\")","v":""},{"$f":"IF(BG33<>\"\",BG33*(Summary!$C$15*Summary!$C$14*Summary!$C$16)/8.25,\"\")","v":""},null,"",{"$f":"IF(BJ33<>\"\",IF($B$10=1,SUMPRODUCT(INDIRECT(ADDRESS(INDEX(ROW($A33),1,1),4+cllStartDate) & \":\" & ADDRESS(INDEX(ROW($A33),1,1),4+cllEndDate+2)),INDIRECT(ADDRESS(INDEX(ROW($A$47),1,1),4+cllStartDate) & \":\" & ADDRESS(INDEX(ROW($A$47),1,1),4+cllEndDate+2)))*cllDaysPerWeek/7,BJ33*$B$11),\"\")","v":""},{"$f":"IF(BK33<>\"\",BK33*(Summary!$C$15*Summary!$C$14*Summary!$C$16)/8.25,\"\")","v":""},null,{"$error":"#N/A"},{"$error":"#N/A"}]
[null,null,null,2008,"","","","",1.9,3.2,0.6,0.9,0.3,1.1000000000000001,2,3.9,4,2.6,1.3,0.5,2.6,1.1000000000000001,3.1,3.5,5.9,2.4,4,6.7,5.2,5,5.5,2.5,0.4,4.4000000000000004,6.4,6.4,5.8,3.8,3.2,6.5,4.0999999999999996,3.3,5.6,"","","","","",null,17.099999999999998,{"$f":"IF(AX34<>\"\",IF($B$10=1,SUMPRODUCT(INDIRECT(ADDRESS(INDEX(ROW($A34),1,1),4+cllStartDate) & \":\" & ADDRESS(INDEX(ROW($A34),1,1),4+cllEndDate-1)),INDIRECT(ADDRESS(INDEX(ROW($A$47),1,1),4+cllStartDate) & \":\" & ADDRESS(INDEX(ROW($A$47),1,1),4+cllEndDate-1)))*cllDaysPerWeek/7,AX34*$B$11),\"\")","v":178.70917521547446},{"$f":"IF(AY34<>\"\",AY34*(Summary!$C$15*Summary!$C$14*Summary!$C$16)/8.25,\"\")","v":3955.4297447691679},null,22.699999999999996,{"$f":"IF(BB34<>\"\",IF($B$10=1,SUMPRODUCT(INDIRECT(ADDRESS(INDEX(ROW($A34),1,1),4+cllStartDate) & \":\" & ADDRESS(INDEX(ROW($A34),1,1),4+cllEndDate)),INDIRECT(ADDRESS(INDEX(ROW($A$47),1,1),4+cllStartDate) & \":\" & ADDRESS(INDEX(ROW($A$47),1,1),4+cllEndDate)))*cllDaysPerWeek/7,BB34*$B$11),\"\")","v":233.72986559021413},{"$f":"IF(BC34<>\"\",BC34*(Summary!$C$15*Summary!$C$14*Summary!$C$16)/8.25,\"\")","v":5173.2210250634062},null,"",{"$f":"IF(BF34<>\"\",IF($B$10=1,SUMPRODUCT(INDIRECT(ADDRESS(INDEX(ROW($A34),1,1),4+cllStartDate) & \":\" & ADDRESS(INDEX(ROW($A34),1,1),4+cllEndDate+1)),INDIRECT(ADDRESS(INDEX(ROW($A$47),1,1),4+cllStartDate) & \":\" & ADDRESS(INDEX(ROW($A$47),1,1),4+cllEndDate+1)))*cllDaysPerWeek/7,BF34*$B$11),\"\")","v":""},{"$f":"IF(BG34<>\"\",BG34*(Summary!$C$15*Summary!$C$14*Summary!$C$16)/8.25,\"\")","v":""},null,"",{"$f":"IF(BJ34<>\"\",IF($B$10=1,SUMPRODUCT(INDIRECT(ADDRESS(INDEX(ROW($A34),1,1),4+cllStartDate) & \":\" & ADDRESS(INDEX(ROW($A34),1,1),4+cllEndDate+2)),INDIRECT(ADDRESS(INDEX(ROW($A$47),1,1),4+cllStartDate) & \":\" & ADDRESS(INDEX(ROW($A$47),1,1),4+cllEndDate+2)))*cllDaysPerWeek/7,BJ34*$B$11),\"\")","v":""},{"$f":"IF(BK34<>\"\",BK34*(Summary!$C$15*Summary!$C$14*Summary!$C$16)/8.25,\"\")","v":""},null,{"$error":"#N/A"},{"$error":"#N/A"}]
[null,null,null,2009,"","","","",1.5,0.7,1,1.1000000000000001,3.5,0.7,2.2999999999999998,2,4.9000000000000004,3.2,3.2,1.7,1.1000000000000001,4.2,5.2,4.4000000000000004,5.7,5.7,4.8,5.2,4,2,4.5999999999999996,5.5,6.7,6.9,4.9000000000000004,4.4000000000000004,2.2999999999999998,2.2000000000000002,2.33,1.4,6.1,4.8,1.4,4.3,5.5,"","","",null,14.629999999999999,{"$f":"IF(AX35<>\"\",IF($B$10=1,SUMPRODUCT(INDIRECT(ADDRESS(INDEX(ROW($A35),1,1),4+cllStartDate) & \":\" & ADDRESS(INDEX(ROW($A35),1,1),4+cllEndDate-1)),INDIRECT(ADDRESS(INDEX(ROW($A$47),1,1),4+cllStartDate) & \":\" & ADDRESS(INDEX(ROW($A$47),1,1),4+cllEndDate-1)))*cllDaysPerWeek/7,AX35*$B$11),\"\")","v":151.07013660152271},{"$f":"IF(AY35<>\"\",AY35*(Summary!$C$15*Summary!$C$14*Summary!$C$16)/8.25,\"\")","v":3343.6856901137021},null,16.029999999999998,{"$f":"IF(BB35<>\"\",IF($B$10=1,SUMPRODUCT(INDIRECT(ADDRESS(INDEX(ROW($A35),1,1),4+cllStartDate) & \":\" & ADDRESS(INDEX(ROW($A35),1,1),4+cllEndDate)),INDIRECT(ADDRESS(INDEX(ROW($A$47),1,1),4+cllStartDate) & \":\" & ADDRESS(INDEX(ROW($A$47),1,1),4+cllEndDate)))*cllDaysPerWeek/7,BB35*$B$11),\"\")","v":164.82530919520764},{"$f":"IF(BC35<>\"\",BC35*(Summary!$C$15*Summary!$C$14*Summary!$C$16)/8.25,\"\")","v":3648.1335101872619},null,20.330000000000002,{"$f":"IF(BF35<>\"\",IF($B$10=1,SUMPRODUCT(INDIRECT(ADDRESS(INDEX(ROW($A35),1,1),4+cllStartDate) & \":\" & ADDRESS(INDEX(ROW($A35),1,1),4+cllEndDate+1)),INDIRECT(ADDRESS(INDEX(ROW($A$47),1,1),4+cllStartDate) & \":\" & ADDRESS(INDEX(ROW($A$47),1,1),4+cllEndDate+1)))*cllDaysPerWeek/7,BF35*$B$11),\"\")","v":206.26081170985586},{"$f":"IF(BG35<>\"\",BG35*(Summary!$C$15*Summary!$C$14*Summary!$C$16)/8.25,\"\")","v":4565.2392991781426},null,25.830000000000002,{"$f":"IF(BJ35<>\"\",IF($B$10=1,SUMPRODUCT(INDIRECT(ADDRESS(INDEX(ROW($A35),1,1),4+cllStartDate) & \":\" & ADDRESS(INDEX(ROW($A35),1,1),4+cllEndDate+2)),INDIRECT(ADDRESS(INDEX(ROW($A$47),1,1),4+cllStartDate) & \":\" & ADDRESS(INDEX(ROW($A$47),1,1),4+cllEndDate+2)))*cllDaysPerWeek/7,BJ35*$B$11),\"\")","v":258.43747204613015},{"$f":"IF(BK35<>\"\",BK35*(Summary!$C$15*Summary!$C$14*Summary!$C$16)/8.25,\"\")","v":5720.082714621014},null,{"$error":"#N/A"},{"$error":"#N/A"}]
[null,null,null,2010,"","","","","",1.8,3,5.8,4.2,0.7,2,0.1,0.2,3.5,2.1,0.9,1.6,3.6,5.7,2.1,5.3,2.2999999999999998,3.5,6.7,4.8,5,6.1,4.0999999999999996,4.0999999999999996,3.8,1.3,6.2,6.9,6.5,6.1,6.2,7,"","","","","","","",null,"",{"$f":"IF(AX36<>\"\",IF($B$10=1,SUMPRODUCT(INDIRECT(ADDRESS(INDEX(ROW($A36),1,1),4+cllStartDate) & \":\" & ADDRESS(INDEX(ROW($A36),1,1),4+cllEndDate-1)),INDIRECT(ADDRESS(INDEX(ROW($A$47),1,1),4+cllStartDate) & \":\" & ADDRESS(INDEX(ROW($A$47),1,1),4+cllEndDate-1)))*cllDaysPerWeek/7,AX36*$B$11),\"\")","v":""},{"$f":"IF(AY36<>\"\",AY36*(Summary!$C$15*Summary!$C$14*Summary!$C$16)/8.25,\"\")","v":""},null,"",{"$f":"IF(BB36<>\"\",IF($B$10=1,SUMPRODUCT(INDIRECT(ADDRESS(INDEX(ROW($A36),1,1),4+cllStartDate) & \":\" & ADDRESS(INDEX(ROW($A36),1,1),4+cllEndDate)),INDIRECT(ADDRESS(INDEX(ROW($A$47),1,1),4+cllStartDate) & \":\" & ADDRESS(INDEX(ROW($A$47),1,1),4+cllEndDate)))*cllDaysPerWeek/7,BB36*$B$11),\"\")","v":""},{"$f":"IF(BC36<>\"\",BC36*(Summary!$C$15*Summary!$C$14*Summary!$C$16)/8.25,\"\")","v":""},null,"",{"$f":"IF(BF36<>\"\",IF($B$10=1,SUMPRODUCT(INDIRECT(ADDRESS(INDEX(ROW($A36),1,1),4+cllStartDate) & \":\" & ADDRESS(INDEX(ROW($A36),1,1),4+cllEndDate+1)),INDIRECT(ADDRESS(INDEX(ROW($A$47),1,1),4+cllStartDate) & \":\" & ADDRESS(INDEX(ROW($A$47),1,1),4+cllEndDate+1)))*cllDaysPerWeek/7,BF36*$B$11),\"\")","v":""},{"$f":"IF(BG36<>\"\",BG36*(Summary!$C$15*Summary!$C$14*Summary!$C$16)/8.25,\"\")","v":""},null,"",{"$f":"IF(BJ36<>\"\",IF($B$10=1,SUMPRODUCT(INDIRECT(ADDRESS(INDEX(ROW($A36),1,1),4+cllStartDate) & \":\" & ADDRESS(INDEX(ROW($A36),1,1),4+cllEndDate+2)),INDIRECT(ADDRESS(INDEX(ROW($A$47),1,1),4+cllStartDate) & \":\" & ADDRESS(INDEX(ROW($A$47),1,1),4+cllEndDate+2)))*cllDaysPerWeek/7,BJ36*$B$11),\"\")","v":""},{"$f":"IF(BK36<>\"\",BK36*(Summary!$C$15*Summary!$C$14*Summary!$C$16)/8.25,\"\")","v":""},null,{"$error":"#N/A"},{"$error":"#N/A"}]
[null,null,null,2011,"","","","","",3.6,3.9,3.8,0.5,1.7,4.2,4.4000000000000004,2.9,0.8,3.2,4,2.2999999999999998,2.7,3.8,5.0999999999999996,6,6.9,5.2,5.9,6.4,3.7,6.1,6.1,6.5,5.0999999999999996,6.5,7,7,6.9,6.6,7,4.5999999999999996,"","","","","","","",null,"",{"$f":"IF(AX37<>\"\",IF($B$10=1,SUMPRODUCT(INDIRECT(ADDRESS(INDEX(ROW($A37),1,1),4+cllStartDate) & \":\" & ADDRESS(INDEX(ROW($A37),1,1),4+cllEndDate-1)),INDIRECT(ADDRESS(INDEX(ROW($A$47),1,1),4+cllStartDate) & \":\" & ADDRESS(INDEX(ROW($A$47),1,1),4+cllEndDate-1)))*cllDaysPerWeek/7,AX37*$B$11),\"\")","v":""},{"$f":"IF(AY37<>\"\",AY37*(Summary!$C$15*Summary!$C$14*Summary!$C$16)/8.25,\"\")","v":""},null,"",{"$f":"IF(BB37<>\"\",IF($B$10=1,SUMPRODUCT(INDIRECT(ADDRESS(INDEX(ROW($A37),1,1),4+cllStartDate) & \":\" & ADDRESS(INDEX(ROW($A37),1,1),4+cllEndDate)),INDIRECT(ADDRESS(INDEX(ROW($A$47),1,1),4+cllStartDate) & \":\" & ADDRESS(INDEX(ROW($A$47),1,1),4+cllEndDate)))*cllDaysPerWeek/7,BB37*$B$11),\"\")","v":""},{"$f":"IF(BC37<>\"\",BC37*(Summary!$C$15*Summary!$C$14*Summary!$C$16)/8.25,\"\")","v":""},null,"",{"$f":"IF(BF37<>\"\",IF($B$10=1,SUMPRODUCT(INDIRECT(ADDRESS(INDEX(ROW($A37),1,1),4+cllStartDate) & \":\" & ADDRESS(INDEX(ROW($A37),1,1),4+cllEndDate+1)),INDIRECT(ADDRESS(INDEX(ROW($A$47),1,1),4+cllStartDate) & \":\" & ADDRESS(INDEX(ROW($A$47),1,1),4+cllEndDate+1)))*cllDaysPerWeek/7,BF37*$B$11),\"\")","v":""},{"$f":"IF(BG37<>\"\",BG37*(Summary!$C$15*Summary!$C$14*Summary!$C$16)/8.25,\"\")","v":""},null,"",{"$f":"IF(BJ37<>\"\",IF($B$10=1,SUMPRODUCT(INDIRECT(ADDRESS(INDEX(ROW($A37),1,1),4+cllStartDate) & \":\" & ADDRESS(INDEX(ROW($A37),1,1),4+cllEndDate+2)),INDIRECT(ADDRESS(INDEX(ROW($A$47),1,1),4+cllStartDate) & \":\" & ADDRESS(INDEX(ROW($A$47),1,1),4+cllEndDate+2)))*cllDaysPerWeek/7,BJ37*$B$11),\"\")","v":""},{"$f":"IF(BK37<>\"\",BK37*(Summary!$C$15*Summary!$C$14*Summary!$C$16)/8.25,\"\")","v":""},null,{"$error":"#N/A"},{"$error":"#N/A"}]
[null,null,null,2012,"","","","","",2,3.3,3.3,4.2,5.5,1.5,3.9,6.8,6.4,6.4,7,5,6.3,7,6.9,6.8,6.9,6.6,7,7,7,6.6,5.4,5.6,6.3,6.7,6.5,6.6,5.6,4.7,5.0999999999999996,6.6,5.4,"","","","","","",null,21.799999999999994,{"$f":"IF(AX38<>\"\",IF($B$10=1,SUMPRODUCT(INDIRECT(ADDRESS(INDEX(ROW($A38),1,1),4+cllStartDate) & \":\" & ADDRESS(INDEX(ROW($A38),1,1),4+cllEndDate-1)),INDIRECT(ADDRESS(INDEX(ROW($A$47),1,1),4+cllStartDate) & \":\" & ADDRESS(INDEX(ROW($A$47),1,1),4+cllEndDate-1)))*cllDaysPerWeek/7,AX38*$B$11),\"\")","v":227.02177242500468},{"$f":"IF(AY38<>\"\",AY38*(Summary!$C$15*Summary!$C$14*Summary!$C$16)/8.25,\"\")","v":5024.7485630067695},null,"",{"$f":"IF(BB38<>\"\",IF($B$10=1,SUMPRODUCT(INDIRECT(ADDRESS(INDEX(ROW($A38),1,1),4+cllStartDate) & \":\" & ADDRESS(INDEX(ROW($A38),1,1),4+cllEndDate)),INDIRECT(ADDRESS(INDEX(ROW($A$47),1,1),4+cllStartDate) & \":\" & ADDRESS(INDEX(ROW($A$47),1,1),4+cllEndDate)))*cllDaysPerWeek/7,BB38*$B$11),\"\")","v":""},{"$f":"IF(BC38<>\"\",BC38*(Summary!$C$15*Summary!$C$14*Summary!$C$16)/8.25,\"\")","v":""},null,"",{"$f":"IF(BF38<>\"\",IF($B$10=1,SUMPRODUCT(INDIRECT(ADDRESS(INDEX(ROW($A38),1,1),4+cllStartDate) & \":\" & ADDRESS(INDEX(ROW($A38),1,1),4+cllEndDate+1)),INDIRECT(ADDRESS(INDEX(ROW($A$47),1,1),4+cllStartDate) & \":\" & ADDRESS(INDEX(ROW($A$47),1,1),4+cllEndDate+1)))*cllDaysPerWeek/7,BF38*$B$11),\"\")","v":""},{"$f":"IF(BG38<>\"\",BG38*(Summary!$C$15*Summary!$C$14*Summary!$C$16)/8.25,\"\")","v":""},null,"",{"$f":"IF(BJ38<>\"\",IF($B$10=1,SUMPRODUCT(INDIRECT(ADDRESS(INDEX(ROW($A38),1,1),4+cllStartDate) & \":\" & ADDRESS(INDEX(ROW($A38),1,1),4+cllEndDate+2)),INDIRECT(ADDRESS(INDEX(ROW($A$47),1,1),4+cllStartDate) & \":\" & ADDRESS(INDEX(ROW($A$47),1,1),4+cllEndDate+2)))*cllDaysPerWeek/7,BJ38*$B$11),\"\")","v":""},{"$f":"IF(BK38<>\"\",BK38*(Summary!$C$15*Summary!$C$14*Summary!$C$16)/8.25,\"\")","v":""},null,{"$error":"#N/A"},{"$error":"#N/A"}]
[null,null,null,2013,"","","","",1.4,3.7,0.4,0.2,0.7,2.8,2.9,6.3,2.2999999999999998,0.2,2.6,4.4000000000000004,4.7,5.7,6.4,6.9,6.7,6.5,5.3,6.7,6.9,7,7,7,6.3,5,5.8,"","",5.9,6.6,4,3.8,6.3,3.2,"","","","","",null,20.7,{"$f":"IF(AX39<>\"\",IF($B$10=1,SUMPRODUCT(INDIRECT(ADDRESS(INDEX(ROW($A39),1,1),4+cllStartDate) & \":\" & ADDRESS(INDEX(ROW($A39),1,1),4+cllEndDate-1)),INDIRECT(ADDRESS(INDEX(ROW($A$47),1,1),4+cllStartDate) & \":\" & ADDRESS(INDEX(ROW($A$47),1,1),4+cllEndDate-1)))*cllDaysPerWeek/7,AX39*$B$11),\"\")","v":216.22484734265163},{"$f":"IF(AY39<>\"\",AY39*(Summary!$C$15*Summary!$C$14*Summary!$C$16)/8.25,\"\")","v":4785.7766211840226},null,23.9,{"$f":"IF(BB39<>\"\",IF($B$10=1,SUMPRODUCT(INDIRECT(ADDRESS(INDEX(ROW($A39),1,1),4+cllStartDate) & \":\" & ADDRESS(INDEX(ROW($A39),1,1),4+cllEndDate)),INDIRECT(ADDRESS(INDEX(ROW($A$47),1,1),4+cllStartDate) & \":\" & ADDRESS(INDEX(ROW($A$47),1,1),4+cllEndDate)))*cllDaysPerWeek/7,BB39*$B$11),\"\")","v":247.66524184250289},{"$f":"IF(BC39<>\"\",BC39*(Summary!$C$15*Summary!$C$14*Summary!$C$16)/8.25,\"\")","v":5481.6573527807313},null,"",{"$f":"IF(BF39<>\"\",IF($B$10=1,SUMPRODUCT(INDIRECT(ADDRESS(INDEX(ROW($A39),1,1),4+cllStartDate) & \":\" & ADDRESS(INDEX(ROW($A39),1,1),4+cllEndDate+1)),INDIRECT(ADDRESS(INDEX(ROW($A$47),1,1),4+cllStartDate) & \":\" & ADDRESS(INDEX(ROW($A$47),1,1),4+cllEndDate+1)))*cllDaysPerWeek/7,BF39*$B$11),\"\")","v":""},{"$f":"IF(BG39<>\"\",BG39*(Summary!$C$15*Summary!$C$14*Summary!$C$16)/8.25,\"\")","v":""},null,"",{"$f":"IF(BJ39<>\"\",IF($B$10=1,SUMPRODUCT(INDIRECT(ADDRESS(INDEX(ROW($A39),1,1),4+cllStartDate) & \":\" & ADDRESS(INDEX(ROW($A39),1,1),4+cllEndDate+2)),INDIRECT(ADDRESS(INDEX(ROW($A$47),1,1),4+cllStartDate) & \":\" & ADDRESS(INDEX(ROW($A$47),1,1),4+cllEndDate+2)))*cllDaysPerWeek/7,BJ39*$B$11),\"\")","v":""},{"$f":"IF(BK39<>\"\",BK39*(Summary!$C$15*Summary!$C$14*Summary!$C$16)/8.25,\"\")","v":""},null,{"$error":"#N/A"},{"$error":"#N/A"}]
[null,null,null,2014,"","","","","",2,5,4,3.1,2.8,6.2,3.8,5.5,6.4,2.5,2.4,4.7,4.7,3.9,3.4,6.3,6.7,6.7,2.8,3.9,4.3,4.3,5.0999999999999996,1.8,5.7,6.6,2.9,3.2,3.2,5.9,6.2,6.6,6.1,5.2,"","","","","",null,24.800000000000004,{"$f":"IF(AX40<>\"\",IF($B$10=1,SUMPRODUCT(INDIRECT(ADDRESS(INDEX(ROW($A40),1,1),4+cllStartDate) & \":\" & ADDRESS(INDEX(ROW($A40),1,1),4+cllEndDate-1)),INDIRECT(ADDRESS(INDEX(ROW($A$47),1,1),4+cllStartDate) & \":\" & ADDRESS(INDEX(ROW($A$47),1,1),4+cllEndDate-1)))*cllDaysPerWeek/7,AX40*$B$11),\"\")","v":258.68423444213454},{"$f":"IF(AY40<>\"\",AY40*(Summary!$C$15*Summary!$C$14*Summary!$C$16)/8.25,\"\")","v":5725.5443889859116},null,30.000000000000004,{"$f":"IF(BB40<>\"\",IF($B$10=1,SUMPRODUCT(INDIRECT(ADDRESS(INDEX(ROW($A40),1,1),4+cllStartDate) & \":\" & ADDRESS(INDEX(ROW($A40),1,1),4+cllEndDate)),INDIRECT(ADDRESS(INDEX(ROW($A$47),1,1),4+cllStartDate) & \":\" & ADDRESS(INDEX(ROW($A$47),1,1),4+cllEndDate)))*cllDaysPerWeek/7,BB40*$B$11),\"\")","v":309.77487550439281},{"$f":"IF(BC40<>\"\",BC40*(Summary!$C$15*Summary!$C$14*Summary!$C$16)/8.25,\"\")","v":6856.3505778305607},null,"",{"$f":"IF(BF40<>\"\",IF($B$10=1,SUMPRODUCT(INDIRECT(ADDRESS(INDEX(ROW($A40),1,1),4+cllStartDate) & \":\" & ADDRESS(INDEX(ROW($A40),1,1),4+cllEndDate+1)),INDIRECT(ADDRESS(INDEX(ROW($A$47),1,1),4+cllStartDate) & \":\" & ADDRESS(INDEX(ROW($A$47),1,1),4+cllEndDate+1)))*cllDaysPerWeek/7,BF40*$B$11),\"\")","v":""},{"$f":"IF(BG40<>\"\",BG40*(Summary!$C$15*Summary!$C$14*Summary!$C$16)/8.25,\"\")","v":""},null,"",{"$f":"IF(BJ40<>\"\",IF($B$10=1,SUMPRODUCT(INDIRECT(ADDRESS(INDEX(ROW($A40),1,1),4+cllStartDate) & \":\" & ADDRESS(INDEX(ROW($A40),1,1),4+cllEndDate+2)),INDIRECT(ADDRESS(INDEX(ROW($A$47),1,1),4+cllStartDate) & \":\" & ADDRESS(INDEX(ROW($A$47),1,1),4+cllEndDate+2)))*cllDaysPerWeek/7,BJ40*$B$11),\"\")","v":""},{"$f":"IF(BK40<>\"\",BK40*(Summary!$C$15*Summary!$C$14*Summary!$C$16)/8.25,\"\")","v":""},null,{"$error":"#N/A"},{"$error":"#N/A"}]
[null,null,null,2015,"","","","","",2.4,2.2999999999999998,3.3,3.1,6.3,3.2,2.2000000000000002,0.9,0.4,1.4,"",1.9,1.5,4.4000000000000004,3.3,2.9,2.2999999999999998,3.9,2.5,6.7,5.4,6.7,6.9,4.7,5.9,7,6.9,6.9,7,5.8,3.6,4.0999999999999996,5.2,0.9,0.7,"","","","",null,18.7,{"$f":"IF(AX41<>\"\",IF($B$10=1,SUMPRODUCT(INDIRECT(ADDRESS(INDEX(ROW($A41),1,1),4+cllStartDate) & \":\" & ADDRESS(INDEX(ROW($A41),1,1),4+cllEndDate-1)),INDIRECT(ADDRESS(INDEX(ROW($A$47),1,1),4+cllStartDate) & \":\" & ADDRESS(INDEX(ROW($A$47),1,1),4+cllEndDate-1)))*cllDaysPerWeek/7,AX41*$B$11),\"\")","v":195.36239215871407},{"$f":"IF(AY41<>\"\",AY41*(Summary!$C$15*Summary!$C$14*Summary!$C$16)/8.25,\"\")","v":4324.020946446205},null,19.599999999999998,{"$f":"IF(BB41<>\"\",IF($B$10=1,SUMPRODUCT(INDIRECT(ADDRESS(INDEX(ROW($A41),1,1),4+cllStartDate) & \":\" & ADDRESS(INDEX(ROW($A41),1,1),4+cllEndDate)),INDIRECT(ADDRESS(INDEX(ROW($A$47),1,1),4+cllStartDate) & \":\" & ADDRESS(INDEX(ROW($A$47),1,1),4+cllEndDate)))*cllDaysPerWeek/7,BB41*$B$11),\"\")","v":204.20500311179723},{"$f":"IF(BC41<>\"\",BC41*(Summary!$C$15*Summary!$C$14*Summary!$C$16)/8.25,\"\")","v":4519.7374022077784},null,20.299999999999994,{"$f":"IF(BF41<>\"\",IF($B$10=1,SUMPRODUCT(INDIRECT(ADDRESS(INDEX(ROW($A41),1,1),4+cllStartDate) & \":\" & ADDRESS(INDEX(ROW($A41),1,1),4+cllEndDate+1)),INDIRECT(ADDRESS(INDEX(ROW($A$47),1,1),4+cllStartDate) & \":\" & ADDRESS(INDEX(ROW($A$47),1,1),4+cllEndDate+1)))*cllDaysPerWeek/7,BF41*$B$11),\"\")","v":210.95031747464694},{"$f":"IF(BG41<>\"\",BG41*(Summary!$C$15*Summary!$C$14*Summary!$C$16)/8.25,\"\")","v":4669.0336934388515},null,"",{"$f":"IF(BJ41<>\"\",IF($B$10=1,SUMPRODUCT(INDIRECT(ADDRESS(INDEX(ROW($A41),1,1),4+cllStartDate) & \":\" & ADDRESS(INDEX(ROW($A41),1,1),4+cllEndDate+2)),INDIRECT(ADDRESS(INDEX(ROW($A$47),1,1),4+cllStartDate) & \":\" & ADDRESS(INDEX(ROW($A$47),1,1),4+cllEndDate+2)))*cllDaysPerWeek/7,BJ41*$B$11),\"\")","v":""},{"$f":"IF(BK41<>\"\",BK41*(Summary!$C$15*Summary!$C$14*Summary!$C$16)/8.25,\"\")","v":""},null,{"$error":"#N/A"},{"$error":"#N/A"}]
[null,null,null,2016,"","","","","",3.5,3.5,5.8,4,1.2,3.4,1.8,3.8,3.8,4.2,6.7,6.7,5,3.6,3.4,3.4,5.4,5.5,1.8,3.8,4.9000000000000004,3,3.4,3.1,3.4,5.7,6.9,3.7,5.8,6.1,5.7,5.2,6.3,7,5.8,"","","","",null,23.3,{"$f":"IF(AX42<>\"\",IF($B$10=1,SUMPRODUCT(INDIRECT(ADDRESS(INDEX(ROW($A42),1,1),4+cllStartDate) & \":\" & ADDRESS(INDEX(ROW($A42),1,1),4+cllEndDate-1)),INDIRECT(ADDRESS(INDEX(ROW($A$47),1,1),4+cllStartDate) & \":\" & ADDRESS(INDEX(ROW($A$47),1,1),4+cllEndDate-1)))*cllDaysPerWeek/7,AX42*$B$11),\"\")","v":243.16961075105263},{"$f":"IF(AY42<>\"\",AY42*(Summary!$C$15*Summary!$C$14*Summary!$C$16)/8.25,\"\")","v":5382.1540512899655},null,30.3,{"$f":"IF(BB42<>\"\",IF($B$10=1,SUMPRODUCT(INDIRECT(ADDRESS(INDEX(ROW($A42),1,1),4+cllStartDate) & \":\" & ADDRESS(INDEX(ROW($A42),1,1),4+cllEndDate)),INDIRECT(ADDRESS(INDEX(ROW($A$47),1,1),4+cllStartDate) & \":\" & ADDRESS(INDEX(ROW($A$47),1,1),4+cllEndDate)))*cllDaysPerWeek/7,BB42*$B$11),\"\")","v":311.94547371947726},{"$f":"IF(BC42<>\"\",BC42*(Summary!$C$15*Summary!$C$14*Summary!$C$16)/8.25,\"\")","v":6904.3931516577632},null,36.1,{"$f":"IF(BF42<>\"\",IF($B$10=1,SUMPRODUCT(INDIRECT(ADDRESS(INDEX(ROW($A42),1,1),4+cllStartDate) & \":\" & ADDRESS(INDEX(ROW($A42),1,1),4+cllEndDate+1)),INDIRECT(ADDRESS(INDEX(ROW($A$47),1,1),4+cllStartDate) & \":\" & ADDRESS(INDEX(ROW($A$47),1,1),4+cllEndDate+1)))*cllDaysPerWeek/7,BF42*$B$11),\"\")","v":367.83522129737486},{"$f":"IF(BG42<>\"\",BG42*(Summary!$C$15*Summary!$C$14*Summary!$C$16)/8.25,\"\")","v":8141.4195647152301},null,"",{"$f":"IF(BJ42<>\"\",IF($B$10=1,SUMPRODUCT(INDIRECT(ADDRESS(INDEX(ROW($A42),1,1),4+cllStartDate) & \":\" & ADDRESS(INDEX(ROW($A42),1,1),4+cllEndDate+2)),INDIRECT(ADDRESS(INDEX(ROW($A$47),1,1),4+cllStartDate) & \":\" & ADDRESS(INDEX(ROW($A$47),1,1),4+cllEndDate+2)))*cllDaysPerWeek/7,BJ42*$B$11),\"\")","v":""},{"$f":"IF(BK42<>\"\",BK42*(Summary!$C$15*Summary!$C$14*Summary!$C$16)/8.25,\"\")","v":""},null,{"$error":"#N/A"},{"$error":"#N/A"}]
[null,null,null,2017,{"$f":"IF(TYPE(VLOOKUP($B$6&$D43&E$2,data,$B$7+5,FALSE))=1,VLOOKUP($B$6&$D43&E$2,data,$B$7+5,FALSE),\"\")","v":""},"","","","",0.4,0.8,3.7,5.6,2.5,2.4,4.5999999999999996,3.8,2.2999999999999998,6.2,7,4.7,5.4,2.4,5.5,4.0999999999999996,6.2,5.6,5.8,6.7,5.9,4.2,6.2,6.7,5.5,5.3,6.4,3.1,3.6,4.8,5.8,5.5,5.4,4.7,5.8,"","","","",null,{"$f":"IF(COUNT(INDIRECT(ADDRESS(ROW($A41),4+cllStartDate) & \":\" & ADDRESS(ROW($A41),4+cllEndDate-1))) = (cllEndDate-cllStartDate),SUM(INDIRECT(ADDRESS(ROW($A41),4+cllStartDate) & \":\" & ADDRESS(ROW($A41),4+cllEndDate-1)))*cllDaysPerWeek/7,\"\")","v":18.7},{"$f":"IF(AX43<>\"\",IF($B$10=1,SUMPRODUCT(INDIRECT(ADDRESS(INDEX(ROW($A43),1,1),4+cllStartDate) & \":\" & ADDRESS(INDEX(ROW($A43),1,1),4+cllEndDate-1)),INDIRECT(ADDRESS(INDEX(ROW($A$47),1,1),4+cllStartDate) & \":\" & ADDRESS(INDEX(ROW($A$47),1,1),4+cllEndDate-1)))*cllDaysPerWeek/7,AX43*$B$11),\"\")","v":224.17554972923384},{"$f":"IF(AY43<>\"\",AY43*(Summary!$C$15*Summary!$C$14*Summary!$C$16)/8.25,\"\")","v":4961.7521673403753},null,{"$f":"IF(COUNT(INDIRECT(ADDRESS(ROW($A41),4+cllStartDate) & \":\" & ADDRESS(ROW($A41),4+cllEndDate))) = (cllEndDate-cllStartDate+1),SUM(INDIRECT(ADDRESS(ROW($A41),4+cllStartDate) & \":\" & ADDRESS(ROW($A41),4+cllEndDate)))*cllDaysPerWeek/7,\"\")","v":19.599999999999998},{"$f":"IF(BB43<>\"\",IF($B$10=1,SUMPRODUCT(INDIRECT(ADDRESS(INDEX(ROW($A43),1,1),4+cllStartDate) & \":\" & ADDRESS(INDEX(ROW($A43),1,1),4+cllEndDate)),INDIRECT(ADDRESS(INDEX(ROW($A$47),1,1),4+cllStartDate) & \":\" & ADDRESS(INDEX(ROW($A$47),1,1),4+cllEndDate)))*cllDaysPerWeek/7,BB43*$B$11),\"\")","v":270.35362915089036},{"$f":"IF(BC43<>\"\",BC43*(Summary!$C$15*Summary!$C$14*Summary!$C$16)/8.25,\"\")","v":5983.8269918730402},null,{"$f":"IF(COUNT(INDIRECT(ADDRESS(ROW($A41),4+cllStartDate) & \":\" & ADDRESS(ROW($A41),4+cllEndDate+1))) = (cllEndDate-cllStartDate+2),SUM(INDIRECT(ADDRESS(ROW($A41),4+cllStartDate) & \":\" & ADDRESS(ROW($A41),4+cllEndDate+1)))*cllDaysPerWeek/7,\"\")","v":20.299999999999994},{"$f":"IF(BF43<>\"\",IF($B$10=1,SUMPRODUCT(INDIRECT(ADDRESS(INDEX(ROW($A43),1,1),4+cllStartDate) & \":\" & ADDRESS(INDEX(ROW($A43),1,1),4+cllEndDate+1)),INDIRECT(ADDRESS(INDEX(ROW($A$47),1,1),4+cllStartDate) & \":\" & ADDRESS(INDEX(ROW($A$47),1,1),4+cllEndDate+1)))*cllDaysPerWeek/7,BF43*$B$11),\"\")","v":326.24337672878795},{"$f":"IF(BG43<>\"\",BG43*(Summary!$C$15*Summary!$C$14*Summary!$C$16)/8.25,\"\")","v":7220.8534049305063},null,{"$f":"IF(COUNT(INDIRECT(ADDRESS(ROW($A41),4+cllStartDate) & \":\" & ADDRESS(ROW($A41),4+cllEndDate+2))) = (cllEndDate-cllStartDate+3),SUM(INDIRECT(ADDRESS(ROW($A41),4+cllStartDate) & \":\" & ADDRESS(ROW($A41),4+cllEndDate+2)))*cllDaysPerWeek/7,\"\")","v":""},{"$f":"IF(BJ43<>\"\",IF($B$10=1,SUMPRODUCT(INDIRECT(ADDRESS(INDEX(ROW($A43),1,1),4+cllStartDate) & \":\" & ADDRESS(INDEX(ROW($A43),1,1),4+cllEndDate+2)),INDIRECT(ADDRESS(INDEX(ROW($A$47),1,1),4+cllStartDate) & \":\" & ADDRESS(INDEX(ROW($A$47),1,1),4+cllEndDate+2)))*cllDaysPerWeek/7,BJ43*$B$11),\"\")","v":""},{"$f":"IF(BK43<>\"\",BK43*(Summary!$C$15*Summary!$C$14*Summary!$C$16)/8.25,\"\")","v":""},null,{"$error":"#N/A"},{"$error":"#N/A"}]
[]
[null,null,null,"Midweek day",{"$f":"TRANSPOSE(Calculations!G56:G99)","v":59},66,73,80,87,94,101,108,115,122,129,136,143,150,157,164,171,178,185,192,199,206,213,220,227,234,241,248,255,262,269,276,283,290,297,304,311,318,325,332,339,346,353,360]
[null,null,null,"P",{"$f":"ASIN(0.39795*COS(0.2163108+2*ATAN(0.9671396*TAN(0.0086*(E45-186)))))","v":-0.14429921712452506},-9.7541671497316948E-2,-4.9710009879434795E-2,-1.4363825685515439E-3,4.6666851229297958E-2,9.4004338924164668E-2,0.13999452108310592,0.18406696576203169,0.22566115270993467,0.26422754352725103,0.2992316698461186,0.33016176744172082,0.35654011903774069,0.37793771151903094,0.3939911008237324,0.40441964372515909,0.40904072439666622,0.40778052256016339,0.40067839079220724,0.38788397617341153,0.36964755367026431,0.34630523333650337,0.31826142037756883,0.28597101133594005,0.24992339436860928,0.21062961913432926,0.16861335767361324,0.12440566135249861,7.8543098252427196E-2,3.1568617707364653E-2,-1.5965621212080523E-2,-6.3494268014627736E-2,-0.11043449784381584,-0.15618235127692465,-0.20011073720370579,-0.24157028339655812,-0.27989433699584532,-0.31440940745261264,-0.34445206476656709,-0.36939260468039764,-0.38866458843764068,-0.40179776249110266,-0.40845024822266707,-0.40843489356836254]
[null,null,null,"Hours",{"$f":"24-(24/PI())*ACOS((SIN(0.8333*PI()/180)+SIN($B$13*PI()/180)*SIN(E$46))/(COS($B$13*PI()/180)*COS(E$46)))","v":11.213701950215649},11.518150628074793,11.826282475509105,12.135834070023119,12.444807181228843,12.751260324078457,13.053108089499462,13.347933259241511,13.632819716393861,13.90422085433601,14.157887226979719,14.388885858651992,14.591747099235297,14.760766388413733,14.89046151621759,14.976140555557771,15.014483235092662,15.004003483009374,14.945269298989915,14.840816125167009,14.694779395626412,14.512349293622972,14.299182510076836,14.06088720963178,13.802649158996404,13.529016274469862,13.243823407024946,12.950223255680527,12.650788399723051,12.347656575026358,12.042700744396152,11.737713746595215,11.43460265119891,11.135589602801131,10.843413360218705,10.56151840450932,10.29420628631749,10.046708199867371,9.8251232812035152,9.6361633754995886,9.4866655156862389,9.382888900664847,9.3296986854632795,9.329821951357756]
[]
[]
[]
[]
[null,null,null,"Definitions and constants"]
[null,null,null,null,null,null,null,null,null,null,null,null,null,null,null,null,null,null,"Lookup regions"]
[null,null,null,"Week definitions",null,null,null,null,null,null,"Implement constants",null,null,null,"Region index",null,null,null,"Index","State","Region","Region name","Latitutde"]
[null,null,null,"Week","FirstDay","LastDay","Middle day",null,null,null,"Implement","Speed","Efficiency",null,1,{"$f":"OFFSET($T$55:$T$90,MATCH(cllState,$T$55:$T$90,0)-1,2,9)","v":"NorthWest"},null,null,1,{"$f":"$O$66","v":1},1,"Northwest",41.75]
[null,null,null,1,"2006-02-25",{"$f":"E56+6","v":"2006-03-03"},{"$f":"(E56-DATE(2006,1,1))+4","v":59},null,null,null,"Row crop planter",5.5,0.65,null,2,"NorthCentral",null,null,2,1,2,"Northeast",41.75]
[null,null,null,2,{"$f":"F56+1","v":"2006-03-04"},{"$f":"E57+6","v":"2006-03-10"},{"$f":"(E57-DATE(2006,1,1))+4","v":66},null,null,null,"Grain drill",5,0.7,null,3,"NorthEast",null,null,3,1,3,"West",40.5]
[null,null,null,3,"2006-03-11","2006-03-17",73,null,null,null,"Combine, corn head",3.3,0.7,null,4,"WestCentral",null,null,4,1,4,"Central",40.5]
[null,null,null,4,"2006-03-18","2006-03-24",80,null,null,null,"Combine, fixed grain head",4,0.7,null,5,"Central",null,null,5,1,5,"East",40.5]
[null,null,null,5,"2006-03-25","2006-03-31",87,null,null,null,"Combine, flexible grain head",3.5,0.7,null,6,"EastCentral",null,null,6,1,6,"West Southwest",39.299999999999997]
[null,null,null,6,"2006-04-01","2006-04-07",94,null,null,null,"Moldboard plow",4.5,0.85,null,7,"SouthWest",null,null,7,1,7,"East Southeast",39.299999999999997]
[null,null,null,7,"2006-04-08","2006-04-14",101,null,null,null,"Heavy-duty disk",6,0.85,null,8,"SouthCentral",null,null,8,1,8,"Southwest",38]
[null,null,null,8,"2006-04-15","2006-04-21",108,null,null,null,"Chisel plow",5.5,0.85,null,9,"SouthEast",null,null,9,1,9,"Southeast",38]
[null,null,null,9,"2006-04-22","2006-04-28",115,null,null,null,"V-ripper",6,0.85,null,null,null,null,null,10,{"$f":"$O$67","v":2},{"$f":"U55","v":1},"NorthWest",43]
[null,null,null,10,"2006-04-29","2006-05-05",122,null,null,null,"Harrow or field roller",6,0.85,null,"State index",null,null,null,11,2,{"$f":"U56","v":2},"NorthCentral",43]
[null,null,null,11,"2006-05-06","2006-05-12",129,null,null,null,"Field cultivator ",7,0.85,null,1,"Illinois","IL",null,12,2,3,"NorthEast",43]
[null,null,null,12,"2006-05-13","2006-05-19",136,null,null,null,null,null,null,null,2,"Iowa","IA",null,13,2,4,"WestCentral",42]
[null,null,null,13,"2006-05-20","2006-05-26",143,null,null,null,null,null,null,null,3,"Kansas","KS",null,14,2,5,"Central",42]
[null,null,null,14,"2006-05-27","2006-06-02",150,null,null,null,null,null,null,null,4,"Missouri","MO",null,15,2,6,"EastCentral",42]
[null,null,null,15,"2006-06-03","2006-06-09",157,null,null,null,null,null,null,null,null,null,null,null,16,2,7,"SouthWest",41.25]
[null,null,null,16,"2006-06-10","2006-06-16",164,null,null,null,null,null,null,null,null,null,null,null,17,2,8,"SouthCentral",41.25]
[null,null,null,17,"2006-06-17","2006-06-23",171,null,null,null,null,null,null,null,null,null,null,null,18,2,9,"SouthEast",41.25]
[null,null,null,18,"2006-06-24","2006-06-30",178,null,null,null,null,null,null,null,null,null,null,null,19,{"$f":"$O$68","v":3},1,"NorthWest",39.25]
[null,null,null,19,"2006-07-01","2006-07-07",185,null,null,null,null,null,null,null,null,null,null,null,20,3,2,"NorthCentral",39.25]
[null,null,null,20,"2006-07-08","2006-07-14",192,null,null,null,null,null,null,null,null,null,null,null,21,3,3,"NorthEast",39.25]
[null,null,null,21,"2006-07-15","2006-07-21",199,null,null,null,null,null,null,null,null,null,null,null,22,3,4,"WestCentral",38.700000000000003]
[null,null,null,22,"2006-07-22","2006-07-28",206,null,null,null,null,null,null,null,null,null,null,null,23,3,5,"Central",38.700000000000003]
[null,null,null,23,"2006-07-29","2006-08-04",213,null,null,null,null,null,null,null,null,null,null,null,24,3,6,"EastCentral",38.700000000000003]
[null,null,null,24,"2006-08-05","2006-08-11",220,null,null,null,null,null,null,null,null,null,null,null,25,3,7,"SouthWest",37.700000000000003]
[null,null,null,25,"2006-08-12","2006-08-18",227,null,null,null,null,null,null,null,null,null,null,null,26,3,8,"SouthCentral",37.700000000000003]
[null,null,null,26,"2006-08-19","2006-08-25",234,null,null,null,null,null,null,null,null,null,null,null,27,3,9,"SouthEast",37.700000000000003]
[null,null,null,27,"2006-08-26","2006-09-01",241,null,null,null,null,null,null,null,null,null,null,null,28,{"$f":"$O$69","v":4},1,"NorthWest",40]
[null,null,null,28,"2006-09-02","2006-09-08",248,null,null,null,null,null,null,null,null,null,null,null,29,4,2,"NorthCentral",40]
[null,null,null,29,"2006-09-09","2006-09-15",255,null,null,null,null,null,null,null,null,null,null,null,30,4,3,"NorthEast",40]
[null,null,null,30,"2006-09-16","2006-09-22",262,null,null,null,null,null,null,null,null,null,null,null,31,4,4,"WestCentral",38.5]
[null,null,null,31,"2006-09-23","2006-09-29",269,null,null,null,null,null,null,null,null,null,null,null,32,4,5,"Central",38.5]
[null,null,null,32,"2006-09-30","2006-10-06",276,null,null,null,null,null,null,null,null,null,null,null,33,4,6,"EastCentral",38.5]
[null,null,null,33,"2006-10-07","2006-10-13",283,null,null,null,null,null,null,null,null,null,null,null,34,4,7,"SouthWest",37]
[null,null,null,34,"2006-10-14","2006-10-20",290,null,null,null,null,null,null,null,null,null,null,null,35,4,8,"SouthCentral",37]
[null,null,null,35,"2006-10-21","2006-10-27",297,null,null,null,null,null,null,null,null,null,null,null,36,4,9,"SouthEast",37]
[null,null,null,36,"2006-10-28","2006-11-03",304]
[null,null,null,37,"2006-11-04","2006-11-10",311]
[null,null,null,38,"2006-11-11","2006-11-17",318]
[null,null,null,39,"2006-11-18","2006-11-24",325]
[null,null,null,40,{"$f":"F94+1","v":"2006-11-25"},{"$f":"E95+6","v":"2006-12-01"},{"$f":"(E95-DATE(2006,1,1))+4","v":332}]
[null,null,null,41,{"$f":"F95+1","v":"2006-12-02"},{"$f":"E96+6","v":"2006-12-08"},{"$f":"(E96-DATE(2006,1,1))+4","v":339}]
[null,null,null,42,{"$f":"F96+1","v":"2006-12-09"},{"$f":"E97+6","v":"2006-12-15"},{"$f":"(E97-DATE(2006,1,1))+4","v":346}]
[null,null,null,43,{"$f":"F97+1","v":"2006-12-16"},{"$f":"E98+6","v":"2006-12-22"},{"$f":"(E98-DATE(2006,1,1))+4","v":353}]
[null,null,null,44,{"$f":"F98+1","v":"2006-12-23"},{"$f":"E99+6","v":"2006-12-29"},{"$f":"(E99-DATE(2006,1,1))+4","v":360}]

{"sheet":"RawData","index":5,"n_rows":5319,"n_cols":14,"rows_kept":5319,"cut":false,"hidden":true,"merged":[]}
["Days Suitable for Field Work",null,null,null,null,1,2,3,4,5,6,7,8,9]
["Variable","State","Week Ending","Week","State","NW","NC","NE","WC","C","EC","SW","SC","SE"]
[]
[{"$f":"B4&YEAR(C4)&D4","v":"MO19775"},"MO","1977-03-27",{"$f":"COUNTIF(Calculations!$E$56:$E$98,\"<=\"&DATE(2006,MONTH(C4),DAY(C4)))","v":5},3.8,4.3,1.4,0.7,5.0999999999999996,3.9,2.9,5.6,5.6,4.5]
[{"$f":"B5&YEAR(C5)&D5","v":"MO19776"},"MO","1977-04-03",{"$f":"COUNTIF(Calculations!$E$56:$E$98,\"<=\"&DATE(2006,MONTH(C5),DAY(C5)))","v":6},2.1,2.2999999999999998,0.9,1,4.0999999999999996,2,1.4,3.2,2.2000000000000002,1.6]
["MO19777","MO","1977-04-10",{"$f":"COUNTIF(Calculations!$E$56:$E$98,\"<=\"&DATE(2006,MONTH(C6),DAY(C6)))","v":7},3.9,3,3,2.4,5.5,4.5999999999999996,3.4,5.4,4.4000000000000004,2.8]
["MO19778","MO","1977-04-17",{"$f":"COUNTIF(Calculations!$E$56:$E$98,\"<=\"&DATE(2006,MONTH(C7),DAY(C7)))","v":8},5.9,5.6,6,5.9,5.7,6,6.1,6.3,6,6]
["MO19779","MO","1977-04-24",{"$f":"COUNTIF(Calculations!$E$56:$E$98,\"<=\"&DATE(2006,MONTH(C8),DAY(C8)))","v":9},3.5,2.9,3.2,4.3,4,3.6,3.8,3.1,3.8,2.8]
["MO197710","MO","1977-05-01",{"$f":"COUNTIF(Calculations!$E$56:$E$98,\"<=\"&DATE(2006,MONTH(C9),DAY(C9)))","v":10},5,5.3,5,5.7,5.8,5.0999999999999996,5.5,5,4.7,2.5]
["MO197711","MO","1977-05-08",{"$f":"COUNTIF(Calculations!$E$56:$E$98,\"<=\"&DATE(2006,MONTH(C10),DAY(C10)))","v":11},3.2,3.8,2.4,2.2000000000000002,2.2000000000000002,2.1,3.6,4.3,5.2,3.8]
["MO197712","MO","1977-05-15",{"$f":"COUNTIF(Calculations!$E$56:$E$98,\"<=\"&DATE(2006,MONTH(C11),DAY(C11)))","v":12},4.5999999999999996,3.7,4.0999999999999996,2.9,4.7,4.7,4.8,4.8,6,6.1]
["MO197713","MO","1977-05-22",{"$f":"COUNTIF(Calculations!$E$56:$E$98,\"<=\"&DATE(2006,MONTH(C12),DAY(C12)))","v":13},5.5,5,5.7,6.1,4.0999999999999996,4.9000000000000004,6,5.8,6.1,6.4]
["MO197714","MO","1977-05-30",{"$f":"COUNTIF(Calculations!$E$56:$E$98,\"<=\"&DATE(2006,MONTH(C13),DAY(C13)))","v":14},5,4,5.7,6.3,4.5999999999999996,5.4,5.6,6,4.9000000000000004,2]
["MO197715","MO","1977-06-05",{"$f":"COUNTIF(Calculations!$E$56:$E$98,\"<=\"&DATE(2006,MONTH(C14),DAY(C14)))","v":15},4.8,4.8,5.6,6.2,2.5,4.2,5.0999999999999996,5.0999999999999996,5.5,4.7]
["MO197716","MO","1977-06-12",{"$f":"COUNTIF(Calculations!$E$56:$E$98,\"<=\"&DATE(2006,MONTH(C15),DAY(C15)))","v":16},5.9,6.1,5.0999999999999996,6,5.6,5.7,6.2,6.3,6.4,6.3]
["MO197717","MO","1977-06-19",{"$f":"COUNTIF(Calculations!$E$56:$E$98,\"<=\"&DATE(2006,MONTH(C16),DAY(C16)))","v":17},5.9,6.5,6.1,6.5,6,5.4,5.9,5.6,5.8,5.7]
["MO197718","MO","1977-06-26",{"$f":"COUNTIF(Calculations!$E$56:$E$98,\"<=\"&DATE(2006,MONTH(C17),DAY(C17)))","v":18},2.7,3.1,4.0999999999999996,4.9000000000000004,0.8,1.2,3,2.2000000000000002,3.2,3.9]
["MO197719","MO","1977-07-03",{"$f":"COUNTIF(Calculations!$E$56:$E$98,\"<=\"&DATE(2006,MONTH(C18),DAY(C18)))","v":19},2.4,3.2,4,4.9000000000000004,0.77,4.0999999999999996,1.6,1.5,1.9,1.2]
["MO197720","MO","1977-07-10",{"$f":"COUNTIF(Calculations!$E$56:$E$98,\"<=\"&DATE(2006,MONTH(C19),DAY(C19)))","v":20},5.2,4.7,5.4,6,4.0999999999999996,4.9000000000000004,6.3,5.0999999999999996,5.6,5.7]
["MO197721","MO","1977-07-17",{"$f":"COUNTIF(Calculations!$E$56:$E$98,\"<=\"&DATE(2006,MONTH(C20),DAY(C20)))","v":21},4.9000000000000004,4.4000000000000004,5,5.6,3.8,4.0999999999999996,4.9000000000000004,5.9,6.2,4.7]
["MO197722","MO","1977-07-24",{"$f":"COUNTIF(Calculations!$E$56:$E$98,\"<=\"&DATE(2006,MONTH(C21),DAY(C21)))","v":22},6,6.1,6.2,6.2,6,6,5.6,5.8,5.6,6.3]
["MO197723","MO","1977-07-31",{"$f":"COUNTIF(Calculations!$E$56:$E$98,\"<=\"&DATE(2006,MONTH(C22),DAY(C22)))","v":23},5.6,5.3,5.7,5.8,6.4,5.8,6.1,5,6,4.5999999999999996]
["MO197724","MO","1977-08-07",{"$f":"COUNTIF(Calculations!$E$56:$E$98,\"<=\"&DATE(2006,MONTH(C23),DAY(C23)))","v":24},5.7,4.8,5,5.6,6,6,6.2,6,6.1,6.2]
["MO197725","MO","1977-08-14",{"$f":"COUNTIF(Calculations!$E$56:$E$98,\"<=\"&DATE(2006,MONTH(C24),DAY(C24)))","v":25},3.2,1,0.3,0.8,4.3,3.9,3.2,5.4,5.7,5.6]
["MO197726","MO","1977-08-21",{"$f":"COUNTIF(Calculations!$E$56:$E$98,\"<=\"&DATE(2006,MONTH(C25),DAY(C25)))","v":26},4.2,2.1,2.9,4.5,5.5,5.6,5.6,3.8,4.2,3]
["MO197727","MO","1977-08-28",{"$f":"COUNTIF(Calculations!$E$56:$E$98,\"<=\"&DATE(2006,MONTH(C26),DAY(C26)))","v":27},5.4,4.5,5.4,4.7,6,6,4.8,5.7,5.7,5]
["MO197728","MO","1977-09-04",{"$f":"COUNTIF(Calculations!$E$56:$E$98,\"<=\"&DATE(2006,MONTH(C27),DAY(C27)))","v":28},4,1.3,2.8,3.1,4.4000000000000004,4.8,5.2,4.8,5.9,4.5]
["MO197729","MO","1977-09-11",{"$f":"COUNTIF(Calculations!$E$56:$E$98,\"<=\"&DATE(2006,MONTH(C28),DAY(C28)))","v":29},4.5,2.6,3.9,4.0999999999999996,5.7,5.3,5.0999999999999996,4.5,4.8,4.8]
["MO197730","MO","1977-09-18",{"$f":"COUNTIF(Calculations!$E$56:$E$98,\"<=\"&DATE(2006,MONTH(C29),DAY(C29)))","v":30},1.1000000000000001,0.5,0.5,0.5,1.1000000000000001,0.7,1.9,0.7,2.4,2.2000000000000002]
["MO197731","MO","1977-09-25",{"$f":"COUNTIF(Calculations!$E$56:$E$98,\"<=\"&DATE(2006,MONTH(C30),DAY(C30)))","v":31},2.6,1.9,1.8,1.2,2.5,2.5,3.1,2.5,3.9,4.3]
["MO197732","MO","1977-10-02",{"$f":"COUNTIF(Calculations!$E$56:$E$98,\"<=\"&DATE(2006,MONTH(C31),DAY(C31)))","v":32},3,3.8,3.9,3.7,3.1,3.8,3,1.7,1.9,0.9]
["MO197733","MO","1977-10-09",{"$f":"COUNTIF(Calculations!$E$56:$E$98,\"<=\"&DATE(2006,MONTH(C32),DAY(C32)))","v":33},2.7,2.7,1.9,1.5,2.5,2.5,2.6,3.5,4.0999999999999996,3.3]
["MO197734","MO","1977-10-16",{"$f":"COUNTIF(Calculations!$E$56:$E$98,\"<=\"&DATE(2006,MONTH(C33),DAY(C33)))","v":34},2.9,2.1,1.2,1.1000000000000001,3.5,2.7,3.9,4,4.3,4.7]
["MO197735","MO","1977-10-23",{"$f":"COUNTIF(Calculations!$E$56:$E$98,\"<=\"&DATE(2006,MONTH(C34),DAY(C34)))","v":35},5.8,5.3,4.2,4.8,5.9,5.7,5.9,6,6.2,6.2]
["MO197736","MO","1977-10-30",{"$f":"COUNTIF(Calculations!$E$56:$E$98,\"<=\"&DATE(2006,MONTH(C35),DAY(C35)))","v":36},1.6,0.4,0.4,0.6,1.8,1.3,2.6,4.5999999999999996,4.3,3.1]
["MO197737","MO","1977-11-06",{"$f":"COUNTIF(Calculations!$E$56:$E$98,\"<=\"&DATE(2006,MONTH(C36),DAY(C36)))","v":37},0.5,0.1,0.1,0,0.3,0.3,0.5,1.4,0.8,2.2000000000000002]
["MO197738","MO","1977-11-13",{"$f":"COUNTIF(Calculations!$E$56:$E$98,\"<=\"&DATE(2006,MONTH(C37),DAY(C37)))","v":38},1,0.1,0.4,0.1,0.3,0.6,1.3,1.3,2.7,3.7]
["MO197739","MO","1977-11-20",{"$f":"COUNTIF(Calculations!$E$56:$E$98,\"<=\"&DATE(2006,MONTH(C38),DAY(C38)))","v":39},3.3,2.6,3.1,2.2999999999999998,3.8,3.5,3.1,4.2,3.8,3.6]
["MO197740","MO","1977-11-27",{"$f":"COUNTIF(Calculations!$E$56:$E$98,\"<=\"&DATE(2006,MONTH(C39),DAY(C39)))","v":40},3.8,4.5999999999999996,3.4,3.2,3.8,3.7,2.2999999999999998,6,4,3]
["MO197741","MO","1977-12-04",{"$f":"COUNTIF(Calculations!$E$56:$E$98,\"<=\"&DATE(2006,MONTH(C40),DAY(C40)))","v":41},2.5,4.5999999999999996,3.5,3.3,3,1.6,0.6,2.1,2.4,0.7]
["MO197742","MO","1977-12-11",{"$f":"COUNTIF(Calculations!$E$56:$E$98,\"<=\"&DATE(2006,MONTH(C41),DAY(C41)))","v":42},0.8,1.6,0.5,0,1.4,0.3,0.6,1.2,1.7,0.7]
["MO19786","MO","1978-04-02",{"$f":"COUNTIF(Calculations!$E$56:$E$98,\"<=\"&DATE(2006,MONTH(C42),DAY(C42)))","v":6},1,0,0.1,0.1,0.5,0.5,0.8,2.4,2.2999999999999998,3.3]
["MO19787","MO","1978-04-09",{"$f":"COUNTIF(Calculations!$E$56:$E$98,\"<=\"&DATE(2006,MONTH(C43),DAY(C43)))","v":7},1.4,0.8,0,0,0.6,0.9,1.8,1.8,3.5,4.7]
["MO19788","MO","1978-04-16",{"$f":"COUNTIF(Calculations!$E$56:$E$98,\"<=\"&DATE(2006,MONTH(C44),DAY(C44)))","v":8},1.6,0.6,0.2,0,2.8,0.8,3.4,1.9,3.3,3.2]
["MO19789","MO","1978-04-23",{"$f":"COUNTIF(Calculations!$E$56:$E$98,\"<=\"&DATE(2006,MONTH(C45),DAY(C45)))","v":9},1,0.1,0,0,0.1,0.4,1.5,1.8,3.5,2.2000000000000002]
["MO197810","MO","1978-04-30",{"$f":"COUNTIF(Calculations!$E$56:$E$98,\"<=\"&DATE(2006,MONTH(C46),DAY(C46)))","v":10},2.2000000000000002,0.6,0.6,0.2,1.8,1.5,3.3,4.4000000000000004,5.5,3.9]
["MO197811","MO","1978-05-07",{"$f":"COUNTIF(Calculations!$E$56:$E$98,\"<=\"&DATE(2006,MONTH(C47),DAY(C47)))","v":11},1.4,1.2,0.8,1.3,1.2,0.9,2.5,1.1000000000000001,3.1,1.8]
["MO197812","MO","1978-05-14",{"$f":"COUNTIF(Calculations!$E$56:$E$98,\"<=\"&DATE(2006,MONTH(C48),DAY(C48)))","v":12},1.3,0.6,0.3,0.3,1.2,0.6,1.9,2.5,3,2.8]
["MO197813","MO","1978-05-21",{"$f":"COUNTIF(Calculations!$E$56:$E$98,\"<=\"&DATE(2006,MONTH(C49),DAY(C49)))","v":13},2.7,2.2999999999999998,2,0.6,2.6,2.4,2.2000000000000002,3.5,5,4.5]
["MO197814","MO","1978-05-28",{"$f":"COUNTIF(Calculations!$E$56:$E$98,\"<=\"&DATE(2006,MONTH(C50),DAY(C50)))","v":14},2.4,1.8,2.1,2.1,1.3,1.4,3.5,2.6,3.8,4.4000000000000004]
["MO197815","MO","1978-06-04",{"$f":"COUNTIF(Calculations!$E$56:$E$98,\"<=\"&DATE(2006,MONTH(C51),DAY(C51)))","v":15},2.9,1.4,2.7,2.4,3,2.4,3.5,4.8,4.3,3.2]
["MO197816","MO","1978-06-11",{"$f":"COUNTIF(Calculations!$E$56:$E$98,\"<=\"&DATE(2006,MONTH(C52),DAY(C52)))","v":16},4.3,4.4000000000000004,5.4,5.0999999999999996,5.3,4.5999999999999996,4.8,3.1,2.9,2.5]
["MO197817","MO","1978-06-18",{"$f":"COUNTIF(Calculations!$E$56:$E$98,\"<=\"&DATE(2006,MONTH(C53),DAY(C53)))","v":17},6.2,6.5,6,6,6.5,6.2,6.2,6,6.2,6]
["MO197818","MO","1978-06-25",{"$f":"COUNTIF(Calculations!$E$56:$E$98,\"<=\"&DATE(2006,MONTH(C54),DAY(C54)))","v":18},4.5,4.9000000000000004,5.2,4.5,3.5,4.4000000000000004,5.6,3.3,4.7,4.5]
["MO197819","MO","1978-07-02",{"$f":"COUNTIF(Calculations!$E$56:$E$98,\"<=\"&DATE(2006,MONTH(C55),DAY(C55)))","v":19},5.5,4.2,4.9000000000000004,4.2,6.3,6.1,5.5,6.1,6.1,6.3]
["MO197820","MO","1978-07-09",{"$f":"COUNTIF(Calculations!$E$56:$E$98,\"<=\"&DATE(2006,MONTH(C56),DAY(C56)))","v":20},5.7,5.0999999999999996,5.0999999999999996,4.5999999999999996,6.5,5.9,5.8,6.4,6.1,6.1]
["MO197821","MO","1978-07-16",{"$f":"COUNTIF(Calculations!$E$56:$E$98,\"<=\"&DATE(2006,MONTH(C57),DAY(C57)))","v":21},3,3.3,2.4,2.7,4,2.5,2.6,6.2,2.9,0.9]
["MO197822","MO","1978-07-23",{"$f":"COUNTIF(Calculations!$E$56:$E$98,\"<=\"&DATE(2006,MONTH(C58),DAY(C58)))","v":22},4.4000000000000004,2,2.4,3.6,5.3,4.9000000000000004,5.2,5.5,5.8,5.6]
["MO197823","MO","1978-07-30",{"$f":"COUNTIF(Calculations!$E$56:$E$98,\"<=\"&DATE(2006,MONTH(C59),DAY(C59)))","v":23},5.5,5.6,5.9,6,6.4,5.5,3.8,4.8,4.9000000000000004,5.8]
["MO197824","MO","1978-08-06",{"$f":"COUNTIF(Calculations!$E$56:$E$98,\"<=\"&DATE(2006,MONTH(C60),DAY(C60)))","v":24},4.2,3,2.9,4.0999999999999996,4.0999999999999996,5.5,3.7,4.5,4.9000000000000004,4.5999999999999996]
["MO197825","MO","1978-08-13",{"$f":"COUNTIF(Calculations!$E$56:$E$98,\"<=\"&DATE(2006,MONTH(C61),DAY(C61)))","v":25},5.4,4.5999999999999996,4.5,5.4,6,5.7,5.7,5.5,6,5.8]
["MO197826","MO","1978-08-20",{"$f":"COUNTIF(Calculations!$E$56:$E$98,\"<=\"&DATE(2006,MONTH(C62),DAY(C62)))","v":26},5.4,4.9000000000000004,5,4.8,5.4,5.6,5.9,5.3,6.1,6]
["MO197827","MO","1978-08-27",{"$f":"COUNTIF(Calculations!$E$56:$E$98,\"<=\"&DATE(2006,MONTH(C63),DAY(C63)))","v":27},6,4.5,6,6.5,6.4,5.9,6.4,6.1,6.2,6.4]
["MO197828","MO","1978-09-03",{"$f":"COUNTIF(Calculations!$E$56:$E$98,\"<=\"&DATE(2006,MONTH(C64),DAY(C64)))","v":28},5.0999999999999996,4.8,5.7,6.3,5.2,5.6,5.3,5.4,4.7,1.8]
["MO197829","MO","1978-09-10",{"$f":"COUNTIF(Calculations!$E$56:$E$98,\"<=\"&DATE(2006,MONTH(C65),DAY(C65)))","v":29},6.2,6.3,6.2,6.5,6.4,6.2,6.4,5.6,6.3,5.5]
["MO197830","MO","1978-09-17",{"$f":"COUNTIF(Calculations!$E$56:$E$98,\"<=\"&DATE(2006,MONTH(C66),DAY(C66)))","v":30},5.4,5.2,6,6.4,5.8,5.4,6,4.9000000000000004,5,3.6]
["MO197831","MO","1978-09-24",{"$f":"COUNTIF(Calculations!$E$56:$E$98,\"<=\"&DATE(2006,MONTH(C67),DAY(C67)))","v":31},4.2,1.2,1.9,3.2,5.9,5.2,4.8,4.8,5.3,6.1]
["MO197832","MO","1978-10-01",{"$f":"COUNTIF(Calculations!$E$56:$E$98,\"<=\"&DATE(2006,MONTH(C68),DAY(C68)))","v":32},6.1,5.3,5.8,6.5,6.4,6.2,6.3,6,6.3,6.3]
[{"$f":"B69&YEAR(C69)&D69","v":"MO197833"},"MO","1978-10-08",{"$f":"COUNTIF(Calculations!$E$56:$E$98,\"<=\"&DATE(2006,MONTH(C69),DAY(C69)))","v":33},5.2,5.0999999999999996,4.7,4.0999999999999996,6.1,5.2,5,5.7,5.6,5.3]
["MO197834","MO","1978-10-15",{"$f":"COUNTIF(Calculations!$E$56:$E$98,\"<=\"&DATE(2006,MONTH(C70),DAY(C70)))","v":34},3.8,4.8,3,2.6,4.7,3.7,3.4,4.8,4.0999999999999996,3.3]
["MO197835","MO","1978-10-22",{"$f":"COUNTIF(Calculations!$E$56:$E$98,\"<=\"&DATE(2006,MONTH(C71),DAY(C71)))","v":35},6.1,6,6,6.1,6.1,6,5.9,6.2,5.8,6.2]
["MO197836","MO","1978-10-29",{"$f":"COUNTIF(Calculations!$E$56:$E$98,\"<=\"&DATE(2006,MONTH(C72),DAY(C72)))","v":36},5.2,5.2,5,4.7,6.1,5.3,4.7,6.1,5.4,3.8]
["MO19796","MO","1979-04-01",{"$f":"COUNTIF(Calculations!$E$56:$E$98,\"<=\"&DATE(2006,MONTH(C73),DAY(C73)))","v":6},0.4,0.4,0,0,0.6,0.3,0,1.6,0.5,0.6]
["MO19797","MO","1979-04-08",{"$f":"COUNTIF(Calculations!$E$56:$E$98,\"<=\"&DATE(2006,MONTH(C74),DAY(C74)))","v":7},0.4,0.1,0,0.1,0.4,0.4,0,1.7,0.6,0.2]
["MO19798","MO","1979-04-15",{"$f":"COUNTIF(Calculations!$E$56:$E$98,\"<=\"&DATE(2006,MONTH(C75),DAY(C75)))","v":8},0.4,0.4,0.2,0.3,0.4,0.6,0.2,0.9,0.4,0.4]
["MO19799","MO","1979-04-22",{"$f":"COUNTIF(Calculations!$E$56:$E$98,\"<=\"&DATE(2006,MONTH(C76),DAY(C76)))","v":9},2,2,0.9,0.6,1.7,1.9,1,3.9,3.2,2.7]
["MO197910","MO","1979-04-29",{"$f":"COUNTIF(Calculations!$E$56:$E$98,\"<=\"&DATE(2006,MONTH(C77),DAY(C77)))","v":10},1.3,1.6,0.8,0.2,3.5,1.1000000000000001,0.4,2.6,1,0.3]
["MO197911","MO","1979-05-06",{"$f":"COUNTIF(Calculations!$E$56:$E$98,\"<=\"&DATE(2006,MONTH(C78),DAY(C78)))","v":11},1.4,0.8,1,0.9,1.7,1.5,1,2.5,2,1.5]
["MO197912","MO","1979-05-13",{"$f":"COUNTIF(Calculations!$E$56:$E$98,\"<=\"&DATE(2006,MONTH(C79),DAY(C79)))","v":12},3.9,4.2,4.2,4.5,4.5999999999999996,4.2,3.6,4,3.2,2.1]
["MO197913","MO","1979-05-20",{"$f":"COUNTIF(Calculations!$E$56:$E$98,\"<=\"&DATE(2006,MONTH(C80),DAY(C80)))","v":13},5,6,5.0999999999999996,5.6,4.9000000000000004,4.7,5.0999999999999996,5.0999999999999996,4.4000000000000004,4]
["MO197914","MO","1979-05-27",{"$f":"COUNTIF(Calculations!$E$56:$E$98,\"<=\"&DATE(2006,MONTH(C81),DAY(C81)))","v":14},4.3,6.2,5.9,6,3.9,5,4.0999999999999996,1.8,2.9,1]
["MO197915","MO","1979-06-03",{"$f":"COUNTIF(Calculations!$E$56:$E$98,\"<=\"&DATE(2006,MONTH(C82),DAY(C82)))","v":15},5,6.3,5.7,5.5,4.5999999999999996,5.0999999999999996,5.5,3.1,4.4000000000000004,3.5]
["MO197916","MO","1979-06-10",{"$f":"COUNTIF(Calculations!$E$56:$E$98,\"<=\"&DATE(2006,MONTH(C83),DAY(C83)))","v":16},4.3,4.8,4.5999999999999996,6,2.2999999999999998,4.8,5.0999999999999996,1.8,2.9,4.5]
["MO197917","MO","1979-06-17",{"$f":"COUNTIF(Calculations!$E$56:$E$98,\"<=\"&DATE(2006,MONTH(C84),DAY(C84)))","v":17},4.7,4.7,2.4,4.3,3.7,4.9000000000000004,5.9,5.2,5.3,6.4]
["MO197918","MO","1979-06-24",{"$f":"COUNTIF(Calculations!$E$56:$E$98,\"<=\"&DATE(2006,MONTH(C85),DAY(C85)))","v":18},5.8,6.2,5.4,5.9,5.3,5.8,6.2,5.7,5.5,6.6]
["MO197919","MO","1979-07-01",{"$f":"COUNTIF(Calculations!$E$56:$E$98,\"<=\"&DATE(2006,MONTH(C86),DAY(C86)))","v":19},4.2,3,2.8,4.8,3.5,4.8,5,2.9,5.5,5.9]
["MO197920","MO","1979-07-08",{"$f":"COUNTIF(Calculations!$E$56:$E$98,\"<=\"&DATE(2006,MONTH(C87),DAY(C87)))","v":20},4.0999999999999996,3.5,4,5.3,3.4,4.4000000000000004,4.7,3.5,3.8,4.8]
["MO197921","MO","1979-07-15",{"$f":"COUNTIF(Calculations!$E$56:$E$98,\"<=\"&DATE(2006,MONTH(C88),DAY(C88)))","v":21},4.7,4.3,5.6,6.1,3.4,5,5.6,5.3,4.3,3]
["MO197922","MO","1979-07-22",{"$f":"COUNTIF(Calculations!$E$56:$E$98,\"<=\"&DATE(2006,MONTH(C89),DAY(C89)))","v":22},5.7,4.9000000000000004,6,6.1,5.2,6.1,6.4,5.5,5.5,6.1]
["MO197923","MO","1979-07-29",{"$f":"COUNTIF(Calculations!$E$56:$E$98,\"<=\"&DATE(2006,MONTH(C90),DAY(C90)))","v":23},3.9,3,3.4,3.1,4.7,5,3.5,5.2,3.8,3.3]
["MO197924","MO","1979-08-05",{"$f":"COUNTIF(Calculations!$E$56:$E$98,\"<=\"&DATE(2006,MONTH(C91),DAY(C91)))","v":24},2.9,2.5,3.1,2.8,3.9,2.9,1.6,3.8,2.2999999999999998,3.7]
["MO197925","MO","1979-08-12",{"$f":"COUNTIF(Calculations!$E$56:$E$98,\"<=\"&DATE(2006,MONTH(C92),DAY(C92)))","v":25},6.2,6.3,6.2,6.2,5.9,6.2,5.9,5.8,6.2,6.5]
["MO197926","MO","1979-08-19",{"$f":"COUNTIF(Calculations!$E$56:$E$98,\"<=\"&DATE(2006,MONTH(C93),DAY(C93)))","v":26},4.7,3.6,4.9000000000000004,5.0999999999999996,4.9000000000000004,4.4000000000000004,4.3,5,5,5.8]
["MO197927","MO","1979-08-26",{"$f":"COUNTIF(Calculations!$E$56:$E$98,\"<=\"&DATE(2006,MONTH(C94),DAY(C94)))","v":27},5.3,4.9000000000000004,4.8,4,5.6,5.7,5.2,5.5,5.6,6.1]
["MO197928","MO","1979-09-02",{"$f":"COUNTIF(Calculations!$E$56:$E$98,\"<=\"&DATE(2006,MONTH(C95),DAY(C95)))","v":28},3.8,3.1,3.6,3.7,3.9,3.4,4.9000000000000004,4.5,4.5,3.3]
["MO197929","MO","1979-09-09",{"$f":"COUNTIF(Calculations!$E$56:$E$98,\"<=\"&DATE(2006,MONTH(C96),DAY(C96)))","v":29},4.5999999999999996,3,4,5.7,3.9,4.3,5.7,5,5.5,5.8]
["MO197930","MO","1979-09-16",{"$f":"COUNTIF(Calculations!$E$56:$E$98,\"<=\"&DATE(2006,MONTH(C97),DAY(C97)))","v":30},5.8,5.2,5.7,6.5,5.9,6.1,5.9,6.3,5.7,5.3]
["MO197931","MO","1979-09-23",{"$f":"COUNTIF(Calculations!$E$56:$E$98,\"<=\"&DATE(2006,MONTH(C98),DAY(C98)))","v":31},6,6.3,5.8,6.5,6.2,5.9,6.3,5.8,5.9,5.4]
["MO197932","MO","1979-09-30",{"$f":"COUNTIF(Calculations!$E$56:$E$98,\"<=\"&DATE(2006,MONTH(C99),DAY(C99)))","v":32},6.2,6.6,6.4,6.4,6.4,6.4,6.2,6.3,6.3,4.4000000000000004]
["MO197933","MO","1979-10-07",{"$f":"COUNTIF(Calculations!$E$56:$E$98,\"<=\"&DATE(2006,MONTH(C100),DAY(C100)))","v":33},6.2,6.5,6.1,6.4,6.7,6.5,6,6.1,5.9,5.5]
["MO197934","MO","1979-10-14",{"$f":"COUNTIF(Calculations!$E$56:$E$98,\"<=\"&DATE(2006,MONTH(C101),DAY(C101)))","v":34},6.2,6.8,6.3,6.5,6.7,6.3,6,6.1,5.0999999999999996,5.6]
["MO197935","MO","1979-10-21",{"$f":"COUNTIF(Calculations!$E$56:$E$98,\"<=\"&DATE(2006,MONTH(C102),DAY(C102)))","v":35},5.5,5.7,5.6,5.8,5.3,5.5,4.5,5.8,5.5,5.7]
["MO197936","MO","1979-10-28",{"$f":"COUNTIF(Calculations!$E$56:$E$98,\"<=\"&DATE(2006,MONTH(C103),DAY(C103)))","v":36},4.3,2.2999999999999998,3.9,4.7,4.0999999999999996,4.5999999999999996,4.8,5.5,5.4,4.4000000000000004]
["MO197937","MO","1979-11-04",{"$f":"COUNTIF(Calculations!$E$56:$E$98,\"<=\"&DATE(2006,MONTH(C104),DAY(C104)))","v":37},4.0999999999999996,3.2,4.0999999999999996,4,3.4,4.3,5.2,4.4000000000000004,4.9000000000000004,3.3]
["MO197938","MO","1979-11-11",{"$f":"COUNTIF(Calculations!$E$56:$E$98,\"<=\"&DATE(2006,MONTH(C105),DAY(C105)))","v":38},3.7,2.8,3.7,4.2,3.2,3.9,4.9000000000000004,3.6,3.7,3.7]
["MO197939","MO","1979-11-18",{"$f":"COUNTIF(Calculations!$E$56:$E$98,\"<=\"&DATE(2006,MONTH(C106),DAY(C106)))","v":39},5.3,5.0999999999999996,5.3,6.4,4.5,5.4,5.2,6,5.5,4.7]
["MO197940","MO","1979-11-25",{"$f":"COUNTIF(Calculations!$E$56:$E$98,\"<=\"&DATE(2006,MONTH(C107),DAY(C107)))","v":40},2.6,2.7,1.7,2.9,1.9,3,3.6,2.7,2.7,2.5]
["MO19807","MO","1980-04-13",{"$f":"COUNTIF(Calculations!$E$56:$E$98,\"<=\"&DATE(2006,MONTH(C108),DAY(C108)))","v":7},1.4,1,0.6,0.5,0.2,0.9,1.4,3.1,3.6,1.7]
["MO19808","MO","1980-04-20",{"$f":"COUNTIF(Calculations!$E$56:$E$98,\"<=\"&DATE(2006,MONTH(C109),DAY(C109)))","v":8},1.6,2.2999999999999998,1,0.2,2.4,0.6,0.5,4.0999999999999996,2.2999999999999998,2.1]
["MO19809","MO","1980-04-27",{"$f":"COUNTIF(Calculations!$E$56:$E$98,\"<=\"&DATE(2006,MONTH(C110),DAY(C110)))","v":9},5.0999999999999996,5.9,4.9000000000000004,3.7,6.1,5,3.7,6.1,4.9000000000000004,5.0999999999999996]
["MO198010","MO","1980-05-04",{"$f":"COUNTIF(Calculations!$E$56:$E$98,\"<=\"&DATE(2006,MONTH(C111),DAY(C111)))","v":10},6.1,6.6,6.2,6.3,6.5,5.9,2.9,5.5,6.3,5.7]
["MO198011","MO","1980-05-11",{"$f":"COUNTIF(Calculations!$E$56:$E$98,\"<=\"&DATE(2006,MONTH(C112),DAY(C112)))","v":11},6.4,6.8,6.6,6.6,6.6,6.5,6.5,5.9,6,6.5]
["MO198012","MO","1980-05-18",{"$f":"COUNTIF(Calculations!$E$56:$E$98,\"<=\"&DATE(2006,MONTH(C113),DAY(C113)))","v":12},4.0999999999999996,5.5,4.5,4.5,4.5999999999999996,3.6,4.5999999999999996,2.9,3.2,3.5]
["MO198013","MO","1980-05-25",{"$f":"COUNTIF(Calculations!$E$56:$E$98,\"<=\"&DATE(2006,MONTH(C114),DAY(C114)))","v":13},4.5,4.9000000000000004,3.7,4.0999999999999996,6.5,5.4,5,3,3.4,3.1]
["MO198014","MO","1980-06-01",{"$f":"COUNTIF(Calculations!$E$56:$E$98,\"<=\"&DATE(2006,MONTH(C115),DAY(C115)))","v":14},5.5,5.3,6,4.5999999999999996,4.5999999999999996,6.1,5.9,5.4,6.1,4.8]
["MO198015","MO","1980-06-08",{"$f":"COUNTIF(Calculations!$E$56:$E$98,\"<=\"&DATE(2006,MONTH(C116),DAY(C116)))","v":15},3.8,2.6,1.3,0.9,4.0999999999999996,4.5999999999999996,4.7,5.8,5.7,5.5]
["MO198016","MO","1980-06-15",{"$f":"COUNTIF(Calculations!$E$56:$E$98,\"<=\"&DATE(2006,MONTH(C117),DAY(C117)))","v":16},6,6.3,5,4.5999999999999996,6.6,6.5,6.5,6.6,5.7,6.2]
["MO198017","MO","1980-06-22",{"$f":"COUNTIF(Calculations!$E$56:$E$98,\"<=\"&DATE(2006,MONTH(C118),DAY(C118)))","v":17},5.9,6.4,5.5,5.9,5.8,6.4,6.4,4,5.6,6.2]
["MO198018","MO","1980-06-29",{"$f":"COUNTIF(Calculations!$E$56:$E$98,\"<=\"&DATE(2006,MONTH(C119),DAY(C119)))","v":18},5.2,4.0999999999999996,5.6,6.1,5.5,5.9,5.7,4.4000000000000004,5.0999999999999996,4.3]
["MO198019","MO","1980-07-06",{"$f":"COUNTIF(Calculations!$E$56:$E$98,\"<=\"&DATE(2006,MONTH(C120),DAY(C120)))","v":19},4.5,3.7,3.6,3.8,5.0999999999999996,5.0999999999999996,4.4000000000000004,6,4.2,4.5]
["MO198020","MO","1980-07-13",{"$f":"COUNTIF(Calculations!$E$56:$E$98,\"<=\"&DATE(2006,MONTH(C121),DAY(C121)))","v":20},6.1,6.5,6.2,6.6,5.9,6.4,5.8,6.4,5.2,6]
["MO198021","MO","1980-07-20",{"$f":"COUNTIF(Calculations!$E$56:$E$98,\"<=\"&DATE(2006,MONTH(C122),DAY(C122)))","v":21},6.2,6.7,6.1,6.6,6.3,6.6,6.5,5.5,5,6.4]
["MO198022","MO","1980-07-27",{"$f":"COUNTIF(Calculations!$E$56:$E$98,\"<=\"&DATE(2006,MONTH(C123),DAY(C123)))","v":22},6.2,6.6,6,6.3,6.3,6.3,5.7,6,5.9,6.5]
["MO198023","MO","1980-08-03",{"$f":"COUNTIF(Calculations!$E$56:$E$98,\"<=\"&DATE(2006,MONTH(C124),DAY(C124)))","v":23},6.1,6.8,6.3,6.8,6.7,6.1,5.9,4.3,5.5,4.4000000000000004]
["MO198024","MO","1980-08-10",{"$f":"COUNTIF(Calculations!$E$56:$E$98,\"<=\"&DATE(2006,MONTH(C125),DAY(C125)))","v":24},5.5,5.9,5.4,5.3,4.2,4.7,6,6.1,6.2,6.3]
["MO198025","MO","1980-08-17",{"$f":"COUNTIF(Calculations!$E$56:$E$98,\"<=\"&DATE(2006,MONTH(C126),DAY(C126)))","v":25},5.4,5.3,4.5999999999999996,5.3,5.7,5.4,5.6,6.3,4.9000000000000004,6]
["MO198026","MO","1980-08-24",{"$f":"COUNTIF(Calculations!$E$56:$E$98,\"<=\"&DATE(2006,MONTH(C127),DAY(C127)))","v":26},5.4,5.4,4.5,4.5999999999999996,5.2,5.3,5.7,5.6,6.4,6.5]
["MO198027","MO","1980-08-31",{"$f":"COUNTIF(Calculations!$E$56:$E$98,\"<=\"&DATE(2006,MONTH(C128),DAY(C128)))","v":27},6.2,6.8,6.3,6.6,6.2,5.9,5.8,6.4,5.0999999999999996,6.5]
["MO198028","MO","1980-09-07",{"$f":"COUNTIF(Calculations!$E$56:$E$98,\"<=\"&DATE(2006,MONTH(C129),DAY(C129)))","v":28},4.5999999999999996,3.5,2.4,3,4.8,4.9000000000000004,5.4,6.5,5.6,6.1]
["MO198029","MO","1980-09-14",{"$f":"COUNTIF(Calculations!$E$56:$E$98,\"<=\"&DATE(2006,MONTH(C130),DAY(C130)))","v":29},5.8,6.3,4.8,4.9000000000000004,6.3,6,6.1,6.2,5.0999999999999996,6.6]
["MO198030","MO","1980-09-21",{"$f":"COUNTIF(Calculations!$E$56:$E$98,\"<=\"&DATE(2006,MONTH(C131),DAY(C131)))","v":30},4.5999999999999996,4,2.6,2.8,5.8,4.9000000000000004,5,6.3,5.7,4.5999999999999996]
["MO198031","MO","1980-09-28",{"$f":"COUNTIF(Calculations!$E$56:$E$98,\"<=\"&DATE(2006,MONTH(C132),DAY(C132)))","v":31},5.7,6.2,5.4,5.0999999999999996,6.7,6.4,5.8,5.7,5.0999999999999996,3.7]
[{"$f":"B133&YEAR(C133)&D133","v":"MO198032"},"MO","1980-10-05",{"$f":"COUNTIF(Calculations!$E$56:$E$98,\"<=\"&DATE(2006,MONTH(C133),DAY(C133)))","v":32},6.4,6.6,6.3,6.6,6.7,6.6,6.1,6.4,6.3,5.6]
["MO198033","MO","1980-10-12",{"$f":"COUNTIF(Calculations!$E$56:$E$98,\"<=\"&DATE(2006,MONTH(C134),DAY(C134)))","v":33},6.3,6.8,6.4,6.4,6.7,6.5,6.1,5.8,5.3,6.1]
["MO198034","MO","1980-10-19",{"$f":"COUNTIF(Calculations!$E$56:$E$98,\"<=\"&DATE(2006,MONTH(C135),DAY(C135)))","v":34},4.4000000000000004,4.0999999999999996,3.6,4.5999999999999996,4.2,4,5,4.5999999999999996,5.5,4.5999999999999996]
["MO198035","MO","1980-10-26",{"$f":"COUNTIF(Calculations!$E$56:$E$98,\"<=\"&DATE(2006,MONTH(C136),DAY(C136)))","v":35},5.2,5,5.3,5.5,5.6,5.2,4.5999999999999996,4.8,5.8,4.8]
["MO198036","MO","1980-11-02",{"$f":"COUNTIF(Calculations!$E$56:$E$98,\"<=\"&DATE(2006,MONTH(C137),DAY(C137)))","v":36},3.4,1.8,2.2000000000000002,3.3,3.2,3.2,3.7,5.3,5.5,2.8]
["MO198037","MO","1980-11-09",{"$f":"COUNTIF(Calculations!$E$56:$E$98,\"<=\"&DATE(2006,MONTH(C138),DAY(C138)))","v":37},6.2,6.1,5.8,6.2,6.4,6.2,6.3,6.3,6.3,6.2]
["MO198038","MO","1980-11-16",{"$f":"COUNTIF(Calculations!$E$56:$E$98,\"<=\"&DATE(2006,MONTH(C139),DAY(C139)))","v":38},5.7,5.0999999999999996,5.2,5.6,6,5.8,5.6,6.1,6.3,5.8]
["MO19816","MO","1981-04-05",{"$f":"COUNTIF(Calculations!$E$56:$E$98,\"<=\"&DATE(2006,MONTH(C140),DAY(C140)))","v":6},5.9,6.2,6.4,6.3,6.3,6,5.3,6.3,5.7,4.4000000000000004]
["MO19817","MO","1981-04-12",{"$f":"COUNTIF(Calculations!$E$56:$E$98,\"<=\"&DATE(2006,MONTH(C141),DAY(C141)))","v":7},6,6.2,6.2,6.3,6.4,6.3,5.0999999999999996,6.3,6.6,3.9]
["MO19818","MO","1981-04-19",{"$f":"COUNTIF(Calculations!$E$56:$E$98,\"<=\"&DATE(2006,MONTH(C142),DAY(C142)))","v":8},4.2,3.4,1.4,0.9,6,4.8,3.7,5.8,6.1,6.3]
["MO19819","MO","1981-04-26",{"$f":"COUNTIF(Calculations!$E$56:$E$98,\"<=\"&DATE(2006,MONTH(C143),DAY(C143)))","v":9},1.8,2.2000000000000002,0.6,0.2,3.2,1.9,1.6,2.8,2.2999999999999998,1.5]
["MO198110","MO","1981-05-03",{"$f":"COUNTIF(Calculations!$E$56:$E$98,\"<=\"&DATE(2006,MONTH(C144),DAY(C144)))","v":10},4.8,5.5,4.5,3.1,6.3,4.8,4.7,5.0999999999999996,5.3,3.1]
["MO198111","MO","1981-05-10",{"$f":"COUNTIF(Calculations!$E$56:$E$98,\"<=\"&DATE(2006,MONTH(C145),DAY(C145)))","v":11},4.5,5,3.4,3.5,5.2,4.9000000000000004,4.4000000000000004,5.9,3.1,5]
["MO198112","MO","1981-05-17",{"$f":"COUNTIF(Calculations!$E$56:$E$98,\"<=\"&DATE(2006,MONTH(C146),DAY(C146)))","v":12},1.6,1,0.1,2.6,0.8,0.5,2.6,2,1.2,1.4]
["MO198113","MO","1981-05-24",{"$f":"COUNTIF(Calculations!$E$56:$E$98,\"<=\"&DATE(2006,MONTH(C147),DAY(C147)))","v":13},1,0.6,0.2,0.1,1.3,0.4,0.4,2.6,2.9,1.3]
["MO198114","MO","1981-05-31",{"$f":"COUNTIF(Calculations!$E$56:$E$98,\"<=\"&DATE(2006,MONTH(C148),DAY(C148)))","v":14},2.2000000000000002,2.2999999999999998,1.7,0.7,2.9,2.4,1,4.7,2.7,1.2]
["MO198115","MO","1981-06-07",{"$f":"COUNTIF(Calculations!$E$56:$E$98,\"<=\"&DATE(2006,MONTH(C149),DAY(C149)))","v":15},2.2999999999999998,2.9,3.7,2.4,2.1,1.7,0.9,3.8,1.9,0.6]
["MO198116","MO","1981-06-14",{"$f":"COUNTIF(Calculations!$E$56:$E$98,\"<=\"&DATE(2006,MONTH(C150),DAY(C150)))","v":16},2.6,3.9,3.5,2.9,2,1.6,1.7,2.2999999999999998,3.2,1.8]
["MO198117","MO","1981-06-21",{"$f":"COUNTIF(Calculations!$E$56:$E$98,\"<=\"&DATE(2006,MONTH(C151),DAY(C151)))","v":17},2.5,3,2.1,1.6,1.3,1.9,3.1,3.2,3.8,3.3]
["MO198118","MO","1981-06-28",{"$f":"COUNTIF(Calculations!$E$56:$E$98,\"<=\"&DATE(2006,MONTH(C152),DAY(C152)))","v":18},2.4,4.5,1.8,0.9,0.7,1.2,1.8,3.4,3.2,4.8]
["MO198119","MO","1981-07-05",{"$f":"COUNTIF(Calculations!$E$56:$E$98,\"<=\"&DATE(2006,MONTH(C153),DAY(C153)))","v":19},2.4,3.8,1.5,1.5,0.6,1.4,2.6,3.1,4.2,3.7]
["MO198120","MO","1981-07-12",{"$f":"COUNTIF(Calculations!$E$56:$E$98,\"<=\"&DATE(2006,MONTH(C154),DAY(C154)))","v":20},3.7,5.4,3.1,2.2999999999999998,3.5,3.4,3,4.3,4.5,3.6]
["MO198121","MO","1981-07-19",{"$f":"COUNTIF(Calculations!$E$56:$E$98,\"<=\"&DATE(2006,MONTH(C155),DAY(C155)))","v":21},4.7,5.9,4.4000000000000004,3.4,5.3,4.0999999999999996,3.8,5.4,4.7,5.6]
["MO198122","MO","1981-07-26",{"$f":"COUNTIF(Calculations!$E$56:$E$98,\"<=\"&DATE(2006,MONTH(C156),DAY(C156)))","v":22},2.1,2.5,1.7,0.8,2.9,0.9,1,4.5999999999999996,3.6,1.6]
["MO198123","MO","1981-08-02",{"$f":"COUNTIF(Calculations!$E$56:$E$98,\"<=\"&DATE(2006,MONTH(C157),DAY(C157)))","v":23},1.9,0.6,0.7,0.3,2.4,1.2,1.9,4.5999999999999996,4.8,1.8]
["MO198124","MO","1981-08-09",{"$f":"COUNTIF(Calculations!$E$56:$E$98,\"<=\"&DATE(2006,MONTH(C158),DAY(C158)))","v":24},3,0.7,1.9,2.2000000000000002,3.2,3.5,3.4,4.4000000000000004,4.3,4.5]
["MO198125","MO","1981-08-16",{"$f":"COUNTIF(Calculations!$E$56:$E$98,\"<=\"&DATE(2006,MONTH(C159),DAY(C159)))","v":25},4.7,3.4,4.2,4.0999999999999996,4.5,4.4000000000000004,5.4,6.4,5.9,4.8]
["MO198126","MO","1981-08-23",{"$f":"COUNTIF(Calculations!$E$56:$E$98,\"<=\"&DATE(2006,MONTH(C160),DAY(C160)))","v":26},5.9,6.2,5.8,5.8,6,6.1,5.8,5.8,5.6,5.3]
["MO198127","MO","1981-08-30",{"$f":"COUNTIF(Calculations!$E$56:$E$98,\"<=\"&DATE(2006,MONTH(C161),DAY(C161)))","v":27},3.9,2.2000000000000002,4.2,5,3.3,4.4000000000000004,4.3,4,4.3,4.2]
["MO198128","MO","1981-09-06",{"$f":"COUNTIF(Calculations!$E$56:$E$98,\"<=\"&DATE(2006,MONTH(C162),DAY(C162)))","v":28},4.7,4.7,5,4.8,3.9,5,3.2,5.3,5.0999999999999996,4.4000000000000004]
["MO198129","MO","1981-09-13",{"$f":"COUNTIF(Calculations!$E$56:$E$98,\"<=\"&DATE(2006,MONTH(C163),DAY(C163)))","v":29},5.4,4.5,4.8,5.0999999999999996,5.2,5.5,5.0999999999999996,6.8,6.2,6.2]
["MO198130","MO","1981-09-20",{"$f":"COUNTIF(Calculations!$E$56:$E$98,\"<=\"&DATE(2006,MONTH(C164),DAY(C164)))","v":30},5.8,6,5.8,5.7,6.2,5.9,5.2,6.1,5.8,4.5999999999999996]
["MO198131","MO","1981-09-27",{"$f":"COUNTIF(Calculations!$E$56:$E$98,\"<=\"&DATE(2006,MONTH(C165),DAY(C165)))","v":31},6,5.3,5.3,5.9,6.1,6.3,6.3,6.5,6.4,6.5]
["MO198132","MO","1981-10-04",{"$f":"COUNTIF(Calculations!$E$56:$E$98,\"<=\"&DATE(2006,MONTH(C166),DAY(C166)))","v":32},6.1,6.3,5.8,5.6,6.2,6.5,5.8,6.6,5.8,6.5]
["MO198133","MO","1981-10-11",{"$f":"COUNTIF(Calculations!$E$56:$E$98,\"<=\"&DATE(2006,MONTH(C167),DAY(C167)))","v":33},6,5.6,6,5.9,5.8,6.2,5.9,6.8,6.3,5.9]
["MO198134","MO","1981-10-18",{"$f":"COUNTIF(Calculations!$E$56:$E$98,\"<=\"&DATE(2006,MONTH(C168),DAY(C168)))","v":34},2,1.5,1.6,2,0.6,2.5,2.8,0.9,2.6,3.2]
["MO198135","MO","1981-10-25",{"$f":"COUNTIF(Calculations!$E$56:$E$98,\"<=\"&DATE(2006,MONTH(C169),DAY(C169)))","v":35},3.6,5.3,4.4000000000000004,4.2,2.8,3.2,3,2.1,2.6,3.9]
["MO198136","MO","1981-11-01",{"$f":"COUNTIF(Calculations!$E$56:$E$98,\"<=\"&DATE(2006,MONTH(C170),DAY(C170)))","v":36},5.0999999999999996,6.5,5.3,5.8,4.5,5.0999999999999996,4.5999999999999996,5.0999999999999996,5.0999999999999996,3.4]
["MO198137","MO","1981-11-08",{"$f":"COUNTIF(Calculations!$E$56:$E$98,\"<=\"&DATE(2006,MONTH(C171),DAY(C171)))","v":37},1.2,0.7,0.5,0.3,0.9,1.4,0.4,1.8,3.1,1.7]
["MO198138","MO","1981-11-15",{"$f":"COUNTIF(Calculations!$E$56:$E$98,\"<=\"&DATE(2006,MONTH(C172),DAY(C172)))","v":38},4.2,5.4,4,4.2,1.3,3.6,3.2,4.8,5.6,6.2]
["MO198139","MO","1981-11-22",{"$f":"COUNTIF(Calculations!$E$56:$E$98,\"<=\"&DATE(2006,MONTH(C173),DAY(C173)))","v":39},4.2,4.4000000000000004,4,3,2.9,4.4000000000000004,3.6,4.9000000000000004,5.4,4.7]
["MO198140","MO","1981-11-29",{"$f":"COUNTIF(Calculations!$E$56:$E$98,\"<=\"&DATE(2006,MONTH(C174),DAY(C174)))","v":40},4.3,5.3,4.5999999999999996,2.7,4,4.0999999999999996,2.7,5.5,6,3.3]
["MO19828","MO","1982-04-18",{"$f":"COUNTIF(Calculations!$E$56:$E$98,\"<=\"&DATE(2006,MONTH(C175),DAY(C175)))","v":8},3.7,4.2,3.1,2.2000000000000002,4,4.4000000000000004,4,6.4,5.2,3.6]
["MO19829","MO","1982-04-25",{"$f":"COUNTIF(Calculations!$E$56:$E$98,\"<=\"&DATE(2006,MONTH(C176),DAY(C176)))","v":9},4.3,5.8,3.4,2.7,5.9,5.0999999999999996,4.2,5.9,5.6,3]
["MO198210","MO","1982-05-02",{"$f":"COUNTIF(Calculations!$E$56:$E$98,\"<=\"&DATE(2006,MONTH(C177),DAY(C177)))","v":10},3.7,4.0999999999999996,5.6,5.2,2.6,4.3,3.9,2.4,3.5,1.6]
["MO198211","MO","1982-05-09",{"$f":"COUNTIF(Calculations!$E$56:$E$98,\"<=\"&DATE(2006,MONTH(C178),DAY(C178)))","v":11},4,3.4,4.0999999999999996,4,3.1,4.2,5.3,4.0999999999999996,5,4.5]
["MO198212","MO","1982-05-16",{"$f":"COUNTIF(Calculations!$E$56:$E$98,\"<=\"&DATE(2006,MONTH(C179),DAY(C179)))","v":12},3.7,2.1,3.4,4.5,2,4.2,5.8,3.3,5.5,5]
["MO198213","MO","1982-05-23",{"$f":"COUNTIF(Calculations!$E$56:$E$98,\"<=\"&DATE(2006,MONTH(C180),DAY(C180)))","v":13},2.7,0.8,0.6,3.2,1.4,2.5,5.3,3.6,4.3,5.3]
["MO198214","MO","1982-05-30",{"$f":"COUNTIF(Calculations!$E$56:$E$98,\"<=\"&DATE(2006,MONTH(C181),DAY(C181)))","v":14},1.5,0.2,0.2,0.5,0.4,0.9,3.7,2,3.6,4.3]
["MO198215","MO","1982-06-06",{"$f":"COUNTIF(Calculations!$E$56:$E$98,\"<=\"&DATE(2006,MONTH(C182),DAY(C182)))","v":15},0.9,0.5,0.1,0,0.1,0.3,1.3,1.1000000000000001,1.8,3.1]
["MO198216","MO","1982-06-13",{"$f":"COUNTIF(Calculations!$E$56:$E$98,\"<=\"&DATE(2006,MONTH(C183),DAY(C183)))","v":16},1.3,0.7,0.2,0.2,0.6,0.6,0.5,3.1,2.9,4.3]
["MO198217","MO","1982-06-20",{"$f":"COUNTIF(Calculations!$E$56:$E$98,\"<=\"&DATE(2006,MONTH(C184),DAY(C184)))","v":17},1.6,1.1000000000000001,0.8,0.9,1.2,1.1000000000000001,1.4,2.6,3.4,3.3]
["MO198218","MO","1982-06-27",{"$f":"COUNTIF(Calculations!$E$56:$E$98,\"<=\"&DATE(2006,MONTH(C185),DAY(C185)))","v":18},4.5999999999999996,5.5,4.8,4.3,3.6,3.7,4.5,3.7,4.2,5.3]
["MO198219","MO","1982-07-04",{"$f":"COUNTIF(Calculations!$E$56:$E$98,\"<=\"&DATE(2006,MONTH(C186),DAY(C186)))","v":19},3.8,3.3,4,2.4,4,3.8,4.2,4.5,4.5,4.5999999999999996]
["MO198220","MO","1982-07-11",{"$f":"COUNTIF(Calculations!$E$56:$E$98,\"<=\"&DATE(2006,MONTH(C187),DAY(C187)))","v":20},4.5999999999999996,4.7,4.9000000000000004,3.5,5.6,5.7,3.8,6.1,5.0999999999999996,4.0999999999999996]
["MO198221","MO","1982-07-18",{"$f":"COUNTIF(Calculations!$E$56:$E$98,\"<=\"&DATE(2006,MONTH(C188),DAY(C188)))","v":21},4.2,4.0999999999999996,3.8,2.5,3.8,4.5999999999999996,4.3,5.8,6,5.5]
["MO198222","MO","1982-07-25",{"$f":"COUNTIF(Calculations!$E$56:$E$98,\"<=\"&DATE(2006,MONTH(C189),DAY(C189)))","v":22},4.5999999999999996,3.9,4,2.2000000000000002,5.6,6,4.7,6.4,5.3,5.8]
["MO198223","MO","1982-08-01",{"$f":"COUNTIF(Calculations!$E$56:$E$98,\"<=\"&DATE(2006,MONTH(C190),DAY(C190)))","v":23},5.9,6.1,6,5.2,6.5,6.2,5.8,5.8,6.6,5.9]
["MO198224","MO","1982-08-08",{"$f":"COUNTIF(Calculations!$E$56:$E$98,\"<=\"&DATE(2006,MONTH(C191),DAY(C191)))","v":24},6,5.9,5.8,5.4,5.7,6.2,6,5.6,6.3,6.5]
["MO198225","MO","1982-08-15",{"$f":"COUNTIF(Calculations!$E$56:$E$98,\"<=\"&DATE(2006,MONTH(C192),DAY(C192)))","v":25},3.4,2.2999999999999998,3.2,3.4,2.5,3.2,4.3,3.9,4.3,4.9000000000000004]
["MO198226","MO","1982-08-22",{"$f":"COUNTIF(Calculations!$E$56:$E$98,\"<=\"&DATE(2006,MONTH(C193),DAY(C193)))","v":26},3.9,2.6,3.3,3.3,3.8,4.7,4.0999999999999996,4.9000000000000004,4.4000000000000004,5.2]
["MO198227","MO","1982-08-29",{"$f":"COUNTIF(Calculations!$E$56:$E$98,\"<=\"&DATE(2006,MONTH(C194),DAY(C194)))","v":27},2.1,1.2,1.7,2.6,2.2999999999999998,3.2,2.5,3.4,2.8,1.8]
["MO198228","MO","1982-09-05",{"$f":"COUNTIF(Calculations!$E$56:$E$98,\"<=\"&DATE(2006,MONTH(C195),DAY(C195)))","v":28},1.8,0.9,1,1.1000000000000001,3.8,1.4,1.5,3.9,3.5,2.4]
["MO198229","MO","1982-09-12",{"$f":"COUNTIF(Calculations!$E$56:$E$98,\"<=\"&DATE(2006,MONTH(C196),DAY(C196)))","v":29},5.9,1.5,1.4,2.7,5.4,3.9,3.7,6.4,6.3,5.9]
[{"$f":"B197&YEAR(C197)&D197","v":"MO198230"},"MO","1982-09-19",{"$f":"COUNTIF(Calculations!$E$56:$E$98,\"<=\"&DATE(2006,MONTH(C197),DAY(C197)))","v":30},3,2.5,1.6,3,3,2.1,2.1,5.3,4.9000000000000004,4.5999999999999996]
["MO198231","MO","1982-09-26",{"$f":"COUNTIF(Calculations!$E$56:$E$98,\"<=\"&DATE(2006,MONTH(C198),DAY(C198)))","v":31},4.5,4.5999999999999996,3.7,3.6,4.8,3.6,3.7,5.5,5.6,6.1]
["MO198232","MO","1982-10-03",{"$f":"COUNTIF(Calculations!$E$56:$E$98,\"<=\"&DATE(2006,MONTH(C199),DAY(C199)))","v":32},5.9,5.8,5.8,5.6,6.5,5.8,5.7,6.4,6.3,6.2]
["MO198233","MO","1982-10-10",{"$f":"COUNTIF(Calculations!$E$56:$E$98,\"<=\"&DATE(2006,MONTH(C200),DAY(C200)))","v":33},4.8,5.5,5.4,5.3,3.3,5,3.9,5.0999999999999996,5.0999999999999996,4]
["MO198234","MO","1982-10-17",{"$f":"COUNTIF(Calculations!$E$56:$E$98,\"<=\"&DATE(2006,MONTH(C201),DAY(C201)))","v":34},5,4.9000000000000004,4.5,4.8,5.6,6.1,4.3,5.6,5.9,4.5999999999999996]
["MO198235","MO","1982-10-24",{"$f":"COUNTIF(Calculations!$E$56:$E$98,\"<=\"&DATE(2006,MONTH(C202),DAY(C202)))","v":35},5.0999999999999996,5.7,4.3,3,6.1,4.9000000000000004,4,5.4,5.5,6.3]
["MO198236","MO","1982-10-31",{"$f":"COUNTIF(Calculations!$E$56:$E$98,\"<=\"&DATE(2006,MONTH(C203),DAY(C203)))","v":36},5.0999999999999996,4.5,4.9000000000000004,5.0999999999999996,4.5,5,4.7,5.2,5.4,6.1]
["MO198237","MO","1982-11-07",{"$f":"COUNTIF(Calculations!$E$56:$E$98,\"<=\"&DATE(2006,MONTH(C204),DAY(C204)))","v":37},3.9,4.5999999999999996,3.5,2,4.9000000000000004,3.9,3.1,4.9000000000000004,4.8,4.3]
["MO198238","MO","1982-11-14",{"$f":"COUNTIF(Calculations!$E$56:$E$98,\"<=\"&DATE(2006,MONTH(C205),DAY(C205)))","v":38},4.5,4.3,4.0999999999999996,3.6,4.3,4.7,4.0999999999999996,5.2,5.5,5.4]
["MO198239","MO","1982-11-21",{"$f":"COUNTIF(Calculations!$E$56:$E$98,\"<=\"&DATE(2006,MONTH(C206),DAY(C206)))","v":39},4,4,3.1,3,4.8,4.8,3.2,5.4,4.7,4.4000000000000004]
["MO198240","MO","1982-11-28",{"$f":"COUNTIF(Calculations!$E$56:$E$98,\"<=\"&DATE(2006,MONTH(C207),DAY(C207)))","v":40},2,3.6,1.2,1.5,2.2999999999999998,2.7,1,2.2999999999999998,3.6,0.9]
["MO198310","MO","1983-05-01",{"$f":"COUNTIF(Calculations!$E$56:$E$98,\"<=\"&DATE(2006,MONTH(C208),DAY(C208)))","v":10},3,3.7,3,3.4,1.1000000000000001,2.9,2.7,2,3.9,3.3]
["MO198311","MO","1983-05-08",{"$f":"COUNTIF(Calculations!$E$56:$E$98,\"<=\"&DATE(2006,MONTH(C209),DAY(C209)))","v":11},1.2,2.8,1.5,0.7,1.6,0.7,0.3,2.8,1.7,0.3]
["MO198312","MO","1983-05-15",{"$f":"COUNTIF(Calculations!$E$56:$E$98,\"<=\"&DATE(2006,MONTH(C210),DAY(C210)))","v":12},2.7,3.5,2.9,3.4,1.9,2.2000000000000002,3.6,2.5,3.8,1.8]
["MO198313","MO","1983-05-23",{"$f":"COUNTIF(Calculations!$E$56:$E$98,\"<=\"&DATE(2006,MONTH(C211),DAY(C211)))","v":13},1.2,0.8,1,1.7,1.3,0.7,1.8,2.1,2.6,1]
["MO198314","MO","1983-05-29",{"$f":"COUNTIF(Calculations!$E$56:$E$98,\"<=\"&DATE(2006,MONTH(C212),DAY(C212)))","v":14},2.6,2.5,2.1,2.1,3.4,3.5,3.3,5.3,5.0999999999999996,1.9]
["MO198315","MO","1983-06-05",{"$f":"COUNTIF(Calculations!$E$56:$E$98,\"<=\"&DATE(2006,MONTH(C213),DAY(C213)))","v":15},3.7,3.7,3.2,3.4,4.4000000000000004,3.8,4.2,4.0999999999999996,4.3,3.3]
["MO198316","MO","1983-06-12",{"$f":"COUNTIF(Calculations!$E$56:$E$98,\"<=\"&DATE(2006,MONTH(C214),DAY(C214)))","v":16},5.2,4.9000000000000004,5.5,5.5,5.4,5.2,4.5999999999999996,5.9,5.8,4.9000000000000004]
["MO198317","MO","1983-06-19",{"$f":"COUNTIF(Calculations!$E$56:$E$98,\"<=\"&DATE(2006,MONTH(C215),DAY(C215)))","v":17},5.5,4,5.6,6.3,6,5.5,5.7,4.9000000000000004,5.3,5.9]
["MO198318","MO","1983-06-26",{"$f":"COUNTIF(Calculations!$E$56:$E$98,\"<=\"&DATE(2006,MONTH(C216),DAY(C216)))","v":18},5.6,4.7,4.8,5.9,6.1,5.8,5.4,6.8,6.2,6.5]
["MO198319","MO","1983-07-03",{"$f":"COUNTIF(Calculations!$E$56:$E$98,\"<=\"&DATE(2006,MONTH(C217),DAY(C217)))","v":19},4.4000000000000004,2.8,3.9,6,4.9000000000000004,4.7,4.5999999999999996,3.3,5.0999999999999996,4.9000000000000004]
["MO198320","MO","1983-07-10",{"$f":"COUNTIF(Calculations!$E$56:$E$98,\"<=\"&DATE(2006,MONTH(C218),DAY(C218)))","v":20},5.6,5.2,5.0999999999999996,5.6,5.7,5.4,5.3,4.0999999999999996,5.4,6.6]
["MO198321","MO","1983-07-17",{"$f":"COUNTIF(Calculations!$E$56:$E$98,\"<=\"&DATE(2006,MONTH(C219),DAY(C219)))","v":21},6.4,6.4,6.2,6.4,6.5,6,6.6,6.3,5.8,6.7]
["MO198322","MO","1983-07-24",{"$f":"COUNTIF(Calculations!$E$56:$E$98,\"<=\"&DATE(2006,MONTH(C220),DAY(C220)))","v":22},6.5,6.6,6.4,6.2,6.6,6.6,6.4,6.7,6.1,6.9]
["MO198323","MO","1983-07-31",{"$f":"COUNTIF(Calculations!$E$56:$E$98,\"<=\"&DATE(2006,MONTH(C221),DAY(C221)))","v":23},6.2,6.6,6.3,6.5,6.7,5.7,5.7,6.3,6.1,5.9]
["MO198324","MO","1983-08-07",{"$f":"COUNTIF(Calculations!$E$56:$E$98,\"<=\"&DATE(2006,MONTH(C222),DAY(C222)))","v":24},6.3,6.7,5.8,5.9,6.7,6.4,6.1,6.2,6.5,6.6]
["MO198325","MO","1983-08-14",{"$f":"COUNTIF(Calculations!$E$56:$E$98,\"<=\"&DATE(2006,MONTH(C223),DAY(C223)))","v":25},6.5,6.6,6.4,6.5,6.8,6.5,5.9,6.6,6.5,6.4]
["MO198326","MO","1983-08-21",{"$f":"COUNTIF(Calculations!$E$56:$E$98,\"<=\"&DATE(2006,MONTH(C224),DAY(C224)))","v":26},6.3,6.2,6.5,5.8,6.6,6.3,6.4,5.3,6.8,6.7]
["MO198327","MO","1983-08-28",{"$f":"COUNTIF(Calculations!$E$56:$E$98,\"<=\"&DATE(2006,MONTH(C225),DAY(C225)))","v":27},6.1,5.7,5.9,6.1,6.4,5.9,6.1,6.3,6.3,6.8]
["MO198328","MO","1983-09-04",{"$f":"COUNTIF(Calculations!$E$56:$E$98,\"<=\"&DATE(2006,MONTH(C226),DAY(C226)))","v":28},6,5.8,5.2,5.7,6.4,5.9,6.3,5.6,6.1,6.8]
["MO198329","MO","1983-09-11",{"$f":"COUNTIF(Calculations!$E$56:$E$98,\"<=\"&DATE(2006,MONTH(C227),DAY(C227)))","v":29},6.4,6.7,6.1,6.6,6.8,6.3,6.1,6.2,5.7,6.3]
["MO198330","MO","1983-09-18",{"$f":"COUNTIF(Calculations!$E$56:$E$98,\"<=\"&DATE(2006,MONTH(C228),DAY(C228)))","v":30},5.0999999999999996,5.2,4.0999999999999996,4.4000000000000004,4.4000000000000004,4.7,5.6,6.4,6.1,6.4]
["MO198331","MO","1983-09-25",{"$f":"COUNTIF(Calculations!$E$56:$E$98,\"<=\"&DATE(2006,MONTH(C229),DAY(C229)))","v":31},4.9000000000000004,4.5,4,4.5,5.2,5.4,5.6,5.5,5.5,5.7]
["MO198332","MO","1983-10-02",{"$f":"COUNTIF(Calculations!$E$56:$E$98,\"<=\"&DATE(2006,MONTH(C230),DAY(C230)))","v":32},6.3,6.3,6.1,5.8,6.6,6.2,5.9,6.4,6.6,6.6]
["MO198333","MO","1983-10-09",{"$f":"COUNTIF(Calculations!$E$56:$E$98,\"<=\"&DATE(2006,MONTH(C231),DAY(C231)))","v":33},5.8,6.4,6.3,6.4,6.2,5.7,5.2,6,4.8,4.3]
["MO198334","MO","1983-10-16",{"$f":"COUNTIF(Calculations!$E$56:$E$98,\"<=\"&DATE(2006,MONTH(C232),DAY(C232)))","v":34},4.3,3.3,3.5,3.7,4.5,5.0999999999999996,5.3,5.5,5.2,3.4]
["MO198335","MO","1983-10-23",{"$f":"COUNTIF(Calculations!$E$56:$E$98,\"<=\"&DATE(2006,MONTH(C233),DAY(C233)))","v":35},1.9,2.6,2.5,2.8,1.2,1.5,1.4,1.1000000000000001,1.8,1.1000000000000001]
["MO198336","MO","1983-10-30",{"$f":"COUNTIF(Calculations!$E$56:$E$98,\"<=\"&DATE(2006,MONTH(C234),DAY(C234)))","v":36},3.6,3.4,3.8,3.1,3.5,3.6,3.5,4,4.9000000000000004,4]
["MO198337","MO","1983-11-06",{"$f":"COUNTIF(Calculations!$E$56:$E$98,\"<=\"&DATE(2006,MONTH(C235),DAY(C235)))","v":37},1.5,1,0.5,1.3,1.4,1.3,2.2000000000000002,2.8,2.7,2.4]
["MO198338","MO","1983-11-13",{"$f":"COUNTIF(Calculations!$E$56:$E$98,\"<=\"&DATE(2006,MONTH(C236),DAY(C236)))","v":38},1.2,0,0.4,0.5,1.4,0.5,1.6,2.6,2.8,3]
["MO198339","MO","1983-11-20",{"$f":"COUNTIF(Calculations!$E$56:$E$98,\"<=\"&DATE(2006,MONTH(C237),DAY(C237)))","v":39},2.4,1.6,1.2,1.1000000000000001,3,3.2,3.1,5.2,5,3.5]
["MO198340","MO","1983-11-27",{"$f":"COUNTIF(Calculations!$E$56:$E$98,\"<=\"&DATE(2006,MONTH(C238),DAY(C238)))","v":40},1.4,2.2000000000000002,1.3,0.8,0.9,1.2,0.6,2.2000000000000002,1.5,1.6]
["MO19849","MO","1984-04-22",{"$f":"COUNTIF(Calculations!$E$56:$E$98,\"<=\"&DATE(2006,MONTH(C239),DAY(C239)))","v":9},1.2,0.8,0.7,0.1,1.2,0.6,1.4,2.6,2.2999999999999998,2.6]
["MO198410","MO","1984-04-29",{"$f":"COUNTIF(Calculations!$E$56:$E$98,\"<=\"&DATE(2006,MONTH(C240),DAY(C240)))","v":10},1.6,1.5,0.7,0.2,1.2,1.1000000000000001,1.4,2.4,3.2,3.7]
["MO198411","MO","1984-05-06",{"$f":"COUNTIF(Calculations!$E$56:$E$98,\"<=\"&DATE(2006,MONTH(C241),DAY(C241)))","v":11},1.5,0.5,0.8,0.9,0.1,2.6,2.2999999999999998,4.9000000000000004,3.4,2.2000000000000002]
["MO198412","MO","1984-05-13",{"$f":"COUNTIF(Calculations!$E$56:$E$98,\"<=\"&DATE(2006,MONTH(C242),DAY(C242)))","v":12},3.3,2.4,2.1,1.8,3,3.2,3.4,4.4000000000000004,2.7,0.8]
["MO198413","MO","1984-05-20",{"$f":"COUNTIF(Calculations!$E$56:$E$98,\"<=\"&DATE(2006,MONTH(C243),DAY(C243)))","v":13},4.8,5.2,2.7,3.7,6,5.6,5.0999999999999996,5.3,5.2,5.5]
["MO198414","MO","1984-05-27",{"$f":"COUNTIF(Calculations!$E$56:$E$98,\"<=\"&DATE(2006,MONTH(C244),DAY(C244)))","v":14},3.2,1.5,1.6,1.4,5,4.4000000000000004,3.9,5.4,5.5,4.9000000000000004]
["MO198415","MO","1984-06-03",{"$f":"COUNTIF(Calculations!$E$56:$E$98,\"<=\"&DATE(2006,MONTH(C245),DAY(C245)))","v":15},3.2,3,1.8,1.4,4.0999999999999996,3.8,3.7,4.2,4.5999999999999996,4.7]
["MO198416","MO","1984-06-10",{"$f":"COUNTIF(Calculations!$E$56:$E$98,\"<=\"&DATE(2006,MONTH(C246),DAY(C246)))","v":16},5.0999999999999996,4.9000000000000004,4.5999999999999996,4.8,5,5.0999999999999996,5.7,5,4.8,5.8]
["MO198417","MO","1984-06-17",{"$f":"COUNTIF(Calculations!$E$56:$E$98,\"<=\"&DATE(2006,MONTH(C247),DAY(C247)))","v":17},3.4,0.8,1.5,2.2999999999999998,2.2999999999999998,4.4000000000000004,5.8,5.8,5.7,6.9]
["MO198418","MO","1984-06-25",{"$f":"COUNTIF(Calculations!$E$56:$E$98,\"<=\"&DATE(2006,MONTH(C248),DAY(C248)))","v":18},3.4,1.3,2,4.2,1.8,3.4,4.9000000000000004,5.2,4.3,5.6]
["MO198419","MO","1984-07-01",{"$f":"COUNTIF(Calculations!$E$56:$E$98,\"<=\"&DATE(2006,MONTH(C249),DAY(C249)))","v":19},5.3,5.5,4.4000000000000004,5.0999999999999996,4.3,5,4.7,5.9,6.1,6.9]
["MO198420","MO","1984-07-08",{"$f":"COUNTIF(Calculations!$E$56:$E$98,\"<=\"&DATE(2006,MONTH(C250),DAY(C250)))","v":20},4.3,3.9,4.7,4.7,3.6,4.0999999999999996,4.5,5.4,4.3,4.2]
["MO198421","MO","1984-07-15",{"$f":"COUNTIF(Calculations!$E$56:$E$98,\"<=\"&DATE(2006,MONTH(C251),DAY(C251)))","v":21},5,5.5,5.0999999999999996,4.7,4.5,4.5,5.4,5.3,5.2,4.9000000000000004]
["MO198422","MO","1984-07-22",{"$f":"COUNTIF(Calculations!$E$56:$E$98,\"<=\"&DATE(2006,MONTH(C252),DAY(C252)))","v":22},5.8,5.8,6.1,5.3,6.2,6.1,6.1,6.2,5.8,5.4]
["MO198423","MO","1984-07-29",{"$f":"COUNTIF(Calculations!$E$56:$E$98,\"<=\"&DATE(2006,MONTH(C253),DAY(C253)))","v":23},6.2,6.5,5.7,5,6.6,6.4,6.4,6.7,6.3,6.5]
["MO198424","MO","1984-08-05",{"$f":"COUNTIF(Calculations!$E$56:$E$98,\"<=\"&DATE(2006,MONTH(C254),DAY(C254)))","v":24},6.6,6.9,6.6,6.5,6.3,6.7,6.5,6,6.3,6.7]
["MO198425","MO","1984-08-12",{"$f":"COUNTIF(Calculations!$E$56:$E$98,\"<=\"&DATE(2006,MONTH(C255),DAY(C255)))","v":25},6.2,6.6,6.1,6.5,6.7,6,5.6,6.4,5.6,5.6]
["MO198426","MO","1984-08-19",{"$f":"COUNTIF(Calculations!$E$56:$E$98,\"<=\"&DATE(2006,MONTH(C256),DAY(C256)))","v":26},6.6,6.8,6.5,6.5,6.8,6.6,6.5,6.6,6.4,6.7]
["MO198427","MO","1984-08-26",{"$f":"COUNTIF(Calculations!$E$56:$E$98,\"<=\"&DATE(2006,MONTH(C257),DAY(C257)))","v":27},6.2,6.3,6.5,6.5,6,6.2,6,6.8,5.6,6]
["MO198428","MO","1984-09-02",{"$f":"COUNTIF(Calculations!$E$56:$E$98,\"<=\"&DATE(2006,MONTH(C258),DAY(C258)))","v":28},6.5,6.8,6.4,6.6,6.4,6.6,6.5,6.7,6.5,6.3]
["MO198429","MO","1984-09-09",{"$f":"COUNTIF(Calculations!$E$56:$E$98,\"<=\"&DATE(2006,MONTH(C259),DAY(C259)))","v":29},6.5,6.7,6.4,6.5,6.5,6.6,6.3,6.4,6.1,6.4]
["MO198430","MO","1984-09-16",{"$f":"COUNTIF(Calculations!$E$56:$E$98,\"<=\"&DATE(2006,MONTH(C260),DAY(C260)))","v":30},3.6,3.9,2.7,2.2999999999999998,4.8,4.8,2.6,5.4,5.4,3.6]
[{"$f":"B261&YEAR(C261)&D261","v":"MO198431"},"MO","1984-09-23",{"$f":"COUNTIF(Calculations!$E$56:$E$98,\"<=\"&DATE(2006,MONTH(C261),DAY(C261)))","v":31},6.2,6.4,5.5,5.9,6.7,6.1,5.5,6.3,6.3,6.9]
["MO198432","MO","1984-09-30",{"$f":"COUNTIF(Calculations!$E$56:$E$98,\"<=\"&DATE(2006,MONTH(C262),DAY(C262)))","v":32},3.1,4.8,3.7,2.8,3.9,2.8,2.1,3.4,2.5,1.5]
["MO198433","MO","1984-10-07",{"$f":"COUNTIF(Calculations!$E$56:$E$98,\"<=\"&DATE(2006,MONTH(C263),DAY(C263)))","v":33},5.9,6.1,6.3,6,5.4,5.6,5.6,5.7,5.6,6.1]
["MO198434","MO","1984-10-14",{"$f":"COUNTIF(Calculations!$E$56:$E$98,\"<=\"&DATE(2006,MONTH(C264),DAY(C264)))","v":34},3,4.8,3.9,2.8,3.8,3.3,1.8,4.4000000000000004,2.4,0.4]
["MO198435","MO","1984-10-21",{"$f":"COUNTIF(Calculations!$E$56:$E$98,\"<=\"&DATE(2006,MONTH(C265),DAY(C265)))","v":35},0.7,0.7,1,0.6,1.3,0.5,0.3,1.3,1.2,0.3]
["MO198436","MO","1984-10-28",{"$f":"COUNTIF(Calculations!$E$56:$E$98,\"<=\"&DATE(2006,MONTH(C266),DAY(C266)))","v":36},1.4,2.5,1.7,1.8,0.8,1.2,0.8,0.5,0.5,0.6]
["MO198437","MO","1984-11-04",{"$f":"COUNTIF(Calculations!$E$56:$E$98,\"<=\"&DATE(2006,MONTH(C267),DAY(C267)))","v":37},0.6,1.1000000000000001,0.5,0.6,0.4,0.2,0.5,0.6,1,0.3]
["MO198438","MO","1984-11-11",{"$f":"COUNTIF(Calculations!$E$56:$E$98,\"<=\"&DATE(2006,MONTH(C268),DAY(C268)))","v":38},4.3,4.7,3.8,4.2,4.8,4.0999999999999996,3.3,3.2,4.9000000000000004,4.5999999999999996]
["MO198439","MO","1984-11-18",{"$f":"COUNTIF(Calculations!$E$56:$E$98,\"<=\"&DATE(2006,MONTH(C269),DAY(C269)))","v":39},5.4,6.2,5.5,4.7,5.5,5.7,4,5,4.7,5.6]
["MO198440","MO","1984-11-25",{"$f":"COUNTIF(Calculations!$E$56:$E$98,\"<=\"&DATE(2006,MONTH(C270),DAY(C270)))","v":40},3.9,4.9000000000000004,4.5999999999999996,4.5,3,2.8,1.9,1.9,4,4.4000000000000004]
["MO198441","MO","1984-12-02",{"$f":"COUNTIF(Calculations!$E$56:$E$98,\"<=\"&DATE(2006,MONTH(C271),DAY(C271)))","v":41},3.1,4.9000000000000004,3.2,3.3,3.1,2,2.2000000000000002,2.2000000000000002,2.9,2.4]
["MO198442","MO","1984-12-09",{"$f":"COUNTIF(Calculations!$E$56:$E$98,\"<=\"&DATE(2006,MONTH(C272),DAY(C272)))","v":42},2.6,4.5,3.3,3,2.2000000000000002,2.2999999999999998,1.7,1.8,1.7,1]
["MO19857","MO","1985-04-14",{"$f":"COUNTIF(Calculations!$E$56:$E$98,\"<=\"&DATE(2006,MONTH(C273),DAY(C273)))","v":7},2.9,4.7,3.6,2.4,1.3,1.3,1,1.9,2.8,4]
["MO19858","MO","1985-04-21",{"$f":"COUNTIF(Calculations!$E$56:$E$98,\"<=\"&DATE(2006,MONTH(C274),DAY(C274)))","v":8},4,6.5,5.0999999999999996,5.3,3.2,2.2000000000000002,2.6,4.7,4.4000000000000004,1.9]
["MO19859","MO","1985-04-28",{"$f":"COUNTIF(Calculations!$E$56:$E$98,\"<=\"&DATE(2006,MONTH(C275),DAY(C275)))","v":9},5,6.1,6.5,6.1,5.3,3.8,4.7,5.4,3.4,2.8]
["MO198510","MO","1985-05-05",{"$f":"COUNTIF(Calculations!$E$56:$E$98,\"<=\"&DATE(2006,MONTH(C276),DAY(C276)))","v":10},2.2000000000000002,2.8,3.1,2.7,2.1,2.8,2.5,2.1,1.7,0.2]
["MO198511","MO","1985-05-12",{"$f":"COUNTIF(Calculations!$E$56:$E$98,\"<=\"&DATE(2006,MONTH(C277),DAY(C277)))","v":11},4,5,4.7,3.8,3.9,4.0999999999999996,4.0999999999999996,3.9,3.7,2.5]
["MO198512","MO","1985-05-19",{"$f":"COUNTIF(Calculations!$E$56:$E$98,\"<=\"&DATE(2006,MONTH(C278),DAY(C278)))","v":12},2.2999999999999998,2.2000000000000002,1.3,1,1.9,2.6,2,3.5,4.5,3.5]
["MO198513","MO","1985-05-26",{"$f":"COUNTIF(Calculations!$E$56:$E$98,\"<=\"&DATE(2006,MONTH(C279),DAY(C279)))","v":13},4.8,5.7,5.6,6.1,4.4000000000000004,4.7,4.4000000000000004,3.8,4,3.1]
["MO198514","MO","1985-06-02",{"$f":"COUNTIF(Calculations!$E$56:$E$98,\"<=\"&DATE(2006,MONTH(C280),DAY(C280)))","v":14},3.8,3.2,4.2,5.2,0.8,3,5.0999999999999996,2.6,4.2,5.2]
["MO198515","MO","1985-06-09",{"$f":"COUNTIF(Calculations!$E$56:$E$98,\"<=\"&DATE(2006,MONTH(C281),DAY(C281)))","v":15},2.1,3.5,2.9,2.4,0.1,0.4,0.7,1,1,3.9]
["MO198516","MO","1985-06-16",{"$f":"COUNTIF(Calculations!$E$56:$E$98,\"<=\"&DATE(2006,MONTH(C282),DAY(C282)))","v":16},3,5.5,4.2,3.1,1,0.8,0.5,2.9,3.4,3.6]
["MO198517","MO","1985-06-23",{"$f":"COUNTIF(Calculations!$E$56:$E$98,\"<=\"&DATE(2006,MONTH(C283),DAY(C283)))","v":17},3.6,5,4.3,3.9,3.1,1.7,1.6,4.2,4.2,3.8]
["MO198518","MO","1985-06-30",{"$f":"COUNTIF(Calculations!$E$56:$E$98,\"<=\"&DATE(2006,MONTH(C284),DAY(C284)))","v":18},3.9,4.0999999999999996,3,3.9,4.2,3.9,3.8,5.3,4.8,3.4]
["MO198519","MO","1985-07-07",{"$f":"COUNTIF(Calculations!$E$56:$E$98,\"<=\"&DATE(2006,MONTH(C285),DAY(C285)))","v":19},5.9,6.4,5.9,6.3,6.1,6.1,5.7,6.7,6.2,4.8]
["MO198520","MO","1985-07-14",{"$f":"COUNTIF(Calculations!$E$56:$E$98,\"<=\"&DATE(2006,MONTH(C286),DAY(C286)))","v":20},6.6,6.7,6.5,6.5,6.4,6.6,6.3,6.8,6.8,6.7]
["MO198521","MO","1985-07-21",{"$f":"COUNTIF(Calculations!$E$56:$E$98,\"<=\"&DATE(2006,MONTH(C287),DAY(C287)))","v":21},6.2,6.3,5.9,5.8,6,6.3,6.5,6.5,6.6,6.5]
["MO198522","MO","1985-07-28",{"$f":"COUNTIF(Calculations!$E$56:$E$98,\"<=\"&DATE(2006,MONTH(C288),DAY(C288)))","v":22},4.8,3.2,3.6,4.8,5.2,5.6,5.5,6.1,6.3,5.5]
["MO198523","MO","1985-08-04",{"$f":"COUNTIF(Calculations!$E$56:$E$98,\"<=\"&DATE(2006,MONTH(C289),DAY(C289)))","v":23},4.2,2.4,2.1,2.4,6.2,5.8,4.0999999999999996,6.3,6.2,5.8]
["MO198524","MO","1985-08-11",{"$f":"COUNTIF(Calculations!$E$56:$E$98,\"<=\"&DATE(2006,MONTH(C290),DAY(C290)))","v":24},4.4000000000000004,3.5,4.0999999999999996,3.8,4,6.1,3.3,5.7,5.8,4.8]
["MO198525","MO","1985-08-18",{"$f":"COUNTIF(Calculations!$E$56:$E$98,\"<=\"&DATE(2006,MONTH(C291),DAY(C291)))","v":25},2.8,1.6,1.8,1.3,2.1,2.9,3.2,5.0999999999999996,4.9000000000000004,4.7]
["MO198526","MO","1985-08-25",{"$f":"COUNTIF(Calculations!$E$56:$E$98,\"<=\"&DATE(2006,MONTH(C292),DAY(C292)))","v":26},2.2000000000000002,1.5,0.6,0.7,1.1000000000000001,2.7,2.1,2.2999999999999998,3.4,5.0999999999999996]
["MO198527","MO","1985-09-01",{"$f":"COUNTIF(Calculations!$E$56:$E$98,\"<=\"&DATE(2006,MONTH(C293),DAY(C293)))","v":27},4,3.7,3,2.9,3.8,4.5999999999999996,2.6,4.8,5.5,5.6]
["MO198528","MO","1985-09-08",{"$f":"COUNTIF(Calculations!$E$56:$E$98,\"<=\"&DATE(2006,MONTH(C294),DAY(C294)))","v":28},5.7,6.2,5.4,5.7,6.2,6.3,5.2,6.7,5.7,4.4000000000000004]
["MO198529","MO","1985-09-15",{"$f":"COUNTIF(Calculations!$E$56:$E$98,\"<=\"&DATE(2006,MONTH(C295),DAY(C295)))","v":29},6.1,6,6.4,6.3,6.1,6.6,6,5.4,5.8,6.1]
["MO198530","MO","1985-09-22",{"$f":"COUNTIF(Calculations!$E$56:$E$98,\"<=\"&DATE(2006,MONTH(C296),DAY(C296)))","v":30},6.3,6.1,6.1,5.7,6.6,6.6,6.5,6.5,6.5,6.8]
["MO198531","MO","1985-09-28",{"$f":"COUNTIF(Calculations!$E$56:$E$98,\"<=\"&DATE(2006,MONTH(C297),DAY(C297)))","v":31},2.9,1.7,1,1.8,1.4,3.6,4.8,4,5,5]
["MO198532","MO","1985-10-06",{"$f":"COUNTIF(Calculations!$E$56:$E$98,\"<=\"&DATE(2006,MONTH(C298),DAY(C298)))","v":32},3.9,1.9,2.1,3.9,2.8,4.5999999999999996,5.4,5.5,6,5.8]
["MO198533","MO","1985-10-13",{"$f":"COUNTIF(Calculations!$E$56:$E$98,\"<=\"&DATE(2006,MONTH(C299),DAY(C299)))","v":33},3.7,2.1,1.5,1.7,2.6,4.4000000000000004,5.7,5.3,6,6.7]
["MO198534","MO","1985-10-20",{"$f":"COUNTIF(Calculations!$E$56:$E$98,\"<=\"&DATE(2006,MONTH(C300),DAY(C300)))","v":34},2.5,1.7,1.4,1.7,1.6,3.3,4.8,2.7,4.5,3]
["MO198535","MO","1985-10-27",{"$f":"COUNTIF(Calculations!$E$56:$E$98,\"<=\"&DATE(2006,MONTH(C301),DAY(C301)))","v":35},2.2999999999999998,1.6,0.9,1.4,2.5,4.2,4.7,3.4,4,1.5]
["MO198536","MO","1985-11-03",{"$f":"COUNTIF(Calculations!$E$56:$E$98,\"<=\"&DATE(2006,MONTH(C302),DAY(C302)))","v":36},2.7,4.2,2.2000000000000002,3.2,2.5,2.8,2.7,2.2000000000000002,1.8,1.4]
["MO198537","MO","1985-11-10",{"$f":"COUNTIF(Calculations!$E$56:$E$98,\"<=\"&DATE(2006,MONTH(C303),DAY(C303)))","v":37},3.9,4.8,2.4,2.4,3.9,3.6,3.6,5.6,5,4.9000000000000004]
["MO198538","MO","1985-11-17",{"$f":"COUNTIF(Calculations!$E$56:$E$98,\"<=\"&DATE(2006,MONTH(C304),DAY(C304)))","v":38},0.7,0.3,0.5,0.1,0.5,0.5,0.9,1.3,2,1.3]
["MO198539","MO","1985-11-24",{"$f":"COUNTIF(Calculations!$E$56:$E$98,\"<=\"&DATE(2006,MONTH(C305),DAY(C305)))","v":39},0.9,1.5,0.7,0.5,0.5,0.2,0.4,0.2,0.7,1.9]
["MO198540","MO","1985-12-01",{"$f":"COUNTIF(Calculations!$E$56:$E$98,\"<=\"&DATE(2006,MONTH(C306),DAY(C306)))","v":40},0.9,2.6,1.5,1.1000000000000001,0.2,0.1,0,0,0.2,0.8]
["MO198541","MO","1985-12-08",{"$f":"COUNTIF(Calculations!$E$56:$E$98,\"<=\"&DATE(2006,MONTH(C307),DAY(C307)))","v":41},1.6,1,0.9,2.2000000000000002,0.6,1.1000000000000001,3,1.4,1.8,2.6]
["MO198542","MO","1985-12-15",{"$f":"COUNTIF(Calculations!$E$56:$E$98,\"<=\"&DATE(2006,MONTH(C308),DAY(C308)))","v":42},0.9,0.6,1.2,0.8,0.4,0.3,0.7,0,0.8,2.1]
["MO19867","MO","1986-04-13",{"$f":"COUNTIF(Calculations!$E$56:$E$98,\"<=\"&DATE(2006,MONTH(C309),DAY(C309)))","v":7},3.5,2.7,4,5.8,2.2999999999999998,4.4000000000000004,5.8,2.2999999999999998,2.2999999999999998,1.8]
["MO19868","MO","1986-04-20",{"$f":"COUNTIF(Calculations!$E$56:$E$98,\"<=\"&DATE(2006,MONTH(C310),DAY(C310)))","v":8},4.2,2.8,4.2,4.3,4.0999999999999996,5,5.8,3,3.9,5.3]
["MO19869","MO","1986-04-27",{"$f":"COUNTIF(Calculations!$E$56:$E$98,\"<=\"&DATE(2006,MONTH(C311),DAY(C311)))","v":9},4.9000000000000004,4.0999999999999996,4.8,5.4,6.2,6.2,5.7,5.2,4.8,2.9]
["MO198610","MO","1986-05-04",{"$f":"COUNTIF(Calculations!$E$56:$E$98,\"<=\"&DATE(2006,MONTH(C312),DAY(C312)))","v":10},4.5999999999999996,3.2,4.5999999999999996,4.9000000000000004,4.7,5.0999999999999996,5.9,4.5999999999999996,5.0999999999999996,5.0999999999999996]
["MO198611","MO","1986-05-12",{"$f":"COUNTIF(Calculations!$E$56:$E$98,\"<=\"&DATE(2006,MONTH(C313),DAY(C313)))","v":11},5.3,3.8,4.0999999999999996,5.0999999999999996,5.6,5.8,6.6,6.4,6.3,6.4]
["MO198612","MO","1986-05-18",{"$f":"COUNTIF(Calculations!$E$56:$E$98,\"<=\"&DATE(2006,MONTH(C314),DAY(C314)))","v":12},2.4,1.3,1.6,2.9,2.7,3.3,3.1,4.0999999999999996,2.8,2.1]
["MO198613","MO","1986-05-25",{"$f":"COUNTIF(Calculations!$E$56:$E$98,\"<=\"&DATE(2006,MONTH(C315),DAY(C315)))","v":13},1.9,1.7,0.8,1,1.7,2.7,3.6,4.5,3.4,1.3]
["MO198614","MO","1986-06-01",{"$f":"COUNTIF(Calculations!$E$56:$E$98,\"<=\"&DATE(2006,MONTH(C316),DAY(C316)))","v":14},3.1,4.2,3.7,1.7,4.3,3.4,1.7,5.4,2.1,0.9]
["MO198615","MO","1986-06-08",{"$f":"COUNTIF(Calculations!$E$56:$E$98,\"<=\"&DATE(2006,MONTH(C317),DAY(C317)))","v":15},4.0999999999999996,5.4,5.4,4.4000000000000004,5.2,4.3,3.9,2.8,1.9,1.4]
["MO198616","MO","1986-06-15",{"$f":"COUNTIF(Calculations!$E$56:$E$98,\"<=\"&DATE(2006,MONTH(C318),DAY(C318)))","v":16},3.4,4.5,4.7,3,3.9,3.7,2.4,3.4,1.9,1.7]
["MO198617","MO","1986-06-22",{"$f":"COUNTIF(Calculations!$E$56:$E$98,\"<=\"&DATE(2006,MONTH(C319),DAY(C319)))","v":17},6,6.3,5.6,5.3,5.8,6.2,5.2,6.1,6.3,6.5]
["MO198618","MO","1986-06-29",{"$f":"COUNTIF(Calculations!$E$56:$E$98,\"<=\"&DATE(2006,MONTH(C320),DAY(C320)))","v":18},6,5.0999999999999996,5.2,6.4,6.4,6.6,6.4,5.0999999999999996,5.9,6.9]
["MO198619","MO","1986-07-06",{"$f":"COUNTIF(Calculations!$E$56:$E$98,\"<=\"&DATE(2006,MONTH(C321),DAY(C321)))","v":19},4.4000000000000004,3.8,4,3.2,3.6,4.5999999999999996,3.8,5.7,6,6.3]
["MO198620","MO","1986-07-13",{"$f":"COUNTIF(Calculations!$E$56:$E$98,\"<=\"&DATE(2006,MONTH(C322),DAY(C322)))","v":20},4.5999999999999996,0.7,3.1,4.7,5.4,6.1,5.9,6.6,6.7,6.8]
["MO198621","MO","1986-07-20",{"$f":"COUNTIF(Calculations!$E$56:$E$98,\"<=\"&DATE(2006,MONTH(C323),DAY(C323)))","v":21},4.3,3.1,2.8,3.6,4.8,4.7,4.5,6.1,6.2,6]
["MO198622","MO","1986-07-27",{"$f":"COUNTIF(Calculations!$E$56:$E$98,\"<=\"&DATE(2006,MONTH(C324),DAY(C324)))","v":22},6.3,6,5.8,6.4,6.6,6.5,6.4,6.5,6.9,6.6]
[{"$f":"B325&YEAR(C325)&D325","v":"MO198623"},"MO","1986-08-03",{"$f":"COUNTIF(Calculations!$E$56:$E$98,\"<=\"&DATE(2006,MONTH(C325),DAY(C325)))","v":23},6,6.2,5.5,5,6.7,6.5,5.5,6.3,6.5,6.1]
["MO198624","MO","1986-08-10",{"$f":"COUNTIF(Calculations!$E$56:$E$98,\"<=\"&DATE(2006,MONTH(C326),DAY(C326)))","v":24},4.5,3.2,4,4.3,5.2,5.2,4.3,5.2,5.7,5.3]
["MO198625","MO","1986-08-17",{"$f":"COUNTIF(Calculations!$E$56:$E$98,\"<=\"&DATE(2006,MONTH(C327),DAY(C327)))","v":25},4.5,1.7,4.3,5,4.0999999999999996,5.5,5.7,5.9,6.3,5.6]
["MO198626","MO","1986-08-24",{"$f":"COUNTIF(Calculations!$E$56:$E$98,\"<=\"&DATE(2006,MONTH(C328),DAY(C328)))","v":26},6,5.2,6.2,6.3,5.9,6.4,6.1,6.4,6.6,6.2]
["MO198627","MO","1986-08-31",{"$f":"COUNTIF(Calculations!$E$56:$E$98,\"<=\"&DATE(2006,MONTH(C329),DAY(C329)))","v":27},5.8,6,6.1,6.1,4.4000000000000004,5.5,6,5.5,5.5,6.2]
["MO198628","MO","1986-09-07",{"$f":"COUNTIF(Calculations!$E$56:$E$98,\"<=\"&DATE(2006,MONTH(C330),DAY(C330)))","v":28},6.2,6.4,6.2,6.3,6.2,5.7,5.9,6.3,6.4,6.4]
["MO198629","MO","1986-09-14",{"$f":"COUNTIF(Calculations!$E$56:$E$98,\"<=\"&DATE(2006,MONTH(C331),DAY(C331)))","v":29},5.0999999999999996,4.7,4.4000000000000004,5,4.7,5,5.5,5.8,6.1,6]
["MO198630","MO","1986-09-21",{"$f":"COUNTIF(Calculations!$E$56:$E$98,\"<=\"&DATE(2006,MONTH(C332),DAY(C332)))","v":30},3.8,3.4,3.2,3.6,2.7,4,4.4000000000000004,2.2999999999999998,4.9000000000000004,5.8]
["MO198631","MO","1986-09-28",{"$f":"COUNTIF(Calculations!$E$56:$E$98,\"<=\"&DATE(2006,MONTH(C333),DAY(C333)))","v":31},3,1.9,1.6,1.4,2.5,2.2000000000000002,3.7,5.3,5.8,5.9]
["MO198632","MO","1986-10-05",{"$f":"COUNTIF(Calculations!$E$56:$E$98,\"<=\"&DATE(2006,MONTH(C334),DAY(C334)))","v":32},1,0.4,0.2,0.1,0.1,0,1.3,0.1,2.9,4.5]
["MO198633","MO","1986-10-12",{"$f":"COUNTIF(Calculations!$E$56:$E$98,\"<=\"&DATE(2006,MONTH(C335),DAY(C335)))","v":33},2.5,2.4,1.8,1.8,1.4,1,3.2,1.2,3.4,6]
["MO198634","MO","1986-10-19",{"$f":"COUNTIF(Calculations!$E$56:$E$98,\"<=\"&DATE(2006,MONTH(C336),DAY(C336)))","v":34},3,3.1,2.2000000000000002,3.3,2.2000000000000002,2.1,3.7,3.1,4.3,4.3]
["MO198635","MO","1986-10-26",{"$f":"COUNTIF(Calculations!$E$56:$E$98,\"<=\"&DATE(2006,MONTH(C337),DAY(C337)))","v":35},3.7,3.7,3.2,4.7,2.7,2.9,4.5999999999999996,3.3,4.2,4.5]
["MO198636","MO","1986-11-02",{"$f":"COUNTIF(Calculations!$E$56:$E$98,\"<=\"&DATE(2006,MONTH(C338),DAY(C338)))","v":36},3.3,2.5,2.4,2.5,3.2,2.8,2.9,5.2,5.0999999999999996,5.0999999999999996]
["MO198637","MO","1986-11-09",{"$f":"COUNTIF(Calculations!$E$56:$E$98,\"<=\"&DATE(2006,MONTH(C339),DAY(C339)))","v":37},1.7,1.5,1.7,1.4,1.9,1.1000000000000001,1.8,2.1,2.5,2.1]
["MO198638","MO","1986-11-16",{"$f":"COUNTIF(Calculations!$E$56:$E$98,\"<=\"&DATE(2006,MONTH(C340),DAY(C340)))","v":38},2.7,2.5,2.9,3.5,2.6,2.1,2.1,2.2000000000000002,3.6,2.6]
["MO198639","MO","1986-11-23",{"$f":"COUNTIF(Calculations!$E$56:$E$98,\"<=\"&DATE(2006,MONTH(C341),DAY(C341)))","v":39},3.3,2.8,3.7,3.4,3.1,3.2,3.4,3.8,4.5,3.2]
["MO198640","MO","1986-11-30",{"$f":"COUNTIF(Calculations!$E$56:$E$98,\"<=\"&DATE(2006,MONTH(C342),DAY(C342)))","v":40},1.9,3.5,1.5,1.3,1.5,2,2.2000000000000002,2,3,0.6]
["MO198641","MO","1986-12-07",{"$f":"COUNTIF(Calculations!$E$56:$E$98,\"<=\"&DATE(2006,MONTH(C343),DAY(C343)))","v":41},1.5,1.6,1.1000000000000001,1.1000000000000001,0.5,0.8,0.8,4.0999999999999996,3.2,1.9]
["MO19876","MO","1987-04-05",{"$f":"COUNTIF(Calculations!$E$56:$E$98,\"<=\"&DATE(2006,MONTH(C344),DAY(C344)))","v":6},1.4,0.4,0.7,0.6,1.4,1.4,1.8,3.5,3.8,2.2999999999999998]
["MO19877","MO","1987-04-12",{"$f":"COUNTIF(Calculations!$E$56:$E$98,\"<=\"&DATE(2006,MONTH(C345),DAY(C345)))","v":7},5.2,4.5999999999999996,4.8,4.8,5.4,5.8,5.4,5.7,6,5.7]
["MO19878","MO","1987-04-19",{"$f":"COUNTIF(Calculations!$E$56:$E$98,\"<=\"&DATE(2006,MONTH(C346),DAY(C346)))","v":8},0.8,0.7,0.4,0.5,0.8,0.5,0.9,1.9,2,0.9]
["MO19879","MO","1987-04-26",{"$f":"COUNTIF(Calculations!$E$56:$E$98,\"<=\"&DATE(2006,MONTH(C347),DAY(C347)))","v":9},3.9,3,2,3.1,4.2,4.4000000000000004,3.9,5.7,5.9,5.6]
["MO198710","MO","1987-05-03",{"$f":"COUNTIF(Calculations!$E$56:$E$98,\"<=\"&DATE(2006,MONTH(C348),DAY(C348)))","v":10},6.4,6.4,5.5,6.4,6.4,6.6,6.2,6.6,6.7,6.7]
["MO198711","MO","1987-05-10",{"$f":"COUNTIF(Calculations!$E$56:$E$98,\"<=\"&DATE(2006,MONTH(C349),DAY(C349)))","v":11},4.3,2.4,2.9,5,3.1,5.5,5,4.5999999999999996,5.2,6.4]
["MO198712","MO","1987-05-17",{"$f":"COUNTIF(Calculations!$E$56:$E$98,\"<=\"&DATE(2006,MONTH(C350),DAY(C350)))","v":12},6.2,6.1,6.2,6.7,5.2,6.4,6.2,6.3,6.4,6.1]
["MO198713","MO","1987-05-24",{"$f":"COUNTIF(Calculations!$E$56:$E$98,\"<=\"&DATE(2006,MONTH(C351),DAY(C351)))","v":13},4.9000000000000004,5.0999999999999996,3.2,3.5,4.7,5.3,5.8,6.3,5.9,6.1]
["MO198714","MO","1987-05-31",{"$f":"COUNTIF(Calculations!$E$56:$E$98,\"<=\"&DATE(2006,MONTH(C352),DAY(C352)))","v":14},4.0999999999999996,1.5,3.6,4.7,3.3,5.8,6.1,4.0999999999999996,5.0999999999999996,4.9000000000000004]
["MO198715","MO","1987-06-07",{"$f":"COUNTIF(Calculations!$E$56:$E$98,\"<=\"&DATE(2006,MONTH(C353),DAY(C353)))","v":15},4.4000000000000004,3.3,3.9,4.4000000000000004,4.2,4.7,5.5,5.0999999999999996,5.2,5.4]
["MO198716","MO","1987-06-14",{"$f":"COUNTIF(Calculations!$E$56:$E$98,\"<=\"&DATE(2006,MONTH(C354),DAY(C354)))","v":16},5.3,3.5,4.8,6.2,5.2,5.5,5.9,5.4,5.8,6.4]
["MO198717","MO","1987-06-21",{"$f":"COUNTIF(Calculations!$E$56:$E$98,\"<=\"&DATE(2006,MONTH(C355),DAY(C355)))","v":17},5.8,4.9000000000000004,5.8,6.6,6,6.2,5.8,6,4.5,6.3]
["MO198718","MO","1987-06-28",{"$f":"COUNTIF(Calculations!$E$56:$E$98,\"<=\"&DATE(2006,MONTH(C356),DAY(C356)))","v":18},4.7,4.7,5.0999999999999996,5.6,3.8,5.3,5.2,4.5999999999999996,4.3,3.6]
["MO198719","MO","1987-07-05",{"$f":"COUNTIF(Calculations!$E$56:$E$98,\"<=\"&DATE(2006,MONTH(C357),DAY(C357)))","v":19},4.4000000000000004,4.9000000000000004,4.5,5.4,3.7,4.5999999999999996,5,4.2,4.2,2.8]
["MO198720","MO","1987-07-12",{"$f":"COUNTIF(Calculations!$E$56:$E$98,\"<=\"&DATE(2006,MONTH(C358),DAY(C358)))","v":20},2.2999999999999998,1.6,1.5,2.6,2.6,2.9,1.8,5,3.8,1.5]
["MO198721","MO","1987-07-19",{"$f":"COUNTIF(Calculations!$E$56:$E$98,\"<=\"&DATE(2006,MONTH(C359),DAY(C359)))","v":21},4.0999999999999996,3.5,2.1,2.9,4.5,4.3,5.0999999999999996,5.5,5.5,5.8]
["MO198722","MO","1987-07-26",{"$f":"COUNTIF(Calculations!$E$56:$E$98,\"<=\"&DATE(2006,MONTH(C360),DAY(C360)))","v":22},6.3,5.9,6.2,6.5,6.5,6.7,6.6,6.3,6.4,6.1]
["MO198723","MO","1987-08-02",{"$f":"COUNTIF(Calculations!$E$56:$E$98,\"<=\"&DATE(2006,MONTH(C361),DAY(C361)))","v":23},6.3,6.6,6.6,6.6,6.8,6.7,6,6.6,6.4,4.9000000000000004]
["MO198724","MO","1987-08-09",{"$f":"COUNTIF(Calculations!$E$56:$E$98,\"<=\"&DATE(2006,MONTH(C362),DAY(C362)))","v":24},6.1,6.3,5.6,6.1,6,6.3,5.9,6.8,6.4,5.9]
["MO198725","MO","1987-08-16",{"$f":"COUNTIF(Calculations!$E$56:$E$98,\"<=\"&DATE(2006,MONTH(C363),DAY(C363)))","v":25},4.9000000000000004,3.6,4.0999999999999996,4.3,4.9000000000000004,5.5,4.9000000000000004,6.6,6.6,6.3]
["MO198726","MO","1987-08-23",{"$f":"COUNTIF(Calculations!$E$56:$E$98,\"<=\"&DATE(2006,MONTH(C364),DAY(C364)))","v":26},4.5999999999999996,3.3,4.5,3.1,3.8,4.5999999999999996,6.4,6.3,5.7,6.4]
["MO198727","MO","1987-08-30",{"$f":"COUNTIF(Calculations!$E$56:$E$98,\"<=\"&DATE(2006,MONTH(C365),DAY(C365)))","v":27},3.6,1.8,2.4,3,2.6,4,4.9000000000000004,4.4000000000000004,5.3,6.3]
["MO198728","MO","1987-09-06",{"$f":"COUNTIF(Calculations!$E$56:$E$98,\"<=\"&DATE(2006,MONTH(C366),DAY(C366)))","v":28},6.1,5.3,5.9,6.4,6.1,6.2,6.4,6.4,6.5,6.9]
["MO198729","MO","1987-09-14",{"$f":"COUNTIF(Calculations!$E$56:$E$98,\"<=\"&DATE(2006,MONTH(C367),DAY(C367)))","v":29},5.2,3.5,4.4000000000000004,5.5,4.7,5.6,5.9,5.3,6.1,6.5]
["MO198730","MO","1987-09-20",{"$f":"COUNTIF(Calculations!$E$56:$E$98,\"<=\"&DATE(2006,MONTH(C368),DAY(C368)))","v":30},2.9,1.7,1.2,2.1,2.7,3.4,4.5999999999999996,4.4000000000000004,4.7,4.2]
["MO198731","MO","1987-09-27",{"$f":"COUNTIF(Calculations!$E$56:$E$98,\"<=\"&DATE(2006,MONTH(C369),DAY(C369)))","v":31},6.3,6,5.8,6.2,6.4,6.3,6.6,6.8,6.5,6.7]
["MO198732","MO","1987-10-04",{"$f":"COUNTIF(Calculations!$E$56:$E$98,\"<=\"&DATE(2006,MONTH(C370),DAY(C370)))","v":32},5.6,6.1,4.9000000000000004,5.6,4.8,5.5,5,5.5,6.3,6.1]
["MO198733","MO","1987-10-11",{"$f":"COUNTIF(Calculations!$E$56:$E$98,\"<=\"&DATE(2006,MONTH(C371),DAY(C371)))","v":33},6.5,6.7,6.3,6.6,6.5,6.6,6.5,7,6.8,6.3]
["MO198734","MO","1987-10-18",{"$f":"COUNTIF(Calculations!$E$56:$E$98,\"<=\"&DATE(2006,MONTH(C372),DAY(C372)))","v":34},5.8,5.7,5.7,5.9,5.3,5.6,6,6,6,6.5]
["MO198735","MO","1987-10-25",{"$f":"COUNTIF(Calculations!$E$56:$E$98,\"<=\"&DATE(2006,MONTH(C373),DAY(C373)))","v":35},5.2,5.3,5,5.6,4.5,5,5.4,4.9000000000000004,5.3,5.5]
["MO198736","MO","1987-11-01",{"$f":"COUNTIF(Calculations!$E$56:$E$98,\"<=\"&DATE(2006,MONTH(C374),DAY(C374)))","v":36},5.5,5.6,5.6,6.1,5.3,5.3,5.6,4.4000000000000004,5.0999999999999996,5.4]
["MO198737","MO","1987-11-08",{"$f":"COUNTIF(Calculations!$E$56:$E$98,\"<=\"&DATE(2006,MONTH(C375),DAY(C375)))","v":37},5.4,4.4000000000000004,4.2,5.5,5.2,5.8,5.9,6.5,6.3,6.9]
["MO19886","MO","1988-04-03",{"$f":"COUNTIF(Calculations!$E$56:$E$98,\"<=\"&DATE(2006,MONTH(C376),DAY(C376)))","v":6},2.1,4.3,1.8,1.1000000000000001,1.9,1.6,1.1000000000000001,1.5,2.4,1.5]
["MO19887","MO","1988-04-10",{"$f":"COUNTIF(Calculations!$E$56:$E$98,\"<=\"&DATE(2006,MONTH(C377),DAY(C377)))","v":7},2.4,3,2.2999999999999998,1.3,1.3,1.3,2.2000000000000002,3.4,3.6,3.7]
["MO19888","MO","1988-04-17",{"$f":"COUNTIF(Calculations!$E$56:$E$98,\"<=\"&DATE(2006,MONTH(C378),DAY(C378)))","v":8},6.4,4.9000000000000004,5.5,4.8,3.7,4.3,3.5,5,5,5.8]
["MO19889","MO","1988-04-24",{"$f":"COUNTIF(Calculations!$E$56:$E$98,\"<=\"&DATE(2006,MONTH(C379),DAY(C379)))","v":9},5.0999999999999996,6.5,6.4,6.1,3.4,4.5,5.5,4,5.0999999999999996,3.4]
["MO198810","MO","1988-05-01",{"$f":"COUNTIF(Calculations!$E$56:$E$98,\"<=\"&DATE(2006,MONTH(C380),DAY(C380)))","v":10},6.4,6.8,6.5,6.7,5.5,6.3,6.6,5.9,6.3,6.4]
["MO198811","MO","1988-05-08",{"$f":"COUNTIF(Calculations!$E$56:$E$98,\"<=\"&DATE(2006,MONTH(C381),DAY(C381)))","v":11},5.7,5.0999999999999996,6.2,6.8,6.1,5.0999999999999996,5.4,6.5,5.5,4.5999999999999996]
["MO198812","MO","1988-05-15",{"$f":"COUNTIF(Calculations!$E$56:$E$98,\"<=\"&DATE(2006,MONTH(C382),DAY(C382)))","v":12},6.2,6,6,6.3,6.8,6.5,6.2,6.9,6.2,5.7]
["MO198813","MO","1988-05-22",{"$f":"COUNTIF(Calculations!$E$56:$E$98,\"<=\"&DATE(2006,MONTH(C383),DAY(C383)))","v":13},6.6,6.7,6.5,6.5,6.6,6.7,6.5,6.5,6.8,6.7]
["MO198814","MO","1988-05-29",{"$f":"COUNTIF(Calculations!$E$56:$E$98,\"<=\"&DATE(2006,MONTH(C384),DAY(C384)))","v":14},4.3,4.4000000000000004,4.0999999999999996,4.3,5.0999999999999996,4.2,4.5999999999999996,4.5,3.8,4.0999999999999996]
["MO198815","MO","1988-06-05",{"$f":"COUNTIF(Calculations!$E$56:$E$98,\"<=\"&DATE(2006,MONTH(C385),DAY(C385)))","v":15},6.3,6.4,5.3,6.6,6,6.4,6.7,6.1,6.2,6.9]
["MO198816","MO","1988-06-12",{"$f":"COUNTIF(Calculations!$E$56:$E$98,\"<=\"&DATE(2006,MONTH(C386),DAY(C386)))","v":16},6.4,6.8,6.2,5.5,6.7,6.9,6,6.4,6.6,6.5]
["MO198817","MO","1988-06-19",{"$f":"COUNTIF(Calculations!$E$56:$E$98,\"<=\"&DATE(2006,MONTH(C387),DAY(C387)))","v":17},6.5,6.7,6.8,6.5,5.9,6.2,6.4,6.4,6.5,6.8]
["MO198818","MO","1988-06-26",{"$f":"COUNTIF(Calculations!$E$56:$E$98,\"<=\"&DATE(2006,MONTH(C388),DAY(C388)))","v":18},6.8,7,6.8,6.8,6.7,6.7,6.6,6.8,6.7,6.9]
[{"$f":"B389&YEAR(C389)&D389","v":"MO198819"},"MO","1988-07-03",{"$f":"COUNTIF(Calculations!$E$56:$E$98,\"<=\"&DATE(2006,MONTH(C389),DAY(C389)))","v":19},5.3,5.4,5.7,5.9,4.5999999999999996,4.9000000000000004,5.3,5.3,5.0999999999999996,5]
["MO198820","MO","1988-07-10",{"$f":"COUNTIF(Calculations!$E$56:$E$98,\"<=\"&DATE(2006,MONTH(C390),DAY(C390)))","v":20},6.5,6.6,6.8,6.8,5.7,6.4,6.9,6.4,6.1,6.4]
["MO198821","MO","1988-07-17",{"$f":"COUNTIF(Calculations!$E$56:$E$98,\"<=\"&DATE(2006,MONTH(C391),DAY(C391)))","v":21},5.9,6.2,6.4,6.7,6.6,6.4,6,6.4,5.4,3.6]
["MO198822","MO","1988-07-24",{"$f":"COUNTIF(Calculations!$E$56:$E$98,\"<=\"&DATE(2006,MONTH(C392),DAY(C392)))","v":22},4.5,5.3,4.9000000000000004,4.9000000000000004,5.3,5.0999999999999996,4.3,4.3,3.9,2]
["MO198823","MO","1988-07-31",{"$f":"COUNTIF(Calculations!$E$56:$E$98,\"<=\"&DATE(2006,MONTH(C393),DAY(C393)))","v":23},6.1,6.8,6.6,6.7,5.7,6.4,6.3,6.4,6.3,3.9]
["MO198824","MO","1988-08-07",{"$f":"COUNTIF(Calculations!$E$56:$E$98,\"<=\"&DATE(2006,MONTH(C394),DAY(C394)))","v":24},6.3,6.6,6.2,6.7,5.7,6.3,6.1,6.2,6.2,6.1]
["MO198825","MO","1988-08-14",{"$f":"COUNTIF(Calculations!$E$56:$E$98,\"<=\"&DATE(2006,MONTH(C395),DAY(C395)))","v":25},5.6,5.7,4.9000000000000004,5.9,4.8,4.7,6.3,6.3,6.3,6.6]
["MO198826","MO","1988-08-21",{"$f":"COUNTIF(Calculations!$E$56:$E$98,\"<=\"&DATE(2006,MONTH(C396),DAY(C396)))","v":26},6.4,6.5,6.4,6.4,6.6,6.2,6,6.3,6.4,6.9]
["MO198827","MO","1988-08-28",{"$f":"COUNTIF(Calculations!$E$56:$E$98,\"<=\"&DATE(2006,MONTH(C397),DAY(C397)))","v":27},5.0999999999999996,5.7,4.4000000000000004,4.8,5.6,4.5,4.9000000000000004,4.4000000000000004,5.6,5.4]
["MO198828","MO","1988-09-04",{"$f":"COUNTIF(Calculations!$E$56:$E$98,\"<=\"&DATE(2006,MONTH(C398),DAY(C398)))","v":28},6.3,6.5,6.2,6.4,6.6,6.3,6.5,6.4,6,5.6]
["MO198829","MO","1988-09-11",{"$f":"COUNTIF(Calculations!$E$56:$E$98,\"<=\"&DATE(2006,MONTH(C399),DAY(C399)))","v":29},6.5,6.9,6.7,6.8,6.8,6.7,6.1,6.6,5.9,5.4]
["MO198830","MO","1988-09-18",{"$f":"COUNTIF(Calculations!$E$56:$E$98,\"<=\"&DATE(2006,MONTH(C400),DAY(C400)))","v":30},5.6,5.0999999999999996,5.6,6.3,5.4,6.5,6.1,6.3,5.9,4.5]
["MO198831","MO","1988-09-25",{"$f":"COUNTIF(Calculations!$E$56:$E$98,\"<=\"&DATE(2006,MONTH(C401),DAY(C401)))","v":31},5.0999999999999996,4.5999999999999996,4.9000000000000004,6.4,4.5999999999999996,5.6,5.5,5,5.3,4.8]
["MO198832","MO","1988-10-02",{"$f":"COUNTIF(Calculations!$E$56:$E$98,\"<=\"&DATE(2006,MONTH(C402),DAY(C402)))","v":32},4.5,4,4.5999999999999996,5.4,3.8,5.2,5.9,4,4.3,3.8]
["MO198833","MO","1988-10-09",{"$f":"COUNTIF(Calculations!$E$56:$E$98,\"<=\"&DATE(2006,MONTH(C403),DAY(C403)))","v":33},5.5,6.3,5.8,6.2,4.5999999999999996,5.3,6.2,4.7,4.7,4.5999999999999996]
["MO198834","MO","1988-10-16",{"$f":"COUNTIF(Calculations!$E$56:$E$98,\"<=\"&DATE(2006,MONTH(C404),DAY(C404)))","v":34},6.4,6.8,6.3,6.6,6,6.4,6.5,4.8,6.4,6.7]
["MO198835","MO","1988-10-23",{"$f":"COUNTIF(Calculations!$E$56:$E$98,\"<=\"&DATE(2006,MONTH(C405),DAY(C405)))","v":35},5.3,6.1,5.7,5.6,5.2,5.2,4.7,3.5,4.8,4.7]
["MO198836","MO","1988-10-30",{"$f":"COUNTIF(Calculations!$E$56:$E$98,\"<=\"&DATE(2006,MONTH(C406),DAY(C406)))","v":36},5.8,6.6,6.1,6.6,5.9,6.1,5.3,4.7,4.7,4.5]
["MO198837","MO","1988-11-06",{"$f":"COUNTIF(Calculations!$E$56:$E$98,\"<=\"&DATE(2006,MONTH(C407),DAY(C407)))","v":37},6.2,6.7,6.7,6.7,6.5,6.4,5.8,6,5.9,4.5999999999999996]
["MO198838","MO","1988-11-13",{"$f":"COUNTIF(Calculations!$E$56:$E$98,\"<=\"&DATE(2006,MONTH(C408),DAY(C408)))","v":38},5.2,6.2,5.7,5.8,5.4,5.2,4.2,5.7,5.5,3.3]
["MO19896","MO","1989-04-02",{"$f":"COUNTIF(Calculations!$E$56:$E$98,\"<=\"&DATE(2006,MONTH(C409),DAY(C409)))","v":6},2.2000000000000002,3.6,2.4,3.2,1.7,1.7,0.8,1.9,1.9,1.1000000000000001]
["MO19897","MO","1989-04-09",{"$f":"COUNTIF(Calculations!$E$56:$E$98,\"<=\"&DATE(2006,MONTH(C410),DAY(C410)))","v":7},1.5,3,1.9,1.6,0.7,0.5,0.5,3.7,1.4,0.1]
["MO19898","MO","1989-04-16",{"$f":"COUNTIF(Calculations!$E$56:$E$98,\"<=\"&DATE(2006,MONTH(C411),DAY(C411)))","v":8},3.7,4.4000000000000004,4.3,4.2,3.8,2.4,2.1,5.5,4.0999999999999996,2.9]
["MO19899","MO","1989-04-23",{"$f":"COUNTIF(Calculations!$E$56:$E$98,\"<=\"&DATE(2006,MONTH(C412),DAY(C412)))","v":9},6,6.4,6.4,5.7,6.5,5.6,5.3,6.3,6.1,5.4]
["MO198910","MO","1989-04-30",{"$f":"COUNTIF(Calculations!$E$56:$E$98,\"<=\"&DATE(2006,MONTH(C413),DAY(C413)))","v":10},6.2,6.2,5.9,5.5,6.7,6.4,6.5,6.4,6.4,6.5]
["MO198911","MO","1989-05-07",{"$f":"COUNTIF(Calculations!$E$56:$E$98,\"<=\"&DATE(2006,MONTH(C414),DAY(C414)))","v":11},5.3,4.3,5.2,4.7,5.9,6.2,5.7,6.6,5.0999999999999996,5.0999999999999996]
["MO198912","MO","1989-05-14",{"$f":"COUNTIF(Calculations!$E$56:$E$98,\"<=\"&DATE(2006,MONTH(C415),DAY(C415)))","v":12},5.8,6.4,5.9,5.9,6.1,5.5,4.5999999999999996,5.6,6.1,5.9]
["MO198913","MO","1989-05-21",{"$f":"COUNTIF(Calculations!$E$56:$E$98,\"<=\"&DATE(2006,MONTH(C416),DAY(C416)))","v":13},5.4,4.9000000000000004,4.9000000000000004,5.8,4.5999999999999996,5.6,6.2,5,5.7,6.4]
["MO198914","MO","1989-05-28",{"$f":"COUNTIF(Calculations!$E$56:$E$98,\"<=\"&DATE(2006,MONTH(C417),DAY(C417)))","v":14},3.1,2.8,3,3.8,1.5,3,4.4000000000000004,3.2,3.7,3.6]
["MO198915","MO","1989-06-04",{"$f":"COUNTIF(Calculations!$E$56:$E$98,\"<=\"&DATE(2006,MONTH(C418),DAY(C418)))","v":15},3.6,3.3,2.4,2.7,2.4,3.5,3.1,6.3,5.3,5.5]
["MO198916","MO","1989-06-11",{"$f":"COUNTIF(Calculations!$E$56:$E$98,\"<=\"&DATE(2006,MONTH(C419),DAY(C419)))","v":16},4.4000000000000004,5.0999999999999996,4.5999999999999996,4.8,3.1,4.8,5.3,4.3,4.5999999999999996,3.4]
["MO198917","MO","1989-06-18",{"$f":"COUNTIF(Calculations!$E$56:$E$98,\"<=\"&DATE(2006,MONTH(C420),DAY(C420)))","v":17},3.6,6.2,4.0999999999999996,3.5,3.6,2.7,4.7,3,2.6,0.8]
["MO198918","MO","1989-06-25",{"$f":"COUNTIF(Calculations!$E$56:$E$98,\"<=\"&DATE(2006,MONTH(C421),DAY(C421)))","v":18},5.0999999999999996,4.9000000000000004,5.5,5.9,4.8,5.0999999999999996,5.7,5.9,5.7,4]
["MO198919","MO","1989-07-03",{"$f":"COUNTIF(Calculations!$E$56:$E$98,\"<=\"&DATE(2006,MONTH(C422),DAY(C422)))","v":19},4.8,5.2,4.9000000000000004,5.2,4.4000000000000004,4.5999999999999996,6.4,4.9000000000000004,4.7,3.9]
["MO198920","MO","1989-07-09",{"$f":"COUNTIF(Calculations!$E$56:$E$98,\"<=\"&DATE(2006,MONTH(C423),DAY(C423)))","v":20},6.1,6.5,6.1,6.8,6.3,6.5,6.5,6.3,6.2,4.3]
["MO198921","MO","1989-07-16",{"$f":"COUNTIF(Calculations!$E$56:$E$98,\"<=\"&DATE(2006,MONTH(C424),DAY(C424)))","v":21},6,6,6.1,5.9,6.1,6.2,6.2,5.8,6.3,6]
["MO198922","MO","1989-07-23",{"$f":"COUNTIF(Calculations!$E$56:$E$98,\"<=\"&DATE(2006,MONTH(C425),DAY(C425)))","v":22},4.2,4.3,4.5,3.8,3.9,3.3,4.3,3.4,4.5,5.6]
["MO198923","MO","1989-07-30",{"$f":"COUNTIF(Calculations!$E$56:$E$98,\"<=\"&DATE(2006,MONTH(C426),DAY(C426)))","v":23},5.7,6.5,6.1,5.5,4.8,4.4000000000000004,4.4000000000000004,6.2,5.7,6.5]
["MO198924","MO","1989-08-06",{"$f":"COUNTIF(Calculations!$E$56:$E$98,\"<=\"&DATE(2006,MONTH(C427),DAY(C427)))","v":24},5.4,5.9,5.5,5.0999999999999996,4.5999999999999996,4.2,5.9,5,6.1,6.1]
["MO198925","MO","1989-08-13",{"$f":"COUNTIF(Calculations!$E$56:$E$98,\"<=\"&DATE(2006,MONTH(C428),DAY(C428)))","v":25},6.6,6.7,6.5,6.7,6.7,6.7,6.7,6,6.3,6.5]
["MO198926","MO","1989-08-20",{"$f":"COUNTIF(Calculations!$E$56:$E$98,\"<=\"&DATE(2006,MONTH(C429),DAY(C429)))","v":26},6,6.4,6.5,5.9,5.0999999999999996,5.3,5.6,6.4,6.3,6.4]
["MO198927","MO","1989-08-27",{"$f":"COUNTIF(Calculations!$E$56:$E$98,\"<=\"&DATE(2006,MONTH(C430),DAY(C430)))","v":27},3.8,4.5,2.9,4.2,1.8,0.9,3.4,6,6,6.2]
["MO198928","MO","1989-09-03",{"$f":"COUNTIF(Calculations!$E$56:$E$98,\"<=\"&DATE(2006,MONTH(C431),DAY(C431)))","v":28},2.7,1.7,1.3,2.1,2.2999999999999998,1.8,3.6,4.5,4.9000000000000004,5.3]
["MO198929","MO","1989-09-10",{"$f":"COUNTIF(Calculations!$E$56:$E$98,\"<=\"&DATE(2006,MONTH(C432),DAY(C432)))","v":29},3.5,0.9,2.1,2.9,2.5,3.5,5.9,6.2,6.3,6.5]
["MO198930","MO","1989-09-17",{"$f":"COUNTIF(Calculations!$E$56:$E$98,\"<=\"&DATE(2006,MONTH(C433),DAY(C433)))","v":30},1.7,1.1000000000000001,1.3,1.9,0.5,1.6,3.5,1,1.4,3]
["MO198931","MO","1989-09-24",{"$f":"COUNTIF(Calculations!$E$56:$E$98,\"<=\"&DATE(2006,MONTH(C434),DAY(C434)))","v":31},5.6,5.8,4.9000000000000004,5.5,4.9000000000000004,5.7,6.1,5.4,6,6.1]
["MO198932","MO","1989-10-01",{"$f":"COUNTIF(Calculations!$E$56:$E$98,\"<=\"&DATE(2006,MONTH(C435),DAY(C435)))","v":32},6.4,6.8,6.3,6.8,6.3,6.3,6.6,6.4,6.6,5.9]
["MO198933","MO","1989-10-08",{"$f":"COUNTIF(Calculations!$E$56:$E$98,\"<=\"&DATE(2006,MONTH(C436),DAY(C436)))","v":33},5.8,6.2,5.5,5.7,5.6,5.5,5.9,5.9,6.1,5.7]
["MO198934","MO","1989-10-15",{"$f":"COUNTIF(Calculations!$E$56:$E$98,\"<=\"&DATE(2006,MONTH(C437),DAY(C437)))","v":34},6.6,6.7,6.6,6.8,6.3,6.6,6.4,6.6,6.4,6.9]
["MO198935","MO","1989-10-22",{"$f":"COUNTIF(Calculations!$E$56:$E$98,\"<=\"&DATE(2006,MONTH(C438),DAY(C438)))","v":35},4.5,4.9000000000000004,3.4,4.0999999999999996,5.0999999999999996,5.9,4.5999999999999996,6.2,5.8,2.4]
["MO198936","MO","1989-10-29",{"$f":"COUNTIF(Calculations!$E$56:$E$98,\"<=\"&DATE(2006,MONTH(C439),DAY(C439)))","v":36},6.4,6.4,6.4,6.7,5.6,6.6,6.5,6.6,6.6,6.6]
["MO198937","MO","1989-11-05",{"$f":"COUNTIF(Calculations!$E$56:$E$98,\"<=\"&DATE(2006,MONTH(C440),DAY(C440)))","v":37},4.4000000000000004,2.6,2.6,5.3,2.6,5.5,6,5.0999999999999996,6.1,6.5]
["MO198938","MO","1989-11-12",{"$f":"COUNTIF(Calculations!$E$56:$E$98,\"<=\"&DATE(2006,MONTH(C441),DAY(C441)))","v":38},5.9,6.3,5.7,6.2,6.1,6.8,6.3,6.6,6.1,4.2]
["MO19906","MO","1990-04-01",{"$f":"COUNTIF(Calculations!$E$56:$E$98,\"<=\"&DATE(2006,MONTH(C442),DAY(C442)))","v":6},0.5,0.3,0.6,1.2,0,0.1,0.6,0.7,0.9,0.6]
["MO19907","MO","1990-04-08",{"$f":"COUNTIF(Calculations!$E$56:$E$98,\"<=\"&DATE(2006,MONTH(C443),DAY(C443)))","v":7},2.2000000000000002,1.8,2,2.6,1.1000000000000001,1.3,2.2999999999999998,2.7,4.7,2.9]
["MO19908","MO","1990-04-15",{"$f":"COUNTIF(Calculations!$E$56:$E$98,\"<=\"&DATE(2006,MONTH(C444),DAY(C444)))","v":8},1.9,2.4,2.2999999999999998,2.6,1.1000000000000001,1.2,2,1,2.8,1.7]
["MO19909","MO","1990-04-22",{"$f":"COUNTIF(Calculations!$E$56:$E$98,\"<=\"&DATE(2006,MONTH(C445),DAY(C445)))","v":9},1.3,1.8,1.5,0.9,1.3,0.9,1.1000000000000001,1.5,1.5,1.3]
["MO199010","MO","1990-04-29",{"$f":"COUNTIF(Calculations!$E$56:$E$98,\"<=\"&DATE(2006,MONTH(C446),DAY(C446)))","v":10},3.9,4.7,4.7,4.5,2.7,3.6,3,2.4,4.2,3.8]
["MO199011","MO","1990-05-06",{"$f":"COUNTIF(Calculations!$E$56:$E$98,\"<=\"&DATE(2006,MONTH(C447),DAY(C447)))","v":11},1.7,2.8,0.7,3.3,1.1000000000000001,2,2,1.3,1.4,0.1]
["MO199012","MO","1990-05-13",{"$f":"COUNTIF(Calculations!$E$56:$E$98,\"<=\"&DATE(2006,MONTH(C448),DAY(C448)))","v":12},1.8,1.7,0.4,1.5,2,1.9,3.1,2.9,2.2000000000000002,2.1]
["MO199013","MO","1990-05-20",{"$f":"COUNTIF(Calculations!$E$56:$E$98,\"<=\"&DATE(2006,MONTH(C449),DAY(C449)))","v":13},0.5,0.4,0.1,0.2,0,0.2,0,0.4,0.6,2]
["MO199014","MO","1990-05-27",{"$f":"COUNTIF(Calculations!$E$56:$E$98,\"<=\"&DATE(2006,MONTH(C450),DAY(C450)))","v":14},1.2,1.6,1.1000000000000001,1.1000000000000001,0.8,0.7,0.8,1.3,2.4,1.8]
["MO199015","MO","1990-06-03",{"$f":"COUNTIF(Calculations!$E$56:$E$98,\"<=\"&DATE(2006,MONTH(C451),DAY(C451)))","v":15},1.8,3.5,2.9,1.6,0.7,0.7,0.6,0.9,0.9,2.1]
["MO199016","MO","1990-06-10",{"$f":"COUNTIF(Calculations!$E$56:$E$98,\"<=\"&DATE(2006,MONTH(C452),DAY(C452)))","v":16},3.1,3.2,1.9,2.2999999999999998,3.1,2.2000000000000002,2.6,4.8,4.5,4.9000000000000004]
[{"$f":"B453&YEAR(C453)&D453","v":"MO199017"},"MO","1990-06-17",{"$f":"COUNTIF(Calculations!$E$56:$E$98,\"<=\"&DATE(2006,MONTH(C453),DAY(C453)))","v":17},3,2.1,1.6,2.4,2,1.9,3.4,5.3,5.8,6.1]
["MO199018","MO","1990-06-24",{"$f":"COUNTIF(Calculations!$E$56:$E$98,\"<=\"&DATE(2006,MONTH(C454),DAY(C454)))","v":18},3.1,3.2,1.9,2.2999999999999998,3.1,2.2000000000000002,2.6,4.8,4.5,4.9000000000000004]
["MO199019","MO","1990-07-01",{"$f":"COUNTIF(Calculations!$E$56:$E$98,\"<=\"&DATE(2006,MONTH(C455),DAY(C455)))","v":19},4.9000000000000004,4.9000000000000004,4,5.7,3.1,4.0999999999999996,6.3,3.3,6,6.5]
["MO199020","MO","1990-07-08",{"$f":"COUNTIF(Calculations!$E$56:$E$98,\"<=\"&DATE(2006,MONTH(C456),DAY(C456)))","v":20},6.4,6.4,5.9,6.4,6.3,6.3,6.6,6.4,6.6,6.8]
["MO199021","MO","1990-07-15",{"$f":"COUNTIF(Calculations!$E$56:$E$98,\"<=\"&DATE(2006,MONTH(C457),DAY(C457)))","v":21},3.9,2.9,2.9,3.6,3.9,3.7,4.5999999999999996,5.6,5,5.2]
["MO199022","MO","1990-07-22",{"$f":"COUNTIF(Calculations!$E$56:$E$98,\"<=\"&DATE(2006,MONTH(C458),DAY(C458)))","v":22},5.8,5.6,4.9000000000000004,5.0999999999999996,5.7,5.8,6.3,6.6,6,6.8]
["MO199023","MO","1990-07-29",{"$f":"COUNTIF(Calculations!$E$56:$E$98,\"<=\"&DATE(2006,MONTH(C459),DAY(C459)))","v":23},4.3,3.5,3.4,3.9,4.0999999999999996,3.6,4.5999999999999996,6.3,5.5,5.8]
["MO199024","MO","1990-08-05",{"$f":"COUNTIF(Calculations!$E$56:$E$98,\"<=\"&DATE(2006,MONTH(C460),DAY(C460)))","v":24},5.4,4.9000000000000004,4.8,5.9,4.5999999999999996,5.9,6,6.2,6,6.1]
["MO199025","MO","1990-08-12",{"$f":"COUNTIF(Calculations!$E$56:$E$98,\"<=\"&DATE(2006,MONTH(C461),DAY(C461)))","v":25},5.6,5.8,4.4000000000000004,5.7,5.8,5.6,5.4,6.4,6.3,6.1]
["MO199026","MO","1990-08-19",{"$f":"COUNTIF(Calculations!$E$56:$E$98,\"<=\"&DATE(2006,MONTH(C462),DAY(C462)))","v":26},3.9,3.5,2.5,4.5,2.7,3.6,4.5,5.2,4.9000000000000004,5]
["MO199027","MO","1990-08-26",{"$f":"COUNTIF(Calculations!$E$56:$E$98,\"<=\"&DATE(2006,MONTH(C463),DAY(C463)))","v":27},5.3,4.8,4.2,5.4,5.4,5.0999999999999996,5.2,6.7,6.2,6.4]
["MO199028","MO","1990-09-02",{"$f":"COUNTIF(Calculations!$E$56:$E$98,\"<=\"&DATE(2006,MONTH(C464),DAY(C464)))","v":28},6.6,6.8,6.1,6.5,6.6,6.7,6.4,6.8,6.8,6.8]
["MO199029","MO","1990-09-09",{"$f":"COUNTIF(Calculations!$E$56:$E$98,\"<=\"&DATE(2006,MONTH(C465),DAY(C465)))","v":29},6.7,6.9,6.5,6.6,6.8,6.8,6.7,6.9,6.8,6.9]
["MO199030","MO","1990-09-16",{"$f":"COUNTIF(Calculations!$E$56:$E$98,\"<=\"&DATE(2006,MONTH(C466),DAY(C466)))","v":30},6.3,6.8,6.5,6.8,6.1,6.7,5.5,6.3,5.7,5.6]
["MO199031","MO","1990-09-23",{"$f":"COUNTIF(Calculations!$E$56:$E$98,\"<=\"&DATE(2006,MONTH(C467),DAY(C467)))","v":31},4.9000000000000004,5.4,4.9000000000000004,4.5,5.2,5,4.8,4.5,5.4,4.7]
["MO199032","MO","1990-09-30",{"$f":"COUNTIF(Calculations!$E$56:$E$98,\"<=\"&DATE(2006,MONTH(C468),DAY(C468)))","v":32},6.3,6.5,5.9,6.3,6.8,6.5,6.6,5.4,6.1,6.1]
["MO199033","MO","1990-10-07",{"$f":"COUNTIF(Calculations!$E$56:$E$98,\"<=\"&DATE(2006,MONTH(C469),DAY(C469)))","v":33},4.8,4.9000000000000004,4.4000000000000004,4.7,5.5,4.9000000000000004,5.0999999999999996,4.0999999999999996,5.2,4.3]
["MO199034","MO","1990-10-14",{"$f":"COUNTIF(Calculations!$E$56:$E$98,\"<=\"&DATE(2006,MONTH(C470),DAY(C470)))","v":34},2.5,3.9,2.1,2.2999999999999998,3.1,1.6,1.9,2.7,2.7,2]
["MO199035","MO","1990-10-21",{"$f":"COUNTIF(Calculations!$E$56:$E$98,\"<=\"&DATE(2006,MONTH(C471),DAY(C471)))","v":35},5.4,6.5,5.7,5.2,6.2,4.3,4.4000000000000004,5.2,5.0999999999999996,4.5999999999999996]
["MO199036","MO","1990-10-28",{"$f":"COUNTIF(Calculations!$E$56:$E$98,\"<=\"&DATE(2006,MONTH(C472),DAY(C472)))","v":36},6.1,5.9,5.9,6.6,6.4,6.5,6.1,6.7,6.8,5.2]
["MO199037","MO","1990-11-04",{"$f":"COUNTIF(Calculations!$E$56:$E$98,\"<=\"&DATE(2006,MONTH(C473),DAY(C473)))","v":37},6.6,6.7,6.2,6.8,6.7,6.8,6.5,6.7,6.5,6.8]
["MO199038","MO","1990-11-11",{"$f":"COUNTIF(Calculations!$E$56:$E$98,\"<=\"&DATE(2006,MONTH(C474),DAY(C474)))","v":38},2.9,1.6,1.5,2.2999999999999998,3.4,2.9,4.2,4.5999999999999996,4.5,4.5999999999999996]
["MO199039","MO","1990-11-18",{"$f":"COUNTIF(Calculations!$E$56:$E$98,\"<=\"&DATE(2006,MONTH(C475),DAY(C475)))","v":39},5.9,5.3,5.6,6.3,5.8,6.3,6.2,6.4,6.3,6.3]
["MO19915","MO","1991-03-31",{"$f":"COUNTIF(Calculations!$E$56:$E$98,\"<=\"&DATE(2006,MONTH(C476),DAY(C476)))","v":5},3.6,2.6,3,2.2000000000000002,5.9,5.0999999999999996,3.5,5.3,5.3,2.2999999999999998]
["MO19916","MO","1991-04-07",{"$f":"COUNTIF(Calculations!$E$56:$E$98,\"<=\"&DATE(2006,MONTH(C477),DAY(C477)))","v":6},5.2,5.4,4.8,5.8,6.6,6.3,4.5,4.9000000000000004,4.8,3.3]
["MO19918","MO","1991-04-21",{"$f":"COUNTIF(Calculations!$E$56:$E$98,\"<=\"&DATE(2006,MONTH(C478),DAY(C478)))","v":8},1.5,1.7,1.3,1.3,2.5,1.6,1.5,2.2000000000000002,1.3,0.7]
["MO19919","MO","1991-04-28",{"$f":"COUNTIF(Calculations!$E$56:$E$98,\"<=\"&DATE(2006,MONTH(C479),DAY(C479)))","v":9},1.9,1.2,0.9,1.3,2.7,1.3,2.4,1.6,2.7,3.8]
["MO199110","MO","1991-05-05",{"$f":"COUNTIF(Calculations!$E$56:$E$98,\"<=\"&DATE(2006,MONTH(C480),DAY(C480)))","v":10},2.1,1.6,1.3,2.5,1.6,1.5,3.9,4.2,3.8,2.1]
["MO199111","MO","1991-05-12",{"$f":"COUNTIF(Calculations!$E$56:$E$98,\"<=\"&DATE(2006,MONTH(C481),DAY(C481)))","v":11},2,1.7,0.5,0.6,2,1.5,3,4.4000000000000004,3.9,3.3]
["MO199112","MO","1991-05-19",{"$f":"COUNTIF(Calculations!$E$56:$E$98,\"<=\"&DATE(2006,MONTH(C482),DAY(C482)))","v":12},2,3.2,1.6,1.3,2.9,1.5,1.9,4.5,1.8,0.6]
["MO199113","MO","1991-05-26",{"$f":"COUNTIF(Calculations!$E$56:$E$98,\"<=\"&DATE(2006,MONTH(C483),DAY(C483)))","v":13},2.1,1.5,1.9,1.6,2.1,2.4,3.5,4.3,1.3,1.9]
["MO199114","MO","1991-06-02",{"$f":"COUNTIF(Calculations!$E$56:$E$98,\"<=\"&DATE(2006,MONTH(C484),DAY(C484)))","v":14},3.2,2.2000000000000002,2.8,1.9,3.3,3.4,4.0999999999999996,6.1,3.6,3.7]
["MO199115","MO","1991-06-09",{"$f":"COUNTIF(Calculations!$E$56:$E$98,\"<=\"&DATE(2006,MONTH(C485),DAY(C485)))","v":15},4.8,4.9000000000000004,2.8,4.2,5.0999999999999996,4.8,5.8,6.2,5.8,5.8]
["MO199116","MO","1991-06-16",{"$f":"COUNTIF(Calculations!$E$56:$E$98,\"<=\"&DATE(2006,MONTH(C486),DAY(C486)))","v":16},5.7,5.2,5.2,6.5,6.4,6.4,6.6,6.7,5.8,4.4000000000000004]
["MO199117","MO","1991-06-23",{"$f":"COUNTIF(Calculations!$E$56:$E$98,\"<=\"&DATE(2006,MONTH(C487),DAY(C487)))","v":17},6.1,6,6.1,6.3,6.1,6.2,6.3,6.2,6.4,5.8]
["MO199118","MO","1991-06-30",{"$f":"COUNTIF(Calculations!$E$56:$E$98,\"<=\"&DATE(2006,MONTH(C488),DAY(C488)))","v":18},6.2,5.9,6.3,6.7,6.7,6.6,6.6,6.8,6.4,4.7]
["MO199119","MO","1991-07-07",{"$f":"COUNTIF(Calculations!$E$56:$E$98,\"<=\"&DATE(2006,MONTH(C489),DAY(C489)))","v":19},6.4,6.5,6.6,6.4,6.7,6.6,6,5.4,6.6,6.5]
["MO199120","MO","1991-07-14",{"$f":"COUNTIF(Calculations!$E$56:$E$98,\"<=\"&DATE(2006,MONTH(C490),DAY(C490)))","v":20},4.5,3.2,3.1,2.5,6.6,5.4,2.8,6.6,6.4,6.7]
["MO199121","MO","1991-07-21",{"$f":"COUNTIF(Calculations!$E$56:$E$98,\"<=\"&DATE(2006,MONTH(C491),DAY(C491)))","v":21},6.3,6.5,5.5,5.2,6.8,6.7,5.6,6.9,6.7,6.8]
["MO199122","MO","1991-07-28",{"$f":"COUNTIF(Calculations!$E$56:$E$98,\"<=\"&DATE(2006,MONTH(C492),DAY(C492)))","v":22},5.9,5.8,5.9,6.2,5.3,5.2,6.3,5.9,6.3,6.7]
["MO199123","MO","1991-08-04",{"$f":"COUNTIF(Calculations!$E$56:$E$98,\"<=\"&DATE(2006,MONTH(C493),DAY(C493)))","v":23},6.7,6.5,6.6,6.9,6.8,6.6,6.6,6.6,6.8,6.9]
["MO199124","MO","1991-08-11",{"$f":"COUNTIF(Calculations!$E$56:$E$98,\"<=\"&DATE(2006,MONTH(C494),DAY(C494)))","v":24},5.6,5.0999999999999996,4.9000000000000004,4.5999999999999996,6.5,6.3,5.8,6.8,6.4,5.8]
["MO199125","MO","1991-08-18",{"$f":"COUNTIF(Calculations!$E$56:$E$98,\"<=\"&DATE(2006,MONTH(C495),DAY(C495)))","v":25},6.6,6.4,6.4,6.1,6.8,6.7,6.7,6.9,6.7,6.8]
["MO199126","MO","1991-08-25",{"$f":"COUNTIF(Calculations!$E$56:$E$98,\"<=\"&DATE(2006,MONTH(C496),DAY(C496)))","v":26},6.7,6.7,6.8,6.6,6.9,6.7,6.5,6.9,6.5,6.7]
["MO199127","MO","1991-09-01",{"$f":"COUNTIF(Calculations!$E$56:$E$98,\"<=\"&DATE(2006,MONTH(C497),DAY(C497)))","v":27},6.3,6.7,6.7,6.5,6.5,6.6,6.1,6.3,6.5,5]
["MO199128","MO","1991-09-08",{"$f":"COUNTIF(Calculations!$E$56:$E$98,\"<=\"&DATE(2006,MONTH(C498),DAY(C498)))","v":28},4.8,6,5.6,4.4000000000000004,5.6,4.4000000000000004,5,4.5,5.2,2.6]
["MO199129","MO","1991-09-15",{"$f":"COUNTIF(Calculations!$E$56:$E$98,\"<=\"&DATE(2006,MONTH(C499),DAY(C499)))","v":29},5.9,5.5,5.9,5.9,5.9,6.4,6.5,6.4,6.3,5.4]
["MO199130","MO","1991-09-22",{"$f":"COUNTIF(Calculations!$E$56:$E$98,\"<=\"&DATE(2006,MONTH(C500),DAY(C500)))","v":30},4.7,5.2,4.4000000000000004,4.8,4.2,4.2,5,4,5.7,5.2]
["MO199131","MO","1991-09-29",{"$f":"COUNTIF(Calculations!$E$56:$E$98,\"<=\"&DATE(2006,MONTH(C501),DAY(C501)))","v":31},5.7,6.7,6.3,6,5.9,4.4000000000000004,4.0999999999999996,5.5,5.3,5.4]
["MO199132","MO","1991-10-06",{"$f":"COUNTIF(Calculations!$E$56:$E$98,\"<=\"&DATE(2006,MONTH(C502),DAY(C502)))","v":32},5.3,5,4.7,5.3,5.6,4.7,4.9000000000000004,6.1,5.7,6.5]
["MO199133","MO","1991-10-13",{"$f":"COUNTIF(Calculations!$E$56:$E$98,\"<=\"&DATE(2006,MONTH(C503),DAY(C503)))","v":33},5.7,5.9,5,4.3,6.7,5.4,5.5,6.8,6.1,6.6]
["MO199134","MO","1991-10-20",{"$f":"COUNTIF(Calculations!$E$56:$E$98,\"<=\"&DATE(2006,MONTH(C504),DAY(C504)))","v":34},6.6,6.7,6.5,6.6,6.8,6.7,6.7,6.6,6.6,6.2]
["MO199135","MO","1991-10-27",{"$f":"COUNTIF(Calculations!$E$56:$E$98,\"<=\"&DATE(2006,MONTH(C505),DAY(C505)))","v":35},5.7,5.5,5.7,5.9,5.3,6.2,5.6,5.8,5.6,5.9]
["MO199136","MO","1991-11-03",{"$f":"COUNTIF(Calculations!$E$56:$E$98,\"<=\"&DATE(2006,MONTH(C506),DAY(C506)))","v":36},1.6,2.7,2,1.5,2.7,1.3,0.5,2.4,0.4,0.2]
["MO199137","MO","1991-11-10",{"$f":"COUNTIF(Calculations!$E$56:$E$98,\"<=\"&DATE(2006,MONTH(C507),DAY(C507)))","v":37},1.8,0.7,1.2,1.6,1.5,1.4,2.4,3.6,3.4,3]
["MO199138","MO","1991-11-17",{"$f":"COUNTIF(Calculations!$E$56:$E$98,\"<=\"&DATE(2006,MONTH(C508),DAY(C508)))","v":38},2.2999999999999998,0.7,0.7,1.6,2.6,1.4,1.6,5.7,5,5]
["MO199139","MO","1991-11-24",{"$f":"COUNTIF(Calculations!$E$56:$E$98,\"<=\"&DATE(2006,MONTH(C509),DAY(C509)))","v":39},1.1000000000000001,1.5,1.4,0.6,1.6,0.5,0.8,1.5,2.2000000000000002,0.8]
["MO19926","MO","1992-04-05",{"$f":"COUNTIF(Calculations!$E$56:$E$98,\"<=\"&DATE(2006,MONTH(C510),DAY(C510)))","v":6},1.9,1,0.5,0.9,1.6,1.7,0.9,5.6,3.47,4.0999999999999996]
["MO19927","MO","1992-04-12",{"$f":"COUNTIF(Calculations!$E$56:$E$98,\"<=\"&DATE(2006,MONTH(C511),DAY(C511)))","v":7},4.8,4.3,4.0999999999999996,4.9000000000000004,4.5999999999999996,5.0999999999999996,4.8,6.3,5.9,5.0999999999999996]
["MO19928","MO","1992-04-19",{"$f":"COUNTIF(Calculations!$E$56:$E$98,\"<=\"&DATE(2006,MONTH(C512),DAY(C512)))","v":8},3.5,2.2000000000000002,2.8,3.1,2,3.7,3.8,4.9000000000000004,5.5,5.8]
["MO19929","MO","1992-04-26",{"$f":"COUNTIF(Calculations!$E$56:$E$98,\"<=\"&DATE(2006,MONTH(C513),DAY(C513)))","v":9},0.8,0.1,0.1,0.2,0.5,1,0.8,3.1,2.6,1.7]
["MO199210","MO","1992-05-04",{"$f":"COUNTIF(Calculations!$E$56:$E$98,\"<=\"&DATE(2006,MONTH(C514),DAY(C514)))","v":10},3.8,2.2999999999999998,1.6,3.8,3.5,5.0999999999999996,4,6.2,6,5.4]
["MO199211","MO","1992-05-10",{"$f":"COUNTIF(Calculations!$E$56:$E$98,\"<=\"&DATE(2006,MONTH(C515),DAY(C515)))","v":11},6.5,6.2,6.3,6.8,6.6,6.7,6.3,6.7,6.7,6.7]
["MO199212","MO","1992-05-17",{"$f":"COUNTIF(Calculations!$E$56:$E$98,\"<=\"&DATE(2006,MONTH(C516),DAY(C516)))","v":12},5.3,5.7,5.6,5.5,4.0999999999999996,4.5999999999999996,3.8,5.0999999999999996,5.3,6.7]
[{"$f":"B517&YEAR(C517)&D517","v":"MO199213"},"MO","1992-05-24",{"$f":"COUNTIF(Calculations!$E$56:$E$98,\"<=\"&DATE(2006,MONTH(C517),DAY(C517)))","v":13},4.5999999999999996,5.2,5.6,6.1,3.9,3.7,3.1,1.9,2.8,5.3]
["MO199214","MO","1992-05-31",{"$f":"COUNTIF(Calculations!$E$56:$E$98,\"<=\"&DATE(2006,MONTH(C518),DAY(C518)))","v":14},4.8,4.9000000000000004,5.6,6.2,5.4,5.4,3.8,2.5,3.2,3.8]
["MO199215","MO","1992-06-07",{"$f":"COUNTIF(Calculations!$E$56:$E$98,\"<=\"&DATE(2006,MONTH(C519),DAY(C519)))","v":15},4.7,6.2,6.4,6.7,3.9,2.7,4.3,2.9,2.6,3.5]
["MO199216","MO","1992-06-14",{"$f":"COUNTIF(Calculations!$E$56:$E$98,\"<=\"&DATE(2006,MONTH(C520),DAY(C520)))","v":16},3.6,2.9,5.5,6.4,2.6,3.1,5.9,1,2.9,1.9]
["MO199217","MO","1992-06-21",{"$f":"COUNTIF(Calculations!$E$56:$E$98,\"<=\"&DATE(2006,MONTH(C521),DAY(C521)))","v":17},5.5,5.0999999999999996,6,6.4,5,5.8,6.3,3.6,6,5.2]
["MO199218","MO","1992-06-28",{"$f":"COUNTIF(Calculations!$E$56:$E$98,\"<=\"&DATE(2006,MONTH(C522),DAY(C522)))","v":18},6,6.3,6.6,6.8,5.0999999999999996,5.6,6.3,4.5999999999999996,5.5,6.1]
["MO199219","MO","1992-07-05",{"$f":"COUNTIF(Calculations!$E$56:$E$98,\"<=\"&DATE(2006,MONTH(C523),DAY(C523)))","v":19},5.9,6.7,6.5,6.6,5.7,6.5,6.3,6.3,5.8,3]
["MO199220","MO","1992-07-12",{"$f":"COUNTIF(Calculations!$E$56:$E$98,\"<=\"&DATE(2006,MONTH(C524),DAY(C524)))","v":20},4.5999999999999996,3.2,4.7,4.9000000000000004,4.4000000000000004,5.3,5.9,5.3,6.3,4.0999999999999996]
["MO199221","MO","1992-07-19",{"$f":"COUNTIF(Calculations!$E$56:$E$98,\"<=\"&DATE(2006,MONTH(C525),DAY(C525)))","v":21},2.9,0.6,1.6,2.5,1.5,3.5,5.4,4.3,5.8,5.0999999999999996]
["MO199222","MO","1992-07-26",{"$f":"COUNTIF(Calculations!$E$56:$E$98,\"<=\"&DATE(2006,MONTH(C526),DAY(C526)))","v":22},2.4,0.9,1.1000000000000001,2.2000000000000002,0.9,3.2,4.0999999999999996,2.5,4.9000000000000004,4.8]
["MO199223","MO","1992-08-02",{"$f":"COUNTIF(Calculations!$E$56:$E$98,\"<=\"&DATE(2006,MONTH(C527),DAY(C527)))","v":23},2.7,0.9,0.5,3.4,2.1,2.9,5.6,4.3,4.5,3.8]
["MO199224","MO","1992-08-09",{"$f":"COUNTIF(Calculations!$E$56:$E$98,\"<=\"&DATE(2006,MONTH(C528),DAY(C528)))","v":24},4.0999999999999996,2.4,3.2,5.7,2.2999999999999998,4.5999999999999996,6.2,3.8,4.3,5.7]
["MO199225","MO","1992-08-16",{"$f":"COUNTIF(Calculations!$E$56:$E$98,\"<=\"&DATE(2006,MONTH(C529),DAY(C529)))","v":25},4.5999999999999996,4.7,4.3,3.7,3.8,4.9000000000000004,5.5,5.3,5,5.4]
["MO199226","MO","1992-08-23",{"$f":"COUNTIF(Calculations!$E$56:$E$98,\"<=\"&DATE(2006,MONTH(C530),DAY(C530)))","v":26},6.3,6.5,5.9,6.1,6.4,6.6,6.7,6.7,6.5,6.1]
["MO199227","MO","1992-08-30",{"$f":"COUNTIF(Calculations!$E$56:$E$98,\"<=\"&DATE(2006,MONTH(C531),DAY(C531)))","v":27},5.2,5.6,4.4000000000000004,5.5,4.9000000000000004,6.2,5.5,6.4,5.4,3.8]
["MO199228","MO","1992-09-06",{"$f":"COUNTIF(Calculations!$E$56:$E$98,\"<=\"&DATE(2006,MONTH(C532),DAY(C532)))","v":28},5.4,4.5999999999999996,5.7,6.5,4.8,6.3,5.8,6.7,6.3,4.0999999999999996]
["MO199229","MO","1992-09-13",{"$f":"COUNTIF(Calculations!$E$56:$E$98,\"<=\"&DATE(2006,MONTH(C533),DAY(C533)))","v":29},3.5,2.8,2.5,3.2,3.2,4.5999999999999996,4.4000000000000004,3.1,5.0999999999999996,4]
["MO199230","MO","1992-09-20",{"$f":"COUNTIF(Calculations!$E$56:$E$98,\"<=\"&DATE(2006,MONTH(C534),DAY(C534)))","v":30},5.5,4.8,3.6,6.1,5.3,6.3,6.1,6.2,6.5,6.1]
["MO199231","MO","1992-09-27",{"$f":"COUNTIF(Calculations!$E$56:$E$98,\"<=\"&DATE(2006,MONTH(C535),DAY(C535)))","v":31},4.0999999999999996,4,3.8,4.5,4.4000000000000004,4.3,4.7,4.4000000000000004,4.7,3.2]
["MO199232","MO","1992-10-04",{"$f":"COUNTIF(Calculations!$E$56:$E$98,\"<=\"&DATE(2006,MONTH(C536),DAY(C536)))","v":32},6,5.9,5.8,5.8,6.4,6,5.7,6.3,6.3,6.2]
["MO199233","MO","1992-10-11",{"$f":"COUNTIF(Calculations!$E$56:$E$98,\"<=\"&DATE(2006,MONTH(C537),DAY(C537)))","v":33},5.5,4.7,5,5.6,4.2,5.8,6.3,5.7,6.5,6.7]
["MO199234","MO","1992-10-18",{"$f":"COUNTIF(Calculations!$E$56:$E$98,\"<=\"&DATE(2006,MONTH(C538),DAY(C538)))","v":34},5.6,5,5,5.4,5.8,5.9,6.1,6.5,6.7,5.7]
["MO199235","MO","1992-10-25",{"$f":"COUNTIF(Calculations!$E$56:$E$98,\"<=\"&DATE(2006,MONTH(C539),DAY(C539)))","v":35},6,6.5,6.2,5.7,6.5,6.7,6.4,6.8,6.2,4.2]
["MO199236","MO","1992-11-01",{"$f":"COUNTIF(Calculations!$E$56:$E$98,\"<=\"&DATE(2006,MONTH(C540),DAY(C540)))","v":36},4.9000000000000004,5,4.8,5.3,3.7,4.9000000000000004,5.3,5,5.0999999999999996,5]
["MO199237","MO","1992-11-08",{"$f":"COUNTIF(Calculations!$E$56:$E$98,\"<=\"&DATE(2006,MONTH(C541),DAY(C541)))","v":37},1.3,1.4,0.1,0.8,0.7,2,1.7,1.2,4,1.7]
["MO199238","MO","1992-11-15",{"$f":"COUNTIF(Calculations!$E$56:$E$98,\"<=\"&DATE(2006,MONTH(C542),DAY(C542)))","v":38},1.3,1.4,0.6,1.2,0.7,1.4,1,1.8,2.1,1.9]
["MO199239","MO","1992-11-22",{"$f":"COUNTIF(Calculations!$E$56:$E$98,\"<=\"&DATE(2006,MONTH(C543),DAY(C543)))","v":39},2.1,2.2000000000000002,1,1.3,0.7,1.5,2.4,3,3.7,4.4000000000000004]
["MO199241","MO","1992-12-06",{"$f":"COUNTIF(Calculations!$E$56:$E$98,\"<=\"&DATE(2006,MONTH(C544),DAY(C544)))","v":41},2.6,1.9,2.1,2.5,1.5,2.2999999999999998,2.9,3.2,4.8,4.2]
["MO19936","MO","1993-04-04",{"$f":"COUNTIF(Calculations!$E$56:$E$98,\"<=\"&DATE(2006,MONTH(C545),DAY(C545)))","v":6},0.6,0.3,0.1,0.2,0.3,0.5,1.3,1,1.8,1.6]
["MO19937","MO","1993-04-11",{"$f":"COUNTIF(Calculations!$E$56:$E$98,\"<=\"&DATE(2006,MONTH(C546),DAY(C546)))","v":7},0.5,0.2,0.1,0,0.2,0.4,0.4,0.5,0.8,2.2999999999999998]
["MO19938","MO","1993-04-18",{"$f":"COUNTIF(Calculations!$E$56:$E$98,\"<=\"&DATE(2006,MONTH(C547),DAY(C547)))","v":8},0.5,0.1,0,0.2,0.4,0.6,0.6,1.4,1.1000000000000001,1.3]
["MO19939","MO","1993-04-25",{"$f":"COUNTIF(Calculations!$E$56:$E$98,\"<=\"&DATE(2006,MONTH(C548),DAY(C548)))","v":9},0.8,0.5,0.2,0,0.4,0.5,0.6,2.8,2.2999999999999998,1.9]
["MO199310","MO","1993-05-02",{"$f":"COUNTIF(Calculations!$E$56:$E$98,\"<=\"&DATE(2006,MONTH(C549),DAY(C549)))","v":10},2,1.8,0.6,0.7,1.1000000000000001,2.1,1.5,4,4.5999999999999996,4]
["MO199311","MO","1993-05-09",{"$f":"COUNTIF(Calculations!$E$56:$E$98,\"<=\"&DATE(2006,MONTH(C550),DAY(C550)))","v":11},1.3,1.1000000000000001,0.2,0.5,0.3,2.2999999999999998,1,4.8,2.9,1.2]
["MO199312","MO","1993-05-16",{"$f":"COUNTIF(Calculations!$E$56:$E$98,\"<=\"&DATE(2006,MONTH(C551),DAY(C551)))","v":12},1.2,0.2,0.4,0.1,0.3,1.4,1.6,1.3,2.9,4]
["MO199313","MO","1993-05-23",{"$f":"COUNTIF(Calculations!$E$56:$E$98,\"<=\"&DATE(2006,MONTH(C552),DAY(C552)))","v":13},3.2,3,3.8,4.5,1,1.8,1.9,2.4,3.3,5.6]
["MO199314","MO","1993-05-30",{"$f":"COUNTIF(Calculations!$E$56:$E$98,\"<=\"&DATE(2006,MONTH(C553),DAY(C553)))","v":14},5.4,5.4,5.3,5.8,5,5.2,5.0999999999999996,4.7,5,6.5]
["MO199315","MO","1993-06-06",{"$f":"COUNTIF(Calculations!$E$56:$E$98,\"<=\"&DATE(2006,MONTH(C554),DAY(C554)))","v":15},3.6,2.6,3.9,3.5,1.1000000000000001,3.8,4.9000000000000004,3.3,3.9,5.5]
["MO199316","MO","1993-06-13",{"$f":"COUNTIF(Calculations!$E$56:$E$98,\"<=\"&DATE(2006,MONTH(C555),DAY(C555)))","v":16},2.4,2.8,1.3,1.8,2.5,1.4,2.5,1.6,2.4,4.5]
["MO199317","MO","1993-06-20",{"$f":"COUNTIF(Calculations!$E$56:$E$98,\"<=\"&DATE(2006,MONTH(C556),DAY(C556)))","v":17},5.3,3.9,5.2,5.9,5.6,6,5.8,4.5999999999999996,5.5,5.5]
["MO199318","MO","1993-06-27",{"$f":"COUNTIF(Calculations!$E$56:$E$98,\"<=\"&DATE(2006,MONTH(C557),DAY(C557)))","v":18},4,3,4.0999999999999996,4.5,4,4.4000000000000004,3.7,3.2,4,5]
["MO199319","MO","1993-07-04",{"$f":"COUNTIF(Calculations!$E$56:$E$98,\"<=\"&DATE(2006,MONTH(C558),DAY(C558)))","v":19},2.8,3.3,0.8,1.4,3.9,3.8,2.1,3,4.7,3.6]
["MO199320","MO","1993-07-11",{"$f":"COUNTIF(Calculations!$E$56:$E$98,\"<=\"&DATE(2006,MONTH(C559),DAY(C559)))","v":20},2,0.5,0.5,0.9,0.9,1.1000000000000001,2.1,2.2000000000000002,4.8,6.9]
["MO199321","MO","1993-07-19",{"$f":"COUNTIF(Calculations!$E$56:$E$98,\"<=\"&DATE(2006,MONTH(C560),DAY(C560)))","v":21},2.4,0.7,0.8,1.6,1.5,1.7,2.8,3.6,4.5,6.1]
["MO199322","MO","1993-07-25",{"$f":"COUNTIF(Calculations!$E$56:$E$98,\"<=\"&DATE(2006,MONTH(C561),DAY(C561)))","v":22},2.4,0.4,1.1000000000000001,2,1,2.2000000000000002,2.8,4.3,5.2,6.1]
["MO199323","MO","1993-08-01",{"$f":"COUNTIF(Calculations!$E$56:$E$98,\"<=\"&DATE(2006,MONTH(C562),DAY(C562)))","v":23},4.4000000000000004,2.2000000000000002,2.9,4.3,3.7,5.0999999999999996,5,5.8,6.5,6.9]
["MO199324","MO","1993-08-08",{"$f":"COUNTIF(Calculations!$E$56:$E$98,\"<=\"&DATE(2006,MONTH(C563),DAY(C563)))","v":24},4.5999999999999996,3.8,4.2,3.5,3.9,4.7,5.5,5.0999999999999996,5.5,6.3]
["MO199325","MO","1993-08-15",{"$f":"COUNTIF(Calculations!$E$56:$E$98,\"<=\"&DATE(2006,MONTH(C564),DAY(C564)))","v":25},4,4.7,2.2000000000000002,3.1,4.0999999999999996,3.7,2.8,5.2,4.4000000000000004,5.6]
["MO199326","MO","1993-08-22",{"$f":"COUNTIF(Calculations!$E$56:$E$98,\"<=\"&DATE(2006,MONTH(C565),DAY(C565)))","v":26},5.6,5.4,4.8,4.3,6.3,6.2,5.6,7,5.5,6.3]
["MO199327","MO","1993-08-29",{"$f":"COUNTIF(Calculations!$E$56:$E$98,\"<=\"&DATE(2006,MONTH(C566),DAY(C566)))","v":27},6.3,6,6.6,6.1,6.5,6.7,5.0999999999999996,6.9,6.3,6.7]
["MO199328","MO","1993-09-05",{"$f":"COUNTIF(Calculations!$E$56:$E$98,\"<=\"&DATE(2006,MONTH(C567),DAY(C567)))","v":28},4.9000000000000004,4.4000000000000004,4.5999999999999996,3.9,5.3,4.5,4.8,6,5.6,5.9]
["MO199329","MO","1993-09-11",{"$f":"COUNTIF(Calculations!$E$56:$E$98,\"<=\"&DATE(2006,MONTH(C568),DAY(C568)))","v":29},4.7,4,3.5,3.4,5.3,5.3,5.2,5.0999999999999996,5,6.1]
["MO199330","MO","1993-09-19",{"$f":"COUNTIF(Calculations!$E$56:$E$98,\"<=\"&DATE(2006,MONTH(C569),DAY(C569)))","v":30},2.5,2.7,1.6,1.2,1.7,2,3.2,3,4.4000000000000004,4.0999999999999996]
["MO199331","MO","1993-09-26",{"$f":"COUNTIF(Calculations!$E$56:$E$98,\"<=\"&DATE(2006,MONTH(C570),DAY(C570)))","v":31},1.5,0.8,0.3,0.6,1.3,1.4,1.3,2.6,3.8,3.7]
["MO199332","MO","1993-10-03",{"$f":"COUNTIF(Calculations!$E$56:$E$98,\"<=\"&DATE(2006,MONTH(C571),DAY(C571)))","v":32},2.9,2.8,2.7,2.9,1.5,3.1,2.9,2,3.8,4.4000000000000004]
["MO199333","MO","1993-10-10",{"$f":"COUNTIF(Calculations!$E$56:$E$98,\"<=\"&DATE(2006,MONTH(C572),DAY(C572)))","v":33},5.2,5.6,5.4,5.5,4.8,4.7,5.5,4.7,5.3,4.8]
["MO199334","MO","1993-10-17",{"$f":"COUNTIF(Calculations!$E$56:$E$98,\"<=\"&DATE(2006,MONTH(C573),DAY(C573)))","v":34},5,4.0999999999999996,5.3,5,5.5,5.0999999999999996,5.4,5.9,5.7,4.8]
["MO199335","MO","1993-10-24",{"$f":"COUNTIF(Calculations!$E$56:$E$98,\"<=\"&DATE(2006,MONTH(C574),DAY(C574)))","v":35},2.6,2.9,1.9,2.9,2.4,2.7,2,2.9,2.4,3]
["MO199336","MO","1993-10-31",{"$f":"COUNTIF(Calculations!$E$56:$E$98,\"<=\"&DATE(2006,MONTH(C575),DAY(C575)))","v":36},5.9,6.3,5.4,6,6.1,5.8,5.8,6.1,5.6,5.5]
["MO199337","MO","1993-11-08",{"$f":"COUNTIF(Calculations!$E$56:$E$98,\"<=\"&DATE(2006,MONTH(C576),DAY(C576)))","v":37},5.8,6.6,6.3,6.5,6.5,5.9,4.9000000000000004,5.8,5,4.0999999999999996]
["MO199338","MO","1993-11-14",{"$f":"COUNTIF(Calculations!$E$56:$E$98,\"<=\"&DATE(2006,MONTH(C577),DAY(C577)))","v":38},5.0999999999999996,5.3,5,5.2,4.9000000000000004,5,5.0999999999999996,5.0999999999999996,5.4,4.9000000000000004]
["MO19946","MO","1994-04-03",{"$f":"COUNTIF(Calculations!$E$56:$E$98,\"<=\"&DATE(2006,MONTH(C578),DAY(C578)))","v":6},4.3,5.3,5.6,4.8,2.9,4.3,2.8,4.7,5.0999999999999996,2.7]
["MO19947","MO","1994-04-10",{"$f":"COUNTIF(Calculations!$E$56:$E$98,\"<=\"&DATE(2006,MONTH(C579),DAY(C579)))","v":7},2.8,4.9000000000000004,4,3.1,1.2,1.9,1.8,2.4,3.5,0.9]
["MO19948","MO","1994-04-17",{"$f":"COUNTIF(Calculations!$E$56:$E$98,\"<=\"&DATE(2006,MONTH(C580),DAY(C580)))","v":8},0.8,1.7,0.5,0.7,0.1,0.3,0.3,1.4,1.4,0.8]
[{"$f":"B581&YEAR(C581)&D581","v":"MO19949"},"MO","1994-04-24",{"$f":"COUNTIF(Calculations!$E$56:$E$98,\"<=\"&DATE(2006,MONTH(C581),DAY(C581)))","v":9},3.7,4.8,3.4,3.3,2.2999999999999998,3.4,3.1,4.7,5.4,3.9]
["MO199410","MO","1994-05-01",{"$f":"COUNTIF(Calculations!$E$56:$E$98,\"<=\"&DATE(2006,MONTH(C582),DAY(C582)))","v":10},3.1,3.9,2.7,2.7,2.8,2.4,3.2,3.3,2.7,3.9]
["MO199411","MO","1994-05-08",{"$f":"COUNTIF(Calculations!$E$56:$E$98,\"<=\"&DATE(2006,MONTH(C583),DAY(C583)))","v":11},1.4,1.4,0.7,0.4,0.7,1.2,1.3,3.2,4,2.2999999999999998]
["MO199412","MO","1994-05-15",{"$f":"COUNTIF(Calculations!$E$56:$E$98,\"<=\"&DATE(2006,MONTH(C584),DAY(C584)))","v":12},3.2,3.7,2.6,2.4,1.8,2.5,2.6,3.7,4.7,4.8]
["MO199413","MO","1994-05-22",{"$f":"COUNTIF(Calculations!$E$56:$E$98,\"<=\"&DATE(2006,MONTH(C585),DAY(C585)))","v":13},5.7,5.7,6.1,5.5,4.7,5.0999999999999996,5.4,5.9,5.7,6.6]
["MO199414","MO","1994-05-29",{"$f":"COUNTIF(Calculations!$E$56:$E$98,\"<=\"&DATE(2006,MONTH(C586),DAY(C586)))","v":14},6,6.6,4.8,4.5999999999999996,6.8,6.1,6.1,6.6,6.5,6.7]
["MO199415","MO","1994-06-05",{"$f":"COUNTIF(Calculations!$E$56:$E$98,\"<=\"&DATE(2006,MONTH(C587),DAY(C587)))","v":15},4.9000000000000004,3.7,2.9,4.2,5.9,5.8,4.8,6.8,5.8,6.3]
["MO199416","MO","1994-06-12",{"$f":"COUNTIF(Calculations!$E$56:$E$98,\"<=\"&DATE(2006,MONTH(C588),DAY(C588)))","v":16},2.6,1.8,2.5,4.5,1.7,2.1,4.7,3.3,2,2.2000000000000002]
["MO199417","MO","1994-06-19",{"$f":"COUNTIF(Calculations!$E$56:$E$98,\"<=\"&DATE(2006,MONTH(C589),DAY(C589)))","v":17},5.9,5.4,5.6,6.7,4.9000000000000004,6.4,6.5,6,6.1,6]
["MO199418","MO","1994-06-26",{"$f":"COUNTIF(Calculations!$E$56:$E$98,\"<=\"&DATE(2006,MONTH(C590),DAY(C590)))","v":18},5.5,4.5999999999999996,5.5,5,5.6,5.8,5.5,6.9,5.9,6]
["MO199419","MO","1994-07-03",{"$f":"COUNTIF(Calculations!$E$56:$E$98,\"<=\"&DATE(2006,MONTH(C591),DAY(C591)))","v":19},5.7,6,6,6.3,6.6,5.8,4.8,6.9,5.8,3.8]
["MO199420","MO","1994-07-10",{"$f":"COUNTIF(Calculations!$E$56:$E$98,\"<=\"&DATE(2006,MONTH(C592),DAY(C592)))","v":20},5.6,5.3,5.6,5.3,5.5,6.1,5.9,6.4,5.8,5.2]
["MO199421","MO","1994-07-17",{"$f":"COUNTIF(Calculations!$E$56:$E$98,\"<=\"&DATE(2006,MONTH(C593),DAY(C593)))","v":21},5.7,6.3,5.8,5.8,5.6,5.9,6.1,5.9,6.2,4.5]
["MO199422","MO","1994-07-24",{"$f":"COUNTIF(Calculations!$E$56:$E$98,\"<=\"&DATE(2006,MONTH(C594),DAY(C594)))","v":22},5.2,4.8,5.2,5.4,5.9,5.4,4.9000000000000004,5.0999999999999996,5.0999999999999996,4.8]
["MO199423","MO","1994-07-31",{"$f":"COUNTIF(Calculations!$E$56:$E$98,\"<=\"&DATE(2006,MONTH(C595),DAY(C595)))","v":23},6.3,6.5,6.1,6.6,6.4,6.4,6.5,5.6,6.1,5.7]
["MO199424","MO","1994-08-07",{"$f":"COUNTIF(Calculations!$E$56:$E$98,\"<=\"&DATE(2006,MONTH(C596),DAY(C596)))","v":24},5.4,4.8,5.3,6.1,4.5999999999999996,5.6,5.6,6.1,6.2,5.7]
["MO199425","MO","1994-08-14",{"$f":"COUNTIF(Calculations!$E$56:$E$98,\"<=\"&DATE(2006,MONTH(C597),DAY(C597)))","v":25},6.4,6.4,6.7,6.1,6.1,6.4,6.6,6.9,6.4,6.3]
["MO199426","MO","1994-08-21",{"$f":"COUNTIF(Calculations!$E$56:$E$98,\"<=\"&DATE(2006,MONTH(C598),DAY(C598)))","v":26},6.7,6.7,6.6,6.6,6.5,6.6,6.4,6.6,6.8,6.8]
["MO199427","MO","1994-08-28",{"$f":"COUNTIF(Calculations!$E$56:$E$98,\"<=\"&DATE(2006,MONTH(C599),DAY(C599)))","v":27},6.6,6.7,6.8,6.9,6.6,6.7,6.4,6,6.4,6.6]
["MO199428","MO","1994-09-04",{"$f":"COUNTIF(Calculations!$E$56:$E$98,\"<=\"&DATE(2006,MONTH(C600),DAY(C600)))","v":28},4.5999999999999996,5.0999999999999996,5.2,4.9000000000000004,3.4,3.7,3.6,4,4.5999999999999996,5.4]
["MO199429","MO","1994-09-11",{"$f":"COUNTIF(Calculations!$E$56:$E$98,\"<=\"&DATE(2006,MONTH(C601),DAY(C601)))","v":29},5.4,5.3,5.7,4.4000000000000004,6.4,5.7,4.5999999999999996,6.2,5.7,5.4]
["MO199430","MO","1994-09-18",{"$f":"COUNTIF(Calculations!$E$56:$E$98,\"<=\"&DATE(2006,MONTH(C602),DAY(C602)))","v":30},6.5,6.4,6.7,6.8,6.6,6.3,6.6,6.1,6.5,6.6]
["MO199431","MO","1994-09-25",{"$f":"COUNTIF(Calculations!$E$56:$E$98,\"<=\"&DATE(2006,MONTH(C603),DAY(C603)))","v":31},5.2,5.0999999999999996,4.7,5.0999999999999996,4.5999999999999996,5.0999999999999996,5.6,5.4,5.7,5.8]
["MO199432","MO","1994-10-02",{"$f":"COUNTIF(Calculations!$E$56:$E$98,\"<=\"&DATE(2006,MONTH(C604),DAY(C604)))","v":32},5.0999999999999996,4.8,5.4,4.2,4.5999999999999996,5.2,5,6.6,6.2,5.0999999999999996]
["MO199433","MO","1994-10-09",{"$f":"COUNTIF(Calculations!$E$56:$E$98,\"<=\"&DATE(2006,MONTH(C605),DAY(C605)))","v":33},5.2,3,5.0999999999999996,6.4,4,6,6.2,6.3,6.5,6.2]
["MO199434","MO","1994-10-16",{"$f":"COUNTIF(Calculations!$E$56:$E$98,\"<=\"&DATE(2006,MONTH(C606),DAY(C606)))","v":34},4.7,6.4,5.9,5.2,4.4000000000000004,3.6,3.9,4.2,4,3.1]
["MO199435","MO","1994-10-23",{"$f":"COUNTIF(Calculations!$E$56:$E$98,\"<=\"&DATE(2006,MONTH(C607),DAY(C607)))","v":35},3.8,3.9,4.5,5.4,3.2,3.4,3.6,3,4.5999999999999996,2.4]
["MO199436","MO","1994-10-30",{"$f":"COUNTIF(Calculations!$E$56:$E$98,\"<=\"&DATE(2006,MONTH(C608),DAY(C608)))","v":36},5.7,5.8,6,6,5.2,5.4,5.9,4.8,6.2,5.8]
["MO199437","MO","1994-11-06",{"$f":"COUNTIF(Calculations!$E$56:$E$98,\"<=\"&DATE(2006,MONTH(C609),DAY(C609)))","v":37},3.6,3.9,2.7,2.8,2.8,3.1,4.2,3.9,4.5,5.5]
["MO199438","MO","1994-11-13",{"$f":"COUNTIF(Calculations!$E$56:$E$98,\"<=\"&DATE(2006,MONTH(C610),DAY(C610)))","v":38},2.2999999999999998,3.9,2.1,2,1.5,1.6,1.6,1,2.5,3]
["MO199439","MO","1994-11-20",{"$f":"COUNTIF(Calculations!$E$56:$E$98,\"<=\"&DATE(2006,MONTH(C611),DAY(C611)))","v":39},3.4,4.3,3.9,3.7,3.5,3.6,3.3,3.1,3.1,1.4]
["MO19956","MO","1995-04-02",{"$f":"COUNTIF(Calculations!$E$56:$E$98,\"<=\"&DATE(2006,MONTH(C612),DAY(C612)))","v":6},4.3,2.5,3.6,3.1,5.6,5.5,2.6,6.3,6.2,5.8]
["MO19957","MO","1995-04-09",{"$f":"COUNTIF(Calculations!$E$56:$E$98,\"<=\"&DATE(2006,MONTH(C613),DAY(C613)))","v":7},6.3,5.9,5.3,6,6.7,6.7,6.1,6.8,6.8,6.9]
["MO19958","MO","1995-04-16",{"$f":"COUNTIF(Calculations!$E$56:$E$98,\"<=\"&DATE(2006,MONTH(C614),DAY(C614)))","v":8},3,1.1000000000000001,1.9,1.3,2.8,3.1,4.8,3.3,6.6,6.7]
["MO19959","MO","1995-04-23",{"$f":"COUNTIF(Calculations!$E$56:$E$98,\"<=\"&DATE(2006,MONTH(C615),DAY(C615)))","v":9},1.7,0.4,0.4,0.1,1.6,1.4,2.2999999999999998,1.5,4.4000000000000004,4.3]
["MO199510","MO","1995-04-30",{"$f":"COUNTIF(Calculations!$E$56:$E$98,\"<=\"&DATE(2006,MONTH(C616),DAY(C616)))","v":10},1.4,1.5,0.6,0.3,1.4,1.4,1.8,1.4,3.7,1.9]
["MO199511","MO","1995-05-07",{"$f":"COUNTIF(Calculations!$E$56:$E$98,\"<=\"&DATE(2006,MONTH(C617),DAY(C617)))","v":11},0.2,0.1,0,0.1,0.2,0.2,0.2,0.1,0.6,0.4]
["MO199512","MO","1995-05-14",{"$f":"COUNTIF(Calculations!$E$56:$E$98,\"<=\"&DATE(2006,MONTH(C618),DAY(C618)))","v":12},0.5,0.1,0,0.1,0.2,0,0.1,0.6,1.6,2.1]
["MO199513","MO","1995-05-21",{"$f":"COUNTIF(Calculations!$E$56:$E$98,\"<=\"&DATE(2006,MONTH(C619),DAY(C619)))","v":13},1,0.6,0.2,0.3,1.3,0.7,0.3,1.5,1.9,2.4]
["MO199514","MO","1995-05-28",{"$f":"COUNTIF(Calculations!$E$56:$E$98,\"<=\"&DATE(2006,MONTH(C620),DAY(C620)))","v":14},1.4,0.8,0.2,0.4,0.3,0.3,0.6,1.4,1.4,4.7]
["MO199515","MO","1995-06-04",{"$f":"COUNTIF(Calculations!$E$56:$E$98,\"<=\"&DATE(2006,MONTH(C621),DAY(C621)))","v":15},1.6,1.3,0.6,0.4,0.5,0.8,1.4,0.9,2.6,5]
["MO199516","MO","1995-06-11",{"$f":"COUNTIF(Calculations!$E$56:$E$98,\"<=\"&DATE(2006,MONTH(C622),DAY(C622)))","v":16},2,1.2,0.8,1.9,0.7,2.2000000000000002,2.9,1.2,2.8,4.0999999999999996]
["MO199517","MO","1995-06-18",{"$f":"COUNTIF(Calculations!$E$56:$E$98,\"<=\"&DATE(2006,MONTH(C623),DAY(C623)))","v":17},4.8,4.7,4.3,5,3.7,5.9,5.0999999999999996,3.1,5.7,5.5]
["MO199518","MO","1995-06-25",{"$f":"COUNTIF(Calculations!$E$56:$E$98,\"<=\"&DATE(2006,MONTH(C624),DAY(C624)))","v":18},6.1,6.8,6.6,6.9,6,6.8,6.6,7,6.5,4]
["MO199519","MO","1995-07-02",{"$f":"COUNTIF(Calculations!$E$56:$E$98,\"<=\"&DATE(2006,MONTH(C625),DAY(C625)))","v":19},2.7,3.2,1,2.9,1.3,2.9,4,3.6,3.8,2.9]
["MO199520","MO","1995-07-09",{"$f":"COUNTIF(Calculations!$E$56:$E$98,\"<=\"&DATE(2006,MONTH(C626),DAY(C626)))","v":20},2.9,3,1.5,2.9,4,4.0999999999999996,4.0999999999999996,3,3.2,1.4]
["MO199521","MO","1995-07-16",{"$f":"COUNTIF(Calculations!$E$56:$E$98,\"<=\"&DATE(2006,MONTH(C627),DAY(C627)))","v":21},5.7,6.2,5.6,6.6,6.6,5.7,6.2,7,5.9,3.7]
["MO199522","MO","1995-07-23",{"$f":"COUNTIF(Calculations!$E$56:$E$98,\"<=\"&DATE(2006,MONTH(C628),DAY(C628)))","v":22},5.5,5,4.9000000000000004,6.3,5.3,5.5,5.4,6.3,6.1,5.5]
["MO199523","MO","1995-07-30",{"$f":"COUNTIF(Calculations!$E$56:$E$98,\"<=\"&DATE(2006,MONTH(C629),DAY(C629)))","v":23},4.7,5.7,4.2,4.7,5.5,5.5,4.2,5.7,5.2,3]
["MO199524","MO","1995-08-06",{"$f":"COUNTIF(Calculations!$E$56:$E$98,\"<=\"&DATE(2006,MONTH(C630),DAY(C630)))","v":24},3.6,3.9,2,2.2000000000000002,1.8,2.9,3.8,4.5,5.8,6.5]
["MO199525","MO","1995-08-13",{"$f":"COUNTIF(Calculations!$E$56:$E$98,\"<=\"&DATE(2006,MONTH(C631),DAY(C631)))","v":25},4.7,6.6,4.4000000000000004,1.9,5.3,4.0999999999999996,4.7,6.9,5.8,3.5]
["MO199526","MO","1995-08-20",{"$f":"COUNTIF(Calculations!$E$56:$E$98,\"<=\"&DATE(2006,MONTH(C632),DAY(C632)))","v":26},5.3,4.0999999999999996,3.3,3.5,6.3,5.2,6.5,6.9,6.4,6.8]
["MO199527","MO","1995-08-27",{"$f":"COUNTIF(Calculations!$E$56:$E$98,\"<=\"&DATE(2006,MONTH(C633),DAY(C633)))","v":27},6.7,6.6,6.3,6.5,6.8,6.9,6.7,7,6.6,6.9]
["MO199528","MO","1995-09-03",{"$f":"COUNTIF(Calculations!$E$56:$E$98,\"<=\"&DATE(2006,MONTH(C634),DAY(C634)))","v":28},6.5,6,5.9,6.7,6.6,6.7,6.6,6.4,6.8,7]
["MO199529","MO","1995-09-10",{"$f":"COUNTIF(Calculations!$E$56:$E$98,\"<=\"&DATE(2006,MONTH(C635),DAY(C635)))","v":29},6.2,6.1,5.8,5.5,6.6,6.4,6.1,6.6,6.2,6.6]
["MO199530","MO","1995-09-17",{"$f":"COUNTIF(Calculations!$E$56:$E$98,\"<=\"&DATE(2006,MONTH(C636),DAY(C636)))","v":30},6.1,5.2,5.6,5.8,6.5,6.7,6.7,6.3,6.7,6.5]
["MO199531","MO","1995-09-24",{"$f":"COUNTIF(Calculations!$E$56:$E$98,\"<=\"&DATE(2006,MONTH(C637),DAY(C637)))","v":31},4.3,3.5,3.4,3.2,4.8,5.5,4.4000000000000004,4.4000000000000004,4.8,4.5999999999999996]
["MO199532","MO","1995-10-01",{"$f":"COUNTIF(Calculations!$E$56:$E$98,\"<=\"&DATE(2006,MONTH(C638),DAY(C638)))","v":32},6.2,5.2,6.1,6.2,6.1,6.7,6.5,6.4,6.5,6.6]
["MO199533","MO","1995-10-08",{"$f":"COUNTIF(Calculations!$E$56:$E$98,\"<=\"&DATE(2006,MONTH(C639),DAY(C639)))","v":33},5.5,5,4.9000000000000004,3.9,6.4,5.6,5.9,6.5,6.3,5.8]
["MO199534","MO","1995-10-15",{"$f":"COUNTIF(Calculations!$E$56:$E$98,\"<=\"&DATE(2006,MONTH(C640),DAY(C640)))","v":34},6.6,6.6,6.4,6.6,6.7,6.2,6.3,7,6.5,7]
["MO199535","MO","1995-10-22",{"$f":"COUNTIF(Calculations!$E$56:$E$98,\"<=\"&DATE(2006,MONTH(C641),DAY(C641)))","v":35},6.7,6.7,6.7,6.7,6.8,6.6,6.7,7,6.7,6.4]
["MO199536","MO","1995-10-29",{"$f":"COUNTIF(Calculations!$E$56:$E$98,\"<=\"&DATE(2006,MONTH(C642),DAY(C642)))","v":36},6.2,6.7,6.5,6.7,6.7,6.7,5.9,6.8,5.9,4.5999999999999996]
["MO199537","MO","1995-11-05",{"$f":"COUNTIF(Calculations!$E$56:$E$98,\"<=\"&DATE(2006,MONTH(C643),DAY(C643)))","v":37},3.3,2.6,1.2,2.4,3,4.2,4.5999999999999996,6,4.9000000000000004,3.9]
["MO199538","MO","1995-11-12",{"$f":"COUNTIF(Calculations!$E$56:$E$98,\"<=\"&DATE(2006,MONTH(C644),DAY(C644)))","v":38},4.2,3.2,2.7,4.2,4.9000000000000004,5.5,5.7,6.4,6.1,3]
[{"$f":"B645&YEAR(C645)&D645","v":"MO199539"},"MO","1995-11-19",{"$f":"COUNTIF(Calculations!$E$56:$E$98,\"<=\"&DATE(2006,MONTH(C645),DAY(C645)))","v":39},3.8,2.6,3.6,3.5,5,5.3,4.5,6.3,4.8,2]
["MO19966","MO","1996-04-07",{"$f":"COUNTIF(Calculations!$E$56:$E$98,\"<=\"&DATE(2006,MONTH(C646),DAY(C646)))","v":6},3.1,4.5,2.5,1.5,4.4000000000000004,4.3,1.7,4.7,4,1.7]
["MO19967","MO","1996-04-14",{"$f":"COUNTIF(Calculations!$E$56:$E$98,\"<=\"&DATE(2006,MONTH(C647),DAY(C647)))","v":7},5.8,6.1,5.9,5.0999999999999996,6.5,6.5,5.4,6.5,6.4,4.8]
["MO19968","MO","1996-04-21",{"$f":"COUNTIF(Calculations!$E$56:$E$98,\"<=\"&DATE(2006,MONTH(C648),DAY(C648)))","v":8},5.9,6.3,5.3,5.5,6.4,6.1,5.4,6.8,5.4,5.5]
["MO19969","MO","1996-04-28",{"$f":"COUNTIF(Calculations!$E$56:$E$98,\"<=\"&DATE(2006,MONTH(C649),DAY(C649)))","v":9},4.5,6.7,6.3,5.9,5.2,4.7,2.1,3.9,3.1,1.7]
["MO199610","MO","1996-05-05",{"$f":"COUNTIF(Calculations!$E$56:$E$98,\"<=\"&DATE(2006,MONTH(C650),DAY(C650)))","v":10},2.2000000000000002,3,2.9,2.2000000000000002,2,1.8,0.4,3,2.1,1.8]
["MO199611","MO","1996-05-12",{"$f":"COUNTIF(Calculations!$E$56:$E$98,\"<=\"&DATE(2006,MONTH(C651),DAY(C651)))","v":11},0.5,0.3,0.1,0.1,0.3,0.2,0.3,1.7,1.7,1.4]
["MO199612","MO","1996-05-19",{"$f":"COUNTIF(Calculations!$E$56:$E$98,\"<=\"&DATE(2006,MONTH(C652),DAY(C652)))","v":12},1.4,0.8,0.1,0.1,1.9,1,0.8,3.6,3.1,2.6]
["MO199613","MO","1996-05-26",{"$f":"COUNTIF(Calculations!$E$56:$E$98,\"<=\"&DATE(2006,MONTH(C653),DAY(C653)))","v":13},4.4000000000000004,1.9,1.9,2.7,5.4,6.1,4.3,6.7,5.3,6.4]
["MO199614","MO","1996-06-02",{"$f":"COUNTIF(Calculations!$E$56:$E$98,\"<=\"&DATE(2006,MONTH(C654),DAY(C654)))","v":14},2.2000000000000002,0.6,0.5,0.3,3,3.5,2.6,5.5,4.2,3.1]
["MO199615","MO","1996-06-09",{"$f":"COUNTIF(Calculations!$E$56:$E$98,\"<=\"&DATE(2006,MONTH(C655),DAY(C655)))","v":15},2.6,1.4,1.6,2,2.5,3.4,3,4.3,3.4,3.2]
["MO199616","MO","1996-06-16",{"$f":"COUNTIF(Calculations!$E$56:$E$98,\"<=\"&DATE(2006,MONTH(C656),DAY(C656)))","v":16},2.9,4.5,3,1.8,4.3,3.2,1.2,6.2,5,0.6]
["MO199617","MO","1996-06-23",{"$f":"COUNTIF(Calculations!$E$56:$E$98,\"<=\"&DATE(2006,MONTH(C657),DAY(C657)))","v":17},4.7,3.6,3.5,4.0999999999999996,5.5,6.2,5.6,6,6,4]
["MO199618","MO","1996-06-30",{"$f":"COUNTIF(Calculations!$E$56:$E$98,\"<=\"&DATE(2006,MONTH(C658),DAY(C658)))","v":18},5.4,3.9,5.0999999999999996,4.4000000000000004,5.2,5.9,6.6,6,6.4,6.1]
["MO199619","MO","1996-07-07",{"$f":"COUNTIF(Calculations!$E$56:$E$98,\"<=\"&DATE(2006,MONTH(C659),DAY(C659)))","v":19},6,4.7,5.9,6.8,5,6.1,6.3,5.9,6.4,7]
["MO199620","MO","1996-07-14",{"$f":"COUNTIF(Calculations!$E$56:$E$98,\"<=\"&DATE(2006,MONTH(C660),DAY(C660)))","v":20},5.9,6,6.4,6.8,4.9000000000000004,6.3,5.7,5.7,5.4,5.8]
["MO199621","MO","1996-07-21",{"$f":"COUNTIF(Calculations!$E$56:$E$98,\"<=\"&DATE(2006,MONTH(C661),DAY(C661)))","v":21},6.3,6.4,6.4,6.5,6.4,6.4,5.6,6.6,6.2,6]
["MO199622","MO","1996-07-28",{"$f":"COUNTIF(Calculations!$E$56:$E$98,\"<=\"&DATE(2006,MONTH(C662),DAY(C662)))","v":22},4.0999999999999996,3.2,3.7,2.7,3.6,3.6,4.9000000000000004,6.7,6.3,5.3]
["MO199623","MO","1996-08-04",{"$f":"COUNTIF(Calculations!$E$56:$E$98,\"<=\"&DATE(2006,MONTH(C663),DAY(C663)))","v":23},4.7,4.7,6.2,6.7,2.7,4.4000000000000004,5.6,6.1,4,3.2]
["MO199624","MO","1996-08-11",{"$f":"COUNTIF(Calculations!$E$56:$E$98,\"<=\"&DATE(2006,MONTH(C664),DAY(C664)))","v":24},6,6.2,5.4,5.6,5.3,5.9,6.4,6.2,6.2,6.5]
["MO199625","MO","1996-08-18",{"$f":"COUNTIF(Calculations!$E$56:$E$98,\"<=\"&DATE(2006,MONTH(C665),DAY(C665)))","v":25},6.2,6,5.6,6.4,5.2,6.2,6.7,6.6,6.4,6.8]
["MO199626","MO","1996-08-25",{"$f":"COUNTIF(Calculations!$E$56:$E$98,\"<=\"&DATE(2006,MONTH(C666),DAY(C666)))","v":26},5.0999999999999996,2.9,3.8,3.8,4.8,6.3,6.2,6.2,6.1,6.9]
["MO199627","MO","1996-09-01",{"$f":"COUNTIF(Calculations!$E$56:$E$98,\"<=\"&DATE(2006,MONTH(C667),DAY(C667)))","v":27},6,4.8,5.8,5.4,6.1,6.3,6.3,6.8,6.3,6.7]
["MO199628","MO","1996-09-08",{"$f":"COUNTIF(Calculations!$E$56:$E$98,\"<=\"&DATE(2006,MONTH(C668),DAY(C668)))","v":28},6.5,6.9,6.4,6.7,6.5,6.7,6.7,7,6.1,6]
["MO199629","MO","1996-09-15",{"$f":"COUNTIF(Calculations!$E$56:$E$98,\"<=\"&DATE(2006,MONTH(C669),DAY(C669)))","v":29},6,5.2,5.4,6,6.2,6.2,6.3,7,6.1,6.2]
["MO199630","MO","1996-09-22",{"$f":"COUNTIF(Calculations!$E$56:$E$98,\"<=\"&DATE(2006,MONTH(C670),DAY(C670)))","v":30},4.8,4.5999999999999996,5.0999999999999996,6.4,4.0999999999999996,4.7,5.6,5.3,5.2,3.6]
["MO199631","MO","1996-09-29",{"$f":"COUNTIF(Calculations!$E$56:$E$98,\"<=\"&DATE(2006,MONTH(C671),DAY(C671)))","v":31},2.7,2.2999999999999998,2.2999999999999998,3,1.6,2.6,2.7,3.9,1.8,3.4]
["MO199632","MO","1996-10-06",{"$f":"COUNTIF(Calculations!$E$56:$E$98,\"<=\"&DATE(2006,MONTH(C672),DAY(C672)))","v":32},5.6,5.5,5.4,6.1,5.2,5.6,5.4,5.2,5.5,5.3]
["MO199633","MO","1996-10-13",{"$f":"COUNTIF(Calculations!$E$56:$E$98,\"<=\"&DATE(2006,MONTH(C673),DAY(C673)))","v":33},5.7,5.6,6,5.9,5.0999999999999996,5.4,5.2,7,5.4,6]
["MO199634","MO","1996-10-20",{"$f":"COUNTIF(Calculations!$E$56:$E$98,\"<=\"&DATE(2006,MONTH(C674),DAY(C674)))","v":34},6.2,6.3,5.9,6,6.3,6.2,5.4,6.9,5.7,6.3]
["MO199635","MO","1996-10-27",{"$f":"COUNTIF(Calculations!$E$56:$E$98,\"<=\"&DATE(2006,MONTH(C675),DAY(C675)))","v":35},3.3,3,3.1,3.1,2.9,3.9,3.2,4.5,3.9,3.4]
["MO199636","MO","1996-11-03",{"$f":"COUNTIF(Calculations!$E$56:$E$98,\"<=\"&DATE(2006,MONTH(C676),DAY(C676)))","v":36},3.8,3.6,4.5,5.4,3.8,4.5999999999999996,4.4000000000000004,4.5999999999999996,2.7,3.1]
["MO199637","MO","1996-11-10",{"$f":"COUNTIF(Calculations!$E$56:$E$98,\"<=\"&DATE(2006,MONTH(C677),DAY(C677)))","v":37},3.3,2.2999999999999998,3.2,4.5,2.8,3.1,3.5,3.3,3.7,3.1]
["MO199638","MO","1996-11-17",{"$f":"COUNTIF(Calculations!$E$56:$E$98,\"<=\"&DATE(2006,MONTH(C678),DAY(C678)))","v":38},3.1,3.6,4.7,4.5,2.8,2.5,2.8,2.1,2,1.9]
["MO19976","MO","1997-04-06",{"$f":"COUNTIF(Calculations!$E$56:$E$98,\"<=\"&DATE(2006,MONTH(C679),DAY(C679)))","v":6},4.8,5.2,5.5,3.9,3,5.4,5.0999999999999996,5,5.0999999999999996,5.2]
["MO19977","MO","1997-04-13",{"$f":"COUNTIF(Calculations!$E$56:$E$98,\"<=\"&DATE(2006,MONTH(C680),DAY(C680)))","v":7},1.9,0.8,1.4,2.6,1.7,2.8,3.1,3.1,2.9,1.4]
["MO19978","MO","1997-04-20",{"$f":"COUNTIF(Calculations!$E$56:$E$98,\"<=\"&DATE(2006,MONTH(C681),DAY(C681)))","v":8},2.4,0.7,0.7,1.2,2.8,3,4.7,5.8,4.9000000000000004,2.7]
["MO19979","MO","1997-04-27",{"$f":"COUNTIF(Calculations!$E$56:$E$98,\"<=\"&DATE(2006,MONTH(C682),DAY(C682)))","v":9},2.1,0.5,0.4,0.5,2.4,3.1,2.9,5.9,4.3,2.9]
["MO199710","MO","1997-05-04",{"$f":"COUNTIF(Calculations!$E$56:$E$98,\"<=\"&DATE(2006,MONTH(C683),DAY(C683)))","v":10},3.8,2.1,2.2999999999999998,3.1,5.3,5.4,4.9000000000000004,6,5,2.9]
["MO199711","MO","1997-05-11",{"$f":"COUNTIF(Calculations!$E$56:$E$98,\"<=\"&DATE(2006,MONTH(C684),DAY(C684)))","v":11},4.3,3,3.8,5,4.7,5.4,4.7,4.9000000000000004,4.3,3.9]
["MO199712","MO","1997-05-18",{"$f":"COUNTIF(Calculations!$E$56:$E$98,\"<=\"&DATE(2006,MONTH(C685),DAY(C685)))","v":12},6.2,6,5.9,6.6,6.3,6.5,6.4,6.2,5.9,6.2]
["MO199713","MO","1997-05-25",{"$f":"COUNTIF(Calculations!$E$56:$E$98,\"<=\"&DATE(2006,MONTH(C686),DAY(C686)))","v":13},5.4,6.5,4.7,4.0999999999999996,4,5.0999999999999996,6.2,6.7,6,6]
["MO199714","MO","1997-06-01",{"$f":"COUNTIF(Calculations!$E$56:$E$98,\"<=\"&DATE(2006,MONTH(C687),DAY(C687)))","v":14},1.6,2.2999999999999998,1.1000000000000001,1.1000000000000001,1.4,1.5,0.8,5.4,3.8,0.8]
["MO199715","MO","1997-06-08",{"$f":"COUNTIF(Calculations!$E$56:$E$98,\"<=\"&DATE(2006,MONTH(C688),DAY(C688)))","v":15},4,6.3,4.9000000000000004,2.1,4.5,4,2.8,5.9,5.2,1.8]
["MO199716","MO","1997-06-15",{"$f":"COUNTIF(Calculations!$E$56:$E$98,\"<=\"&DATE(2006,MONTH(C689),DAY(C689)))","v":16},4.4000000000000004,6.5,4.3,2.8,4.8,4,3.9,5.2,5.2,3.6]
["MO199717","MO","1997-06-22",{"$f":"COUNTIF(Calculations!$E$56:$E$98,\"<=\"&DATE(2006,MONTH(C690),DAY(C690)))","v":17},4.0999999999999996,3.4,4.7,5.3,3.4,4.0999999999999996,3.6,4,4.5,5.0999999999999996]
["MO199718","MO","1997-06-29",{"$f":"COUNTIF(Calculations!$E$56:$E$98,\"<=\"&DATE(2006,MONTH(C691),DAY(C691)))","v":18},4.3,4.8,3.8,4.4000000000000004,4.5999999999999996,4.2,4.3,5.6,5.5,3.5]
["MO199719","MO","1997-07-06",{"$f":"COUNTIF(Calculations!$E$56:$E$98,\"<=\"&DATE(2006,MONTH(C692),DAY(C692)))","v":19},5.2,4.8,5.2,5.2,5.4,5.8,5.0999999999999996,6,5.2,5]
["MO199720","MO","1997-07-13",{"$f":"COUNTIF(Calculations!$E$56:$E$98,\"<=\"&DATE(2006,MONTH(C693),DAY(C693)))","v":20},5.7,6.1,6.1,6.4,5,5.3,5.8,4,5.6,6]
["MO199721","MO","1997-07-20",{"$f":"COUNTIF(Calculations!$E$56:$E$98,\"<=\"&DATE(2006,MONTH(C694),DAY(C694)))","v":21},6.4,6.6,6.9,6.7,6.8,6.6,6.6,6.6,5.2,5.4]
["MO199722","MO","1997-07-27",{"$f":"COUNTIF(Calculations!$E$56:$E$98,\"<=\"&DATE(2006,MONTH(C695),DAY(C695)))","v":22},6.4,6.3,6.4,5.0999999999999996,6.8,6.9,6.2,6.9,6.4,6.9]
["MO199723","MO","1997-08-03",{"$f":"COUNTIF(Calculations!$E$56:$E$98,\"<=\"&DATE(2006,MONTH(C696),DAY(C696)))","v":23},6.2,5.0999999999999996,6.7,6.5,5.9,6.8,6.5,6.8,5.6,6]
["MO199724","MO","1997-08-10",{"$f":"COUNTIF(Calculations!$E$56:$E$98,\"<=\"&DATE(2006,MONTH(C697),DAY(C697)))","v":24},6.6,6.5,6.9,6.7,6.8,6.8,7,7,6.5,6.2]
["MO199725","MO","1997-08-17",{"$f":"COUNTIF(Calculations!$E$56:$E$98,\"<=\"&DATE(2006,MONTH(C698),DAY(C698)))","v":25},4.7,5,5.8,4.5999999999999996,4.9000000000000004,4.4000000000000004,4.5,4.3,4.9000000000000004,4]
["MO199726","MO","1997-08-24",{"$f":"COUNTIF(Calculations!$E$56:$E$98,\"<=\"&DATE(2006,MONTH(C699),DAY(C699)))","v":26},4.2,4.8,4,4.0999999999999996,4.3,3.1,4,4.4000000000000004,5.6,4.0999999999999996]
["MO199727","MO","1997-08-31",{"$f":"COUNTIF(Calculations!$E$56:$E$98,\"<=\"&DATE(2006,MONTH(C700),DAY(C700)))","v":27},6.6,6.7,6.8,6.6,6.4,6.6,6.3,6.6,6.7,6.6]
["MO199728","MO","1997-09-07",{"$f":"COUNTIF(Calculations!$E$56:$E$98,\"<=\"&DATE(2006,MONTH(C701),DAY(C701)))","v":28},5.9,5.0999999999999996,5.3,6.7,6.1,6.2,5.8,7,6.5,5.6]
["MO199729","MO","1997-09-14",{"$f":"COUNTIF(Calculations!$E$56:$E$98,\"<=\"&DATE(2006,MONTH(C702),DAY(C702)))","v":29},6.5,6.5,6.4,6.7,6.5,6.1,6.8,6.7,5.9,6.7]
["MO199730","MO","1997-09-21",{"$f":"COUNTIF(Calculations!$E$56:$E$98,\"<=\"&DATE(2006,MONTH(C703),DAY(C703)))","v":30},5.6,4.9000000000000004,5.0999999999999996,5.8,5.0999999999999996,5.6,5.6,6.5,5.6,6.5]
["MO199731","MO","1997-09-28",{"$f":"COUNTIF(Calculations!$E$56:$E$98,\"<=\"&DATE(2006,MONTH(C704),DAY(C704)))","v":31},4.0999999999999996,3.9,4.4000000000000004,5,3.3,4.7,4.7,4.2,4.4000000000000004,3.5]
["MO199732","MO","1997-10-05",{"$f":"COUNTIF(Calculations!$E$56:$E$98,\"<=\"&DATE(2006,MONTH(C705),DAY(C705)))","v":32},6.8,6.6,6.8,6.8,6.8,6.9,6.8,6.9,6.5,7]
["MO199733","MO","1997-10-12",{"$f":"COUNTIF(Calculations!$E$56:$E$98,\"<=\"&DATE(2006,MONTH(C706),DAY(C706)))","v":33},5.2,5,4.8,5.5,4.2,5,5.9,5,5.6,6.1]
["MO199734","MO","1997-10-19",{"$f":"COUNTIF(Calculations!$E$56:$E$98,\"<=\"&DATE(2006,MONTH(C707),DAY(C707)))","v":34},4.8,4.2,4.3,6,3.3,5.2,5.0999999999999996,5.6,5.5,5]
["MO199735","MO","1997-10-26",{"$f":"COUNTIF(Calculations!$E$56:$E$98,\"<=\"&DATE(2006,MONTH(C708),DAY(C708)))","v":35},5.5,5.5,5.8,5.9,5.7,5.5,5.3,5.8,4.7,4.9000000000000004]
[{"$f":"B709&YEAR(C709)&D709","v":"MO199736"},"MO","1997-11-02",{"$f":"COUNTIF(Calculations!$E$56:$E$98,\"<=\"&DATE(2006,MONTH(C709),DAY(C709)))","v":36},3.7,3.1,2.2999999999999998,4.5999999999999996,3.2,3.7,4.5,5.3,5.4,3.6]
["MO199737","MO","1997-11-09",{"$f":"COUNTIF(Calculations!$E$56:$E$98,\"<=\"&DATE(2006,MONTH(C710),DAY(C710)))","v":37},2.8,3.7,2.4,2.2000000000000002,3,2.9,2.6,4.8,2.5,2.2999999999999998]
["MO199738","MO","1997-11-16",{"$f":"COUNTIF(Calculations!$E$56:$E$98,\"<=\"&DATE(2006,MONTH(C711),DAY(C711)))","v":38},3.1,4.7,4.2,4.5999999999999996,3.4,2.2000000000000002,2.5,3.2,2.7,1]
["MO199739","MO","1997-11-23",{"$f":"COUNTIF(Calculations!$E$56:$E$98,\"<=\"&DATE(2006,MONTH(C712),DAY(C712)))","v":39},5.4,5.8,5.5,6.2,5.8,4.7,4.7,5.9,5.4,4.5]
["MO19986","MO","1998-04-05",{"$f":"COUNTIF(Calculations!$E$56:$E$98,\"<=\"&DATE(2006,MONTH(C713),DAY(C713)))","v":6},1,0.2,0.4,0,0.5,0.1,1.2,1.9,2.4,2.9]
["MO19987","MO","1998-04-12",{"$f":"COUNTIF(Calculations!$E$56:$E$98,\"<=\"&DATE(2006,MONTH(C714),DAY(C714)))","v":7},1.6,0.3,0.7,0.1,1.1000000000000001,1.9,1.8,3.5,4.3,3.6]
["MO19988","MO","1998-04-19",{"$f":"COUNTIF(Calculations!$E$56:$E$98,\"<=\"&DATE(2006,MONTH(C715),DAY(C715)))","v":8},2.2999999999999998,1.4,0.6,0.9,2.9,2.6,1.7,5.7,3.8,3.3]
["MO19989","MO","1998-04-26",{"$f":"COUNTIF(Calculations!$E$56:$E$98,\"<=\"&DATE(2006,MONTH(C716),DAY(C716)))","v":9},4,4.2,2.7,2.2000000000000002,5.4,5.4,2.7,6.7,5.4,3.3]
["MO199810","MO","1998-05-03",{"$f":"COUNTIF(Calculations!$E$56:$E$98,\"<=\"&DATE(2006,MONTH(C717),DAY(C717)))","v":10},1.6,2.4,1.6,1.6,1.5,1.3,1.4,2,2.1,1.2]
["MO199811","MO","1998-05-10",{"$f":"COUNTIF(Calculations!$E$56:$E$98,\"<=\"&DATE(2006,MONTH(C718),DAY(C718)))","v":11},2,3.4,1.7,1.2,2,3,1.8,3.8,2.4,0.8]
["MO199812","MO","1998-05-17",{"$f":"COUNTIF(Calculations!$E$56:$E$98,\"<=\"&DATE(2006,MONTH(C719),DAY(C719)))","v":12},4.5,5.2,4.3,2.9,4.5999999999999996,5.3,4,6.1,4.9000000000000004,4.3]
["MO199813","MO","1998-05-24",{"$f":"COUNTIF(Calculations!$E$56:$E$98,\"<=\"&DATE(2006,MONTH(C720),DAY(C720)))","v":13},5.7,5.6,4.7,4,6.7,6.5,5.8,6.6,6,6.2]
["MO199814","MO","1998-05-31",{"$f":"COUNTIF(Calculations!$E$56:$E$98,\"<=\"&DATE(2006,MONTH(C721),DAY(C721)))","v":14},4.7,5,4.7,3.3,6,5.7,4.4000000000000004,4.7,5.2,4.0999999999999996]
["MO199815","MO","1998-06-07",{"$f":"COUNTIF(Calculations!$E$56:$E$98,\"<=\"&DATE(2006,MONTH(C722),DAY(C722)))","v":15},5.0999999999999996,6,4.7,5,5.3,5.2,4.5,5.6,5.9,4.7]
["MO199816","MO","1998-06-14",{"$f":"COUNTIF(Calculations!$E$56:$E$98,\"<=\"&DATE(2006,MONTH(C723),DAY(C723)))","v":16},2,1.3,1.9,1.4,2.2999999999999998,1.5,1.5,3.6,2.8,3.1]
["MO199817","MO","1998-06-21",{"$f":"COUNTIF(Calculations!$E$56:$E$98,\"<=\"&DATE(2006,MONTH(C724),DAY(C724)))","v":17},2.8,1.5,1.1000000000000001,1.1000000000000001,4.2,2.6,2.8,4.7,2.9,4.5999999999999996]
["MO199818","MO","1998-06-28",{"$f":"COUNTIF(Calculations!$E$56:$E$98,\"<=\"&DATE(2006,MONTH(C725),DAY(C725)))","v":18},3.8,3,2.8,3.2,3.7,4.3,3.9,6.8,5.4,3.9]
["MO199819","MO","1998-07-05",{"$f":"COUNTIF(Calculations!$E$56:$E$98,\"<=\"&DATE(2006,MONTH(C726),DAY(C726)))","v":19},4.9000000000000004,3.6,4,2,6,5.4,4.3,6,6,6.5]
["MO199820","MO","1998-07-12",{"$f":"COUNTIF(Calculations!$E$56:$E$98,\"<=\"&DATE(2006,MONTH(C727),DAY(C727)))","v":20},4.5999999999999996,3.9,3,2.1,5.5,3.7,4,6.4,6.1,6.7]
["MO199821","MO","1998-07-19",{"$f":"COUNTIF(Calculations!$E$56:$E$98,\"<=\"&DATE(2006,MONTH(C728),DAY(C728)))","v":21},5.9,5.7,5.9,5.8,6.8,6.3,5,6.3,6,5.7]
["MO199822","MO","1998-07-26",{"$f":"COUNTIF(Calculations!$E$56:$E$98,\"<=\"&DATE(2006,MONTH(C729),DAY(C729)))","v":22},5.9,6.1,5.9,6,5.2,6,6.1,5.7,5.4,6]
["MO199823","MO","1998-08-02",{"$f":"COUNTIF(Calculations!$E$56:$E$98,\"<=\"&DATE(2006,MONTH(C730),DAY(C730)))","v":23},2.2999999999999998,3.5,3.1,4.9000000000000004,1.7,1.8,2.7,3.5,2.2000000000000002,0]
["MO199824","MO","1998-08-09",{"$f":"COUNTIF(Calculations!$E$56:$E$98,\"<=\"&DATE(2006,MONTH(C731),DAY(C731)))","v":24},3.7,4.9000000000000004,4.2,4.8,3.6,3.5,3.8,4.4000000000000004,4,1.6]
["MO199825","MO","1998-08-16",{"$f":"COUNTIF(Calculations!$E$56:$E$98,\"<=\"&DATE(2006,MONTH(C732),DAY(C732)))","v":25},5.0999999999999996,5.7,5.5,6.7,5.8,5.5,5,5.9,4.0999999999999996,2.5]
["MO199826","MO","1998-08-23",{"$f":"COUNTIF(Calculations!$E$56:$E$98,\"<=\"&DATE(2006,MONTH(C733),DAY(C733)))","v":26},6.6,6.7,6.2,6.8,6.4,6.8,6.5,6.9,6,6.5]
["MO199827","MO","1998-08-30",{"$f":"COUNTIF(Calculations!$E$56:$E$98,\"<=\"&DATE(2006,MONTH(C734),DAY(C734)))","v":27},5.8,4.5999999999999996,4.4000000000000004,6.6,5.4,5.6,6.3,6.9,6.8,6.9]
["MO199828","MO","1998-09-06",{"$f":"COUNTIF(Calculations!$E$56:$E$98,\"<=\"&DATE(2006,MONTH(C735),DAY(C735)))","v":28},6.1,5.9,5.0999999999999996,6.2,6.1,4.8,6.6,7,6.5,7]
["MO199829","MO","1998-09-13",{"$f":"COUNTIF(Calculations!$E$56:$E$98,\"<=\"&DATE(2006,MONTH(C736),DAY(C736)))","v":29},6.8,6.8,6.7,6.8,6.7,6.7,6.9,6.9,6.5,6.9]
["MO199830","MO","1998-09-20",{"$f":"COUNTIF(Calculations!$E$56:$E$98,\"<=\"&DATE(2006,MONTH(C737),DAY(C737)))","v":30},3.7,4.2,1.9,3.2,2.2000000000000002,2.9,3.6,4.2,4.3,6.1]
["MO199831","MO","1998-09-27",{"$f":"COUNTIF(Calculations!$E$56:$E$98,\"<=\"&DATE(2006,MONTH(C738),DAY(C738)))","v":31},4.0999999999999996,2.6,3.4,4,2,3.5,4.5,4,5.7,6.9]
["MO199832","MO","1998-10-04",{"$f":"COUNTIF(Calculations!$E$56:$E$98,\"<=\"&DATE(2006,MONTH(C739),DAY(C739)))","v":32},4.3,4,5,3.9,2.2999999999999998,2.9,5.3,3.8,5.4,6.6]
["MO199833","MO","1998-10-11",{"$f":"COUNTIF(Calculations!$E$56:$E$98,\"<=\"&DATE(2006,MONTH(C740),DAY(C740)))","v":33},2.7,3.7,1.5,2.6,1.6,2.4,2.2999999999999998,3.8,2.2000000000000002,3.9]
["MO199834","MO","1998-10-18",{"$f":"COUNTIF(Calculations!$E$56:$E$98,\"<=\"&DATE(2006,MONTH(C741),DAY(C741)))","v":34},5.8,6.1,5,5.8,6.1,6,6,5.9,6.1,6]
["MO199835","MO","1998-10-25",{"$f":"COUNTIF(Calculations!$E$56:$E$98,\"<=\"&DATE(2006,MONTH(C742),DAY(C742)))","v":35},5,5,4.4000000000000004,5.2,4.2,6.1,4.5999999999999996,4.9000000000000004,5.7,5]
["MO199836","MO","1998-11-01",{"$f":"COUNTIF(Calculations!$E$56:$E$98,\"<=\"&DATE(2006,MONTH(C743),DAY(C743)))","v":36},5.6,6.1,4.9000000000000004,4.5999999999999996,5.3,5.9,4.7,5.3,6.3,6.9]
["MO199837","MO","1998-11-08",{"$f":"COUNTIF(Calculations!$E$56:$E$98,\"<=\"&DATE(2006,MONTH(C744),DAY(C744)))","v":37},2.4,1,0.4,1.6,0.8,2.5,2.2000000000000002,2.1,5.8,6.2]
["MO199838","MO","1998-11-15",{"$f":"COUNTIF(Calculations!$E$56:$E$98,\"<=\"&DATE(2006,MONTH(C745),DAY(C745)))","v":38},2.8,2.5,1.6,2.9,2.2999999999999998,3.2,2.7,3.3,4.7,3.2]
["MO199839","MO","1998-11-22",{"$f":"COUNTIF(Calculations!$E$56:$E$98,\"<=\"&DATE(2006,MONTH(C746),DAY(C746)))","v":39},5.3,6.5,4.5,5.7,5.6,5.9,5.0999999999999996,4.9000000000000004,6.5,4]
["MO19996","MO","1999-04-04",{"$f":"COUNTIF(Calculations!$E$56:$E$98,\"<=\"&DATE(2006,MONTH(C747),DAY(C747)))","v":6},5.2,5.8,5.0999999999999996,4.9000000000000004,6.3,6.2,4.8,4.7,4.5,3.3]
["MO19997","MO","1999-04-11",{"$f":"COUNTIF(Calculations!$E$56:$E$98,\"<=\"&DATE(2006,MONTH(C748),DAY(C748)))","v":7},3.2,2.8,3.8,2.9,4.5999999999999996,4.3,2.9,4.4000000000000004,3.6,1.1000000000000001]
["MO19998","MO","1999-04-18",{"$f":"COUNTIF(Calculations!$E$56:$E$98,\"<=\"&DATE(2006,MONTH(C749),DAY(C749)))","v":8},2.5,2.6,1.9,1.9,3.3,3.1,2.8,3.2,2.2999999999999998,1.8]
["MO19999","MO","1999-04-25",{"$f":"COUNTIF(Calculations!$E$56:$E$98,\"<=\"&DATE(2006,MONTH(C750),DAY(C750)))","v":9},2.1,1.1000000000000001,0,0,1.5,2.6,2.7,3.1,3.5,4.8]
["MO199910","MO","1999-05-02",{"$f":"COUNTIF(Calculations!$E$56:$E$98,\"<=\"&DATE(2006,MONTH(C751),DAY(C751)))","v":10},1.2,0.6,0.6,0.5,0.7,0.8,2.2000000000000002,2,4,2.2999999999999998]
["MO199911","MO","1999-05-09",{"$f":"COUNTIF(Calculations!$E$56:$E$98,\"<=\"&DATE(2006,MONTH(C752),DAY(C752)))","v":11},2.2000000000000002,1.8,1.2,1.6,1,2.4,2.8,2.2000000000000002,3.4,3.4]
["MO199912","MO","1999-05-16",{"$f":"COUNTIF(Calculations!$E$56:$E$98,\"<=\"&DATE(2006,MONTH(C753),DAY(C753)))","v":12},2.5,2,1.5,2.2999999999999998,1.2,2.4,3,2.2000000000000002,3.4,4.7]
["MO199913","MO","1999-05-23",{"$f":"COUNTIF(Calculations!$E$56:$E$98,\"<=\"&DATE(2006,MONTH(C754),DAY(C754)))","v":13},2.7,1.7,1.5,2.2000000000000002,1.2,2.9,4.5999999999999996,2,5.4,4.0999999999999996]
["MO199914","MO","1999-05-30",{"$f":"COUNTIF(Calculations!$E$56:$E$98,\"<=\"&DATE(2006,MONTH(C755),DAY(C755)))","v":14},5.7,5.6,6.1,6.4,4.2,6.7,7,3.4,5.2,6.2]
["MO199915","MO","1999-06-06",{"$f":"COUNTIF(Calculations!$E$56:$E$98,\"<=\"&DATE(2006,MONTH(C756),DAY(C756)))","v":15},5,4.5999999999999996,5.2,6.3,4.5,6,5.5,3.5,5.5,4.4000000000000004]
["MO199916","MO","1999-06-13",{"$f":"COUNTIF(Calculations!$E$56:$E$98,\"<=\"&DATE(2006,MONTH(C757),DAY(C757)))","v":16},5.4,4.7,5.0999999999999996,5.3,6,6.4,5.4,5.5,6.2,4.9000000000000004]
["MO199917","MO","1999-06-20",{"$f":"COUNTIF(Calculations!$E$56:$E$98,\"<=\"&DATE(2006,MONTH(C758),DAY(C758)))","v":17},5.4,3.9,5.3,5.7,5.2,6.6,5.3,4.5999999999999996,6,6]
["MO199918","MO","1999-06-27",{"$f":"COUNTIF(Calculations!$E$56:$E$98,\"<=\"&DATE(2006,MONTH(C759),DAY(C759)))","v":18},4.2,3.5,5,4.9000000000000004,3.1,4.7,4.9000000000000004,2.4,5,4.0999999999999996]
["MO199919","MO","1999-07-04",{"$f":"COUNTIF(Calculations!$E$56:$E$98,\"<=\"&DATE(2006,MONTH(C760),DAY(C760)))","v":19},2.7,1.8,4.2,4.2,2.2000000000000002,2.1,3.5,2.1,3.7,1.8]
["MO199920","MO","1999-07-11",{"$f":"COUNTIF(Calculations!$E$56:$E$98,\"<=\"&DATE(2006,MONTH(C761),DAY(C761)))","v":20},5.9,5.2,6.4,6.8,5,4.9000000000000004,5.5,5.7,6.3,6.4]
["MO199921","MO","1999-07-18",{"$f":"COUNTIF(Calculations!$E$56:$E$98,\"<=\"&DATE(2006,MONTH(C762),DAY(C762)))","v":21},6.6,5.6,6.6,6.9,6.1,6.8,6.3,6.9,6.7,6.9]
["MO199922","MO","1999-07-25",{"$f":"COUNTIF(Calculations!$E$56:$E$98,\"<=\"&DATE(2006,MONTH(C763),DAY(C763)))","v":22},6.8,6.3,6.7,6.9,7,7,6.7,7,7,7]
["MO199923","MO","1999-08-01",{"$f":"COUNTIF(Calculations!$E$56:$E$98,\"<=\"&DATE(2006,MONTH(C764),DAY(C764)))","v":23},6.8,6.8,7,6.8,6.8,6.9,6.7,7,6.7,6.3]
["MO199924","MO","1999-08-08",{"$f":"COUNTIF(Calculations!$E$56:$E$98,\"<=\"&DATE(2006,MONTH(C765),DAY(C765)))","v":24},6.5,6.1,6,6.8,5.5,6.8,6.5,6.6,6.8,7]
["MO199925","MO","1999-08-15",{"$f":"COUNTIF(Calculations!$E$56:$E$98,\"<=\"&DATE(2006,MONTH(C766),DAY(C766)))","v":25},6.5,5.8,6.3,6.8,6.7,6.9,5.9,6.7,6.3,6.6]
["MO199926","MO","1999-08-22",{"$f":"COUNTIF(Calculations!$E$56:$E$98,\"<=\"&DATE(2006,MONTH(C767),DAY(C767)))","v":26},6.7,6.2,6.5,6.8,6.8,6.7,6.8,6.8,6.8,7]
["MO199927","MO","1999-08-29",{"$f":"COUNTIF(Calculations!$E$56:$E$98,\"<=\"&DATE(2006,MONTH(C768),DAY(C768)))","v":27},6.6,6.7,6.9,7,5.5,6.6,6.9,5.9,6.8,7]
["MO199928","MO","1999-09-05",{"$f":"COUNTIF(Calculations!$E$56:$E$98,\"<=\"&DATE(2006,MONTH(C769),DAY(C769)))","v":28},6.8,6.3,6.9,6.9,6.3,7,7,6.7,6.7,7]
["MO199929","MO","1999-09-12",{"$f":"COUNTIF(Calculations!$E$56:$E$98,\"<=\"&DATE(2006,MONTH(C770),DAY(C770)))","v":29},6.7,6.8,6.9,7,6.7,7,6.7,5.5,6.7,6.9]
["MO199930","MO","1999-09-19",{"$f":"COUNTIF(Calculations!$E$56:$E$98,\"<=\"&DATE(2006,MONTH(C771),DAY(C771)))","v":30},6.6,6.5,6.7,6.8,6.1,6.2,6.7,6.5,7,7]
["MO199931","MO","1999-09-26",{"$f":"COUNTIF(Calculations!$E$56:$E$98,\"<=\"&DATE(2006,MONTH(C772),DAY(C772)))","v":31},6.8,6.9,6.9,6.8,6.6,6.8,6.6,6.4,7,7]
[{"$f":"B773&YEAR(C773)&D773","v":"MO199932"},"MO","1999-10-03",{"$f":"COUNTIF(Calculations!$E$56:$E$98,\"<=\"&DATE(2006,MONTH(C773),DAY(C773)))","v":32},4.8,4.3,3.3,4.3,3.1,4.4000000000000004,6.2,6,6.7,6.8]
["MO199933","MO","1999-10-10",{"$f":"COUNTIF(Calculations!$E$56:$E$98,\"<=\"&DATE(2006,MONTH(C774),DAY(C774)))","v":33},5.5,5.6,5.5,5.4,5.6,4.7,4.9000000000000004,6.3,6,5.7]
["MO199934","MO","1999-10-17",{"$f":"COUNTIF(Calculations!$E$56:$E$98,\"<=\"&DATE(2006,MONTH(C775),DAY(C775)))","v":34},6,6.8,6.3,6.3,6.3,6.4,5.9,6.9,5.8,4.4000000000000004]
["MO199935","MO","1999-10-24",{"$f":"COUNTIF(Calculations!$E$56:$E$98,\"<=\"&DATE(2006,MONTH(C776),DAY(C776)))","v":35},6.7,6.6,6.9,6.7,7,7,6.3,7,6,6.6]
["MO199936","MO","1999-10-31",{"$f":"COUNTIF(Calculations!$E$56:$E$98,\"<=\"&DATE(2006,MONTH(C777),DAY(C777)))","v":36},4.8,4.3,3.3,4.3,3.1,4.4000000000000004,6.2,6,6.7,6.8]
["MO199937","MO","1999-11-07",{"$f":"COUNTIF(Calculations!$E$56:$E$98,\"<=\"&DATE(2006,MONTH(C778),DAY(C778)))","v":37},6.5,7,7,6.8,6,6.9,6.5,6.5,6.7,5.8]
["MO20006","MO","2000-04-02",{"$f":"COUNTIF(Calculations!$E$56:$E$98,\"<=\"&DATE(2006,MONTH(C779),DAY(C779)))","v":6},4.9000000000000004,6.1,6.3,6.2,3.3,5.3,4.3,4,5.5,3.3]
["MO20007","MO","2000-04-09",{"$f":"COUNTIF(Calculations!$E$56:$E$98,\"<=\"&DATE(2006,MONTH(C780),DAY(C780)))","v":7},6.1,6.6,6.7,6.1,6.2,6.8,5.3,6.6,6.3,4.9000000000000004]
["MO20008","MO","2000-04-16",{"$f":"COUNTIF(Calculations!$E$56:$E$98,\"<=\"&DATE(2006,MONTH(C781),DAY(C781)))","v":8},6.2,6.3,6.7,6.4,6.6,6.8,5.9,6.2,6.3,4.9000000000000004]
["MO20009","MO","2000-04-23",{"$f":"COUNTIF(Calculations!$E$56:$E$98,\"<=\"&DATE(2006,MONTH(C782),DAY(C782)))","v":9},5.4,4.3,5.7,5.0999999999999996,5,5.9,6.1,6.1,5.2,5.7]
["MO200010","MO","2000-04-30",{"$f":"COUNTIF(Calculations!$E$56:$E$98,\"<=\"&DATE(2006,MONTH(C783),DAY(C783)))","v":10},5.5,4.5,5.4,5.5,6.5,6.3,4.8,6.1,6.3,5]
["MO200011","MO","2000-05-07",{"$f":"COUNTIF(Calculations!$E$56:$E$98,\"<=\"&DATE(2006,MONTH(C784),DAY(C784)))","v":11},6.1,6,6.9,6.8,6.5,6.3,6,5.3,6.2,5]
["MO200012","MO","2000-05-14",{"$f":"COUNTIF(Calculations!$E$56:$E$98,\"<=\"&DATE(2006,MONTH(C785),DAY(C785)))","v":12},4.8,4.9000000000000004,5.3,4.4000000000000004,4.3,4.9000000000000004,4.5,4,6.2,4.9000000000000004]
["MO200013","MO","2000-05-21",{"$f":"COUNTIF(Calculations!$E$56:$E$98,\"<=\"&DATE(2006,MONTH(C786),DAY(C786)))","v":13},6.2,6.5,6.3,6.7,6,6.9,6.3,5.7,6.5,5.0999999999999996]
["MO200014","MO","2000-05-28",{"$f":"COUNTIF(Calculations!$E$56:$E$98,\"<=\"&DATE(2006,MONTH(C787),DAY(C787)))","v":14},4.0999999999999996,4.7,4.8,4.9000000000000004,4.0999999999999996,4.5999999999999996,3.2,3.4,5.5,2.6]
["MO200015","MO","2000-06-04",{"$f":"COUNTIF(Calculations!$E$56:$E$98,\"<=\"&DATE(2006,MONTH(C788),DAY(C788)))","v":15},5.6,5.7,5.9,5,5.6,6.3,4.8,6.6,6.5,4.8]
["MO200016","MO","2000-06-11",{"$f":"COUNTIF(Calculations!$E$56:$E$98,\"<=\"&DATE(2006,MONTH(C789),DAY(C789)))","v":16},6,6,5.6,5.4,5.8,6.1,5.9,6.2,6.8,6.7]
["MO200017","MO","2000-06-18",{"$f":"COUNTIF(Calculations!$E$56:$E$98,\"<=\"&DATE(2006,MONTH(C790),DAY(C790)))","v":17},3.2,3.7,3,2.5,2.2000000000000002,2.5,2.9,3,4.7,4.0999999999999996]
["MO200018","MO","2000-06-25",{"$f":"COUNTIF(Calculations!$E$56:$E$98,\"<=\"&DATE(2006,MONTH(C791),DAY(C791)))","v":18},3.1,3.8,2.5,2.6,2.4,2.4,3.1,3.2,4.9000000000000004,3.5]
["MO200019","MO","2000-07-02",{"$f":"COUNTIF(Calculations!$E$56:$E$98,\"<=\"&DATE(2006,MONTH(C792),DAY(C792)))","v":19},4.0999999999999996,5.2,4.5999999999999996,3.3,3.5,4,3.3,3.4,5.7,4.0999999999999996]
["MO200020","MO","2000-07-09",{"$f":"COUNTIF(Calculations!$E$56:$E$98,\"<=\"&DATE(2006,MONTH(C793),DAY(C793)))","v":20},5.2,4.0999999999999996,4.5999999999999996,4.0999999999999996,5.2,6.1,5.3,7,6.2,6.1]
["MO200021","MO","2000-07-16",{"$f":"COUNTIF(Calculations!$E$56:$E$98,\"<=\"&DATE(2006,MONTH(C794),DAY(C794)))","v":21},5.9,5.9,5.2,5.9,6.1,5.5,5.9,6.4,6.6,6.3]
["MO200022","MO","2000-07-23",{"$f":"COUNTIF(Calculations!$E$56:$E$98,\"<=\"&DATE(2006,MONTH(C795),DAY(C795)))","v":22},5.0999999999999996,5.5,5.2,5.2,4.7,4.9000000000000004,4.8,3.8,6.1,5.4]
["MO200023","MO","2000-07-30",{"$f":"COUNTIF(Calculations!$E$56:$E$98,\"<=\"&DATE(2006,MONTH(C796),DAY(C796)))","v":23},4.7,3.7,4.8,5.3,4.9000000000000004,4.7,4,3.7,5.5,5.3]
["MO200024","MO","2000-08-06",{"$f":"COUNTIF(Calculations!$E$56:$E$98,\"<=\"&DATE(2006,MONTH(C797),DAY(C797)))","v":24},6.1,6,4.8,6.6,6.5,6.1,6,6.9,6.5,5.9]
["MO200025","MO","2000-08-13",{"$f":"COUNTIF(Calculations!$E$56:$E$98,\"<=\"&DATE(2006,MONTH(C798),DAY(C798)))","v":25},5.6,6.1,4.4000000000000004,4.4000000000000004,6.1,4.9000000000000004,4.9000000000000004,7,6.4,7]
["MO200026","MO","2000-08-20",{"$f":"COUNTIF(Calculations!$E$56:$E$98,\"<=\"&DATE(2006,MONTH(C799),DAY(C799)))","v":26},5.7,5.5,4.4000000000000004,5.2,6.7,6,5.0999999999999996,7,6.6,6.1]
["MO200027","MO","2000-08-27",{"$f":"COUNTIF(Calculations!$E$56:$E$98,\"<=\"&DATE(2006,MONTH(C800),DAY(C800)))","v":27},5.5,5.9,5.0999999999999996,4.4000000000000004,6.6,5.7,3.7,7,6.5,5.5]
["MO200028","MO","2000-09-03",{"$f":"COUNTIF(Calculations!$E$56:$E$98,\"<=\"&DATE(2006,MONTH(C801),DAY(C801)))","v":28},6.7,6.6,6.7,6.7,6.7,6.8,5.9,7,6.9,6.9]
["MO200029","MO","2000-09-10",{"$f":"COUNTIF(Calculations!$E$56:$E$98,\"<=\"&DATE(2006,MONTH(C802),DAY(C802)))","v":29},6.7,6.7,6.9,6.8,6.8,7,6.6,7,6.8,6.2]
["MO200030","MO","2000-09-17",{"$f":"COUNTIF(Calculations!$E$56:$E$98,\"<=\"&DATE(2006,MONTH(C803),DAY(C803)))","v":30},6.3,6.7,6,6.2,6.3,6.4,6,6.5,6.6,6]
["MO200031","MO","2000-09-24",{"$f":"COUNTIF(Calculations!$E$56:$E$98,\"<=\"&DATE(2006,MONTH(C804),DAY(C804)))","v":31},4.9000000000000004,4.2,4.0999999999999996,3.6,5.3,5.0999999999999996,5.8,5.2,6,5.6]
["MO200032","MO","2000-10-01",{"$f":"COUNTIF(Calculations!$E$56:$E$98,\"<=\"&DATE(2006,MONTH(C805),DAY(C805)))","v":32},5.9,6,5.5,5.8,6.1,6.3,5.3,6.5,6.2,5.5]
["MO200033","MO","2000-10-08",{"$f":"COUNTIF(Calculations!$E$56:$E$98,\"<=\"&DATE(2006,MONTH(C806),DAY(C806)))","v":33},4.5,4.4000000000000004,4,2.9,4.5,4.8,4.5,5.8,6.3,5.5]
["MO200034","MO","2000-10-15",{"$f":"COUNTIF(Calculations!$E$56:$E$98,\"<=\"&DATE(2006,MONTH(C807),DAY(C807)))","v":34},5.8,5.5,5.5,5.6,5.7,5.5,5.6,6,6.6,6.7]
["MO200035","MO","2000-10-22",{"$f":"COUNTIF(Calculations!$E$56:$E$98,\"<=\"&DATE(2006,MONTH(C808),DAY(C808)))","v":35},5.0999999999999996,5.8,4.9000000000000004,4.2,4.2,4.5999999999999996,4.3,5.2,6.1,6.7]
["MO200036","MO","2000-10-29",{"$f":"COUNTIF(Calculations!$E$56:$E$98,\"<=\"&DATE(2006,MONTH(C809),DAY(C809)))","v":36},4.4000000000000004,2,2.8,4,4.4000000000000004,4.5,5,3.8,6.1,7]
["MO200037","MO","2000-11-05",{"$f":"COUNTIF(Calculations!$E$56:$E$98,\"<=\"&DATE(2006,MONTH(C810),DAY(C810)))","v":37},4.4000000000000004,2.2999999999999998,3.8,5.4,5.5,4.9000000000000004,4.7,4.2,5.8,4.5]
["MO20016","MO","2001-04-01",{"$f":"COUNTIF(Calculations!$E$56:$E$98,\"<=\"&DATE(2006,MONTH(C811),DAY(C811)))","v":6},3.1,2.1,1,1.9,3.1,4.3,4.0999999999999996,7,5.5,2.9]
["MO20017","MO","2001-04-08",{"$f":"COUNTIF(Calculations!$E$56:$E$98,\"<=\"&DATE(2006,MONTH(C812),DAY(C812)))","v":7},3.1,2.8,2.2999999999999998,3.4,2.2000000000000002,3.6,4.2,6.1,4.8,2]
["MO20018","MO","2001-04-15",{"$f":"COUNTIF(Calculations!$E$56:$E$98,\"<=\"&DATE(2006,MONTH(C813),DAY(C813)))","v":8},3,2.5,1.5,1.7,2.2999999999999998,2.5,3.1,4.9000000000000004,5.7,4.8]
["MO20019","MO","2001-04-22",{"$f":"COUNTIF(Calculations!$E$56:$E$98,\"<=\"&DATE(2006,MONTH(C814),DAY(C814)))","v":9},4.4000000000000004,3.1,3.1,3.6,3.9,4.4000000000000004,5.0999999999999996,6.3,6.6,5.8]
["MO200110","MO","2001-04-29",{"$f":"COUNTIF(Calculations!$E$56:$E$98,\"<=\"&DATE(2006,MONTH(C815),DAY(C815)))","v":10},5.9,4.8,5,5.8,6.3,6.3,6.4,6.5,6.4,6.6]
["MO200111","MO","2001-05-06",{"$f":"COUNTIF(Calculations!$E$56:$E$98,\"<=\"&DATE(2006,MONTH(C816),DAY(C816)))","v":11},4.5999999999999996,2.8,2.8,4.0999999999999996,4.9000000000000004,4.7,6.1,5.8,6.3,6.6]
["MO200112","MO","2001-05-13",{"$f":"COUNTIF(Calculations!$E$56:$E$98,\"<=\"&DATE(2006,MONTH(C817),DAY(C817)))","v":12},3.9,1.4,1.9,3.6,3.1,4.5999999999999996,6.2,5,6.2,6.2]
["MO200113","MO","2001-05-20",{"$f":"COUNTIF(Calculations!$E$56:$E$98,\"<=\"&DATE(2006,MONTH(C818),DAY(C818)))","v":13},3.7,4,1.7,2.2999999999999998,3,3.4,4.5999999999999996,4.4000000000000004,6.3,5.8]
["MO200114","MO","2001-05-27",{"$f":"COUNTIF(Calculations!$E$56:$E$98,\"<=\"&DATE(2006,MONTH(C819),DAY(C819)))","v":14},3.7,3.8,2.9,2,3.7,3.4,4.3,5.8,6,4]
["MO200115","MO","2001-06-03",{"$f":"COUNTIF(Calculations!$E$56:$E$98,\"<=\"&DATE(2006,MONTH(C820),DAY(C820)))","v":15},1.8,1.3,1.2,0.8,1.2,2.1,2.7,3.1,3.6,2.7]
["MO200116","MO","2001-06-10",{"$f":"COUNTIF(Calculations!$E$56:$E$98,\"<=\"&DATE(2006,MONTH(C821),DAY(C821)))","v":16},2.1,0.6,0.4,0.4,1.5,1.8,2.9,5.4,6.4,6.4]
["MO200117","MO","2001-06-17",{"$f":"COUNTIF(Calculations!$E$56:$E$98,\"<=\"&DATE(2006,MONTH(C822),DAY(C822)))","v":17},3.9,2.7,2.8,3.4,4,4.3,4.0999999999999996,5.2,5.6,5.6]
["MO200118","MO","2001-06-24",{"$f":"COUNTIF(Calculations!$E$56:$E$98,\"<=\"&DATE(2006,MONTH(C823),DAY(C823)))","v":18},3.6,1.5,2,4.0999999999999996,2.5,4.2,4.5,3.9,5.8,5.9]
["MO200119","MO","2001-07-01",{"$f":"COUNTIF(Calculations!$E$56:$E$98,\"<=\"&DATE(2006,MONTH(C824),DAY(C824)))","v":19},6,6.1,6.1,6.7,5.8,5.9,5.9,5.0999999999999996,5.6,5.9]
["MO200120","MO","2001-07-08",{"$f":"COUNTIF(Calculations!$E$56:$E$98,\"<=\"&DATE(2006,MONTH(C825),DAY(C825)))","v":20},5.8,5.6,5.2,6.3,6.1,5.5,6.7,6.6,6,6.4]
["MO200121","MO","2001-07-15",{"$f":"COUNTIF(Calculations!$E$56:$E$98,\"<=\"&DATE(2006,MONTH(C826),DAY(C826)))","v":21},5.3,4.5,6,6.2,3.74,4.8,5.4,6.7,5.7,5.9]
["MO200122","MO","2001-07-22",{"$f":"COUNTIF(Calculations!$E$56:$E$98,\"<=\"&DATE(2006,MONTH(C827),DAY(C827)))","v":22},5.4,4.8,5.6,5.6,6.7,6.6,4.8,6.6,6.8,3.2]
["MO200123","MO","2001-07-29",{"$f":"COUNTIF(Calculations!$E$56:$E$98,\"<=\"&DATE(2006,MONTH(C828),DAY(C828)))","v":23},3.6,2.2000000000000002,3.1,5,2.9,3.8,4.5,4.3,5,3.3]
["MO200124","MO","2001-08-05",{"$f":"COUNTIF(Calculations!$E$56:$E$98,\"<=\"&DATE(2006,MONTH(C829),DAY(C829)))","v":24},6.4,6.2,6.1,5.7,6.6,6.8,6.7,6.8,6.8,6.1]
["MO200125","MO","2001-08-12",{"$f":"COUNTIF(Calculations!$E$56:$E$98,\"<=\"&DATE(2006,MONTH(C830),DAY(C830)))","v":25},6.2,6.7,6.9,6.1,6.6,6.8,5.5,6.2,5.6,4.7]
["MO200126","MO","2001-08-19",{"$f":"COUNTIF(Calculations!$E$56:$E$98,\"<=\"&DATE(2006,MONTH(C831),DAY(C831)))","v":26},6.1,5.6,6.1,5.8,6.4,6.3,6.2,6.4,6.6,6.6]
["MO200127","MO","2001-08-26",{"$f":"COUNTIF(Calculations!$E$56:$E$98,\"<=\"&DATE(2006,MONTH(C832),DAY(C832)))","v":27},4.8,4.8,4,3.3,4.0999999999999996,4.5999999999999996,4.5,5.6,6.5,6.5]
["MO200128","MO","2001-09-02",{"$f":"COUNTIF(Calculations!$E$56:$E$98,\"<=\"&DATE(2006,MONTH(C833),DAY(C833)))","v":28},5.5,5.9,5.0999999999999996,5.4,5,5.6,6,6.7,6,4.9000000000000004]
["MO200129","MO","2001-09-09",{"$f":"COUNTIF(Calculations!$E$56:$E$98,\"<=\"&DATE(2006,MONTH(C834),DAY(C834)))","v":29},5.0999999999999996,4.3,5.3,5.4,5.5,5.2,5.2,5.6,5.8,4.5999999999999996]
["MO200130","MO","2001-09-16",{"$f":"COUNTIF(Calculations!$E$56:$E$98,\"<=\"&DATE(2006,MONTH(C835),DAY(C835)))","v":30},6.2,5,6,6.6,6.5,6.7,6.5,7,6.3,6.5]
["MO200131","MO","2001-09-23",{"$f":"COUNTIF(Calculations!$E$56:$E$98,\"<=\"&DATE(2006,MONTH(C836),DAY(C836)))","v":31},3.5,1.5,2.1,2,3.7,4.3,4.9000000000000004,5.2,6.4,4.4000000000000004]
[{"$f":"B837&YEAR(C837)&D837","v":"MO200132"},"MO","2001-09-30",{"$f":"COUNTIF(Calculations!$E$56:$E$98,\"<=\"&DATE(2006,MONTH(C837),DAY(C837)))","v":32},6.5,6.4,6.5,6.6,6.2,6.9,6.7,7,6.7,6]
["MO200133","MO","2001-10-07",{"$f":"COUNTIF(Calculations!$E$56:$E$98,\"<=\"&DATE(2006,MONTH(C838),DAY(C838)))","v":33},4.7,4.9000000000000004,4.5999999999999996,4.5,4,4.8,5.2,5.2,5.6,4.5]
["MO200134","MO","2001-10-14",{"$f":"COUNTIF(Calculations!$E$56:$E$98,\"<=\"&DATE(2006,MONTH(C839),DAY(C839)))","v":34},2.9,4.0999999999999996,3.2,2.1,3.3,2.1,2.2000000000000002,2.7,4.5999999999999996,2.6]
["MO200135","MO","2001-10-21",{"$f":"COUNTIF(Calculations!$E$56:$E$98,\"<=\"&DATE(2006,MONTH(C840),DAY(C840)))","v":35},4.5999999999999996,4.5,3.7,4.2,4.0999999999999996,4.8,4.3,6.1,5.9,5.0999999999999996]
["MO200136","MO","2001-10-28",{"$f":"COUNTIF(Calculations!$E$56:$E$98,\"<=\"&DATE(2006,MONTH(C841),DAY(C841)))","v":36},5.0999999999999996,5,4.3,4.2,6.3,5.5,4,6.6,5.7,5]
["MO200137","MO","2001-11-04",{"$f":"COUNTIF(Calculations!$E$56:$E$98,\"<=\"&DATE(2006,MONTH(C842),DAY(C842)))","v":37},6,6.4,6.7,6.1,6.5,5.7,5.4,4.9000000000000004,6.1,5.4]
["MO200138","MO","2001-11-11",{"$f":"COUNTIF(Calculations!$E$56:$E$98,\"<=\"&DATE(2006,MONTH(C843),DAY(C843)))","v":38},6.8,6.9,6.9,6.7,6.8,6.8,6.4,6.4,6.5,6.7]
["MO20026","MO","2002-04-07",{"$f":"COUNTIF(Calculations!$E$56:$E$98,\"<=\"&DATE(2006,MONTH(C844),DAY(C844)))","v":6},5.0999999999999996,5.7,6.1,5.5,6.6,5.9,3.1,5.8,5,3.1]
["MO20027","MO","2002-04-14",{"$f":"COUNTIF(Calculations!$E$56:$E$98,\"<=\"&DATE(2006,MONTH(C845),DAY(C845)))","v":7},3.9,2.9,4.5999999999999996,2.2999999999999998,5,4.9000000000000004,3.1,5.6,4.5,3.5]
["MO20028","MO","2002-04-21",{"$f":"COUNTIF(Calculations!$E$56:$E$98,\"<=\"&DATE(2006,MONTH(C846),DAY(C846)))","v":8},4.3,4.5,4.2,4.5999999999999996,3.9,4.8,4.4000000000000004,4.2,4.5,3.1]
["MO20029","MO","2002-04-28",{"$f":"COUNTIF(Calculations!$E$56:$E$98,\"<=\"&DATE(2006,MONTH(C847),DAY(C847)))","v":9},2.1,1.9,1.3,0.6,1.7,2.7,2.6,4.2,3.6,2.5]
["MO200210","MO","2002-05-05",{"$f":"COUNTIF(Calculations!$E$56:$E$98,\"<=\"&DATE(2006,MONTH(C848),DAY(C848)))","v":10},3.1,3.3,2.1,1.9,2.4,4.3,3.2,5.4,4.0999999999999996,2.7]
["MO200211","MO","2002-05-12",{"$f":"COUNTIF(Calculations!$E$56:$E$98,\"<=\"&DATE(2006,MONTH(C849),DAY(C849)))","v":11},0.6,1,0,0.1,0.2,0.2,0.5,1.4,0.8,1.4]
["MO200212","MO","2002-05-19",{"$f":"COUNTIF(Calculations!$E$56:$E$98,\"<=\"&DATE(2006,MONTH(C850),DAY(C850)))","v":12},1,3.1,0.7,0,0.4,0.5,0.3,1.1000000000000001,2.6,1.1000000000000001]
["MO200213","MO","2002-05-26",{"$f":"COUNTIF(Calculations!$E$56:$E$98,\"<=\"&DATE(2006,MONTH(C851),DAY(C851)))","v":13},3,3.5,2.7,2,1.3,2.7,3.1,2.4,5.7,5.6]
["MO200214","MO","2002-06-02",{"$f":"COUNTIF(Calculations!$E$56:$E$98,\"<=\"&DATE(2006,MONTH(C852),DAY(C852)))","v":14},4.9000000000000004,5.2,5.3,4,2.8,5.8,3.5,4.4000000000000004,6.4,6.1]
["MO200215","MO","2002-06-09",{"$f":"COUNTIF(Calculations!$E$56:$E$98,\"<=\"&DATE(2006,MONTH(C853),DAY(C853)))","v":15},5.5,5.9,7,6.4,5.2,5.5,4.4000000000000004,5.4,5.4,4.8]
["MO200216","MO","2002-06-16",{"$f":"COUNTIF(Calculations!$E$56:$E$98,\"<=\"&DATE(2006,MONTH(C854),DAY(C854)))","v":16},3.4,5.2,2.9,2.4,2.8,2.5,3.2,3,4.5999999999999996,4.0999999999999996]
["MO200217","MO","2002-06-23",{"$f":"COUNTIF(Calculations!$E$56:$E$98,\"<=\"&DATE(2006,MONTH(C855),DAY(C855)))","v":17},6.8,6.3,6.9,6.6,6.9,6.9,6.9,7,6.7,6.9]
["MO200218","MO","2002-06-30",{"$f":"COUNTIF(Calculations!$E$56:$E$98,\"<=\"&DATE(2006,MONTH(C856),DAY(C856)))","v":18},6.5,6.3,7,6.6,6.6,6.9,6,6.8,6.4,5.5]
["MO200219","MO","2002-07-07",{"$f":"COUNTIF(Calculations!$E$56:$E$98,\"<=\"&DATE(2006,MONTH(C857),DAY(C857)))","v":19},6.6,6.5,6.4,6.5,6.6,6.6,6.6,6.8,6.3,6.9]
["MO200220","MO","2002-07-14",{"$f":"COUNTIF(Calculations!$E$56:$E$98,\"<=\"&DATE(2006,MONTH(C858),DAY(C858)))","v":20},5.0999999999999996,5.6,4.3,4.7,5.6,4.5,5.0999999999999996,5.6,5.2,5.3]
["MO200221","MO","2002-07-21",{"$f":"COUNTIF(Calculations!$E$56:$E$98,\"<=\"&DATE(2006,MONTH(C859),DAY(C859)))","v":21},6.2,6.9,6.8,5.9,6.4,6.3,6.3,6.6,5.3,5.6]
["MO200222","MO","2002-07-28",{"$f":"COUNTIF(Calculations!$E$56:$E$98,\"<=\"&DATE(2006,MONTH(C860),DAY(C860)))","v":22},6.5,6.6,5.9,6.4,6.8,6.2,6.6,6.4,6.7,6.8]
["MO200223","MO","2002-08-04",{"$f":"COUNTIF(Calculations!$E$56:$E$98,\"<=\"&DATE(2006,MONTH(C861),DAY(C861)))","v":23},6.5,6.7,6.2,6.5,6.7,6.9,5.5,6.7,6.6,6.1]
["MO200224","MO","2002-08-11",{"$f":"COUNTIF(Calculations!$E$56:$E$98,\"<=\"&DATE(2006,MONTH(C862),DAY(C862)))","v":24},6.8,6.9,6.6,6.8,6.8,7,6.3,6.8,6.6,6.9]
["MO200225","MO","2002-08-18",{"$f":"COUNTIF(Calculations!$E$56:$E$98,\"<=\"&DATE(2006,MONTH(C863),DAY(C863)))","v":25},5,5.0999999999999996,4.7,6.1,6.4,5,3.9,5.6,5,3]
["MO200226","MO","2002-08-25",{"$f":"COUNTIF(Calculations!$E$56:$E$98,\"<=\"&DATE(2006,MONTH(C864),DAY(C864)))","v":26},3.9,3,2.5,3.3,5.6,3.7,4,6.2,5.7,3.4]
["MO200227","MO","2002-09-01",{"$f":"COUNTIF(Calculations!$E$56:$E$98,\"<=\"&DATE(2006,MONTH(C865),DAY(C865)))","v":27},6.5,6.6,6.9,6.3,6.9,6.1,6.7,6.8,6.4,6.4]
["MO200228","MO","2002-09-08",{"$f":"COUNTIF(Calculations!$E$56:$E$98,\"<=\"&DATE(2006,MONTH(C866),DAY(C866)))","v":28},6.8,6.9,6.9,6.8,6.9,6.2,6.7,7,6.9,7]
["MO200229","MO","2002-09-15",{"$f":"COUNTIF(Calculations!$E$56:$E$98,\"<=\"&DATE(2006,MONTH(C867),DAY(C867)))","v":29},6.4,6.3,6.6,6.2,5.7,5.8,6.7,6.7,6.8,7]
["MO200230","MO","2002-09-22",{"$f":"COUNTIF(Calculations!$E$56:$E$98,\"<=\"&DATE(2006,MONTH(C868),DAY(C868)))","v":30},4.5999999999999996,5.3,4.8,4.8,4.0999999999999996,4.8,3.1,5.6,5,3.4]
["MO200231","MO","2002-09-29",{"$f":"COUNTIF(Calculations!$E$56:$E$98,\"<=\"&DATE(2006,MONTH(C869),DAY(C869)))","v":31},6.5,6.6,6.9,6.7,6.8,7,6.7,6.9,6.9,4.5]
["MO200232","MO","2002-10-06",{"$f":"COUNTIF(Calculations!$E$56:$E$98,\"<=\"&DATE(2006,MONTH(C870),DAY(C870)))","v":32},4.5999999999999996,3.3,4,3.8,4.3,4.4000000000000004,4.4000000000000004,6.7,6.6,5]
["MO200233","MO","2002-10-13",{"$f":"COUNTIF(Calculations!$E$56:$E$98,\"<=\"&DATE(2006,MONTH(C871),DAY(C871)))","v":33},5.6,6.3,6.2,5.9,5.9,6.1,5.4,6.9,6.7,3.2]
["MO200234","MO","2002-10-20",{"$f":"COUNTIF(Calculations!$E$56:$E$98,\"<=\"&DATE(2006,MONTH(C872),DAY(C872)))","v":34},5.3,5,5.2,5.7,4.7,5.4,5.2,6.4,6.3,4.5]
["MO200235","MO","2002-10-27",{"$f":"COUNTIF(Calculations!$E$56:$E$98,\"<=\"&DATE(2006,MONTH(C873),DAY(C873)))","v":35},3.5,1.9,2.8,3.6,2.8,3.9,4.2,5.4,5.5,3.6]
["MO200236","MO","2002-11-03",{"$f":"COUNTIF(Calculations!$E$56:$E$98,\"<=\"&DATE(2006,MONTH(C874),DAY(C874)))","v":36},1.5,0.9,1.4,2,1.4,0.7,1.3,3.2,3.9,1]
["MO200237","MO","2002-11-10",{"$f":"COUNTIF(Calculations!$E$56:$E$98,\"<=\"&DATE(2006,MONTH(C875),DAY(C875)))","v":37},4.4000000000000004,4,4.3,4.4000000000000004,4.9000000000000004,5.3,4.3,6.6,5.3,2.6]
["MO20036","MO","2003-04-06",{"$f":"COUNTIF(Calculations!$E$56:$E$98,\"<=\"&DATE(2006,MONTH(C876),DAY(C876)))","v":6},4.5999999999999996,4.2,4.5999999999999996,3.8,4.8,5,4.5,5.6,6,5]
["MO20037","MO","2003-04-13",{"$f":"COUNTIF(Calculations!$E$56:$E$98,\"<=\"&DATE(2006,MONTH(C877),DAY(C877)))","v":7},5.2,5.6,5.7,4.9000000000000004,5.5,5.9,4.2,5.7,5.8,4.0999999999999996]
["MO20038","MO","2003-04-20",{"$f":"COUNTIF(Calculations!$E$56:$E$98,\"<=\"&DATE(2006,MONTH(C878),DAY(C878)))","v":8},3.8,3.6,3.14,3.1,3.2,3.4,3.3,5.3,5.2,5.0999999999999996]
["MO20039","MO","2003-04-27",{"$f":"COUNTIF(Calculations!$E$56:$E$98,\"<=\"&DATE(2006,MONTH(C879),DAY(C879)))","v":9},2.7,2.4,1.8,1.5,2.4,2.8,2.6,4.4000000000000004,4.4000000000000004,3.7]
["MO200310","MO","2003-05-04",{"$f":"COUNTIF(Calculations!$E$56:$E$98,\"<=\"&DATE(2006,MONTH(C880),DAY(C880)))","v":10},2.1,2.5,1.4,0.5,1.8,2.2000000000000002,1,4.7,3.9,2.7]
["MO200311","MO","2003-05-11",{"$f":"COUNTIF(Calculations!$E$56:$E$98,\"<=\"&DATE(2006,MONTH(C881),DAY(C881)))","v":11},1.3,1.4,1.1000000000000001,0.4,0.8,0.8,0.4,4.4000000000000004,3.8,1.4]
["MO200312","MO","2003-05-18",{"$f":"COUNTIF(Calculations!$E$56:$E$98,\"<=\"&DATE(2006,MONTH(C882),DAY(C882)))","v":12},2.5,4.9000000000000004,3,1.3,1.9,2,1.8,3.1,3.2,1.9]
["MO200313","MO","2003-05-25",{"$f":"COUNTIF(Calculations!$E$56:$E$98,\"<=\"&DATE(2006,MONTH(C883),DAY(C883)))","v":13},4.0999999999999996,4.0999999999999996,4.3,4.7,3.3,4.5,4,4.9000000000000004,4.9000000000000004,3.2]
["MO200314","MO","2003-06-01",{"$f":"COUNTIF(Calculations!$E$56:$E$98,\"<=\"&DATE(2006,MONTH(C884),DAY(C884)))","v":14},5.6,5.7,5.6,5.5,5.8,5.3,5,6.2,5.6,5.9]
["MO200315","MO","2003-06-08",{"$f":"COUNTIF(Calculations!$E$56:$E$98,\"<=\"&DATE(2006,MONTH(C885),DAY(C885)))","v":15},3.3,2.9,2.5,1.7,1.8,3.2,3,5,5.0999999999999996,5.6]
["MO200316","MO","2003-06-15",{"$f":"COUNTIF(Calculations!$E$56:$E$98,\"<=\"&DATE(2006,MONTH(C886),DAY(C886)))","v":16},2.8,3.3,2.2000000000000002,2.8,3.1,2.8,1.3,5,4.0999999999999996,2.2999999999999998]
["MO200317","MO","2003-06-22",{"$f":"COUNTIF(Calculations!$E$56:$E$98,\"<=\"&DATE(2006,MONTH(C887),DAY(C887)))","v":17},6,6.3,6.2,6.3,6.3,6.8,5.7,6.7,6.5,4.5]
["MO200318","MO","2003-06-29",{"$f":"COUNTIF(Calculations!$E$56:$E$98,\"<=\"&DATE(2006,MONTH(C888),DAY(C888)))","v":18},4.9000000000000004,4,4.5999999999999996,4.2,5.9,5.9,4.4000000000000004,6,6.3,4.3]
["MO200319","MO","2003-07-06",{"$f":"COUNTIF(Calculations!$E$56:$E$98,\"<=\"&DATE(2006,MONTH(C889),DAY(C889)))","v":19},6,6.2,6.4,5.9,6.5,6.6,6.6,6,6.4,4.5999999999999996]
["MO200320","MO","2003-07-13",{"$f":"COUNTIF(Calculations!$E$56:$E$98,\"<=\"&DATE(2006,MONTH(C890),DAY(C890)))","v":20},5.7,5.6,6,5,6.3,5.4,5.7,5,6.1,6.3]
["MO200321","MO","2003-07-20",{"$f":"COUNTIF(Calculations!$E$56:$E$98,\"<=\"&DATE(2006,MONTH(C891),DAY(C891)))","v":21},6.1,6.7,5.4,6.1,7,6.2,5.0999999999999996,6.9,6,5.7]
["MO200322","MO","2003-07-27",{"$f":"COUNTIF(Calculations!$E$56:$E$98,\"<=\"&DATE(2006,MONTH(C892),DAY(C892)))","v":22},6.7,6.9,6.9,6.8,6.9,6.9,6.8,6.7,6.8,6.1]
["MO200323","MO","2003-08-03",{"$f":"COUNTIF(Calculations!$E$56:$E$98,\"<=\"&DATE(2006,MONTH(C893),DAY(C893)))","v":23},5.9,6.4,6.6,5.8,6.5,6.4,6,6.5,6.1,2.8]
["MO200324","MO","2003-08-10",{"$f":"COUNTIF(Calculations!$E$56:$E$98,\"<=\"&DATE(2006,MONTH(C894),DAY(C894)))","v":24},6.4,6.9,6.9,6.8,6.8,6.9,6.7,6.6,5.9,4.8]
["MO200325","MO","2003-08-17",{"$f":"COUNTIF(Calculations!$E$56:$E$98,\"<=\"&DATE(2006,MONTH(C895),DAY(C895)))","v":25},6.8,6.9,6.9,6.8,6.8,7,6.8,6.9,6.9,6.7]
["MO200326","MO","2003-08-24",{"$f":"COUNTIF(Calculations!$E$56:$E$98,\"<=\"&DATE(2006,MONTH(C896),DAY(C896)))","v":26},6.6,6.8,6.9,6.8,6.5,6.9,6.7,7,6.8,5.8]
["MO200327","MO","2003-08-31",{"$f":"COUNTIF(Calculations!$E$56:$E$98,\"<=\"&DATE(2006,MONTH(C897),DAY(C897)))","v":27},6.5,6.6,6.9,6.3,6.9,6.1,6.7,6.8,6.4,6.4]
["MO200328","MO","2003-09-07",{"$f":"COUNTIF(Calculations!$E$56:$E$98,\"<=\"&DATE(2006,MONTH(C898),DAY(C898)))","v":28},4.8,6.3,5.3,6.4,5,5.5,4.2,4.5,4.4000000000000004,2.7]
["MO200329","MO","2003-09-14",{"$f":"COUNTIF(Calculations!$E$56:$E$98,\"<=\"&DATE(2006,MONTH(C899),DAY(C899)))","v":29},4.5,4.4000000000000004,3.3,4.5,4.0999999999999996,4.2,4.8,4.7,4.8,5.6]
["MO200330","MO","2003-09-21",{"$f":"COUNTIF(Calculations!$E$56:$E$98,\"<=\"&DATE(2006,MONTH(C900),DAY(C900)))","v":30},4.8,5.0999999999999996,3.4,4,3.7,4.7,5.6,5.5,6.2,5.9]
[{"$f":"B901&YEAR(C901)&D901","v":"MO200331"},"MO","2003-09-28",{"$f":"COUNTIF(Calculations!$E$56:$E$98,\"<=\"&DATE(2006,MONTH(C901),DAY(C901)))","v":31},5.3,6.7,5.3,3.6,4.5999999999999996,5.5,4.4000000000000004,5.8,6.2,5.9]
["MO200332","MO","2003-10-05",{"$f":"COUNTIF(Calculations!$E$56:$E$98,\"<=\"&DATE(2006,MONTH(C902),DAY(C902)))","v":32},5.9,5.8,6.4,6.6,5.2,5.5,5.4,5.2,6.2,6.3]
["MO200333","MO","2003-10-12",{"$f":"COUNTIF(Calculations!$E$56:$E$98,\"<=\"&DATE(2006,MONTH(C903),DAY(C903)))","v":33},5.2,5.3,5.9,4.9000000000000004,4.3,5.5,5,5.5,5.5,5.3]
["MO200334","MO","2003-10-19",{"$f":"COUNTIF(Calculations!$E$56:$E$98,\"<=\"&DATE(2006,MONTH(C904),DAY(C904)))","v":34},4.5999999999999996,4.4000000000000004,4.7,4.8,4.5,4.5999999999999996,4,5.2,5.7,4.5]
["MO200335","MO","2003-10-26",{"$f":"COUNTIF(Calculations!$E$56:$E$98,\"<=\"&DATE(2006,MONTH(C905),DAY(C905)))","v":35},5.8,6.8,6.2,5.8,6,5.5,5.0999999999999996,6.3,6,5.4]
["MO200336","MO","2003-11-02",{"$f":"COUNTIF(Calculations!$E$56:$E$98,\"<=\"&DATE(2006,MONTH(C906),DAY(C906)))","v":36},5.6,6,4.8,4.5,6.2,5.6,4.5999999999999996,6.2,6.3,6.6]
["MO200337","MO","2003-11-09",{"$f":"COUNTIF(Calculations!$E$56:$E$98,\"<=\"&DATE(2006,MONTH(C907),DAY(C907)))","v":37},5.2,4.9000000000000004,5.5,5.2,6.1,5.0999999999999996,4.4000000000000004,6,4.8,4.5999999999999996]
["MO200338","MO","2003-11-16",{"$f":"COUNTIF(Calculations!$E$56:$E$98,\"<=\"&DATE(2006,MONTH(C908),DAY(C908)))","v":38},5.0999999999999996,6.1,5.2,4.8,6,5,4.4000000000000004,5.5,4.8,3.9]
["MO20046","MO","2004-04-04",{"$f":"COUNTIF(Calculations!$E$56:$E$98,\"<=\"&DATE(2006,MONTH(C909),DAY(C909)))","v":6},3.5,3.5,3.6,3,1.8,3.2,2.8,4.8,5.6,4]
["MO20047","MO","2004-04-11",{"$f":"COUNTIF(Calculations!$E$56:$E$98,\"<=\"&DATE(2006,MONTH(C910),DAY(C910)))","v":7},5.2,5.9,4.8,5.6,4.3,5.0999999999999996,4,4.2,5.6,6.5]
["MO20048","MO","2004-04-18",{"$f":"COUNTIF(Calculations!$E$56:$E$98,\"<=\"&DATE(2006,MONTH(C911),DAY(C911)))","v":8},6.7,6.9,7,6.8,6.2,6.9,6.5,6.4,6.8,6.1]
["MO20049","MO","2004-04-25",{"$f":"COUNTIF(Calculations!$E$56:$E$98,\"<=\"&DATE(2006,MONTH(C912),DAY(C912)))","v":9},2.6,4,2.6,1.7,2.2000000000000002,1.7,2.8,1.6,4.3,3]
["MO200410","MO","2004-05-02",{"$f":"COUNTIF(Calculations!$E$56:$E$98,\"<=\"&DATE(2006,MONTH(C913),DAY(C913)))","v":10},2.6,4,2.6,2.2999999999999998,1.3,2.1,2.4,2.7,2.6,2]
["MO200411","MO","2004-05-09",{"$f":"COUNTIF(Calculations!$E$56:$E$98,\"<=\"&DATE(2006,MONTH(C914),DAY(C914)))","v":11},5.5,5.7,5,5,5.7,5.8,5.5,6,6.7,4.5999999999999996]
["MO200412","MO","2004-05-16",{"$f":"COUNTIF(Calculations!$E$56:$E$98,\"<=\"&DATE(2006,MONTH(C915),DAY(C915)))","v":12},3.1,2.7,3.9,2.5,3.7,3.4,2.6,4.0999999999999996,4.4000000000000004,1.4]
["MO200413","MO","2004-05-23",{"$f":"COUNTIF(Calculations!$E$56:$E$98,\"<=\"&DATE(2006,MONTH(C916),DAY(C916)))","v":13},3.4,1.5,2.6,3.5,3,3.5,2.4,5.8,6.3,4.5]
["MO200414","MO","2004-05-30",{"$f":"COUNTIF(Calculations!$E$56:$E$98,\"<=\"&DATE(2006,MONTH(C917),DAY(C917)))","v":14},2.7,1.5,1.3,1.3,2.6,2.2000000000000002,1.1000000000000001,6.1,5.4,5.0999999999999996]
["MO200415","MO","2004-06-06",{"$f":"COUNTIF(Calculations!$E$56:$E$98,\"<=\"&DATE(2006,MONTH(C918),DAY(C918)))","v":15},5.0999999999999996,3.8,4.0999999999999996,4.2,6.6,5.7,5.0999999999999996,6.7,6.5,4.5]
["MO200416","MO","2004-06-13",{"$f":"COUNTIF(Calculations!$E$56:$E$98,\"<=\"&DATE(2006,MONTH(C919),DAY(C919)))","v":16},3.4,2.6,2.1,3.7,2.9,3,4.2,4,5,5]
["MO200417","MO","2004-06-20",{"$f":"COUNTIF(Calculations!$E$56:$E$98,\"<=\"&DATE(2006,MONTH(C920),DAY(C920)))","v":17},3.2,1,1,4.3,1.9,3.3,4.4000000000000004,4.8,5,4.9000000000000004]
["MO200418","MO","2004-06-27",{"$f":"COUNTIF(Calculations!$E$56:$E$98,\"<=\"&DATE(2006,MONTH(C921),DAY(C921)))","v":18},5.3,4.4000000000000004,3.7,5.7,4.9000000000000004,5.6,6,4.8,6.7,6.6]
["MO200419","MO","2004-07-04",{"$f":"COUNTIF(Calculations!$E$56:$E$98,\"<=\"&DATE(2006,MONTH(C922),DAY(C922)))","v":19},3.8,3.8,3.9,4.0999999999999996,2.5,3.1,5.3,2.6,5,4.3]
["MO200420","MO","2004-07-11",{"$f":"COUNTIF(Calculations!$E$56:$E$98,\"<=\"&DATE(2006,MONTH(C923),DAY(C923)))","v":20},4,2.5,2.4,3.3,5.0999999999999996,4.4000000000000004,4,3.6,6.2,5.5]
["MO200421","MO","2004-07-18",{"$f":"COUNTIF(Calculations!$E$56:$E$98,\"<=\"&DATE(2006,MONTH(C924),DAY(C924)))","v":21},4.9000000000000004,3.5,4.4000000000000004,5.5,5,4.3,5.8,5.4,5.9,5.3]
["MO200422","MO","2004-07-25",{"$f":"COUNTIF(Calculations!$E$56:$E$98,\"<=\"&DATE(2006,MONTH(C925),DAY(C925)))","v":22},4.8,3.2,4.8,5.6,4.8,4.8,5,5.5,5.5,4.5]
["MO200423","MO","2004-08-01",{"$f":"COUNTIF(Calculations!$E$56:$E$98,\"<=\"&DATE(2006,MONTH(C926),DAY(C926)))","v":23},5.2,5.2,5.5,6.2,5.0999999999999996,4.9000000000000004,4.5,5.3,5.8,4.5999999999999996]
["MO200424","MO","2004-08-08",{"$f":"COUNTIF(Calculations!$E$56:$E$98,\"<=\"&DATE(2006,MONTH(C927),DAY(C927)))","v":24},4.9000000000000004,6.1,3.2,3.8,5.6,3.7,4.2,6.4,6.1,5.8]
["MO200425","MO","2004-08-15",{"$f":"COUNTIF(Calculations!$E$56:$E$98,\"<=\"&DATE(2006,MONTH(C928),DAY(C928)))","v":25},6.6,6.9,6.7,6.6,6.5,6.5,6.5,6.9,6.9,5.9]
["MO200426","MO","2004-08-22",{"$f":"COUNTIF(Calculations!$E$56:$E$98,\"<=\"&DATE(2006,MONTH(C929),DAY(C929)))","v":26},5.4,6.3,5.0999999999999996,4.5999999999999996,5.3,5.0999999999999996,5.0999999999999996,6,6,5.4]
["MO200427","MO","2004-08-29",{"$f":"COUNTIF(Calculations!$E$56:$E$98,\"<=\"&DATE(2006,MONTH(C930),DAY(C930)))","v":27},2.2999999999999998,2.1,1,0.8,2.6,1.4,0.7,6,4.7,3.6]
["MO200428","MO","2004-09-05",{"$f":"COUNTIF(Calculations!$E$56:$E$98,\"<=\"&DATE(2006,MONTH(C931),DAY(C931)))","v":28},5.7,5.7,4.2,5.0999999999999996,5.6,5.7,5.8,6.8,6.8,6.9]
["MO200429","MO","2004-09-12",{"$f":"COUNTIF(Calculations!$E$56:$E$98,\"<=\"&DATE(2006,MONTH(C932),DAY(C932)))","v":29},6.6,6.7,6.2,6.7,6,6.9,6.4,6.7,6.9,6.9]
["MO200430","MO","2004-09-19",{"$f":"COUNTIF(Calculations!$E$56:$E$98,\"<=\"&DATE(2006,MONTH(C933),DAY(C933)))","v":30},5.6,5.3,4.4000000000000004,4.7,5.9,5.5,5.6,7,6.9,6.9]
["MO200431","MO","2004-09-26",{"$f":"COUNTIF(Calculations!$E$56:$E$98,\"<=\"&DATE(2006,MONTH(C934),DAY(C934)))","v":31},6.7,6.7,6.6,6.7,6.1,6.8,6.5,7,6.9,7]
["MO200432","MO","2004-10-03",{"$f":"COUNTIF(Calculations!$E$56:$E$98,\"<=\"&DATE(2006,MONTH(C935),DAY(C935)))","v":32},6.3,6.2,5.5,5.8,6,6.4,6.6,7,7,7]
["MO200433","MO","2004-10-10",{"$f":"COUNTIF(Calculations!$E$56:$E$98,\"<=\"&DATE(2006,MONTH(C936),DAY(C936)))","v":33},4.8,4.9000000000000004,3.8,4.7,3.3,4.4000000000000004,5.3,5.2,6.4,6.7]
["MO200434","MO","2004-10-17",{"$f":"COUNTIF(Calculations!$E$56:$E$98,\"<=\"&DATE(2006,MONTH(C937),DAY(C937)))","v":34},3.3,4.9000000000000004,4.0999999999999996,3.1,2.4,2.8,2.4,3.3,4.2,2.4]
["MO200435","MO","2004-10-24",{"$f":"COUNTIF(Calculations!$E$56:$E$98,\"<=\"&DATE(2006,MONTH(C938),DAY(C938)))","v":35},3,3.6,2.2999999999999998,2.1,3.2,3.3,2.1,5.2,5.4,1.4]
["MO200436","MO","2004-10-31",{"$f":"COUNTIF(Calculations!$E$56:$E$98,\"<=\"&DATE(2006,MONTH(C939),DAY(C939)))","v":36},2,2.6,1.7,1.7,1.5,2.1,1.5,2.4,4,1.4]
["MO200437","MO","2004-11-07",{"$f":"COUNTIF(Calculations!$E$56:$E$98,\"<=\"&DATE(2006,MONTH(C940),DAY(C940)))","v":37},2.4,3,2.9,2.1,1.8,2.1,1.9,2.6,3.9,2.1]
["MO200438","MO","2004-11-14",{"$f":"COUNTIF(Calculations!$E$56:$E$98,\"<=\"&DATE(2006,MONTH(C941),DAY(C941)))","v":38},4.4000000000000004,6,5.5,5.4,2.9,3,3.2,4.2,5.3,4]
["MO200439","MO","2004-11-21",{"$f":"COUNTIF(Calculations!$E$56:$E$98,\"<=\"&DATE(2006,MONTH(C942),DAY(C942)))","v":39},3.4,3.8,5.2,4,2.4,2.1,2.2999999999999998,3.3,5.2,3.4]
["MO20056","MO","2005-04-02",{"$f":"COUNTIF(Calculations!$E$56:$E$98,\"<=\"&DATE(2006,MONTH(C943),DAY(C943)))","v":6},5.3,5.13,5.53,4.49,6.4,6.52,5.65,5.21,6.19,2.92]
["MO20057","MO","2005-04-09",{"$f":"COUNTIF(Calculations!$E$56:$E$98,\"<=\"&DATE(2006,MONTH(C944),DAY(C944)))","v":7},4.9000000000000004,4.0199999999999996,5.78,5.8,4.47,5.13,6.31,1.38,5.07,3.11]
["MO20058","MO","2005-04-16",{"$f":"COUNTIF(Calculations!$E$56:$E$98,\"<=\"&DATE(2006,MONTH(C945),DAY(C945)))","v":8},3.6,2.8,3.3,2.2999999999999998,5.4,4.4000000000000004,3.4,5.6,4.7,2.2999999999999998]
["MO20059","MO","2005-04-23",{"$f":"COUNTIF(Calculations!$E$56:$E$98,\"<=\"&DATE(2006,MONTH(C946),DAY(C946)))","v":9},3.8,2.8,2.6,3.2,5.4,3.9,3.4,5.7,5.4,4.3]
["MO200510","MO","2005-04-30",{"$f":"COUNTIF(Calculations!$E$56:$E$98,\"<=\"&DATE(2006,MONTH(C947),DAY(C947)))","v":10},3,2.7,2.8,3,3.2,2.4,2.2999999999999998,5.3,3.9,3]
["MO200511","MO","2005-05-07",{"$f":"COUNTIF(Calculations!$E$56:$E$98,\"<=\"&DATE(2006,MONTH(C948),DAY(C948)))","v":11},6.3,6.3,5.3,6,6.8,6.2,6.4,6.6,6.6,7]
["MO200512","MO","2005-05-14",{"$f":"COUNTIF(Calculations!$E$56:$E$98,\"<=\"&DATE(2006,MONTH(C949),DAY(C949)))","v":12},4,2.4,2.8,3.9,4.0999999999999996,4.2,5,5.4,5.7,5.0999999999999996]
["MO200513","MO","2005-05-21",{"$f":"COUNTIF(Calculations!$E$56:$E$98,\"<=\"&DATE(2006,MONTH(C950),DAY(C950)))","v":13},5.8,5.5,4.5,4.9000000000000004,5.8,6.3,5.8,6.8,6.5,6.5]
["MO200514","MO","2005-05-28",{"$f":"COUNTIF(Calculations!$E$56:$E$98,\"<=\"&DATE(2006,MONTH(C951),DAY(C951)))","v":14},6.5,6.6,6.1,6.4,6.7,6.4,6.3,5.7,6.9,7]
["MO200515","MO","2005-06-04",{"$f":"COUNTIF(Calculations!$E$56:$E$98,\"<=\"&DATE(2006,MONTH(C952),DAY(C952)))","v":15},5.5,2.8,4.5,5.8,4.8,6.3,6.9,6.9,7,6.7]
["MO200516","MO","2005-06-11",{"$f":"COUNTIF(Calculations!$E$56:$E$98,\"<=\"&DATE(2006,MONTH(C953),DAY(C953)))","v":16},3,1.6,1.3,3.5,1.2,2.9,4.5,4.7,6.2,3.6]
["MO200517","MO","2005-06-18",{"$f":"COUNTIF(Calculations!$E$56:$E$98,\"<=\"&DATE(2006,MONTH(C954),DAY(C954)))","v":17},5.8,6.3,5.4,5.7,5,6.2,5.6,5.3,6.1,6.5]
["MO200518","MO","2005-06-25",{"$f":"COUNTIF(Calculations!$E$56:$E$98,\"<=\"&DATE(2006,MONTH(C955),DAY(C955)))","v":18},6.9,6.9,6.8,6.8,6.8,6.9,6.8,6.8,6.6,7]
["MO200519","MO","2005-07-02",{"$f":"COUNTIF(Calculations!$E$56:$E$98,\"<=\"&DATE(2006,MONTH(C956),DAY(C956)))","v":19},5.7,4.7,4.5999999999999996,6.7,4.5,6.3,6.7,5.9,6.4,6.3]
["MO200520","MO","2005-07-09",{"$f":"COUNTIF(Calculations!$E$56:$E$98,\"<=\"&DATE(2006,MONTH(C957),DAY(C957)))","v":20},6.6,6.8,6.3,6.7,6.5,6.8,6.7,6.6,6.9,6.2]
["MO200521","MO","2005-07-16",{"$f":"COUNTIF(Calculations!$E$56:$E$98,\"<=\"&DATE(2006,MONTH(C958),DAY(C958)))","v":21},5.9,6.9,6.9,6.7,6.9,6.9,4.9000000000000004,6.9,5.4,0.7]
["MO200522","MO","2005-07-23",{"$f":"COUNTIF(Calculations!$E$56:$E$98,\"<=\"&DATE(2006,MONTH(C959),DAY(C959)))","v":22},6.1,5.7,6.8,6.9,6.5,6.9,6,6.7,5.9,3.8]
["MO200523","MO","2005-07-30",{"$f":"COUNTIF(Calculations!$E$56:$E$98,\"<=\"&DATE(2006,MONTH(C960),DAY(C960)))","v":23},6.2,5.2,5.7,6.3,6.3,6.4,6.5,6.5,6.5,6.9]
["MO200524","MO","2005-08-06",{"$f":"COUNTIF(Calculations!$E$56:$E$98,\"<=\"&DATE(2006,MONTH(C961),DAY(C961)))","v":24},6.7,6.7,6.7,6.7,6.5,6.7,6.6,6.7,6.5,6.7]
["MO200525","MO","2005-08-13",{"$f":"COUNTIF(Calculations!$E$56:$E$98,\"<=\"&DATE(2006,MONTH(C962),DAY(C962)))","v":25},5.4,4.5999999999999996,4.8,5.4,5.2,5.3,5,6.2,5.8,6.9]
["MO200526","MO","2005-08-20",{"$f":"COUNTIF(Calculations!$E$56:$E$98,\"<=\"&DATE(2006,MONTH(C963),DAY(C963)))","v":26},4,3.7,4,4.7,2.1,3.2,4.2,5.5,4.9000000000000004,4.9000000000000004]
["MO200527","MO","2005-08-27",{"$f":"COUNTIF(Calculations!$E$56:$E$98,\"<=\"&DATE(2006,MONTH(C964),DAY(C964)))","v":27},3.9,4.0999999999999996,3.9,4.4000000000000004,1.9,2.4,4,6.1,5.3,4.4000000000000004]
[{"$f":"B965&YEAR(C965)&D965","v":"MO200528"},"MO","2005-09-03",{"$f":"COUNTIF(Calculations!$E$56:$E$98,\"<=\"&DATE(2006,MONTH(C965),DAY(C965)))","v":28},6.3,6.5,6.7,6.7,5.4,6.9,6.6,6.5,6.9,4.8]
["MO200529","MO","2005-09-10",{"$f":"COUNTIF(Calculations!$E$56:$E$98,\"<=\"&DATE(2006,MONTH(C966),DAY(C966)))","v":29},6.9,6.6,6.9,6.8,6.5,7,6.9,7,7,7]
["MO200530","MO","2005-09-17",{"$f":"COUNTIF(Calculations!$E$56:$E$98,\"<=\"&DATE(2006,MONTH(C967),DAY(C967)))","v":30},4.4000000000000004,5.0999999999999996,5.6,4.8,3.7,4.0999999999999996,3.4,4.8,4.3,3.6]
["MO200531","MO","2005-09-24",{"$f":"COUNTIF(Calculations!$E$56:$E$98,\"<=\"&DATE(2006,MONTH(C968),DAY(C968)))","v":31},5.2,5.8,5,5.8,4.4000000000000004,4.2,4.3,6.8,5.2,5.6]
["MO200532","MO","2005-10-01",{"$f":"COUNTIF(Calculations!$E$56:$E$98,\"<=\"&DATE(2006,MONTH(C969),DAY(C969)))","v":32},5.0999999999999996,5,4.5,5.0999999999999996,5.2,5.0999999999999996,4.0999999999999996,6.5,5.6,5.4]
["MO200533","MO","2005-10-08",{"$f":"COUNTIF(Calculations!$E$56:$E$98,\"<=\"&DATE(2006,MONTH(C970),DAY(C970)))","v":33},6.1,5.0999999999999996,5.2,5.8,5.8,6.4,6.7,6.8,6.9,7]
["MO200534","MO","2005-10-15",{"$f":"COUNTIF(Calculations!$E$56:$E$98,\"<=\"&DATE(2006,MONTH(C971),DAY(C971)))","v":34},6.7,6.2,6.6,6.7,6.9,6.9,6.9,7,7,7]
["MO200535","MO","2005-10-22",{"$f":"COUNTIF(Calculations!$E$56:$E$98,\"<=\"&DATE(2006,MONTH(C972),DAY(C972)))","v":35},4.7,3.5,4.0999999999999996,4.4000000000000004,4.4000000000000004,3.9,4.2,6.8,6.7,6.6]
["MO200536","MO","2005-10-29",{"$f":"COUNTIF(Calculations!$E$56:$E$98,\"<=\"&DATE(2006,MONTH(C973),DAY(C973)))","v":36},6.4,6.1,6.1,6.4,6,6.3,6.3,7,6.7,7]
["MO200537","MO","2005-11-05",{"$f":"COUNTIF(Calculations!$E$56:$E$98,\"<=\"&DATE(2006,MONTH(C974),DAY(C974)))","v":37},5.7,6.4,5.9,5.8,5.6,5.2,4.2,5.5,6,6.1]
["MO200538","MO","2005-11-12",{"$f":"COUNTIF(Calculations!$E$56:$E$98,\"<=\"&DATE(2006,MONTH(C975),DAY(C975)))","v":38},6.4,6.8,6.6,6.6,6.1,6.2,6.2,6.3,1,6.2]
["MO20066","MO","2006-04-02",{"$f":"COUNTIF(Calculations!$E$56:$E$98,\"<=\"&DATE(2006,MONTH(C976),DAY(C976)))","v":6},3.3,2.8,1.9,1.6,3.3,3.8,2.2999999999999998,6,5.2,4.5]
["MO20067","MO","2006-04-09",{"$f":"COUNTIF(Calculations!$E$56:$E$98,\"<=\"&DATE(2006,MONTH(C977),DAY(C977)))","v":7},4.9000000000000004,4.8,3.9,4.8,6.1,5.4,3.7,6.6,5.9,4.5999999999999996]
["MO20068","MO","2006-04-16",{"$f":"COUNTIF(Calculations!$E$56:$E$98,\"<=\"&DATE(2006,MONTH(C978),DAY(C978)))","v":8},6.4,5.8,6.1,6.5,6.3,6.8,6.7,6.9,6.8,6.5]
["MO20069","MO","2006-04-23",{"$f":"COUNTIF(Calculations!$E$56:$E$98,\"<=\"&DATE(2006,MONTH(C979),DAY(C979)))","v":9},6.4,6.4,3.2,6.7,6.7,6.4,5.7,7,6.6,5.8]
["MO200610","MO","2006-04-30",{"$f":"COUNTIF(Calculations!$E$56:$E$98,\"<=\"&DATE(2006,MONTH(C980),DAY(C980)))","v":10},3.6,3.4,4.2,4.7,1.8,3.4,4.4000000000000004,3.4,4,3.2]
["MO200611","MO","2006-05-07",{"$f":"COUNTIF(Calculations!$E$56:$E$98,\"<=\"&DATE(2006,MONTH(C981),DAY(C981)))","v":11},1.9,1.1000000000000001,1.7,2.1,1.2,3,2.6,2.9,2.8,0.9]
["MO200612","MO","2006-05-14",{"$f":"COUNTIF(Calculations!$E$56:$E$98,\"<=\"&DATE(2006,MONTH(C982),DAY(C982)))","v":12},3.2,3.7,3.8,4.4000000000000004,3.3,4,1.2,3.4,3,1.2]
["MO200613","MO","2006-05-21",{"$f":"COUNTIF(Calculations!$E$56:$E$98,\"<=\"&DATE(2006,MONTH(C983),DAY(C983)))","v":13},5.7,6.6,6.3,6.4,5.6,5.9,4,6.5,4.2,4.0999999999999996]
["MO200614","MO","2006-05-28",{"$f":"COUNTIF(Calculations!$E$56:$E$98,\"<=\"&DATE(2006,MONTH(C984),DAY(C984)))","v":14},6.1,6.1,6.7,6.8,6.7,6.5,6.6,6,6,4]
["MO200615","MO","2006-06-04",{"$f":"COUNTIF(Calculations!$E$56:$E$98,\"<=\"&DATE(2006,MONTH(C985),DAY(C985)))","v":15},4.9000000000000004,5.7,4.4000000000000004,3.3,4.2,5.0999999999999996,5.0999999999999996,5.8,6.1,4.9000000000000004]
["MO200616","MO","2006-06-11",{"$f":"COUNTIF(Calculations!$E$56:$E$98,\"<=\"&DATE(2006,MONTH(C986),DAY(C986)))","v":16},5.8,5.8,5.0999999999999996,4.9000000000000004,4.8,6.1,5.8,6.5,6.7,6.9]
["MO200617","MO","2006-06-18",{"$f":"COUNTIF(Calculations!$E$56:$E$98,\"<=\"&DATE(2006,MONTH(C987),DAY(C987)))","v":17},6,6.7,5.7,6.3,5.8,6,5.5,6.1,5.8,5.9]
["MO200618","MO","2006-06-25",{"$f":"COUNTIF(Calculations!$E$56:$E$98,\"<=\"&DATE(2006,MONTH(C988),DAY(C988)))","v":18},5.5,4.9000000000000004,4.5999999999999996,5.4,5.9,5.8,5.3,6.2,6.5,5.3]
["MO200619","MO","2006-07-02",{"$f":"COUNTIF(Calculations!$E$56:$E$98,\"<=\"&DATE(2006,MONTH(C989),DAY(C989)))","v":19},6.4,6.7,6.3,5.7,6.8,6.2,6.2,6.9,6.7,6.9]
["MO200620","MO","2006-07-09",{"$f":"COUNTIF(Calculations!$E$56:$E$98,\"<=\"&DATE(2006,MONTH(C990),DAY(C990)))","v":20},6.6,6.4,6.4,6.7,6.6,6.6,6.7,6.9,6.9,6.7]
["MO200621","MO","2006-07-16",{"$f":"COUNTIF(Calculations!$E$56:$E$98,\"<=\"&DATE(2006,MONTH(C991),DAY(C991)))","v":21},4.8,5.4,5.5,5.2,4.8,5.2,4.9000000000000004,5.0999999999999996,4.2,2.6]
["MO200622","MO","2006-07-23",{"$f":"COUNTIF(Calculations!$E$56:$E$98,\"<=\"&DATE(2006,MONTH(C992),DAY(C992)))","v":22},6.1,5.4,5.7,6.1,6.8,6.3,5.8,7,6.3,5.9]
["MO200623","MO","2006-07-30",{"$f":"COUNTIF(Calculations!$E$56:$E$98,\"<=\"&DATE(2006,MONTH(C993),DAY(C993)))","v":23},6.4,6.8,6.4,6.5,6.7,6.9,6.2,6.9,6.5,5.2]
["MO200624","MO","2006-08-06",{"$f":"COUNTIF(Calculations!$E$56:$E$98,\"<=\"&DATE(2006,MONTH(C994),DAY(C994)))","v":24},6.5,5.5,6.5,6.5,6.7,6.9,6.8,6.9,6.8,6.2]
["MO200625","MO","2006-08-13",{"$f":"COUNTIF(Calculations!$E$56:$E$98,\"<=\"&DATE(2006,MONTH(C995),DAY(C995)))","v":25},5.9,5.0999999999999996,5.2,5.2,6.8,6.8,6,6.6,6.3,5.6]
["MO200626","MO","2006-08-20",{"$f":"COUNTIF(Calculations!$E$56:$E$98,\"<=\"&DATE(2006,MONTH(C996),DAY(C996)))","v":26},5.6,3,4.3,5.9,6.8,6.8,5.7,6.9,6.8,6.2]
["MO200627","MO","2006-08-27",{"$f":"COUNTIF(Calculations!$E$56:$E$98,\"<=\"&DATE(2006,MONTH(C997),DAY(C997)))","v":27},4.8,3,4.2,4.9000000000000004,4.8,4.9000000000000004,5.0999999999999996,5.6,5.4,6]
["MO200628","MO","2006-09-03",{"$f":"COUNTIF(Calculations!$E$56:$E$98,\"<=\"&DATE(2006,MONTH(C998),DAY(C998)))","v":28},5.8,5.2,4.8,5.7,5.6,6.4,5.7,7,6.7,5.9]
["MO200629","MO","2006-09-10",{"$f":"COUNTIF(Calculations!$E$56:$E$98,\"<=\"&DATE(2006,MONTH(C999),DAY(C999)))","v":29},6.2,4.7,5.4,6.4,6.2,6.5,6.2,6.9,6.9,7]
["MO200630","MO","2006-09-17",{"$f":"COUNTIF(Calculations!$E$56:$E$98,\"<=\"&DATE(2006,MONTH(C1000),DAY(C1000)))","v":30},5.7,4.8,5.0999999999999996,5.5,5.8,5.9,5.6,6.2,6.3,6.3]
["MO200631","MO","2006-09-24",{"$f":"COUNTIF(Calculations!$E$56:$E$98,\"<=\"&DATE(2006,MONTH(C1001),DAY(C1001)))","v":31},5.4,4.9000000000000004,5.8,6,6.3,6.3,5.2,5.9,5,2.6]
["MO200632","MO","2006-10-01",{"$f":"COUNTIF(Calculations!$E$56:$E$98,\"<=\"&DATE(2006,MONTH(C1002),DAY(C1002)))","v":32},6.3,6.7,6.6,6.8,6.8,6.9,6.2,7,6.1,3.1]
["MO200633","MO","2006-10-08",{"$f":"COUNTIF(Calculations!$E$56:$E$98,\"<=\"&DATE(2006,MONTH(C1003),DAY(C1003)))","v":33},6.9,6.8,6.8,6.7,6.9,7,6.8,6.9,7,6.8]
["MO200634","MO","2006-10-15",{"$f":"COUNTIF(Calculations!$E$56:$E$98,\"<=\"&DATE(2006,MONTH(C1004),DAY(C1004)))","v":34},6.1,5.2,5.6,5.9,5.7,6.1,6.5,6.7,6.8,6.7]
["MO200635","MO","2006-10-22",{"$f":"COUNTIF(Calculations!$E$56:$E$98,\"<=\"&DATE(2006,MONTH(C1005),DAY(C1005)))","v":35},3.5,3.3,2.9,2.8,3.7,4.0999999999999996,4.3,6.3,4.5999999999999996,1.5]
["MO200636","MO","2006-10-29",{"$f":"COUNTIF(Calculations!$E$56:$E$98,\"<=\"&DATE(2006,MONTH(C1006),DAY(C1006)))","v":36},3.2,3,2.2000000000000002,3.5,2.7,3.6,3.6,5.3,3.3,2.6]
["MO200637","MO","2006-11-05",{"$f":"COUNTIF(Calculations!$E$56:$E$98,\"<=\"&DATE(2006,MONTH(C1007),DAY(C1007)))","v":37},5.5,6.4,5.7,5.7,6.1,5.6,5.7,6.3,4.5999999999999996,3.4]
["MO200638","MO","2006-11-12",{"$f":"COUNTIF(Calculations!$E$56:$E$98,\"<=\"&DATE(2006,MONTH(C1008),DAY(C1008)))","v":38},4.8,5.9,4.9000000000000004,5.0999999999999996,5.4,5.7,4.3,6.4,3.5,1.4]
["MO200639","MO","2006-11-19",{"$f":"COUNTIF(Calculations!$E$56:$E$98,\"<=\"&DATE(2006,MONTH(C1009),DAY(C1009)))","v":39},5,6.7,6.2,4.7,5.5,5.6,3.6,5.5,3.8,1.5]
["MO20076","MO","2007-04-01",{"$f":"COUNTIF(Calculations!$E$56:$E$98,\"<=\"&DATE(2006,MONTH(C1010),DAY(C1010)))","v":6},2.9,2.7,1.8,1.2,2.5,2.2999999999999998,2.9,3.6,4.5999999999999996,5.2]
["MO20077","MO","2007-04-08",{"$f":"COUNTIF(Calculations!$E$56:$E$98,\"<=\"&DATE(2006,MONTH(C1011),DAY(C1011)))","v":7},3.6,3.7,1.5,1.5,5.2,3.5,3.5,4.9000000000000004,6.1,4.4000000000000004]
["MO20078","MO","2007-04-15",{"$f":"COUNTIF(Calculations!$E$56:$E$98,\"<=\"&DATE(2006,MONTH(C1012),DAY(C1012)))","v":8},2,1.2,1.9,1.4,1.6,1.5,2.2999999999999998,3.3,4.0999999999999996,2.5]
["MO20079","MO","2007-04-22",{"$f":"COUNTIF(Calculations!$E$56:$E$98,\"<=\"&DATE(2006,MONTH(C1013),DAY(C1013)))","v":9},4.9000000000000004,5.3,4.5999999999999996,4.4000000000000004,3.5,4.8,4.4000000000000004,5.2,6.6,5.3]
["MO200710","MO","2007-04-29",{"$f":"COUNTIF(Calculations!$E$56:$E$98,\"<=\"&DATE(2006,MONTH(C1014),DAY(C1014)))","v":10},3.1,2.7,2,2.6,2.7,2.7,3.9,3.9,4.5,5]
["MO200711","MO","2007-05-06",{"$f":"COUNTIF(Calculations!$E$56:$E$98,\"<=\"&DATE(2006,MONTH(C1015),DAY(C1015)))","v":11},2.2999999999999998,2.8,1.4,2.1,0.4,1.8,2.5,3.5,3.9,3.3]
["MO200712","MO","2007-05-13",{"$f":"COUNTIF(Calculations!$E$56:$E$98,\"<=\"&DATE(2006,MONTH(C1016),DAY(C1016)))","v":12},3,1.7,1.6,3.6,0.7,2.9,4.8,3.5,5.0999999999999996,5.2]
["MO200713","MO","2007-05-20",{"$f":"COUNTIF(Calculations!$E$56:$E$98,\"<=\"&DATE(2006,MONTH(C1017),DAY(C1017)))","v":13},5.5,5.6,4.8,5.7,4.3,5.9,6.2,5.8,5.5,5.7]
["MO200714","MO","2007-05-27",{"$f":"COUNTIF(Calculations!$E$56:$E$98,\"<=\"&DATE(2006,MONTH(C1018),DAY(C1018)))","v":14},4.8,3.8,4.3,5.2,4.4000000000000004,4.5999999999999996,4.4000000000000004,4.5,5.7,6.8]
["MO200715","MO","2007-06-03",{"$f":"COUNTIF(Calculations!$E$56:$E$98,\"<=\"&DATE(2006,MONTH(C1019),DAY(C1019)))","v":15},3.7,3.1,2.6,3.4,2.1,3.4,4.4000000000000004,2.7,4.4000000000000004,6.4]
["MO200716","MO","2007-06-10",{"$f":"COUNTIF(Calculations!$E$56:$E$98,\"<=\"&DATE(2006,MONTH(C1020),DAY(C1020)))","v":16},5.0999999999999996,5.4,4.4000000000000004,5.0999999999999996,5.0999999999999996,5,5.6,3.8,5.7,5.4]
["MO200717","MO","2007-06-17",{"$f":"COUNTIF(Calculations!$E$56:$E$98,\"<=\"&DATE(2006,MONTH(C1021),DAY(C1021)))","v":17},6.1,6.7,6.4,6.5,5.7,5.9,6.6,3.1,5.8,7]
["MO200718","MO","2007-06-24",{"$f":"COUNTIF(Calculations!$E$56:$E$98,\"<=\"&DATE(2006,MONTH(C1022),DAY(C1022)))","v":18},5.8,5.8,5.5,5.9,5.9,5.9,6,5.6,5.8,5.8]
["MO200719","MO","2007-07-01",{"$f":"COUNTIF(Calculations!$E$56:$E$98,\"<=\"&DATE(2006,MONTH(C1023),DAY(C1023)))","v":19},3.7,5.3,3.2,4.5,1.7,2.8,3.5,1.4,4.3,4.9000000000000004]
["MO200720","MO","2007-07-08",{"$f":"COUNTIF(Calculations!$E$56:$E$98,\"<=\"&DATE(2006,MONTH(C1024),DAY(C1024)))","v":20},5.7,6.3,6.1,6.1,3.7,6.5,5.6,5.4,6.3,4.8]
["MO200721","MO","2007-07-15",{"$f":"COUNTIF(Calculations!$E$56:$E$98,\"<=\"&DATE(2006,MONTH(C1025),DAY(C1025)))","v":21},6.2,6.3,5.6,6.1,5.7,6.6,6.8,5.7,6.6,6.7]
["MO200722","MO","2007-07-22",{"$f":"COUNTIF(Calculations!$E$56:$E$98,\"<=\"&DATE(2006,MONTH(C1026),DAY(C1026)))","v":22},6.4,6.6,6.6,6.1,6.6,6,5.8,6.3,6.3,6.7]
["MO200723","MO","2007-07-29",{"$f":"COUNTIF(Calculations!$E$56:$E$98,\"<=\"&DATE(2006,MONTH(C1027),DAY(C1027)))","v":23},6.7,6.5,6.8,6.7,7,6.7,6.7,6.5,6.7,7]
["MO200724","MO","2007-08-05",{"$f":"COUNTIF(Calculations!$E$56:$E$98,\"<=\"&DATE(2006,MONTH(C1028),DAY(C1028)))","v":24},6.8,6.5,6.9,6.9,6.6,6.9,6.8,7,6.9,7]
[{"$f":"B1029&YEAR(C1029)&D1029","v":"MO200725"},"MO","2007-08-12",{"$f":"COUNTIF(Calculations!$E$56:$E$98,\"<=\"&DATE(2006,MONTH(C1029),DAY(C1029)))","v":25},6.3,4.5999999999999996,5.5,5.8,6.8,6.9,6.8,7,5.9,7]
["MO200727","MO","2007-08-26",{"$f":"COUNTIF(Calculations!$E$56:$E$98,\"<=\"&DATE(2006,MONTH(C1030),DAY(C1030)))","v":27},5.0999999999999996,4.0999999999999996,4.4000000000000004,4.5,5.9,4.9000000000000004,5.6,4.7,5.9,7]
["MO200728","MO","2007-09-02",{"$f":"COUNTIF(Calculations!$E$56:$E$98,\"<=\"&DATE(2006,MONTH(C1031),DAY(C1031)))","v":28},6.8,6.6,6.7,5.6,6.8,6.7,6.9,7,6.6,7]
["MO200729","MO","2007-09-09",{"$f":"COUNTIF(Calculations!$E$56:$E$98,\"<=\"&DATE(2006,MONTH(C1032),DAY(C1032)))","v":29},5,5.7,5.0999999999999996,6,5.3,5.3,4,4,4.3,4.8]
["MO200730","MO","2007-09-16",{"$f":"COUNTIF(Calculations!$E$56:$E$98,\"<=\"&DATE(2006,MONTH(C1033),DAY(C1033)))","v":30},6.6,6.7,6.6,6.6,6.5,6.7,6.5,6.1,6.9,6.6]
["MO200731","MO","2007-09-23",{"$f":"COUNTIF(Calculations!$E$56:$E$98,\"<=\"&DATE(2006,MONTH(C1034),DAY(C1034)))","v":31},6.7,5.7,6.5,6.9,6.9,6.9,6.9,6.8,6.9,7]
["MO200732","MO","2007-09-30",{"$f":"COUNTIF(Calculations!$E$56:$E$98,\"<=\"&DATE(2006,MONTH(C1035),DAY(C1035)))","v":32},5.8,5.7,5.6,6.1,6.2,6,6.7,6.6,6,4.3]
["MO200733","MO","2007-10-07",{"$f":"COUNTIF(Calculations!$E$56:$E$98,\"<=\"&DATE(2006,MONTH(C1036),DAY(C1036)))","v":33},5.8,5.8,4.9000000000000004,5.7,5,5.7,6.1,6.2,6.6,6.7]
["MO200734","MO","2007-10-14",{"$f":"COUNTIF(Calculations!$E$56:$E$98,\"<=\"&DATE(2006,MONTH(C1037),DAY(C1037)))","v":34},5.6,4.4000000000000004,4.5,5.9,5.7,5.7,6.6,6.4,6.5,6.4]
["MO200735","MO","2007-10-21",{"$f":"COUNTIF(Calculations!$E$56:$E$98,\"<=\"&DATE(2006,MONTH(C1038),DAY(C1038)))","v":35},3.9,2.4,2.4,4.9000000000000004,3.2,4.5,5.3,6,5.8,2.6]
["MO200736","MO","2007-10-28",{"$f":"COUNTIF(Calculations!$E$56:$E$98,\"<=\"&DATE(2006,MONTH(C1039),DAY(C1039)))","v":36},4.7,5,5.2,5.6,5.3,5.4,4.4000000000000004,5.7,4.5999999999999996,0.4]
["MO200737","MO","2007-11-04",{"$f":"COUNTIF(Calculations!$E$56:$E$98,\"<=\"&DATE(2006,MONTH(C1040),DAY(C1040)))","v":37},6.8,6.8,6.9,6.9,7,6.9,6.7,7,6.7,6.6]
["MO200738","MO","2007-11-11",{"$f":"COUNTIF(Calculations!$E$56:$E$98,\"<=\"&DATE(2006,MONTH(C1041),DAY(C1041)))","v":38},6.6,6.9,6.6,6.8,6.9,6.8,6.7,7,6.4,5.7]
["MO200739","MO","2007-11-18",{"$f":"COUNTIF(Calculations!$E$56:$E$98,\"<=\"&DATE(2006,MONTH(C1042),DAY(C1042)))","v":39},6.2,6.9,6.4,6.7,6.9,6.1,6.2,6.7,6.1,4.3]
["MO20085","MO","2008-03-31",{"$f":"COUNTIF(Calculations!$E$56:$E$98,\"<=\"&DATE(2006,MONTH(C1043),DAY(C1043)))","v":5},1.8,3.7,1.9,1,3.5,1,0.4,2,1.2,0.5]
["MO20086","MO","2008-04-06",{"$f":"COUNTIF(Calculations!$E$56:$E$98,\"<=\"&DATE(2006,MONTH(C1044),DAY(C1044)))","v":6},2.1,3.7,3.2,1.8,2.2999999999999998,1.2,0.7,2.2000000000000002,2.2999999999999998,0]
["MO20087","MO","2008-04-13",{"$f":"COUNTIF(Calculations!$E$56:$E$98,\"<=\"&DATE(2006,MONTH(C1045),DAY(C1045)))","v":7},0.8,1.7,0.6,0.5,0.7,0.5,0.5,0.9,1.3,0.1]
["MO20088","MO","2008-04-20",{"$f":"COUNTIF(Calculations!$E$56:$E$98,\"<=\"&DATE(2006,MONTH(C1046),DAY(C1046)))","v":8},1.8,0.9,0.9,1.5,1.9,1.9,1.9,2.9,3.3,2.1]
["MO20089","MO","2008-04-27",{"$f":"COUNTIF(Calculations!$E$56:$E$98,\"<=\"&DATE(2006,MONTH(C1047),DAY(C1047)))","v":9},1.6,0.8,0.3,0.5,1.2,1.2,2.2999999999999998,3.7,4,3.8]
["MO200810","MO","2008-05-04",{"$f":"COUNTIF(Calculations!$E$56:$E$98,\"<=\"&DATE(2006,MONTH(C1048),DAY(C1048)))","v":10},3,2.4,1.1000000000000001,1.8,2.4,3.4,4.2,4.8,4.7,4.0999999999999996]
["MO200811","MO","2008-05-11",{"$f":"COUNTIF(Calculations!$E$56:$E$98,\"<=\"&DATE(2006,MONTH(C1049),DAY(C1049)))","v":11},2.5,2.4,2,1.6,1.2,2.2000000000000002,1.7,3.6,3.6,4.2]
["MO200812","MO","2008-05-18",{"$f":"COUNTIF(Calculations!$E$56:$E$98,\"<=\"&DATE(2006,MONTH(C1050),DAY(C1050)))","v":12},3.8,4.9000000000000004,3.9,2.2999999999999998,4.4000000000000004,3.2,1.2,4.5999999999999996,4.4000000000000004,3.8]
["MO200813","MO","2008-05-25",{"$f":"COUNTIF(Calculations!$E$56:$E$98,\"<=\"&DATE(2006,MONTH(C1051),DAY(C1051)))","v":13},4.0999999999999996,3.7,4,3.6,4,3.2,3.2,5,5,6.3]
["MO200814","MO","2008-06-01",{"$f":"COUNTIF(Calculations!$E$56:$E$98,\"<=\"&DATE(2006,MONTH(C1052),DAY(C1052)))","v":14},3.2,2.9,2.6,2.5,1.8,3.7,3.3,3.8,4.5,4.3]
["MO200815","MO","2008-06-08",{"$f":"COUNTIF(Calculations!$E$56:$E$98,\"<=\"&DATE(2006,MONTH(C1053),DAY(C1053)))","v":15},3.2,2.8,1.3,1.6,1.2,2.7,4,3.9,5.8,6.6]
["MO200816","MO","2008-06-15",{"$f":"COUNTIF(Calculations!$E$56:$E$98,\"<=\"&DATE(2006,MONTH(C1054),DAY(C1054)))","v":16},2.5,1.6,0.5,0.9,0.7,2.2999999999999998,3.5,2.8,5.2,6.2]
["MO200817","MO","2008-06-22",{"$f":"COUNTIF(Calculations!$E$56:$E$98,\"<=\"&DATE(2006,MONTH(C1055),DAY(C1055)))","v":17},3.9,3.3,2.6,4.5999999999999996,2.1,3.3,5,4.4000000000000004,5.6,6.1]
["MO200818","MO","2008-06-29",{"$f":"COUNTIF(Calculations!$E$56:$E$98,\"<=\"&DATE(2006,MONTH(C1056),DAY(C1056)))","v":18},3.4,2,1.1000000000000001,2.5,3.9,3.2,4.3,4.4000000000000004,5.4,5.8]
["MO200819","MO","2008-07-06",{"$f":"COUNTIF(Calculations!$E$56:$E$98,\"<=\"&DATE(2006,MONTH(C1057),DAY(C1057)))","v":19},4.8,4.5999999999999996,3.1,4.4000000000000004,4.9000000000000004,4.0999999999999996,4.2,6.2,5.7,6.9]
["MO200820","MO","2008-07-13",{"$f":"COUNTIF(Calculations!$E$56:$E$98,\"<=\"&DATE(2006,MONTH(C1058),DAY(C1058)))","v":20},4.4000000000000004,4.5999999999999996,3.5,3.1,4.7,4.2,4.3,5.5,5.6,4.8]
["MO200821","MO","2008-07-20",{"$f":"COUNTIF(Calculations!$E$56:$E$98,\"<=\"&DATE(2006,MONTH(C1059),DAY(C1059)))","v":21},6.3,5.5,5.9,5.5,6.8,6.8,6.7,6.9,6.7,6.8]
["MO200822","MO","2008-07-27",{"$f":"COUNTIF(Calculations!$E$56:$E$98,\"<=\"&DATE(2006,MONTH(C1060),DAY(C1060)))","v":22},4.5999999999999996,5.2,2.4,1.6,6,4,4.0999999999999996,6.4,6.3,5.8]
["MO200823","MO","2008-08-03",{"$f":"COUNTIF(Calculations!$E$56:$E$98,\"<=\"&DATE(2006,MONTH(C1061),DAY(C1061)))","v":23},4.9000000000000004,5.2,4,3,5.5,4.4000000000000004,3.2,6.9,6,5.7]
["MO200824","MO","2008-08-10",{"$f":"COUNTIF(Calculations!$E$56:$E$98,\"<=\"&DATE(2006,MONTH(C1062),DAY(C1062)))","v":24},6.4,6.7,6.7,6.2,5.6,6.5,5.4,6.1,6.6,6.5]
["MO200825","MO","2008-08-17",{"$f":"COUNTIF(Calculations!$E$56:$E$98,\"<=\"&DATE(2006,MONTH(C1063),DAY(C1063)))","v":25},6.3,6.5,5.2,6.5,6.4,5.8,6.4,6.7,6.6,6.7]
["MO200826","MO","2008-08-24",{"$f":"COUNTIF(Calculations!$E$56:$E$98,\"<=\"&DATE(2006,MONTH(C1064),DAY(C1064)))","v":26},5.7,6.3,5,5.5,6.8,5.2,5.0999999999999996,6.6,6.3,4.8]
["MO200827","MO","2008-08-31",{"$f":"COUNTIF(Calculations!$E$56:$E$98,\"<=\"&DATE(2006,MONTH(C1065),DAY(C1065)))","v":27},6.1,6.1,5.5,5.6,6.6,5.4,6.2,6.9,6.3,7]
["MO200828","MO","2008-09-07",{"$f":"COUNTIF(Calculations!$E$56:$E$98,\"<=\"&DATE(2006,MONTH(C1066),DAY(C1066)))","v":28},3.6,4.4000000000000004,2.5,2.4,3.4,3.7,3.5,3.2,4.0999999999999996,4.4000000000000004]
["MO200829","MO","2008-09-14",{"$f":"COUNTIF(Calculations!$E$56:$E$98,\"<=\"&DATE(2006,MONTH(C1067),DAY(C1067)))","v":29},2.9,2.4,0.4,0.6,2.5,2.5,2.7,4.5,5.3,6.2]
["MO200830","MO","2008-09-21",{"$f":"COUNTIF(Calculations!$E$56:$E$98,\"<=\"&DATE(2006,MONTH(C1068),DAY(C1068)))","v":30},4.9000000000000004,6.2,4.4000000000000004,3.6,4.5999999999999996,5,4.2,5.9,5.2,4.7]
["MO200831","MO","2008-09-28",{"$f":"COUNTIF(Calculations!$E$56:$E$98,\"<=\"&DATE(2006,MONTH(C1069),DAY(C1069)))","v":31},6.4,5.5,6.4,6.3,6.6,6.5,6.3,7,6.7,6.8]
["MO200832","MO","2008-10-05",{"$f":"COUNTIF(Calculations!$E$56:$E$98,\"<=\"&DATE(2006,MONTH(C1070),DAY(C1070)))","v":32},6.7,6.9,6.4,6.1,7,6.6,6.4,7,7,6.8]
["MO200833","MO","2008-10-12",{"$f":"COUNTIF(Calculations!$E$56:$E$98,\"<=\"&DATE(2006,MONTH(C1071),DAY(C1071)))","v":33},5.9,5.6,5.8,4.9000000000000004,6.2,6.2,5.7,7,6.3,6.1]
["MO200834","MO","2008-10-19",{"$f":"COUNTIF(Calculations!$E$56:$E$98,\"<=\"&DATE(2006,MONTH(C1072),DAY(C1072)))","v":34},4.4000000000000004,3.2,3.8,3.7,4.0999999999999996,4.8,5.4,5.5,6,4.5999999999999996]
["MO200835","MO","2008-10-26",{"$f":"COUNTIF(Calculations!$E$56:$E$98,\"<=\"&DATE(2006,MONTH(C1073),DAY(C1073)))","v":35},3.7,2.4,3.2,2.9,3.3,4.2,4.5,4.9000000000000004,5.7,4]
["MO200836","MO","2008-11-02",{"$f":"COUNTIF(Calculations!$E$56:$E$98,\"<=\"&DATE(2006,MONTH(C1074),DAY(C1074)))","v":36},6.5,6.2,6.5,6.4,6.1,6.2,6.3,7,7,6.9]
["MO200837","MO","2008-11-09",{"$f":"COUNTIF(Calculations!$E$56:$E$98,\"<=\"&DATE(2006,MONTH(C1075),DAY(C1075)))","v":37},5.3,4.9000000000000004,4.0999999999999996,5,4.4000000000000004,5.5,6.1,6,6.4,6]
["MO200838","MO","2008-11-16",{"$f":"COUNTIF(Calculations!$E$56:$E$98,\"<=\"&DATE(2006,MONTH(C1076),DAY(C1076)))","v":38},3.9,3,3.3,4.0999999999999996,3.5,4.8,4.8,6,5.5,2.7]
["MO200839","MO","2008-11-23",{"$f":"COUNTIF(Calculations!$E$56:$E$98,\"<=\"&DATE(2006,MONTH(C1077),DAY(C1077)))","v":39},6.2,6.3,5.6,6.5,6.6,6.7,6.6,7,6,5.3]
["MO20095","MO","2009-03-29",{"$f":"COUNTIF(Calculations!$E$56:$E$98,\"<=\"&DATE(2006,MONTH(C1078),DAY(C1078)))","v":5},3,2.8,1.5,1.2,3.1,3.7,3.5,5.9,4.8,3.2]
["MO20096","MO","2009-04-05",{"$f":"COUNTIF(Calculations!$E$56:$E$98,\"<=\"&DATE(2006,MONTH(C1079),DAY(C1079)))","v":6},1.6,1.2,0.7,0.8,0.6,2.4,1.8,3.4,3.5,2.2999999999999998]
["MO20097","MO","2009-04-12",{"$f":"COUNTIF(Calculations!$E$56:$E$98,\"<=\"&DATE(2006,MONTH(C1080),DAY(C1080)))","v":7},2.2000000000000002,1.9,1,1.4,1.1000000000000001,2.5,2.2000000000000002,3.9,3.3,3.3]
["MO20098","MO","2009-04-19",{"$f":"COUNTIF(Calculations!$E$56:$E$98,\"<=\"&DATE(2006,MONTH(C1081),DAY(C1081)))","v":8},1.7,1.8,1.1000000000000001,0.5,0.9,1.7,1.7,4.3,3.2,1.9]
["MO20099","MO","2009-04-26",{"$f":"COUNTIF(Calculations!$E$56:$E$98,\"<=\"&DATE(2006,MONTH(C1082),DAY(C1082)))","v":9},4.2,3.9,3.5,3.1,3.3,4.5,4.5999999999999996,5.9,4.5,4.8]
["MO200910","MO","2009-05-03",{"$f":"COUNTIF(Calculations!$E$56:$E$98,\"<=\"&DATE(2006,MONTH(C1083),DAY(C1083)))","v":10},0.7,0.7,0.7,0.1,0.4,0.4,0.6,1.3,1.7,0.9]
["MO200911","MO","2009-05-10",{"$f":"COUNTIF(Calculations!$E$56:$E$98,\"<=\"&DATE(2006,MONTH(C1084),DAY(C1084)))","v":11},1.6,3.5,2.2999999999999998,1.1000000000000001,0.9,1,0.6,2,2,0.3]
["MO200912","MO","2009-05-17",{"$f":"COUNTIF(Calculations!$E$56:$E$98,\"<=\"&DATE(2006,MONTH(C1085),DAY(C1085)))","v":12},1.9,3.2,2,1.2,1,1.9,1.7,2.7,2.4,1.2]
["MO200913","MO","2009-05-24",{"$f":"COUNTIF(Calculations!$E$56:$E$98,\"<=\"&DATE(2006,MONTH(C1086),DAY(C1086)))","v":13},5.4,6.3,4.9000000000000004,5.2,5.7,5.0999999999999996,5.7,4.9000000000000004,4.3,5.2]
["MO200914","MO","2009-05-31",{"$f":"COUNTIF(Calculations!$E$56:$E$98,\"<=\"&DATE(2006,MONTH(C1087),DAY(C1087)))","v":14},3.1,3.1,3.2,2.6,3.3,3.1,1.6,5.5,4.4000000000000004,2.7]
["MO200915","MO","2009-06-07",{"$f":"COUNTIF(Calculations!$E$56:$E$98,\"<=\"&DATE(2006,MONTH(C1088),DAY(C1088)))","v":15},4.2,3.8,3.2,3,5,5.5,3.5,6.7,5.0999999999999996,3.1]
["MO200916","MO","2009-06-14",{"$f":"COUNTIF(Calculations!$E$56:$E$98,\"<=\"&DATE(2006,MONTH(C1089),DAY(C1089)))","v":16},2.7,1.4,1.7,1.6,1.8,2.9,2.5,5.3,4.5999999999999996,4]
["MO200917","MO","2009-06-21",{"$f":"COUNTIF(Calculations!$E$56:$E$98,\"<=\"&DATE(2006,MONTH(C1090),DAY(C1090)))","v":17},2.6,1.4,1.1000000000000001,1.8,2,2.2000000000000002,1.8,5.5,4.2,4.5999999999999996]
["MO200918","MO","2009-06-28",{"$f":"COUNTIF(Calculations!$E$56:$E$98,\"<=\"&DATE(2006,MONTH(C1091),DAY(C1091)))","v":18},5.4,4.8,4.2,4.3,4.8,5.5,6.3,6.7,6.2,6.4]
["MO200919","MO","2009-07-05",{"$f":"COUNTIF(Calculations!$E$56:$E$98,\"<=\"&DATE(2006,MONTH(C1092),DAY(C1092)))","v":19},5.4,5.4,5.2,5.4,4.5999999999999996,5.3,5.2,5.9,6.2,6.3]
[{"$f":"B1093&YEAR(C1093)&D1093","v":"MO200920"},"MO","2009-07-12",{"$f":"COUNTIF(Calculations!$E$56:$E$98,\"<=\"&DATE(2006,MONTH(C1093),DAY(C1093)))","v":20},5,3.9,4.4000000000000004,4.3,4.9000000000000004,4.7,4.2,6.3,6.7,6.4]
["MO200921","MO","2009-07-19",{"$f":"COUNTIF(Calculations!$E$56:$E$98,\"<=\"&DATE(2006,MONTH(C1094),DAY(C1094)))","v":21},5.0999999999999996,5.2,5.7,4.8,4.7,4.4000000000000004,4.5,5.9,5.3,5.8]
["MO200922","MO","2009-07-26",{"$f":"COUNTIF(Calculations!$E$56:$E$98,\"<=\"&DATE(2006,MONTH(C1095),DAY(C1095)))","v":22},5.3,6.3,5.7,5,5.0999999999999996,5.0999999999999996,5.2,5,5.6,4]
["MO200923","MO","2009-08-02",{"$f":"COUNTIF(Calculations!$E$56:$E$98,\"<=\"&DATE(2006,MONTH(C1096),DAY(C1096)))","v":23},5.3,5.8,4.8,5.8,5.6,6.2,4.3,6.2,4.9000000000000004,4.0999999999999996]
["MO200924","MO","2009-08-09",{"$f":"COUNTIF(Calculations!$E$56:$E$98,\"<=\"&DATE(2006,MONTH(C1097),DAY(C1097)))","v":24},5.6,5.2,5.2,4.5,6.5,6.6,6.1,7,5.7,4.3]
["MO200925","MO","2009-08-16",{"$f":"COUNTIF(Calculations!$E$56:$E$98,\"<=\"&DATE(2006,MONTH(C1098),DAY(C1098)))","v":25},5.4,5.5,4,4.7,5.0999999999999996,4.8,6.5,6.5,6.6,6.2]
["MO200926","MO","2009-08-23",{"$f":"COUNTIF(Calculations!$E$56:$E$98,\"<=\"&DATE(2006,MONTH(C1099),DAY(C1099)))","v":26},3.8,3.5,2,1.4,4.5,4.3,4.5,4.4000000000000004,5.8,5.3]
["MO200927","MO","2009-08-30",{"$f":"COUNTIF(Calculations!$E$56:$E$98,\"<=\"&DATE(2006,MONTH(C1100),DAY(C1100)))","v":27},5.6,5.0999999999999996,4.5999999999999996,4.0999999999999996,6.4,6,5.2,6.5,6.9,6.3]
["MO200928","MO","2009-09-06",{"$f":"COUNTIF(Calculations!$E$56:$E$98,\"<=\"&DATE(2006,MONTH(C1101),DAY(C1101)))","v":28},5.7,5.9,5.5,5.7,4.8,5.3,5.9,5.7,6,6.5]
["MO200929","MO","2009-09-13",{"$f":"COUNTIF(Calculations!$E$56:$E$98,\"<=\"&DATE(2006,MONTH(C1102),DAY(C1102)))","v":29},6.3,6.2,6.7,7,5.9,6,6,5.4,5.9,6.7]
["MO200930","MO","2009-09-20",{"$f":"COUNTIF(Calculations!$E$56:$E$98,\"<=\"&DATE(2006,MONTH(C1103),DAY(C1103)))","v":30},5.8,6.6,6.9,6.9,6.6,5.7,5.5,5.6,5.6,2.7]
["MO200931","MO","2009-09-27",{"$f":"COUNTIF(Calculations!$E$56:$E$98,\"<=\"&DATE(2006,MONTH(C1104),DAY(C1104)))","v":31},3.9,5.2,4.9000000000000004,2.5,4.9000000000000004,3.1,1.9,5.2,4.3,3.1]
["MO200932","MO","2009-10-04",{"$f":"COUNTIF(Calculations!$E$56:$E$98,\"<=\"&DATE(2006,MONTH(C1105),DAY(C1105)))","v":32},4.9000000000000004,4.2,4.4000000000000004,3.6,5.6,4.5999999999999996,4.3,6.7,5.8,5.7]
["MO200933","MO","2009-10-11",{"$f":"COUNTIF(Calculations!$E$56:$E$98,\"<=\"&DATE(2006,MONTH(C1106),DAY(C1106)))","v":33},2.5,3.3,2.2999999999999998,2.2999999999999998,2.6,2.5,2.4,1.6,2.9,2.1]
["MO200934","MO","2009-10-18",{"$f":"COUNTIF(Calculations!$E$56:$E$98,\"<=\"&DATE(2006,MONTH(C1107),DAY(C1107)))","v":34},2.2000000000000002,2.7,2.2000000000000002,2.4,2.6,1.6,1,2,3,2.2000000000000002]
["MO200935","MO","2009-10-25",{"$f":"COUNTIF(Calculations!$E$56:$E$98,\"<=\"&DATE(2006,MONTH(C1108),DAY(C1108)))","v":35},2.5,2.27,2.33,2.63,1.84,1.66,2.61,2.91,2.91,3.37]
["MO200936","MO","2009-11-01",{"$f":"COUNTIF(Calculations!$E$56:$E$98,\"<=\"&DATE(2006,MONTH(C1109),DAY(C1109)))","v":36},1.2,1.9,1.4,0.7,1.9,0.8,0.5,0.7,0.7,1.1000000000000001]
["MO200937","MO","2009-11-08",{"$f":"COUNTIF(Calculations!$E$56:$E$98,\"<=\"&DATE(2006,MONTH(C1110),DAY(C1110)))","v":37},6.4,6.7,6.1,6.6,6.3,6.4,5.6,6.8,6.2,6.2]
["MO200938","MO","2009-11-15",{"$f":"COUNTIF(Calculations!$E$56:$E$98,\"<=\"&DATE(2006,MONTH(C1111),DAY(C1111)))","v":38},5.7,5.8,4.8,5.3,5.0999999999999996,5.6,6,6.2,6.5,7]
["MO200939","MO","2009-11-22",{"$f":"COUNTIF(Calculations!$E$56:$E$98,\"<=\"&DATE(2006,MONTH(C1112),DAY(C1112)))","v":39},2.2000000000000002,1.5,1.4,1.4,2.2000000000000002,1.7,1.2,5.4,3.4,3.3]
["MO200940","MO","2009-11-29",{"$f":"COUNTIF(Calculations!$E$56:$E$98,\"<=\"&DATE(2006,MONTH(C1113),DAY(C1113)))","v":40},4.5,3.3,4.3,4.5,6.2,5,3.6,6.5,5.3,3.7]
["MO200941","MO","2009-12-06",{"$f":"COUNTIF(Calculations!$E$56:$E$98,\"<=\"&DATE(2006,MONTH(C1114),DAY(C1114)))","v":41},5.4,6.2,5.5,6.2,6.4,5.9,4.5999999999999996,6.9,5.3,2.8]
["MO20106","MO","2010-04-04",{"$f":"COUNTIF(Calculations!$E$56:$E$98,\"<=\"&DATE(2006,MONTH(C1115),DAY(C1115)))","v":6},2.1,2.2999999999999998,1.8,2.1,0.8,2,1.6,4.5,1.4,2.2000000000000002]
["MO20107","MO","2010-04-11",{"$f":"COUNTIF(Calculations!$E$56:$E$98,\"<=\"&DATE(2006,MONTH(C1116),DAY(C1116)))","v":7},3.9,5.4,3,1.6,4.0999999999999996,3,3.7,6.6,5.7,3.3]
["MO20108","MO","2010-04-18",{"$f":"COUNTIF(Calculations!$E$56:$E$98,\"<=\"&DATE(2006,MONTH(C1117),DAY(C1117)))","v":8},6.2,5.0999999999999996,5.8,6.5,6.4,6.7,6.6,6.5,7,6.2]
["MO20109","MO","2010-04-25",{"$f":"COUNTIF(Calculations!$E$56:$E$98,\"<=\"&DATE(2006,MONTH(C1118),DAY(C1118)))","v":9},4.5999999999999996,3.9,4.2,4.5999999999999996,4,4.7,4.0999999999999996,5.7,5,5.4]
["MO201010","MO","2010-05-02",{"$f":"COUNTIF(Calculations!$E$56:$E$98,\"<=\"&DATE(2006,MONTH(C1119),DAY(C1119)))","v":10},2.1,2,0.7,0.5,1.6,1.6,1.8,5.0999999999999996,4,3.1]
["MO201011","MO","2010-05-09",{"$f":"COUNTIF(Calculations!$E$56:$E$98,\"<=\"&DATE(2006,MONTH(C1120),DAY(C1120)))","v":11},3.8,3.5,2,2.6,3.8,4,5.5,6.9,4.5999999999999996,3.6]
["MO201012","MO","2010-05-16",{"$f":"COUNTIF(Calculations!$E$56:$E$98,\"<=\"&DATE(2006,MONTH(C1121),DAY(C1121)))","v":12},1,0.2,0.1,0.1,0.1,0.2,1,1.4,1.6,4.2]
["MO201013","MO","2010-05-23",{"$f":"COUNTIF(Calculations!$E$56:$E$98,\"<=\"&DATE(2006,MONTH(C1122),DAY(C1122)))","v":13},1.1000000000000001,0.2,0.2,0.3,0.1,0.5,0.7,2.4,3.1,3.2]
["MO201014","MO","2010-05-30",{"$f":"COUNTIF(Calculations!$E$56:$E$98,\"<=\"&DATE(2006,MONTH(C1123),DAY(C1123)))","v":14},4.8,5,3.5,4.3,4.2,5.4,4.5999999999999996,6.3,4.9000000000000004,4.9000000000000004]
["MO201015","MO","2010-06-06",{"$f":"COUNTIF(Calculations!$E$56:$E$98,\"<=\"&DATE(2006,MONTH(C1124),DAY(C1124)))","v":15},4.3,3.1,2.1,2,6,4.5999999999999996,3.4,6.6,5.4,6]
["MO201016","MO","2010-06-13",{"$f":"COUNTIF(Calculations!$E$56:$E$98,\"<=\"&DATE(2006,MONTH(C1125),DAY(C1125)))","v":16},3.3,1.2,0.9,1.1000000000000001,3.2,3.4,3.5,5.7,6.3,6.9]
["MO201017","MO","2010-06-20",{"$f":"COUNTIF(Calculations!$E$56:$E$98,\"<=\"&DATE(2006,MONTH(C1126),DAY(C1126)))","v":17},3.9,1.5,1.6,1.8,3.5,3.7,3.5,6,6.6,6.9]
["MO201018","MO","2010-06-27",{"$f":"COUNTIF(Calculations!$E$56:$E$98,\"<=\"&DATE(2006,MONTH(C1127),DAY(C1127)))","v":18},5.3,4.5999999999999996,3.6,3.4,5.4,5.9,5.9,6.9,6.6,6.8]
["MO201019","MO","2010-07-04",{"$f":"COUNTIF(Calculations!$E$56:$E$98,\"<=\"&DATE(2006,MONTH(C1128),DAY(C1128)))","v":19},6.2,5.5,5.7,5.6,6.4,6.2,5.9,6.8,6.7,7]
["MO201020","MO","2010-07-11",{"$f":"COUNTIF(Calculations!$E$56:$E$98,\"<=\"&DATE(2006,MONTH(C1129),DAY(C1129)))","v":20},3.7,3.8,2.1,2.5,0.8,3.9,4.8,5,5.8,5.6]
["MO201021","MO","2010-07-18",{"$f":"COUNTIF(Calculations!$E$56:$E$98,\"<=\"&DATE(2006,MONTH(C1130),DAY(C1130)))","v":21},4.9000000000000004,4,5.3,5.5,4.8,5,5.0999999999999996,4.7,4.9000000000000004,5.0999999999999996]
["MO201022","MO","2010-07-25",{"$f":"COUNTIF(Calculations!$E$56:$E$98,\"<=\"&DATE(2006,MONTH(C1131),DAY(C1131)))","v":22},4.3,4.7,2.2999999999999998,1.1000000000000001,5,3.9,4.3,6.5,6,6]
["MO201023","MO","2010-08-01",{"$f":"COUNTIF(Calculations!$E$56:$E$98,\"<=\"&DATE(2006,MONTH(C1132),DAY(C1132)))","v":23},4.8,5.4,3.5,1.6,5.7,4.4000000000000004,4.9000000000000004,6.7,6.1,6]
["MO201024","MO","2010-08-08",{"$f":"COUNTIF(Calculations!$E$56:$E$98,\"<=\"&DATE(2006,MONTH(C1133),DAY(C1133)))","v":24},6.6,6.5,6.7,6.3,7,6.6,5.8,6.2,6.6,6.9]
["MO201025","MO","2010-08-15",{"$f":"COUNTIF(Calculations!$E$56:$E$98,\"<=\"&DATE(2006,MONTH(C1134),DAY(C1134)))","v":25},6,6.1,4.8,5.5,6.3,6.1,5.9,6.6,6.4,6.2]
["MO201026","MO","2010-08-22",{"$f":"COUNTIF(Calculations!$E$56:$E$98,\"<=\"&DATE(2006,MONTH(C1135),DAY(C1135)))","v":26},5.8,5.2,5,5.5,6.4,5.3,5.3,7,7,6.1]
["MO201027","MO","2010-08-29",{"$f":"COUNTIF(Calculations!$E$56:$E$98,\"<=\"&DATE(2006,MONTH(C1136),DAY(C1136)))","v":27},6.7,6.6,6.1,6.5,6.8,6.6,6.8,7,6.5,6.9]
["MO201028","MO","2010-09-05",{"$f":"COUNTIF(Calculations!$E$56:$E$98,\"<=\"&DATE(2006,MONTH(C1137),DAY(C1137)))","v":28},4.7,5.2,4.0999999999999996,4.5,2.8,4.0999999999999996,4.5,4.4000000000000004,5.2,6.6]
["MO201029","MO","2010-09-12",{"$f":"COUNTIF(Calculations!$E$56:$E$98,\"<=\"&DATE(2006,MONTH(C1138),DAY(C1138)))","v":29},4.4000000000000004,5.3,4.0999999999999996,5.0999999999999996,3,4.2,4.2,3.9,4.5,4.7]
["MO201030","MO","2010-09-19",{"$f":"COUNTIF(Calculations!$E$56:$E$98,\"<=\"&DATE(2006,MONTH(C1139),DAY(C1139)))","v":30},4.5,4.7,3.8,4.7,2.4,3.9,4.5999999999999996,4.2,4.8,6.4]
["MO201031","MO","2010-09-26",{"$f":"COUNTIF(Calculations!$E$56:$E$98,\"<=\"&DATE(2006,MONTH(C1140),DAY(C1140)))","v":31},3.4,2.5,1.3,1.3,3.3,2.8,2.4,5.3,6,6.9]
["MO201032","MO","2010-10-03",{"$f":"COUNTIF(Calculations!$E$56:$E$98,\"<=\"&DATE(2006,MONTH(C1141),DAY(C1141)))","v":32},6.4,6.2,6.2,5.7,6.6,6.6,6.5,7,6.7,6.8]
["MO201033","MO","2010-10-10",{"$f":"COUNTIF(Calculations!$E$56:$E$98,\"<=\"&DATE(2006,MONTH(C1142),DAY(C1142)))","v":33},6.9,6.7,6.9,7,6.9,7,6.8,7,7,7]
["MO201034","MO","2010-10-17",{"$f":"COUNTIF(Calculations!$E$56:$E$98,\"<=\"&DATE(2006,MONTH(C1143),DAY(C1143)))","v":34},6.6,6.6,6.5,6.8,6.5,6.6,6.7,6.7,7,6.8]
["MO201035","MO","2010-10-24",{"$f":"COUNTIF(Calculations!$E$56:$E$98,\"<=\"&DATE(2006,MONTH(C1144),DAY(C1144)))","v":35},6.3,5.8,6.1,6.1,6.2,6.4,6.6,6.4,6.9,7]
["MO201036","MO","2010-10-31",{"$f":"COUNTIF(Calculations!$E$56:$E$98,\"<=\"&DATE(2006,MONTH(C1145),DAY(C1145)))","v":36},6.5,6.7,6.2,6.2,7,6.6,6.5,6.3,6.7,6.3]
["MO201037","MO","2010-11-07",{"$f":"COUNTIF(Calculations!$E$56:$E$98,\"<=\"&DATE(2006,MONTH(C1146),DAY(C1146)))","v":37},6.9,6.8,7,6.9,6.7,6.9,6.8,6.8,7,6.9]
["MO20116","MO","2011-04-03",{"$f":"COUNTIF(Calculations!$E$56:$E$98,\"<=\"&DATE(2006,MONTH(C1147),DAY(C1147)))","v":6},3.4,5.6,3.6,4.2,2.9,1.6,2.1,2.9,4.5,2.6]
["MO20117","MO","2011-04-10",{"$f":"COUNTIF(Calculations!$E$56:$E$98,\"<=\"&DATE(2006,MONTH(C1148),DAY(C1148)))","v":7},3.9,4.0999999999999996,3.9,2.8,4.8,3.6,3.3,5.5,4.5999999999999996,3.2]
["MO20118","MO","2011-04-17",{"$f":"COUNTIF(Calculations!$E$56:$E$98,\"<=\"&DATE(2006,MONTH(C1149),DAY(C1149)))","v":8},3.4,4,3.8,4.0999999999999996,4.4000000000000004,3.9,2.1,4.0999999999999996,3.6,1.4]
["MO20119","MO","2011-04-24",{"$f":"COUNTIF(Calculations!$E$56:$E$98,\"<=\"&DATE(2006,MONTH(C1150),DAY(C1150)))","v":9},1.1000000000000001,0.5,0.5,0.9,2,1.1000000000000001,0.6,2.7,2.1,0.6]
["MO201110","MO","2011-05-01",{"$f":"COUNTIF(Calculations!$E$56:$E$98,\"<=\"&DATE(2006,MONTH(C1151),DAY(C1151)))","v":10},1.2,2.2999999999999998,1.7,0.6,1.5,1.2,0.6,1.2,0.3,0]
["MO201111","MO","2011-05-08",{"$f":"COUNTIF(Calculations!$E$56:$E$98,\"<=\"&DATE(2006,MONTH(C1152),DAY(C1152)))","v":11},3.4,5.7,4.2,4,3.8,3.9,2.2000000000000002,4.9000000000000004,1,0.1]
["MO201112","MO","2011-05-15",{"$f":"COUNTIF(Calculations!$E$56:$E$98,\"<=\"&DATE(2006,MONTH(C1153),DAY(C1153)))","v":12},3.7,4,4.4000000000000004,4.0999999999999996,3.7,3.7,3.2,5.3,1.9,2.7]
["MO201113","MO","2011-05-22",{"$f":"COUNTIF(Calculations!$E$56:$E$98,\"<=\"&DATE(2006,MONTH(C1154),DAY(C1154)))","v":13},3,3.2,2.9,2.7,3.5,1.6,2.7,3.3,4.0999999999999996,3.8]
["MO201114","MO","2011-05-29",{"$f":"COUNTIF(Calculations!$E$56:$E$98,\"<=\"&DATE(2006,MONTH(C1155),DAY(C1155)))","v":14},1.7,1.2,0.8,0.8,1.5,1.8,1.7,1.4,3.5,3]
["MO201115","MO","2011-06-05",{"$f":"COUNTIF(Calculations!$E$56:$E$98,\"<=\"&DATE(2006,MONTH(C1156),DAY(C1156)))","v":15},5.4,4.5999999999999996,3.2,3.1,5.6,6.1,6.4,7,6.2,7]
["MO201116","MO","2011-06-12",{"$f":"COUNTIF(Calculations!$E$56:$E$98,\"<=\"&DATE(2006,MONTH(C1157),DAY(C1157)))","v":16},5.7,5.0999999999999996,4,4.4000000000000004,6.6,6.1,6.2,7,6.9,6.4]
["MO201117","MO","2011-06-19",{"$f":"COUNTIF(Calculations!$E$56:$E$98,\"<=\"&DATE(2006,MONTH(C1158),DAY(C1158)))","v":17},4.5999999999999996,5.7,2.2999999999999998,2.1,6,4.0999999999999996,2.9,6.7,6.1,5.3]
["MO201118","MO","2011-06-26",{"$f":"COUNTIF(Calculations!$E$56:$E$98,\"<=\"&DATE(2006,MONTH(C1159),DAY(C1159)))","v":18},5,4.9000000000000004,2.7,2.8,5.6,5.3,5,6.9,6.2,5.4]
["MO201119","MO","2011-07-03",{"$f":"COUNTIF(Calculations!$E$56:$E$98,\"<=\"&DATE(2006,MONTH(C1160),DAY(C1160)))","v":19},5.2,4.9000000000000004,3.8,3.5,6.4,5.4,4.3,6.9,5.9,6.4]
["MO201120","MO","2011-07-10",{"$f":"COUNTIF(Calculations!$E$56:$E$98,\"<=\"&DATE(2006,MONTH(C1161),DAY(C1161)))","v":20},5.6,5.2,5.0999999999999996,5.9,6.4,6.5,4.4000000000000004,6.9,5.0999999999999996,4.9000000000000004]
["MO201121","MO","2011-07-17",{"$f":"COUNTIF(Calculations!$E$56:$E$98,\"<=\"&DATE(2006,MONTH(C1162),DAY(C1162)))","v":21},6.3,6.4,6,6.3,6.6,5.9,6.3,6.6,6.1,6.8]
["MO201122","MO","2011-07-24",{"$f":"COUNTIF(Calculations!$E$56:$E$98,\"<=\"&DATE(2006,MONTH(C1163),DAY(C1163)))","v":22},6.8,6.5,6.9,6.9,7,6.7,6.6,7,6.8,7]
["MO201123","MO","2011-07-31",{"$f":"COUNTIF(Calculations!$E$56:$E$98,\"<=\"&DATE(2006,MONTH(C1164),DAY(C1164)))","v":23},6.3,5.5,5.2,6.4,6.8,6.6,6.4,7,6.6,7]
["MO201124","MO","2011-08-07",{"$f":"COUNTIF(Calculations!$E$56:$E$98,\"<=\"&DATE(2006,MONTH(C1165),DAY(C1165)))","v":24},5.7,5.3,5.9,7,6,5.7,5.7,7,5.9,4.3]
["MO201125","MO","2011-08-14",{"$f":"COUNTIF(Calculations!$E$56:$E$98,\"<=\"&DATE(2006,MONTH(C1166),DAY(C1166)))","v":25},5.8,5.5,6.4,6.7,6.1,5.8,5.8,5.5,5.8,5]
["MO201126","MO","2011-08-21",{"$f":"COUNTIF(Calculations!$E$56:$E$98,\"<=\"&DATE(2006,MONTH(C1167),DAY(C1167)))","v":26},5.2,3.9,3.7,7,4.9000000000000004,4.2,5.7,6.4,5.6,6.6]
["MO201127","MO","2011-08-28",{"$f":"COUNTIF(Calculations!$E$56:$E$98,\"<=\"&DATE(2006,MONTH(C1168),DAY(C1168)))","v":27},6.5,6,6.1,7,6.9,6.2,6.6,7,6.4,6.8]
["MO201128","MO","2011-09-04",{"$f":"COUNTIF(Calculations!$E$56:$E$98,\"<=\"&DATE(2006,MONTH(C1169),DAY(C1169)))","v":28},6.3,5,6.1,6.5,6.6,6.2,6.5,7,6.7,6.7]
["MO201129","MO","2011-09-11",{"$f":"COUNTIF(Calculations!$E$56:$E$98,\"<=\"&DATE(2006,MONTH(C1170),DAY(C1170)))","v":29},6.6,6.7,6.5,7,7,6.1,5.7,7,6.6,6.9]
["MO201130","MO","2011-09-18",{"$f":"COUNTIF(Calculations!$E$56:$E$98,\"<=\"&DATE(2006,MONTH(C1171),DAY(C1171)))","v":30},4.9000000000000004,4.9000000000000004,5.0999999999999996,5.9,5.3,3.8,4.8,5,5.8,4.3]
["MO201131","MO","2011-09-25",{"$f":"COUNTIF(Calculations!$E$56:$E$98,\"<=\"&DATE(2006,MONTH(C1172),DAY(C1172)))","v":31},5.7,6.8,6.5,6.9,6.4,5.3,4.8,6.4,5.5,3.6]
["MO201132","MO","2011-10-02",{"$f":"COUNTIF(Calculations!$E$56:$E$98,\"<=\"&DATE(2006,MONTH(C1173),DAY(C1173)))","v":32},6.7,7,7,6.7,7,6.8,6.4,7,6.6,5.7]
["MO201133","MO","2011-10-09",{"$f":"COUNTIF(Calculations!$E$56:$E$98,\"<=\"&DATE(2006,MONTH(C1174),DAY(C1174)))","v":33},7,7,7,7,7,7,6.7,7,7,7]
["MO201134","MO","2011-10-16",{"$f":"COUNTIF(Calculations!$E$56:$E$98,\"<=\"&DATE(2006,MONTH(C1175),DAY(C1175)))","v":34},6.5,6.6,6.9,6.2,6.8,6.3,5.8,6.8,6.6,6.3]
["MO201135","MO","2011-10-23",{"$f":"COUNTIF(Calculations!$E$56:$E$98,\"<=\"&DATE(2006,MONTH(C1176),DAY(C1176)))","v":35},6.2,6.7,6.6,6.8,6.7,6.2,5.3,7,5.7,5.4]
["MO201136","MO","2011-10-30",{"$f":"COUNTIF(Calculations!$E$56:$E$98,\"<=\"&DATE(2006,MONTH(C1177),DAY(C1177)))","v":36},6.4,6.9,7,7,6.9,6.6,5.9,7,6,4.5999999999999996]
["MO201137","MO","2011-11-06",{"$f":"COUNTIF(Calculations!$E$56:$E$98,\"<=\"&DATE(2006,MONTH(C1178),DAY(C1178)))","v":37},5,5.6,4.5999999999999996,3.9,5,4.2,4.8,6.4,6.1,5.5]
["MO20126","MO","2012-04-01",{"$f":"COUNTIF(Calculations!$E$56:$E$98,\"<=\"&DATE(2006,MONTH(C1179),DAY(C1179)))","v":6},4.3,3.9,2,3.9,3.7,2.7,5.4,4.5999999999999996,6.8,6.8]
["MO20127","MO","2012-04-08",{"$f":"COUNTIF(Calculations!$E$56:$E$98,\"<=\"&DATE(2006,MONTH(C1180),DAY(C1180)))","v":7},4.7,3.5,3.3,4.0999999999999996,4.4000000000000004,4.0999999999999996,4.8,6.1,6.1,6.5]
["MO20128","MO","2012-04-15",{"$f":"COUNTIF(Calculations!$E$56:$E$98,\"<=\"&DATE(2006,MONTH(C1181),DAY(C1181)))","v":8},4.3,3.1,3.3,3.9,4.3,3.7,4.9000000000000004,3.1,6.1,6.8]
["MO20129","MO","2012-04-22",{"$f":"COUNTIF(Calculations!$E$56:$E$98,\"<=\"&DATE(2006,MONTH(C1182),DAY(C1182)))","v":9},4.0999999999999996,4.3,4.2,2.2999999999999998,5.0999999999999996,2.9,2.4,5.2,5.7,5.2]
["MO201210","MO","2012-04-29",{"$f":"COUNTIF(Calculations!$E$56:$E$98,\"<=\"&DATE(2006,MONTH(C1183),DAY(C1183)))","v":10},5.4,5.6,5.5,4.7,5.2,4.4000000000000004,4.5999999999999996,5.5,6.3,6.9]
["MO201211","MO","2012-05-06",{"$f":"COUNTIF(Calculations!$E$56:$E$98,\"<=\"&DATE(2006,MONTH(C1184),DAY(C1184)))","v":11},3.4,2,1.5,0,2.7,3.1,3.9,4.2,6.8,7]
["MO201212","MO","2012-05-13",{"$f":"COUNTIF(Calculations!$E$56:$E$98,\"<=\"&DATE(2006,MONTH(C1185),DAY(C1185)))","v":12},5,3.4,3.9,3.1,5.3,5.5,5.0999999999999996,6.2,6.7,6.5]
["MO201213","MO","2012-05-20",{"$f":"COUNTIF(Calculations!$E$56:$E$98,\"<=\"&DATE(2006,MONTH(C1186),DAY(C1186)))","v":13},6.9,6.9,6.8,6.8,7,7,6.6,6.9,6.8,7]
["MO201214","MO","2012-05-27",{"$f":"COUNTIF(Calculations!$E$56:$E$98,\"<=\"&DATE(2006,MONTH(C1187),DAY(C1187)))","v":14},6.5,5.9,6.4,6.6,6,6.8,6.6,7,7,6.8]
["MO201215","MO","2012-06-03",{"$f":"COUNTIF(Calculations!$E$56:$E$98,\"<=\"&DATE(2006,MONTH(C1188),DAY(C1188)))","v":15},6.5,6.4,6.4,6.4,6,7,6.1,5.3,6.7,7]
["MO201216","MO","2012-06-10",{"$f":"COUNTIF(Calculations!$E$56:$E$98,\"<=\"&DATE(2006,MONTH(C1189),DAY(C1189)))","v":16},6.8,6.8,7,7,6.8,6.8,6.6,7,6.8,6.2]
["MO201217","MO","2012-06-17",{"$f":"COUNTIF(Calculations!$E$56:$E$98,\"<=\"&DATE(2006,MONTH(C1190),DAY(C1190)))","v":17},5.8,5.3,5,5.6,5.9,5.7,6.2,6.4,6.6,6.2]
["MO201218","MO","2012-06-24",{"$f":"COUNTIF(Calculations!$E$56:$E$98,\"<=\"&DATE(2006,MONTH(C1191),DAY(C1191)))","v":18},6.2,5.3,6.3,6.5,5.9,6.5,6,5.5,7,7]
["MO201219","MO","2012-07-01",{"$f":"COUNTIF(Calculations!$E$56:$E$98,\"<=\"&DATE(2006,MONTH(C1192),DAY(C1192)))","v":19},6.9,6.9,7,7,7,6.8,6.5,7,7,7]
["MO201220","MO","2012-07-08",{"$f":"COUNTIF(Calculations!$E$56:$E$98,\"<=\"&DATE(2006,MONTH(C1193),DAY(C1193)))","v":20},6.7,6.9,6.9,7,7,6.7,4.7,7,6.8,6.5]
["MO201221","MO","2012-07-15",{"$f":"COUNTIF(Calculations!$E$56:$E$98,\"<=\"&DATE(2006,MONTH(C1194),DAY(C1194)))","v":21},6.6,7,6.8,6.7,6.9,6.7,6.1,7,7,6.1]
["MO201222","MO","2012-07-22",{"$f":"COUNTIF(Calculations!$E$56:$E$98,\"<=\"&DATE(2006,MONTH(C1195),DAY(C1195)))","v":22},6.9,7,6.9,7,7,6.8,6.1,7,7,6.8]
["MO201223","MO","2012-07-29",{"$f":"COUNTIF(Calculations!$E$56:$E$98,\"<=\"&DATE(2006,MONTH(C1196),DAY(C1196)))","v":23},6.4,6.3,6.6,6.5,6.9,6.7,5.5,7,6.8,5.7]
["MO201224","MO","2012-08-05",{"$f":"COUNTIF(Calculations!$E$56:$E$98,\"<=\"&DATE(2006,MONTH(C1197),DAY(C1197)))","v":24},6.6,7,7,6.9,7,6.8,5.4,6.6,6.7,5.6]
["MO201225","MO","2012-08-12",{"$f":"COUNTIF(Calculations!$E$56:$E$98,\"<=\"&DATE(2006,MONTH(C1198),DAY(C1198)))","v":25},6.8,6.8,7,6.9,6.6,6.8,5.6,7,7,6.9]
["MO201226","MO","2012-08-19",{"$f":"COUNTIF(Calculations!$E$56:$E$98,\"<=\"&DATE(2006,MONTH(C1199),DAY(C1199)))","v":26},6.9,6.9,7,6.9,7,6.8,6.3,7,6.8,6.9]
["MO201227","MO","2012-08-26",{"$f":"COUNTIF(Calculations!$E$56:$E$98,\"<=\"&DATE(2006,MONTH(C1200),DAY(C1200)))","v":27},6.4,5.7,6.6,6.5,6.2,6.6,6.3,6,6.7,7]
["MO201228","MO","2012-09-02",{"$f":"COUNTIF(Calculations!$E$56:$E$98,\"<=\"&DATE(2006,MONTH(C1201),DAY(C1201)))","v":28},5,5.4,5.4,5.5,4.4000000000000004,4.7,5,4.9000000000000004,4.7,4.9000000000000004]
["MO201229","MO","2012-09-09",{"$f":"COUNTIF(Calculations!$E$56:$E$98,\"<=\"&DATE(2006,MONTH(C1202),DAY(C1202)))","v":29},4.8,6.3,5.6,5.7,4.5,4.5999999999999996,3.2,4.9000000000000004,4.7,3.2]
["MO201230","MO","2012-09-16",{"$f":"COUNTIF(Calculations!$E$56:$E$98,\"<=\"&DATE(2006,MONTH(C1203),DAY(C1203)))","v":30},5.6,5.6,6.3,6.9,4.2,5.9,5.5,3.9,5.5,5.6]
["MO201231","MO","2012-09-23",{"$f":"COUNTIF(Calculations!$E$56:$E$98,\"<=\"&DATE(2006,MONTH(C1204),DAY(C1204)))","v":31},6.2,6.9,6.7,6.9,5.5,6.7,5.8,4.3,6.1,5.8]
["MO201232","MO","2012-09-30",{"$f":"COUNTIF(Calculations!$E$56:$E$98,\"<=\"&DATE(2006,MONTH(C1205),DAY(C1205)))","v":32},5.4,6.7,6.5,6.3,5.3,5.3,4.4000000000000004,5.0999999999999996,4.9000000000000004,4.4000000000000004]
["MO201233","MO","2012-10-07",{"$f":"COUNTIF(Calculations!$E$56:$E$98,\"<=\"&DATE(2006,MONTH(C1206),DAY(C1206)))","v":33},5.6,6.3,6.6,6,5.7,5,4.4000000000000004,6.3,5.4,4.9000000000000004]
["MO201234","MO","2012-10-14",{"$f":"COUNTIF(Calculations!$E$56:$E$98,\"<=\"&DATE(2006,MONTH(C1207),DAY(C1207)))","v":34},5,5.8,5.6,5.3,4.9000000000000004,4.8,5.4,4.7,5.3,4.0999999999999996]
["MO201235","MO","2012-10-21",{"$f":"COUNTIF(Calculations!$E$56:$E$98,\"<=\"&DATE(2006,MONTH(C1208),DAY(C1208)))","v":35},4.8,5.0999999999999996,4.7,4.2,5.4,4.3,3.7,5.3,5.7,5.2]
["MO201236","MO","2012-10-28",{"$f":"COUNTIF(Calculations!$E$56:$E$98,\"<=\"&DATE(2006,MONTH(C1209),DAY(C1209)))","v":36},5.2,5.9,5.0999999999999996,4.9000000000000004,6.2,4.5999999999999996,5,5.2,6.1,4.5999999999999996]
["MO201237","MO","2012-11-04",{"$f":"COUNTIF(Calculations!$E$56:$E$98,\"<=\"&DATE(2006,MONTH(C1210),DAY(C1210)))","v":37},6.6,6.4,6.6,6.8,6.9,6.4,6.5,7,7,6.7]
["MO201238","MO","2012-11-11",{"$f":"COUNTIF(Calculations!$E$56:$E$98,\"<=\"&DATE(2006,MONTH(C1211),DAY(C1211)))","v":38},5.5,5.5,5.4,5.6,6.4,5.3,4.7,6.3,5.9,5.5]
["KS 201219","KS ","2012-07-01",{"$f":"COUNTIF(Calculations!$E$56:$E$98,\"<=\"&DATE(2006,MONTH(C1212),DAY(C1212)))","v":19},6.7,6.8,6.9,6.7,6.5,6.9,7,6,6.7,6.8]
["KS197811","KS","1978-05-06",{"$f":"COUNTIF(Calculations!$E$56:$E$98,\"<=\"&DATE(2006,MONTH(C1213),DAY(C1213)))","v":11},null,null,6.5,6,null,6,6,1.5,6.5,6]
["KS197812","KS","1978-05-13",{"$f":"COUNTIF(Calculations!$E$56:$E$98,\"<=\"&DATE(2006,MONTH(C1214),DAY(C1214)))","v":12},null,null,6,4.5,null,4.5,4,2,7,6]
["KS197814","KS","1978-05-27",{"$f":"COUNTIF(Calculations!$E$56:$E$98,\"<=\"&DATE(2006,MONTH(C1215),DAY(C1215)))","v":14},null,null,7,7,null,7,7,4,7,7]
["KS197816","KS","1978-06-10",{"$f":"COUNTIF(Calculations!$E$56:$E$98,\"<=\"&DATE(2006,MONTH(C1216),DAY(C1216)))","v":16},null,null,6.5,4.5,null,6.5,4,3.5,5.5,5]
["KS197817","KS","1978-06-17",{"$f":"COUNTIF(Calculations!$E$56:$E$98,\"<=\"&DATE(2006,MONTH(C1217),DAY(C1217)))","v":17},null,null,4.5,3,null,4.5,2.5,6.5,3,3.5]
["KS197818","KS","1978-06-24",{"$f":"COUNTIF(Calculations!$E$56:$E$98,\"<=\"&DATE(2006,MONTH(C1218),DAY(C1218)))","v":18},null,null,4.5,5,null,5,4,4.5,5,5.5]
["KS197819","KS","1978-07-01",{"$f":"COUNTIF(Calculations!$E$56:$E$98,\"<=\"&DATE(2006,MONTH(C1219),DAY(C1219)))","v":19},null,null,2.5,1,null,2,1,5.5,1,2]
["KS197820","KS","1978-07-08",{"$f":"COUNTIF(Calculations!$E$56:$E$98,\"<=\"&DATE(2006,MONTH(C1220),DAY(C1220)))","v":20},null,null,5.5,5.5,null,5,4,6.5,5.5,6]
["KS197821","KS","1978-07-15",{"$f":"COUNTIF(Calculations!$E$56:$E$98,\"<=\"&DATE(2006,MONTH(C1221),DAY(C1221)))","v":21},null,null,5,5,null,5.5,5,5.5,4.5,6.5]
["KS197822","KS","1978-07-22",{"$f":"COUNTIF(Calculations!$E$56:$E$98,\"<=\"&DATE(2006,MONTH(C1222),DAY(C1222)))","v":22},null,null,6.5,6.5,null,7,5.5,6,7,6]
["KS197823","KS","1978-07-29",{"$f":"COUNTIF(Calculations!$E$56:$E$98,\"<=\"&DATE(2006,MONTH(C1223),DAY(C1223)))","v":23},null,null,6.5,6,null,6.5,6.5,6.5,6,5.5]
["KS197824","KS","1978-08-05",{"$f":"COUNTIF(Calculations!$E$56:$E$98,\"<=\"&DATE(2006,MONTH(C1224),DAY(C1224)))","v":24},null,null,5,6.5,null,4.5,6,5,5.5,5]
["KS197825","KS","1978-08-12",{"$f":"COUNTIF(Calculations!$E$56:$E$98,\"<=\"&DATE(2006,MONTH(C1225),DAY(C1225)))","v":25},null,null,5.5,6.5,null,6,7,6,6.5,6.5]
["KS197826","KS","1978-08-19",{"$f":"COUNTIF(Calculations!$E$56:$E$98,\"<=\"&DATE(2006,MONTH(C1226),DAY(C1226)))","v":26},null,null,6.5,6.5,null,6.5,7,6,6.5,6.5]
["KS197827","KS","1978-08-26",{"$f":"COUNTIF(Calculations!$E$56:$E$98,\"<=\"&DATE(2006,MONTH(C1227),DAY(C1227)))","v":27},null,null,5.5,6.5,null,5,6.5,6.5,7,6.5]
["KS197828","KS","1978-09-02",{"$f":"COUNTIF(Calculations!$E$56:$E$98,\"<=\"&DATE(2006,MONTH(C1228),DAY(C1228)))","v":28},null,null,5,6.5,null,5,7,6,6,5.5]
["KS197830","KS","1978-09-16",{"$f":"COUNTIF(Calculations!$E$56:$E$98,\"<=\"&DATE(2006,MONTH(C1229),DAY(C1229)))","v":30},null,null,3.5,3.5,null,2.5,5,4.5999999999999996,4.5,6]
["KS197831","KS","1978-09-23",{"$f":"COUNTIF(Calculations!$E$56:$E$98,\"<=\"&DATE(2006,MONTH(C1230),DAY(C1230)))","v":31},null,null,2.5,3.5,null,1.5,4,9,4.5,4.5]
["KS197832","KS","1978-09-30",{"$f":"COUNTIF(Calculations!$E$56:$E$98,\"<=\"&DATE(2006,MONTH(C1231),DAY(C1231)))","v":32},null,null,6.5,7,null,7,7,6.3,7,7]
["KS197834","KS","1978-10-14",{"$f":"COUNTIF(Calculations!$E$56:$E$98,\"<=\"&DATE(2006,MONTH(C1232),DAY(C1232)))","v":34},null,null,3,3.5,null,3.5,3.5,4.5999999999999996,3,4.5]
["KS197835","KS","1978-10-21",{"$f":"COUNTIF(Calculations!$E$56:$E$98,\"<=\"&DATE(2006,MONTH(C1233),DAY(C1233)))","v":35},null,null,3,5,null,1.5,5,6.7,4.5,5.5]
["KS197836","KS","1978-10-28",{"$f":"COUNTIF(Calculations!$E$56:$E$98,\"<=\"&DATE(2006,MONTH(C1234),DAY(C1234)))","v":36},null,null,4,4,null,2,3.5,5.9,3.5,3.5]
[{"$f":"B1235&YEAR(C1235)&D1235","v":"KS197837"},"KS","1978-11-04",{"$f":"COUNTIF(Calculations!$E$56:$E$98,\"<=\"&DATE(2006,MONTH(C1235),DAY(C1235)))","v":37},null,null,5,6.5,null,4.5,6,6.8,7,6.5]
["KS197838","KS","1978-11-11",{"$f":"COUNTIF(Calculations!$E$56:$E$98,\"<=\"&DATE(2006,MONTH(C1236),DAY(C1236)))","v":38},null,null,6,6.5,null,6.5,6.5,6.7,7,6.5]
["KS197840","KS","1978-11-25",{"$f":"COUNTIF(Calculations!$E$56:$E$98,\"<=\"&DATE(2006,MONTH(C1237),DAY(C1237)))","v":40},null,null,7,7,null,7,7,0,7,7]
["KS19797","KS","1979-04-08",{"$f":"COUNTIF(Calculations!$E$56:$E$98,\"<=\"&DATE(2006,MONTH(C1238),DAY(C1238)))","v":7},null,null,5.5,5.5,null,4.5,6,0,5.5,6]
["KS19798","KS","1979-04-15",{"$f":"COUNTIF(Calculations!$E$56:$E$98,\"<=\"&DATE(2006,MONTH(C1239),DAY(C1239)))","v":8},null,null,6,5.5,null,5.5,6.5,3,6.5,6]
["KS19799","KS","1979-04-22",{"$f":"COUNTIF(Calculations!$E$56:$E$98,\"<=\"&DATE(2006,MONTH(C1240),DAY(C1240)))","v":9},null,null,5,4,null,6,4.5,3,5.5,4.5]
["KS197910","KS","1979-04-29",{"$f":"COUNTIF(Calculations!$E$56:$E$98,\"<=\"&DATE(2006,MONTH(C1241),DAY(C1241)))","v":10},null,null,7,6.5,null,6.5,7,2,7,7]
["KS197911","KS","1979-05-06",{"$f":"COUNTIF(Calculations!$E$56:$E$98,\"<=\"&DATE(2006,MONTH(C1242),DAY(C1242)))","v":11},null,null,3,4,null,2,2,4.5,2.5,2]
["KS197912","KS","1979-05-13",{"$f":"COUNTIF(Calculations!$E$56:$E$98,\"<=\"&DATE(2006,MONTH(C1243),DAY(C1243)))","v":12},null,null,4,4,null,3.5,4.5,5,4.5,4.5]
["KS197913","KS","1979-05-20",{"$f":"COUNTIF(Calculations!$E$56:$E$98,\"<=\"&DATE(2006,MONTH(C1244),DAY(C1244)))","v":13},null,null,6.5,5,null,5,6,6.5,6,6]
["KS197914","KS","1979-05-27",{"$f":"COUNTIF(Calculations!$E$56:$E$98,\"<=\"&DATE(2006,MONTH(C1245),DAY(C1245)))","v":14},null,null,3.5,4,null,4,5,5,4,5]
["KS197915","KS","1979-06-03",{"$f":"COUNTIF(Calculations!$E$56:$E$98,\"<=\"&DATE(2006,MONTH(C1246),DAY(C1246)))","v":15},null,null,2.5,5,null,5.5,6.5,4.5,6,6]
["KS197916","KS","1979-06-10",{"$f":"COUNTIF(Calculations!$E$56:$E$98,\"<=\"&DATE(2006,MONTH(C1247),DAY(C1247)))","v":16},null,null,4.5,5,null,6,6.5,5.5,6,5.5]
["KS197917","KS","1979-06-17",{"$f":"COUNTIF(Calculations!$E$56:$E$98,\"<=\"&DATE(2006,MONTH(C1248),DAY(C1248)))","v":17},null,null,4.5,4.5,null,5,5,5.5,5,3.5]
["KS197918","KS","1979-06-24",{"$f":"COUNTIF(Calculations!$E$56:$E$98,\"<=\"&DATE(2006,MONTH(C1249),DAY(C1249)))","v":18},null,null,6.5,6,null,6,6.5,5,6,6]
["KS197919","KS","1979-07-01",{"$f":"COUNTIF(Calculations!$E$56:$E$98,\"<=\"&DATE(2006,MONTH(C1250),DAY(C1250)))","v":19},null,null,5.5,5,null,3.5,4,6,4.5,4]
["KS197920","KS","1979-07-08",{"$f":"COUNTIF(Calculations!$E$56:$E$98,\"<=\"&DATE(2006,MONTH(C1251),DAY(C1251)))","v":20},null,null,5.5,5.5,null,3,3.5,4.5,4.5,4]
["KS197921","KS","1979-07-15",{"$f":"COUNTIF(Calculations!$E$56:$E$98,\"<=\"&DATE(2006,MONTH(C1252),DAY(C1252)))","v":21},null,null,6,5.5,null,4.5,3,5.5,5,3.5]
["KS197922","KS","1979-07-22",{"$f":"COUNTIF(Calculations!$E$56:$E$98,\"<=\"&DATE(2006,MONTH(C1253),DAY(C1253)))","v":22},null,null,5,5,null,1,3,5.5,3,4.5]
["KS197923","KS","1979-07-29",{"$f":"COUNTIF(Calculations!$E$56:$E$98,\"<=\"&DATE(2006,MONTH(C1254),DAY(C1254)))","v":23},null,null,4.5,2.5,null,3,3.5,5,3.5,3]
["KS197924","KS","1979-08-05",{"$f":"COUNTIF(Calculations!$E$56:$E$98,\"<=\"&DATE(2006,MONTH(C1255),DAY(C1255)))","v":24},null,null,5,4.5,null,4.5,2.5,5,4.5,3]
["KS197925","KS","1979-08-12",{"$f":"COUNTIF(Calculations!$E$56:$E$98,\"<=\"&DATE(2006,MONTH(C1256),DAY(C1256)))","v":25},null,null,6,6.5,null,6.5,5.5,6.5,6,6]
["KS197926","KS","1979-08-19",{"$f":"COUNTIF(Calculations!$E$56:$E$98,\"<=\"&DATE(2006,MONTH(C1257),DAY(C1257)))","v":26},null,null,6,5.5,null,5,3,4.5,4,6]
["KS197927","KS","1979-08-26",{"$f":"COUNTIF(Calculations!$E$56:$E$98,\"<=\"&DATE(2006,MONTH(C1258),DAY(C1258)))","v":27},null,null,6.5,6.5,null,6.5,5.5,6,6,6.5]
["KS197928","KS","1979-09-02",{"$f":"COUNTIF(Calculations!$E$56:$E$98,\"<=\"&DATE(2006,MONTH(C1259),DAY(C1259)))","v":28},null,null,6,6,null,4.5,4,5.5,6.5,5]
["KS197929","KS","1979-09-09",{"$f":"COUNTIF(Calculations!$E$56:$E$98,\"<=\"&DATE(2006,MONTH(C1260),DAY(C1260)))","v":29},null,null,6.5,6,null,6,4.5,6.5,6.5,5]
["KS197930","KS","1979-09-16",{"$f":"COUNTIF(Calculations!$E$56:$E$98,\"<=\"&DATE(2006,MONTH(C1261),DAY(C1261)))","v":30},null,null,6.5,7,null,5.5,6.5,6.5,6.5,7]
["KS197931","KS","1979-09-23",{"$f":"COUNTIF(Calculations!$E$56:$E$98,\"<=\"&DATE(2006,MONTH(C1262),DAY(C1262)))","v":31},null,null,6.5,7,null,6.5,7,6.5,6.5,6.5]
["KS197932","KS","1979-09-30",{"$f":"COUNTIF(Calculations!$E$56:$E$98,\"<=\"&DATE(2006,MONTH(C1263),DAY(C1263)))","v":32},null,null,6.5,7,null,6.5,7,6.5,7,7]
["KS197933","KS","1979-10-07",{"$f":"COUNTIF(Calculations!$E$56:$E$98,\"<=\"&DATE(2006,MONTH(C1264),DAY(C1264)))","v":33},null,null,6,7,null,7,7,7,7,7]
["KS197934","KS","1979-10-14",{"$f":"COUNTIF(Calculations!$E$56:$E$98,\"<=\"&DATE(2006,MONTH(C1265),DAY(C1265)))","v":34},null,null,6.5,7,null,7,7,6.5,6.5,7]
["KS197936","KS","1979-10-28",{"$f":"COUNTIF(Calculations!$E$56:$E$98,\"<=\"&DATE(2006,MONTH(C1266),DAY(C1266)))","v":36},null,null,6.5,5.5,null,5,3,6,3,3]
["KS197937","KS","1979-11-04",{"$f":"COUNTIF(Calculations!$E$56:$E$98,\"<=\"&DATE(2006,MONTH(C1267),DAY(C1267)))","v":37},null,null,3,2,null,3,2,2.5,1,2]
["KS197938","KS","1979-11-11",{"$f":"COUNTIF(Calculations!$E$56:$E$98,\"<=\"&DATE(2006,MONTH(C1268),DAY(C1268)))","v":38},null,null,2.5,1.5,null,3.5,2.5,4.5,1.5,3.5]
["KS197939","KS","1979-11-18",{"$f":"COUNTIF(Calculations!$E$56:$E$98,\"<=\"&DATE(2006,MONTH(C1269),DAY(C1269)))","v":39},null,null,3.5,3.5,null,6,4,6,4,3.5]
["KS197940","KS","1979-11-25",{"$f":"COUNTIF(Calculations!$E$56:$E$98,\"<=\"&DATE(2006,MONTH(C1270),DAY(C1270)))","v":40},null,null,5,2.5,null,3,3,5,2.5,3]
["KS197941","KS","1979-12-02",{"$f":"COUNTIF(Calculations!$E$56:$E$98,\"<=\"&DATE(2006,MONTH(C1271),DAY(C1271)))","v":41},null,null,4,4,null,4.5,4,5.8,3.5,4]
["KS197942","KS","1979-12-09",{"$f":"COUNTIF(Calculations!$E$56:$E$98,\"<=\"&DATE(2006,MONTH(C1272),DAY(C1272)))","v":42},null,null,3.5,5,null,4,4,6,5,4.5]
["KS197943","KS","1979-12-16",{"$f":"COUNTIF(Calculations!$E$56:$E$98,\"<=\"&DATE(2006,MONTH(C1273),DAY(C1273)))","v":43},null,null,6,6,null,7,6,1,6,5.5]
["KS197943","KS","1979-12-23",{"$f":"COUNTIF(Calculations!$E$56:$E$98,\"<=\"&DATE(2006,MONTH(C1274),DAY(C1274)))","v":43},null,null,3,3.5,null,4.5,4.5,1,2,3]
["KS19800","KS","1980-02-10",{"$f":"COUNTIF(Calculations!$E$56:$E$98,\"<=\"&DATE(2006,MONTH(C1275),DAY(C1275)))","v":0},null,null,7,6,null,7,6.5,1.5,6.5,5.5]
["KS19802","KS","1980-03-09",{"$f":"COUNTIF(Calculations!$E$56:$E$98,\"<=\"&DATE(2006,MONTH(C1276),DAY(C1276)))","v":2},null,null,6,4.5,null,6,5.5,3.5,4.5,5]
["KS19803","KS","1980-03-16",{"$f":"COUNTIF(Calculations!$E$56:$E$98,\"<=\"&DATE(2006,MONTH(C1277),DAY(C1277)))","v":3},null,null,3,3.5,null,2.5,2.5,1,3,4]
["KS19804","KS","1980-03-23",{"$f":"COUNTIF(Calculations!$E$56:$E$98,\"<=\"&DATE(2006,MONTH(C1278),DAY(C1278)))","v":4},null,null,7,6,null,6.5,5.5,1,6,5]
["KS19805","KS","1980-03-30",{"$f":"COUNTIF(Calculations!$E$56:$E$98,\"<=\"&DATE(2006,MONTH(C1279),DAY(C1279)))","v":5},null,null,5.5,6,null,6.5,6.5,0.3,7,6]
["KS19807","KS","1980-04-13",{"$f":"COUNTIF(Calculations!$E$56:$E$98,\"<=\"&DATE(2006,MONTH(C1280),DAY(C1280)))","v":7},null,null,6.5,7,null,7,7,1.8,7,7]
["KS19808","KS","1980-04-20",{"$f":"COUNTIF(Calculations!$E$56:$E$98,\"<=\"&DATE(2006,MONTH(C1281),DAY(C1281)))","v":8},null,null,5,5,null,4,5,3.7,5.5,6]
["KS19809","KS","1980-04-27",{"$f":"COUNTIF(Calculations!$E$56:$E$98,\"<=\"&DATE(2006,MONTH(C1282),DAY(C1282)))","v":9},null,null,2,2,null,1.5,2,6.9,2,4]
["KS198010","KS","1980-05-04",{"$f":"COUNTIF(Calculations!$E$56:$E$98,\"<=\"&DATE(2006,MONTH(C1283),DAY(C1283)))","v":10},null,null,3,1,null,4,1,10,1.5,1.5]
["KS198011","KS","1980-05-11",{"$f":"COUNTIF(Calculations!$E$56:$E$98,\"<=\"&DATE(2006,MONTH(C1284),DAY(C1284)))","v":11},null,5,6.5,7,4.5,5.5,7,2.5,5.5,5.5]
["KS198012","KS","1980-05-18",{"$f":"COUNTIF(Calculations!$E$56:$E$98,\"<=\"&DATE(2006,MONTH(C1285),DAY(C1285)))","v":12},null,4.5,6.5,7,5.5,5.5,6.5,5,5,5.5]
["KS198013","KS","1980-05-25",{"$f":"COUNTIF(Calculations!$E$56:$E$98,\"<=\"&DATE(2006,MONTH(C1286),DAY(C1286)))","v":13},null,3.5,3.5,5,3,4.5,5.5,2.5,3.5,5]
["KS198014","KS","1980-06-01",{"$f":"COUNTIF(Calculations!$E$56:$E$98,\"<=\"&DATE(2006,MONTH(C1287),DAY(C1287)))","v":14},null,6,4.5,5,4,4.5,5,2,3,5.5]
["KS198015","KS","1980-06-08",{"$f":"COUNTIF(Calculations!$E$56:$E$98,\"<=\"&DATE(2006,MONTH(C1288),DAY(C1288)))","v":15},null,4.5,3.5,3,7,5.5,4.5,5.5,6.5,7]
["KS198016","KS","1980-06-15",{"$f":"COUNTIF(Calculations!$E$56:$E$98,\"<=\"&DATE(2006,MONTH(C1289),DAY(C1289)))","v":16},null,6.5,6,6.5,6.5,6.5,6,6,6.5,7]
["KS198017","KS","1980-06-22",{"$f":"COUNTIF(Calculations!$E$56:$E$98,\"<=\"&DATE(2006,MONTH(C1290),DAY(C1290)))","v":17},null,4,6.5,7,4.5,6.5,6.5,5,3.5,5.5]
["KS198018","KS","1980-06-29",{"$f":"COUNTIF(Calculations!$E$56:$E$98,\"<=\"&DATE(2006,MONTH(C1291),DAY(C1291)))","v":18},null,6.5,7,5,6,6.5,6.5,6,6,5]
["KS198019","KS","1980-07-06",{"$f":"COUNTIF(Calculations!$E$56:$E$98,\"<=\"&DATE(2006,MONTH(C1292),DAY(C1292)))","v":19},null,5.5,6.5,6,6.5,6.5,7,7,7,7]
["KS198020","KS","1980-07-13",{"$f":"COUNTIF(Calculations!$E$56:$E$98,\"<=\"&DATE(2006,MONTH(C1293),DAY(C1293)))","v":20},null,6.5,7,6.5,7,6.5,7,6.5,7,7]
["KS198021","KS","1980-07-20",{"$f":"COUNTIF(Calculations!$E$56:$E$98,\"<=\"&DATE(2006,MONTH(C1294),DAY(C1294)))","v":21},null,6.5,7,7,7,6.5,7,6.5,7,7]
["KS198022","KS","1980-07-27",{"$f":"COUNTIF(Calculations!$E$56:$E$98,\"<=\"&DATE(2006,MONTH(C1295),DAY(C1295)))","v":22},null,6,6.5,7,6.5,6.5,7,6,6,7]
["KS198023","KS","1980-08-03",{"$f":"COUNTIF(Calculations!$E$56:$E$98,\"<=\"&DATE(2006,MONTH(C1296),DAY(C1296)))","v":23},null,6,7,7,7,7,6.5,7,6.5,6.5]
["KS198024","KS","1980-08-10",{"$f":"COUNTIF(Calculations!$E$56:$E$98,\"<=\"&DATE(2006,MONTH(C1297),DAY(C1297)))","v":24},null,7,6.5,5.5,6.5,4,5,6.5,6,6]
["KS198025","KS","1980-08-17",{"$f":"COUNTIF(Calculations!$E$56:$E$98,\"<=\"&DATE(2006,MONTH(C1298),DAY(C1298)))","v":25},null,5.5,6.5,5,5.5,4,5,6,5,6.5]
[{"$f":"B1299&YEAR(C1299)&D1299","v":"KS198026"},"KS","1980-08-24",{"$f":"COUNTIF(Calculations!$E$56:$E$98,\"<=\"&DATE(2006,MONTH(C1299),DAY(C1299)))","v":26},null,4.5,6,5.5,4,4,5.5,5.5,5,6]
["KS198027","KS","1980-08-31",{"$f":"COUNTIF(Calculations!$E$56:$E$98,\"<=\"&DATE(2006,MONTH(C1300),DAY(C1300)))","v":27},null,5.5,6.5,7,6,5.5,7,5.5,6.5,7]
["KS198028","KS","1980-09-07",{"$f":"COUNTIF(Calculations!$E$56:$E$98,\"<=\"&DATE(2006,MONTH(C1301),DAY(C1301)))","v":28},null,5,6.5,4,6,6,6,6.5,6.5,7]
["KS198029","KS","1980-09-14",{"$f":"COUNTIF(Calculations!$E$56:$E$98,\"<=\"&DATE(2006,MONTH(C1302),DAY(C1302)))","v":29},null,3.5,6.5,7,5.5,6,6.5,6.5,7,7]
["KS198030","KS","1980-09-21",{"$f":"COUNTIF(Calculations!$E$56:$E$98,\"<=\"&DATE(2006,MONTH(C1303),DAY(C1303)))","v":30},null,6,5.5,5,6.5,5.5,6.5,7,7,6]
["KS198031","KS","1980-09-28",{"$f":"COUNTIF(Calculations!$E$56:$E$98,\"<=\"&DATE(2006,MONTH(C1304),DAY(C1304)))","v":31},null,6,5.5,7,6.5,6.5,7,6.5,6.5,7]
["KS198032","KS","1980-10-05",{"$f":"COUNTIF(Calculations!$E$56:$E$98,\"<=\"&DATE(2006,MONTH(C1305),DAY(C1305)))","v":32},null,6.5,6.5,6.5,7,6.5,7,6.5,6,5.5]
["KS198033","KS","1980-10-12",{"$f":"COUNTIF(Calculations!$E$56:$E$98,\"<=\"&DATE(2006,MONTH(C1306),DAY(C1306)))","v":33},null,7,6.5,7,6.5,6.5,7,6.5,7,7]
["KS198034","KS","1980-10-19",{"$f":"COUNTIF(Calculations!$E$56:$E$98,\"<=\"&DATE(2006,MONTH(C1307),DAY(C1307)))","v":34},null,6.5,7,6.5,7,4,4.5,6.5,6,6.5]
["KS198035","KS","1980-10-26",{"$f":"COUNTIF(Calculations!$E$56:$E$98,\"<=\"&DATE(2006,MONTH(C1308),DAY(C1308)))","v":35},null,7,6.5,5,6.5,6,4.5,6.5,6,5.5]
["KS198036","KS","1980-11-02",{"$f":"COUNTIF(Calculations!$E$56:$E$98,\"<=\"&DATE(2006,MONTH(C1309),DAY(C1309)))","v":36},null,3,4,2,5.5,3,2.5,6.5,5,4]
["KS198037","KS","1980-11-09",{"$f":"COUNTIF(Calculations!$E$56:$E$98,\"<=\"&DATE(2006,MONTH(C1310),DAY(C1310)))","v":37},null,5.5,6.5,6,7,6,6,6.5,6.5,7]
["KS198038","KS","1980-11-16",{"$f":"COUNTIF(Calculations!$E$56:$E$98,\"<=\"&DATE(2006,MONTH(C1311),DAY(C1311)))","v":38},null,5.5,6.5,6,6.5,6,6.5,6.5,6,6]
["KS198039","KS","1980-11-23",{"$f":"COUNTIF(Calculations!$E$56:$E$98,\"<=\"&DATE(2006,MONTH(C1312),DAY(C1312)))","v":39},null,6,6.5,6,7,6,6,6.5,7,5.5]
["KS198040","KS","1980-11-30",{"$f":"COUNTIF(Calculations!$E$56:$E$98,\"<=\"&DATE(2006,MONTH(C1313),DAY(C1313)))","v":40},null,4.5,7,7,5.5,6.5,6,4,6.5,5.5]
["KS198041","KS","1980-12-07",{"$f":"COUNTIF(Calculations!$E$56:$E$98,\"<=\"&DATE(2006,MONTH(C1314),DAY(C1314)))","v":41},null,5,7,6.5,6.5,6.5,6.5,6.5,6.5,7]
["KS198042","KS","1980-12-14",{"$f":"COUNTIF(Calculations!$E$56:$E$98,\"<=\"&DATE(2006,MONTH(C1315),DAY(C1315)))","v":42}]
["KS198043","KS","1980-12-21",{"$f":"COUNTIF(Calculations!$E$56:$E$98,\"<=\"&DATE(2006,MONTH(C1316),DAY(C1316)))","v":43}]
["KS198043","KS","1980-12-28",{"$f":"COUNTIF(Calculations!$E$56:$E$98,\"<=\"&DATE(2006,MONTH(C1317),DAY(C1317)))","v":43}]
["KS19810","KS","1981-02-08",{"$f":"COUNTIF(Calculations!$E$56:$E$98,\"<=\"&DATE(2006,MONTH(C1318),DAY(C1318)))","v":0}]
["KS19810","KS","1981-02-15",{"$f":"COUNTIF(Calculations!$E$56:$E$98,\"<=\"&DATE(2006,MONTH(C1319),DAY(C1319)))","v":0}]
["KS19810","KS","1981-02-22",{"$f":"COUNTIF(Calculations!$E$56:$E$98,\"<=\"&DATE(2006,MONTH(C1320),DAY(C1320)))","v":0}]
["KS19811","KS","1981-03-01",{"$f":"COUNTIF(Calculations!$E$56:$E$98,\"<=\"&DATE(2006,MONTH(C1321),DAY(C1321)))","v":1}]
["KS19812","KS","1981-03-08",{"$f":"COUNTIF(Calculations!$E$56:$E$98,\"<=\"&DATE(2006,MONTH(C1322),DAY(C1322)))","v":2}]
["KS19813","KS","1981-03-15",{"$f":"COUNTIF(Calculations!$E$56:$E$98,\"<=\"&DATE(2006,MONTH(C1323),DAY(C1323)))","v":3}]
["KS19815","KS","1981-03-29",{"$f":"COUNTIF(Calculations!$E$56:$E$98,\"<=\"&DATE(2006,MONTH(C1324),DAY(C1324)))","v":5}]
["KS19816","KS","1981-04-05",{"$f":"COUNTIF(Calculations!$E$56:$E$98,\"<=\"&DATE(2006,MONTH(C1325),DAY(C1325)))","v":6}]
["KS19817","KS","1981-04-12",{"$f":"COUNTIF(Calculations!$E$56:$E$98,\"<=\"&DATE(2006,MONTH(C1326),DAY(C1326)))","v":7}]
["KS19818","KS","1981-04-19",{"$f":"COUNTIF(Calculations!$E$56:$E$98,\"<=\"&DATE(2006,MONTH(C1327),DAY(C1327)))","v":8},null,5,5,5.5,6.5,6,6,6.5,6.5,6]
["KS19819","KS","1981-04-26",{"$f":"COUNTIF(Calculations!$E$56:$E$98,\"<=\"&DATE(2006,MONTH(C1328),DAY(C1328)))","v":9},null,0,1.5,3,1,1.5,3.5,4,5,4]
["KS198110","KS","1981-05-03",{"$f":"COUNTIF(Calculations!$E$56:$E$98,\"<=\"&DATE(2006,MONTH(C1329),DAY(C1329)))","v":10},null,4,6.5,6.5,5.5,5.5,6,6.5,6.5,6.5]
["KS198111","KS","1981-05-10",{"$f":"COUNTIF(Calculations!$E$56:$E$98,\"<=\"&DATE(2006,MONTH(C1330),DAY(C1330)))","v":11},null,1,3,4.5,2.5,2,6,5,3,5.5]
["KS198112","KS","1981-05-17",{"$f":"COUNTIF(Calculations!$E$56:$E$98,\"<=\"&DATE(2006,MONTH(C1331),DAY(C1331)))","v":12},null,1,2,3,1,0.5,3,2,2,2.5]
["KS198113","KS","1981-05-24",{"$f":"COUNTIF(Calculations!$E$56:$E$98,\"<=\"&DATE(2006,MONTH(C1332),DAY(C1332)))","v":13},null,0,1,0.5,1,1,1,3,2.5,1]
["KS198114","KS","1981-05-31",{"$f":"COUNTIF(Calculations!$E$56:$E$98,\"<=\"&DATE(2006,MONTH(C1333),DAY(C1333)))","v":14},null,1,1.5,2.5,2,3,2,4.5,3.5,5]
["KS198115","KS","1981-06-07",{"$f":"COUNTIF(Calculations!$E$56:$E$98,\"<=\"&DATE(2006,MONTH(C1334),DAY(C1334)))","v":15},null,4,4.5,2.5,3,4,3,5,2.5,1.5]
["KS198116","KS","1981-06-14",{"$f":"COUNTIF(Calculations!$E$56:$E$98,\"<=\"&DATE(2006,MONTH(C1335),DAY(C1335)))","v":16},null,5.5,5,4.5,5.5,5.5,3.5,5.5,5,5.5]
["KS198117","KS","1981-06-21",{"$f":"COUNTIF(Calculations!$E$56:$E$98,\"<=\"&DATE(2006,MONTH(C1336),DAY(C1336)))","v":17},null,5.5,5,3.5,6.5,3,1.5,5.5,4,3.5]
["KS198118","KS","1981-06-28",{"$f":"COUNTIF(Calculations!$E$56:$E$98,\"<=\"&DATE(2006,MONTH(C1337),DAY(C1337)))","v":18},null,6.5,6,3,6.5,5,3.5,6.5,5.5,4.5]
["KS198119","KS","1981-07-05",{"$f":"COUNTIF(Calculations!$E$56:$E$98,\"<=\"&DATE(2006,MONTH(C1338),DAY(C1338)))","v":19},null,5,2.5,3,7,2.5,1.5,5.5,5,3]
["KS198120","KS","1981-07-12",{"$f":"COUNTIF(Calculations!$E$56:$E$98,\"<=\"&DATE(2006,MONTH(C1339),DAY(C1339)))","v":20},null,6.5,4.5,4.5,6,5,3.5,5,6,4.5]
["KS198121","KS","1981-07-19",{"$f":"COUNTIF(Calculations!$E$56:$E$98,\"<=\"&DATE(2006,MONTH(C1340),DAY(C1340)))","v":21},null,6.5,6.5,6.5,6,6.5,6,6.5,6,6.5]
["KS198122","KS","1981-07-26",{"$f":"COUNTIF(Calculations!$E$56:$E$98,\"<=\"&DATE(2006,MONTH(C1341),DAY(C1341)))","v":22},null,6,5.5,4.5,6,5,5,6.5,6,5.5]
["KS198123","KS","1981-08-02",{"$f":"COUNTIF(Calculations!$E$56:$E$98,\"<=\"&DATE(2006,MONTH(C1342),DAY(C1342)))","v":23},null,3,1.5,1.5,4,3.5,1.5,4,3.5,5]
["KS198124","KS","1981-08-09",{"$f":"COUNTIF(Calculations!$E$56:$E$98,\"<=\"&DATE(2006,MONTH(C1343),DAY(C1343)))","v":24},null,4,3,1,4.5,5,2.5,5.5,5.5,5]
["KS198125","KS","1981-08-16",{"$f":"COUNTIF(Calculations!$E$56:$E$98,\"<=\"&DATE(2006,MONTH(C1344),DAY(C1344)))","v":25},null,4,2.5,3,3.5,3,3.5,4.5,6,6.5]
["KS198126","KS","1981-08-23",{"$f":"COUNTIF(Calculations!$E$56:$E$98,\"<=\"&DATE(2006,MONTH(C1345),DAY(C1345)))","v":26},null,6,5,5.5,6,6.5,6,5.5,6,5]
["KS198127","KS","1981-08-30",{"$f":"COUNTIF(Calculations!$E$56:$E$98,\"<=\"&DATE(2006,MONTH(C1346),DAY(C1346)))","v":27},null,5,4,4.5,6.5,6.5,4.5,6,6.5,4]
["KS198128","KS","1981-09-06",{"$f":"COUNTIF(Calculations!$E$56:$E$98,\"<=\"&DATE(2006,MONTH(C1347),DAY(C1347)))","v":28},null,6,6.5,5,6,3.5,3.5,6,5.5,4]
["KS198129","KS","1981-09-13",{"$f":"COUNTIF(Calculations!$E$56:$E$98,\"<=\"&DATE(2006,MONTH(C1348),DAY(C1348)))","v":29},null,4,4.5,4.5,5.5,3.5,5,5.5,4.5,4.5]
["KS198130","KS","1981-09-20",{"$f":"COUNTIF(Calculations!$E$56:$E$98,\"<=\"&DATE(2006,MONTH(C1349),DAY(C1349)))","v":30},null,5.5,6.5,6,6,6,7,4.5,6,6.5]
["KS198131","KS","1981-09-27",{"$f":"COUNTIF(Calculations!$E$56:$E$98,\"<=\"&DATE(2006,MONTH(C1350),DAY(C1350)))","v":31},null,6.5,5.5,6,6,5,6.5,6,6.5,6.5]
["KS198132","KS","1981-10-04",{"$f":"COUNTIF(Calculations!$E$56:$E$98,\"<=\"&DATE(2006,MONTH(C1351),DAY(C1351)))","v":32},null,7,6.5,5,7,6,6,6.5,6,7]
["KS198133","KS","1981-10-11",{"$f":"COUNTIF(Calculations!$E$56:$E$98,\"<=\"&DATE(2006,MONTH(C1352),DAY(C1352)))","v":33},null,6.5,6,4.5,6,5,5,6.5,5,5.5]
["KS198134","KS","1981-10-18",{"$f":"COUNTIF(Calculations!$E$56:$E$98,\"<=\"&DATE(2006,MONTH(C1353),DAY(C1353)))","v":34},null,6,2.5,3,5.5,1,2,4.5,2,2]
["KS198135","KS","1981-10-25",{"$f":"COUNTIF(Calculations!$E$56:$E$98,\"<=\"&DATE(2006,MONTH(C1354),DAY(C1354)))","v":35},null,5.5,5,4.5,6,4,3.5,6,4.5,2]
["KS198136","KS","1981-11-01",{"$f":"COUNTIF(Calculations!$E$56:$E$98,\"<=\"&DATE(2006,MONTH(C1355),DAY(C1355)))","v":36},null,6.5,6,6,6.5,3.5,3.5,5.5,3,3]
["KS198137","KS","1981-11-08",{"$f":"COUNTIF(Calculations!$E$56:$E$98,\"<=\"&DATE(2006,MONTH(C1356),DAY(C1356)))","v":37},null,2,1,1,2,0.5,0.5,2,1.5,0]
["KS198138","KS","1981-11-15",{"$f":"COUNTIF(Calculations!$E$56:$E$98,\"<=\"&DATE(2006,MONTH(C1357),DAY(C1357)))","v":38},null,6,5.5,2.5,4.5,2,1,4,2.5,0.5]
["KS198139","KS","1981-11-22",{"$f":"COUNTIF(Calculations!$E$56:$E$98,\"<=\"&DATE(2006,MONTH(C1358),DAY(C1358)))","v":39},null,5.5,6,5.5,6.5,5.5,5,5.5,4.5,3]
["KS198140","KS","1981-11-29",{"$f":"COUNTIF(Calculations!$E$56:$E$98,\"<=\"&DATE(2006,MONTH(C1359),DAY(C1359)))","v":40},null,6,5.5,6,6,6,5,6,5.5,4.5]
["KS198141","KS","1981-12-06",{"$f":"COUNTIF(Calculations!$E$56:$E$98,\"<=\"&DATE(2006,MONTH(C1360),DAY(C1360)))","v":41},null,2,2,2.5,4,3,2,6,4,2.5]
["KS198142","KS","1981-12-13",{"$f":"COUNTIF(Calculations!$E$56:$E$98,\"<=\"&DATE(2006,MONTH(C1361),DAY(C1361)))","v":42},null,4.5,4,3.5,6,5.5,3,6.5,6,3.5]
["KS198143","KS","1981-12-20",{"$f":"COUNTIF(Calculations!$E$56:$E$98,\"<=\"&DATE(2006,MONTH(C1362),DAY(C1362)))","v":43},null,3.5,2,2.5,5.5,5,2.5,6,6,4]
[{"$f":"B1363&YEAR(C1363)&D1363","v":"KS198143"},"KS","1981-12-27",{"$f":"COUNTIF(Calculations!$E$56:$E$98,\"<=\"&DATE(2006,MONTH(C1363),DAY(C1363)))","v":43}]
["KS19820","KS","1982-02-14",{"$f":"COUNTIF(Calculations!$E$56:$E$98,\"<=\"&DATE(2006,MONTH(C1364),DAY(C1364)))","v":0}]
["KS19820","KS","1982-02-21",{"$f":"COUNTIF(Calculations!$E$56:$E$98,\"<=\"&DATE(2006,MONTH(C1365),DAY(C1365)))","v":0}]
["KS19821","KS","1982-02-28",{"$f":"COUNTIF(Calculations!$E$56:$E$98,\"<=\"&DATE(2006,MONTH(C1366),DAY(C1366)))","v":1}]
["KS19822","KS","1982-03-07",{"$f":"COUNTIF(Calculations!$E$56:$E$98,\"<=\"&DATE(2006,MONTH(C1367),DAY(C1367)))","v":2}]
["KS19823","KS","1982-03-14",{"$f":"COUNTIF(Calculations!$E$56:$E$98,\"<=\"&DATE(2006,MONTH(C1368),DAY(C1368)))","v":3}]
["KS19824","KS","1982-03-21",{"$f":"COUNTIF(Calculations!$E$56:$E$98,\"<=\"&DATE(2006,MONTH(C1369),DAY(C1369)))","v":4}]
["KS19828","KS","1982-04-18",{"$f":"COUNTIF(Calculations!$E$56:$E$98,\"<=\"&DATE(2006,MONTH(C1370),DAY(C1370)))","v":8},null,6.5,5,5.5,5.5,6,6,6.5,6.5,6.5]
["KS19829","KS","1982-04-25",{"$f":"COUNTIF(Calculations!$E$56:$E$98,\"<=\"&DATE(2006,MONTH(C1371),DAY(C1371)))","v":9},null,6.5,4.5,5.5,6.5,6.5,6,6.5,6.5,7]
["KS198210","KS","1982-05-02",{"$f":"COUNTIF(Calculations!$E$56:$E$98,\"<=\"&DATE(2006,MONTH(C1372),DAY(C1372)))","v":10},null,3,2,5,4,5,4,5,5,4]
["KS198211","KS","1982-05-09",{"$f":"COUNTIF(Calculations!$E$56:$E$98,\"<=\"&DATE(2006,MONTH(C1373),DAY(C1373)))","v":11},null,2.5,2.5,4,3.5,5,4,4.5,5,3.5]
["KS198212","KS","1982-05-16",{"$f":"COUNTIF(Calculations!$E$56:$E$98,\"<=\"&DATE(2006,MONTH(C1374),DAY(C1374)))","v":12},null,2,0.5,3,4,2.5,2.5,3.5,3.5,3.5]
["KS198213","KS","1982-05-23",{"$f":"COUNTIF(Calculations!$E$56:$E$98,\"<=\"&DATE(2006,MONTH(C1375),DAY(C1375)))","v":13},null,3,1.5,1,5,2,0.5,1.5,2,0]
["KS198214","KS","1982-05-30",{"$f":"COUNTIF(Calculations!$E$56:$E$98,\"<=\"&DATE(2006,MONTH(C1376),DAY(C1376)))","v":14},null,2,0.5,0,3.5,1,0.5,2.5,1,0.5]
["KS198215","KS","1982-06-06",{"$f":"COUNTIF(Calculations!$E$56:$E$98,\"<=\"&DATE(2006,MONTH(C1377),DAY(C1377)))","v":15},null,1,0.5,0,2.5,0.5,0,3.5,1,0]
["KS198216","KS","1982-06-13",{"$f":"COUNTIF(Calculations!$E$56:$E$98,\"<=\"&DATE(2006,MONTH(C1378),DAY(C1378)))","v":16},null,3.5,2,1.5,4.5,2.5,0.5,5,3.5,0.5]
["KS198217","KS","1982-06-20",{"$f":"COUNTIF(Calculations!$E$56:$E$98,\"<=\"&DATE(2006,MONTH(C1379),DAY(C1379)))","v":17},null,2,2,1.5,2,2.5,1.5,4,2.5,1]
["KS198218","KS","1982-06-27",{"$f":"COUNTIF(Calculations!$E$56:$E$98,\"<=\"&DATE(2006,MONTH(C1380),DAY(C1380)))","v":18},null,5,3.5,3.5,3,3,2.5,3,2.5,3.5]
["KS198219","KS","1982-07-04",{"$f":"COUNTIF(Calculations!$E$56:$E$98,\"<=\"&DATE(2006,MONTH(C1381),DAY(C1381)))","v":19},null,2.5,2,3,3,4,3,5,4.5,4]
["KS198220","KS","1982-07-11",{"$f":"COUNTIF(Calculations!$E$56:$E$98,\"<=\"&DATE(2006,MONTH(C1382),DAY(C1382)))","v":20},null,6.5,4.5,4.5,5,5,5,5,5.5,6]
["KS198221","KS","1982-07-18",{"$f":"COUNTIF(Calculations!$E$56:$E$98,\"<=\"&DATE(2006,MONTH(C1383),DAY(C1383)))","v":21},null,4,5,4,5,4.5,4.5,4.5,6,5.5]
["KS198222","KS","1982-07-25",{"$f":"COUNTIF(Calculations!$E$56:$E$98,\"<=\"&DATE(2006,MONTH(C1384),DAY(C1384)))","v":22},null,6.5,6,6,6,6,6,6,6.5,6.5]
["KS198223","KS","1982-08-01",{"$f":"COUNTIF(Calculations!$E$56:$E$98,\"<=\"&DATE(2006,MONTH(C1385),DAY(C1385)))","v":23},null,5,6,7,4,5,6.5,6.5,6,6.5]
["KS198224","KS","1982-08-08",{"$f":"COUNTIF(Calculations!$E$56:$E$98,\"<=\"&DATE(2006,MONTH(C1386),DAY(C1386)))","v":24},null,7,6,6.5,6.5,5,7,6,6.5,7]
["KS198225","KS","1982-08-15",{"$f":"COUNTIF(Calculations!$E$56:$E$98,\"<=\"&DATE(2006,MONTH(C1387),DAY(C1387)))","v":25},null,6.5,6,4.5,5.5,6,5,7,6,4.5]
["KS198226","KS","1982-08-22",{"$f":"COUNTIF(Calculations!$E$56:$E$98,\"<=\"&DATE(2006,MONTH(C1388),DAY(C1388)))","v":26},null,6.5,6,4.5,6.5,6.5,4.5,6.5,6.5,3.5]
["KS198227","KS","1982-08-29",{"$f":"COUNTIF(Calculations!$E$56:$E$98,\"<=\"&DATE(2006,MONTH(C1389),DAY(C1389)))","v":27},null,5.5,5,3,6.5,5,4.5,7,6.5,6]
["KS198228","KS","1982-09-05",{"$f":"COUNTIF(Calculations!$E$56:$E$98,\"<=\"&DATE(2006,MONTH(C1390),DAY(C1390)))","v":28},null,5,3.5,2.5,6.5,5.5,5.5,6.5,6,7]
["KS198229","KS","1982-09-12",{"$f":"COUNTIF(Calculations!$E$56:$E$98,\"<=\"&DATE(2006,MONTH(C1391),DAY(C1391)))","v":29},null,5,5.5,2.5,6,4.5,4.5,6,6.5,7]
["KS198230","KS","1982-09-19",{"$f":"COUNTIF(Calculations!$E$56:$E$98,\"<=\"&DATE(2006,MONTH(C1392),DAY(C1392)))","v":30},null,2.5,3,3.5,3,4.5,5.5,6,4.5,4]
["KS198231","KS","1982-09-26",{"$f":"COUNTIF(Calculations!$E$56:$E$98,\"<=\"&DATE(2006,MONTH(C1393),DAY(C1393)))","v":31},null,6,5.5,4.5,5.5,5,6,6.5,6,6.5]
["KS198232","KS","1982-10-03",{"$f":"COUNTIF(Calculations!$E$56:$E$98,\"<=\"&DATE(2006,MONTH(C1394),DAY(C1394)))","v":32},null,6,6,6.5,6,5.5,6.5,6.5,6,7]
["KS198233","KS","1982-10-10",{"$f":"COUNTIF(Calculations!$E$56:$E$98,\"<=\"&DATE(2006,MONTH(C1395),DAY(C1395)))","v":33},null,4.5,4,5.5,5,5,6,6,6,6]
["KS198234","KS","1982-10-17",{"$f":"COUNTIF(Calculations!$E$56:$E$98,\"<=\"&DATE(2006,MONTH(C1396),DAY(C1396)))","v":34},null,5.5,6,5,6,6,5.5,6.5,6,6]
["KS198235","KS","1982-10-24",{"$f":"COUNTIF(Calculations!$E$56:$E$98,\"<=\"&DATE(2006,MONTH(C1397),DAY(C1397)))","v":35},null,7,5.5,6.5,6.5,6,6,6,6.5,6.5]
["KS198236","KS","1982-10-31",{"$f":"COUNTIF(Calculations!$E$56:$E$98,\"<=\"&DATE(2006,MONTH(C1398),DAY(C1398)))","v":36},null,7,6.5,6.5,7,6,5.5,6.5,6,6]
["KS198237","KS","1982-11-07",{"$f":"COUNTIF(Calculations!$E$56:$E$98,\"<=\"&DATE(2006,MONTH(C1399),DAY(C1399)))","v":37},null,7,6.5,5,6.5,6.5,6.5,6.5,6.5,6]
["KS198238","KS","1982-11-14",{"$f":"COUNTIF(Calculations!$E$56:$E$98,\"<=\"&DATE(2006,MONTH(C1400),DAY(C1400)))","v":38},null,6,6.5,6,5.5,6,6.5,6.5,6.5,5.5]
["KS198239","KS","1982-11-21",{"$f":"COUNTIF(Calculations!$E$56:$E$98,\"<=\"&DATE(2006,MONTH(C1401),DAY(C1401)))","v":39},null,7,6.5,5,6.5,6.5,5,6.5,6.5,5.5]
["KS198240","KS","1982-11-28",{"$f":"COUNTIF(Calculations!$E$56:$E$98,\"<=\"&DATE(2006,MONTH(C1402),DAY(C1402)))","v":40},null,5,6,4.5,6,6,4.5,5.5,5.5,4]
["KS19832","KS","1983-03-06",{"$f":"COUNTIF(Calculations!$E$56:$E$98,\"<=\"&DATE(2006,MONTH(C1403),DAY(C1403)))","v":2}]
["KS19833","KS","1983-03-13",{"$f":"COUNTIF(Calculations!$E$56:$E$98,\"<=\"&DATE(2006,MONTH(C1404),DAY(C1404)))","v":3}]
["KS19834","KS","1983-03-20",{"$f":"COUNTIF(Calculations!$E$56:$E$98,\"<=\"&DATE(2006,MONTH(C1405),DAY(C1405)))","v":4}]
["KS19835","KS","1983-03-27",{"$f":"COUNTIF(Calculations!$E$56:$E$98,\"<=\"&DATE(2006,MONTH(C1406),DAY(C1406)))","v":5}]
["KS19836","KS","1983-04-03",{"$f":"COUNTIF(Calculations!$E$56:$E$98,\"<=\"&DATE(2006,MONTH(C1407),DAY(C1407)))","v":6}]
["KS19837","KS","1983-04-10",{"$f":"COUNTIF(Calculations!$E$56:$E$98,\"<=\"&DATE(2006,MONTH(C1408),DAY(C1408)))","v":7}]
["KS19838","KS","1983-04-17",{"$f":"COUNTIF(Calculations!$E$56:$E$98,\"<=\"&DATE(2006,MONTH(C1409),DAY(C1409)))","v":8}]
["KS19839","KS","1983-04-24",{"$f":"COUNTIF(Calculations!$E$56:$E$98,\"<=\"&DATE(2006,MONTH(C1410),DAY(C1410)))","v":9},null,2.5,2,2,3.5,2,3.5,5,2.5,1.5]
["KS198310","KS","1983-05-01",{"$f":"COUNTIF(Calculations!$E$56:$E$98,\"<=\"&DATE(2006,MONTH(C1411),DAY(C1411)))","v":10},null,4,2,3,3.5,3,2.5,5.5,3.5,1.5]
["KS198311","KS","1983-05-08",{"$f":"COUNTIF(Calculations!$E$56:$E$98,\"<=\"&DATE(2006,MONTH(C1412),DAY(C1412)))","v":11},null,3,3.5,2,5,4,1.5,6.5,5,2]
["KS198312","KS","1983-05-15",{"$f":"COUNTIF(Calculations!$E$56:$E$98,\"<=\"&DATE(2006,MONTH(C1413),DAY(C1413)))","v":12},null,5,5,4,6,6,4,6,5,3]
["KS198313","KS","1983-05-22",{"$f":"COUNTIF(Calculations!$E$56:$E$98,\"<=\"&DATE(2006,MONTH(C1414),DAY(C1414)))","v":13},null,0.5,1,1.5,3.5,3.5,1,4.5,3.5,1.5]
["KS198314","KS","1983-05-29",{"$f":"COUNTIF(Calculations!$E$56:$E$98,\"<=\"&DATE(2006,MONTH(C1415),DAY(C1415)))","v":14},null,3.5,3.5,1.5,5,2,2.5,4.5,3,2]
["KS198315","KS","1983-06-05",{"$f":"COUNTIF(Calculations!$E$56:$E$98,\"<=\"&DATE(2006,MONTH(C1416),DAY(C1416)))","v":15},null,0.5,4.5,5,2,3,4,2.5,3,3]
["KS198316","KS","1983-06-12",{"$f":"COUNTIF(Calculations!$E$56:$E$98,\"<=\"&DATE(2006,MONTH(C1417),DAY(C1417)))","v":16},null,5,5.5,4.5,3.5,3.5,4,2,3,4]
["KS198317","KS","1983-06-19",{"$f":"COUNTIF(Calculations!$E$56:$E$98,\"<=\"&DATE(2006,MONTH(C1418),DAY(C1418)))","v":17},null,3.5,2,3,4.5,3,3,2.5,3.5,4.5]
["KS198318","KS","1983-06-26",{"$f":"COUNTIF(Calculations!$E$56:$E$98,\"<=\"&DATE(2006,MONTH(C1419),DAY(C1419)))","v":18},null,5.5,5.5,4,7,6,4.5,6.5,6,6.5]
["KS198319","KS","1983-07-03",{"$f":"COUNTIF(Calculations!$E$56:$E$98,\"<=\"&DATE(2006,MONTH(C1420),DAY(C1420)))","v":19},null,3.5,5,3,3.5,3.5,2.5,4,3,2]
["KS198320","KS","1983-07-10",{"$f":"COUNTIF(Calculations!$E$56:$E$98,\"<=\"&DATE(2006,MONTH(C1421),DAY(C1421)))","v":20},null,6.5,6.5,5.5,7,6,4,7,6,4]
["KS198321","KS","1983-07-17",{"$f":"COUNTIF(Calculations!$E$56:$E$98,\"<=\"&DATE(2006,MONTH(C1422),DAY(C1422)))","v":21},null,5.5,7,7,6.5,7,6.5,6.5,6.5,7]
["KS198322","KS","1983-07-24",{"$f":"COUNTIF(Calculations!$E$56:$E$98,\"<=\"&DATE(2006,MONTH(C1423),DAY(C1423)))","v":22},null,6.5,7,7,7,6.5,7,7,7,6]
["KS198323","KS","1983-07-31",{"$f":"COUNTIF(Calculations!$E$56:$E$98,\"<=\"&DATE(2006,MONTH(C1424),DAY(C1424)))","v":23},null,7,6.5,7,7,6.5,7,6.5,7,7]
["KS198324","KS","1983-08-07",{"$f":"COUNTIF(Calculations!$E$56:$E$98,\"<=\"&DATE(2006,MONTH(C1425),DAY(C1425)))","v":24},null,7,7,7,7,6.5,7,7,7,6.5]
["KS198325","KS","1983-08-14",{"$f":"COUNTIF(Calculations!$E$56:$E$98,\"<=\"&DATE(2006,MONTH(C1426),DAY(C1426)))","v":25},null,7,7,7,7,7,7,6.5,7,6.5]
[{"$f":"B1427&YEAR(C1427)&D1427","v":"KS198326"},"KS","1983-08-21",{"$f":"COUNTIF(Calculations!$E$56:$E$98,\"<=\"&DATE(2006,MONTH(C1427),DAY(C1427)))","v":26},null,7,6.5,7,7,7,6.5,7,7,7]
["KS198327","KS","1983-08-28",{"$f":"COUNTIF(Calculations!$E$56:$E$98,\"<=\"&DATE(2006,MONTH(C1428),DAY(C1428)))","v":27},null,7,5.5,6.5,7,6.5,6.5,6.5,6,7]
["KS198328","KS","1983-09-04",{"$f":"COUNTIF(Calculations!$E$56:$E$98,\"<=\"&DATE(2006,MONTH(C1429),DAY(C1429)))","v":28},null,6.5,7,5.5,6.5,6.5,6.5,6.5,6,6.5]
["KS198329","KS","1983-09-11",{"$f":"COUNTIF(Calculations!$E$56:$E$98,\"<=\"&DATE(2006,MONTH(C1430),DAY(C1430)))","v":29},null,6.5,6.5,7,6.5,6.5,6.5,7,6.5,6.5]
["KS198330","KS","1983-09-18",{"$f":"COUNTIF(Calculations!$E$56:$E$98,\"<=\"&DATE(2006,MONTH(C1431),DAY(C1431)))","v":30},null,7,6.5,6.5,6.5,5.5,4.5,4.5,4.5,5.5]
["KS198331","KS","1983-09-25",{"$f":"COUNTIF(Calculations!$E$56:$E$98,\"<=\"&DATE(2006,MONTH(C1432),DAY(C1432)))","v":31},null,7,5.5,4.5,7,5,5,6.5,5,4]
["KS198332","KS","1983-10-02",{"$f":"COUNTIF(Calculations!$E$56:$E$98,\"<=\"&DATE(2006,MONTH(C1433),DAY(C1433)))","v":32},null,7,5.5,7,7,6,6.5,7,6.5,6.5]
["KS198333","KS","1983-10-09",{"$f":"COUNTIF(Calculations!$E$56:$E$98,\"<=\"&DATE(2006,MONTH(C1434),DAY(C1434)))","v":33},null,6.5,5.5,6.5,6.5,6.5,6,7,6,6]
["KS198334","KS","1983-10-16",{"$f":"COUNTIF(Calculations!$E$56:$E$98,\"<=\"&DATE(2006,MONTH(C1435),DAY(C1435)))","v":34},null,6.5,5,4,7,4.5,4.5,5.5,4.5,2]
["KS198335","KS","1983-10-23",{"$f":"COUNTIF(Calculations!$E$56:$E$98,\"<=\"&DATE(2006,MONTH(C1436),DAY(C1436)))","v":35},null,6.5,3,3.5,4.5,3.5,2.5,5,2.5,1]
["KS198336","KS","1983-10-30",{"$f":"COUNTIF(Calculations!$E$56:$E$98,\"<=\"&DATE(2006,MONTH(C1437),DAY(C1437)))","v":36},null,6.5,4,2,6.5,4,3,5,4,2]
["KS198337","KS","1983-11-06",{"$f":"COUNTIF(Calculations!$E$56:$E$98,\"<=\"&DATE(2006,MONTH(C1438),DAY(C1438)))","v":37},null,6.5,2,1,6,0,1,5.5,2,1.5]
["KS198338","KS","1983-11-13",{"$f":"COUNTIF(Calculations!$E$56:$E$98,\"<=\"&DATE(2006,MONTH(C1439),DAY(C1439)))","v":38},null,4,0.5,1,5.5,0,0.5,5,2,1.5]
["KS198339","KS","1983-11-20",{"$f":"COUNTIF(Calculations!$E$56:$E$98,\"<=\"&DATE(2006,MONTH(C1440),DAY(C1440)))","v":39},null,5.5,4.5,2,6,4,2,6.5,5,3]
["KS198340","KS","1983-11-27",{"$f":"COUNTIF(Calculations!$E$56:$E$98,\"<=\"&DATE(2006,MONTH(C1441),DAY(C1441)))","v":40},null,3.5,4,3,5,3.5,2.5,4.5,4.5,2]
["KS19842","KS","1984-03-04",{"$f":"COUNTIF(Calculations!$E$56:$E$98,\"<=\"&DATE(2006,MONTH(C1442),DAY(C1442)))","v":2}]
["KS19843","KS","1984-03-11",{"$f":"COUNTIF(Calculations!$E$56:$E$98,\"<=\"&DATE(2006,MONTH(C1443),DAY(C1443)))","v":3}]
["KS19844","KS","1984-03-18",{"$f":"COUNTIF(Calculations!$E$56:$E$98,\"<=\"&DATE(2006,MONTH(C1444),DAY(C1444)))","v":4}]
["KS19845","KS","1984-03-25",{"$f":"COUNTIF(Calculations!$E$56:$E$98,\"<=\"&DATE(2006,MONTH(C1445),DAY(C1445)))","v":5}]
["KS19846","KS","1984-04-01",{"$f":"COUNTIF(Calculations!$E$56:$E$98,\"<=\"&DATE(2006,MONTH(C1446),DAY(C1446)))","v":6}]
["KS19847","KS","1984-04-08",{"$f":"COUNTIF(Calculations!$E$56:$E$98,\"<=\"&DATE(2006,MONTH(C1447),DAY(C1447)))","v":7}]
["KS19848","KS","1984-04-15",{"$f":"COUNTIF(Calculations!$E$56:$E$98,\"<=\"&DATE(2006,MONTH(C1448),DAY(C1448)))","v":8}]
["KS19849","KS","1984-04-22",{"$f":"COUNTIF(Calculations!$E$56:$E$98,\"<=\"&DATE(2006,MONTH(C1449),DAY(C1449)))","v":9}]
["KS198410","KS","1984-04-29",{"$f":"COUNTIF(Calculations!$E$56:$E$98,\"<=\"&DATE(2006,MONTH(C1450),DAY(C1450)))","v":10},null,3,1,2,1.5,2.5,2,4,4,2.5]
["KS198411","KS","1984-05-06",{"$f":"COUNTIF(Calculations!$E$56:$E$98,\"<=\"&DATE(2006,MONTH(C1451),DAY(C1451)))","v":11},null,0.5,0.5,1,1,1.5,1,1,1.5,1.5]
["KS198412","KS","1984-05-13",{"$f":"COUNTIF(Calculations!$E$56:$E$98,\"<=\"&DATE(2006,MONTH(C1452),DAY(C1452)))","v":12},null,2,1.5,2,2,1.5,2,2,4,3.5]
["KS198414","KS","1984-05-27",{"$f":"COUNTIF(Calculations!$E$56:$E$98,\"<=\"&DATE(2006,MONTH(C1453),DAY(C1453)))","v":14},null,5,4,3.5,4.5,5.5,5,5,5,6.5]
["KS198415","KS","1984-06-03",{"$f":"COUNTIF(Calculations!$E$56:$E$98,\"<=\"&DATE(2006,MONTH(C1454),DAY(C1454)))","v":15},null,5.5,4,2.5,6.5,2.5,4,6,5.5,4]
["KS198416","KS","1984-06-10",{"$f":"COUNTIF(Calculations!$E$56:$E$98,\"<=\"&DATE(2006,MONTH(C1455),DAY(C1455)))","v":16},null,6.5,4,5.5,4,5.5,5.5,6.5,6,5]
["KS198417","KS","1984-06-17",{"$f":"COUNTIF(Calculations!$E$56:$E$98,\"<=\"&DATE(2006,MONTH(C1456),DAY(C1456)))","v":17},null,3,3.5,2,4,4,4,6,4.5,3.5]
["KS198418","KS","1984-06-24",{"$f":"COUNTIF(Calculations!$E$56:$E$98,\"<=\"&DATE(2006,MONTH(C1457),DAY(C1457)))","v":18},null,5,2.5,1,6.5,4.5,5,6,6,3.5]
["KS198419","KS","1984-07-01",{"$f":"COUNTIF(Calculations!$E$56:$E$98,\"<=\"&DATE(2006,MONTH(C1458),DAY(C1458)))","v":19},null,5.5,4.5,3.5,6.5,5,3.5,5,5.5,4]
["KS198420","KS","1984-07-08",{"$f":"COUNTIF(Calculations!$E$56:$E$98,\"<=\"&DATE(2006,MONTH(C1459),DAY(C1459)))","v":20},null,5.5,6,5,5,6.5,5,5.5,6.5,6]
["KS198421","KS","1984-07-15",{"$f":"COUNTIF(Calculations!$E$56:$E$98,\"<=\"&DATE(2006,MONTH(C1460),DAY(C1460)))","v":21},null,6,6,6,6.5,6.5,5.5,6.5,6.5,6.5]
["KS198422","KS","1984-07-22",{"$f":"COUNTIF(Calculations!$E$56:$E$98,\"<=\"&DATE(2006,MONTH(C1461),DAY(C1461)))","v":22},null,6,6.5,6.5,5,6.5,6.5,5.5,6.5,6.5]
["KS198423","KS","1984-07-29",{"$f":"COUNTIF(Calculations!$E$56:$E$98,\"<=\"&DATE(2006,MONTH(C1462),DAY(C1462)))","v":23},null,6.5,7,7,6.5,7,7,6.5,7,7]
["KS198424","KS","1984-08-05",{"$f":"COUNTIF(Calculations!$E$56:$E$98,\"<=\"&DATE(2006,MONTH(C1463),DAY(C1463)))","v":24},null,6.5,6.5,7,6.5,7,7,6,6.5,7]
["KS198425","KS","1984-08-12",{"$f":"COUNTIF(Calculations!$E$56:$E$98,\"<=\"&DATE(2006,MONTH(C1464),DAY(C1464)))","v":25},null,6,6.5,7,6,5.5,7,6.5,6,7]
["KS198426","KS","1984-08-19",{"$f":"COUNTIF(Calculations!$E$56:$E$98,\"<=\"&DATE(2006,MONTH(C1465),DAY(C1465)))","v":26},null,6.5,6.5,7,7,6.5,7,6.5,7,7]
["KS198427","KS","1984-08-26",{"$f":"COUNTIF(Calculations!$E$56:$E$98,\"<=\"&DATE(2006,MONTH(C1466),DAY(C1466)))","v":27},null,5,6,6.5,5.5,6,6,6.5,6.5,6.5]
["KS198428","KS","1984-09-02",{"$f":"COUNTIF(Calculations!$E$56:$E$98,\"<=\"&DATE(2006,MONTH(C1467),DAY(C1467)))","v":28},null,5.5,6.5,7,6,7,6.5,6.5,7,6.5]
["KS198429","KS","1984-09-09",{"$f":"COUNTIF(Calculations!$E$56:$E$98,\"<=\"&DATE(2006,MONTH(C1468),DAY(C1468)))","v":29},null,6,5.5,7,6.5,6.5,6.5,6.5,6.5,6.5]
["KS198430","KS","1984-09-16",{"$f":"COUNTIF(Calculations!$E$56:$E$98,\"<=\"&DATE(2006,MONTH(C1469),DAY(C1469)))","v":30},null,6.5,6.5,6,6.5,6.5,6.5,7,7,6.5]
["KS198431","KS","1984-09-23",{"$f":"COUNTIF(Calculations!$E$56:$E$98,\"<=\"&DATE(2006,MONTH(C1470),DAY(C1470)))","v":31},null,7,4.5,5.5,7,6,6,7,6.5,7]
["KS198432","KS","1984-09-30",{"$f":"COUNTIF(Calculations!$E$56:$E$98,\"<=\"&DATE(2006,MONTH(C1471),DAY(C1471)))","v":32},null,7,6,5,6.5,5,5.5,6.5,6,6.5]
["KS198433","KS","1984-10-07",{"$f":"COUNTIF(Calculations!$E$56:$E$98,\"<=\"&DATE(2006,MONTH(C1472),DAY(C1472)))","v":33},null,5.5,6,6,4.5,5.5,6,5,6,6.5]
["KS198434","KS","1984-10-14",{"$f":"COUNTIF(Calculations!$E$56:$E$98,\"<=\"&DATE(2006,MONTH(C1473),DAY(C1473)))","v":34},null,1,2.5,4,4.5,3.5,5,5,3.5,5]
["KS198435","KS","1984-10-21",{"$f":"COUNTIF(Calculations!$E$56:$E$98,\"<=\"&DATE(2006,MONTH(C1474),DAY(C1474)))","v":35},null,1.5,1,1.5,3,1,3,4,3,2]
["KS198436","KS","1984-10-28",{"$f":"COUNTIF(Calculations!$E$56:$E$98,\"<=\"&DATE(2006,MONTH(C1475),DAY(C1475)))","v":36},null,0.5,3.5,3,0.5,2,3,1,3.5,2]
["KS198437","KS","1984-11-04",{"$f":"COUNTIF(Calculations!$E$56:$E$98,\"<=\"&DATE(2006,MONTH(C1476),DAY(C1476)))","v":37},null,3,4.5,1.5,5,3,2,4,4,1]
["KS198438","KS","1984-11-11",{"$f":"COUNTIF(Calculations!$E$56:$E$98,\"<=\"&DATE(2006,MONTH(C1477),DAY(C1477)))","v":38},null,6.5,6,5,6.5,6,4.5,7,5.5,5]
["KS198439","KS","1984-11-18",{"$f":"COUNTIF(Calculations!$E$56:$E$98,\"<=\"&DATE(2006,MONTH(C1478),DAY(C1478)))","v":39},null,6,5.5,6,7,6,5.5,7,6.5,6.5]
["KS198440","KS","1984-11-25",{"$f":"COUNTIF(Calculations!$E$56:$E$98,\"<=\"&DATE(2006,MONTH(C1479),DAY(C1479)))","v":40},null,6,6,5,5.5,5.5,4.5,6,3.5,2]
["KS198441","KS","1984-12-02",{"$f":"COUNTIF(Calculations!$E$56:$E$98,\"<=\"&DATE(2006,MONTH(C1480),DAY(C1480)))","v":41},null,3,5.5,6,5.5,6.5,4.5,5.5,5,3]
["KS19851","KS","1985-03-03",{"$f":"COUNTIF(Calculations!$E$56:$E$98,\"<=\"&DATE(2006,MONTH(C1481),DAY(C1481)))","v":1}]
["KS19852","KS","1985-03-10",{"$f":"COUNTIF(Calculations!$E$56:$E$98,\"<=\"&DATE(2006,MONTH(C1482),DAY(C1482)))","v":2}]
["KS19853","KS","1985-03-17",{"$f":"COUNTIF(Calculations!$E$56:$E$98,\"<=\"&DATE(2006,MONTH(C1483),DAY(C1483)))","v":3}]
["KS19854","KS","1985-03-24",{"$f":"COUNTIF(Calculations!$E$56:$E$98,\"<=\"&DATE(2006,MONTH(C1484),DAY(C1484)))","v":4}]
["KS19855","KS","1985-03-31",{"$f":"COUNTIF(Calculations!$E$56:$E$98,\"<=\"&DATE(2006,MONTH(C1485),DAY(C1485)))","v":5}]
["KS19856","KS","1985-04-07",{"$f":"COUNTIF(Calculations!$E$56:$E$98,\"<=\"&DATE(2006,MONTH(C1486),DAY(C1486)))","v":6}]
["KS19857","KS","1985-04-14",{"$f":"COUNTIF(Calculations!$E$56:$E$98,\"<=\"&DATE(2006,MONTH(C1487),DAY(C1487)))","v":7}]
["KS19858","KS","1985-04-21",{"$f":"COUNTIF(Calculations!$E$56:$E$98,\"<=\"&DATE(2006,MONTH(C1488),DAY(C1488)))","v":8}]
["KS19859","KS","1985-04-28",{"$f":"COUNTIF(Calculations!$E$56:$E$98,\"<=\"&DATE(2006,MONTH(C1489),DAY(C1489)))","v":9},null,5,3.5,6,6.5,4,5.5,5.5,5,5.5]
["KS198510","KS","1985-05-05",{"$f":"COUNTIF(Calculations!$E$56:$E$98,\"<=\"&DATE(2006,MONTH(C1490),DAY(C1490)))","v":10},null,0.5,1,1.5,1,1,1.5,1.5,1.5,1]
[{"$f":"B1491&YEAR(C1491)&D1491","v":"KS198511"},"KS","1985-05-12",{"$f":"COUNTIF(Calculations!$E$56:$E$98,\"<=\"&DATE(2006,MONTH(C1491),DAY(C1491)))","v":11},null,4.5,5.5,4,3.5,2.5,4,3.5,3.5,1]
["KS198512","KS","1985-05-19",{"$f":"COUNTIF(Calculations!$E$56:$E$98,\"<=\"&DATE(2006,MONTH(C1492),DAY(C1492)))","v":12},null,2,0.5,3,1.5,3.5,2.5,5,4,2]
["KS198513","KS","1985-05-26",{"$f":"COUNTIF(Calculations!$E$56:$E$98,\"<=\"&DATE(2006,MONTH(C1493),DAY(C1493)))","v":13},null,5,4,4.5,3.5,6,5,5.5,5.5,4.5]
["KS198514","KS","1985-06-02",{"$f":"COUNTIF(Calculations!$E$56:$E$98,\"<=\"&DATE(2006,MONTH(C1494),DAY(C1494)))","v":14},null,3,3.5,2.5,5,4,2.5,6.5,5,3]
["KS198515","KS","1985-06-09",{"$f":"COUNTIF(Calculations!$E$56:$E$98,\"<=\"&DATE(2006,MONTH(C1495),DAY(C1495)))","v":15},null,2.5,1.5,1,6.5,1.5,1,3.5,2.5,0]
["KS198516","KS","1985-06-16",{"$f":"COUNTIF(Calculations!$E$56:$E$98,\"<=\"&DATE(2006,MONTH(C1496),DAY(C1496)))","v":16},null,6,3,2.5,5.5,2.5,1.5,5,3,1.5]
["KS198517","KS","1985-06-23",{"$f":"COUNTIF(Calculations!$E$56:$E$98,\"<=\"&DATE(2006,MONTH(C1497),DAY(C1497)))","v":17},null,6.5,4.5,4,6.5,6,4,6.5,6,4]
["KS198518","KS","1985-06-30",{"$f":"COUNTIF(Calculations!$E$56:$E$98,\"<=\"&DATE(2006,MONTH(C1498),DAY(C1498)))","v":18},null,5,4.5,3.5,5.5,4.5,3.5,6,5,4]
["KS198519","KS","1985-07-07",{"$f":"COUNTIF(Calculations!$E$56:$E$98,\"<=\"&DATE(2006,MONTH(C1499),DAY(C1499)))","v":19},null,5.5,6,6,5,6,6.5,6.5,6,6.5]
["KS198520","KS","1985-07-14",{"$f":"COUNTIF(Calculations!$E$56:$E$98,\"<=\"&DATE(2006,MONTH(C1500),DAY(C1500)))","v":20},null,7,7,7,6.5,6.5,7,6.5,6.5,7]
["KS198521","KS","1985-07-21",{"$f":"COUNTIF(Calculations!$E$56:$E$98,\"<=\"&DATE(2006,MONTH(C1501),DAY(C1501)))","v":21},null,6.5,6.5,7,6,7,6,6.5,6.5,7]
["KS198522","KS","1985-07-28",{"$f":"COUNTIF(Calculations!$E$56:$E$98,\"<=\"&DATE(2006,MONTH(C1502),DAY(C1502)))","v":22},null,3,5,4,4.5,6.5,6,4.5,5,5.5]
["KS198523","KS","1985-08-04",{"$f":"COUNTIF(Calculations!$E$56:$E$98,\"<=\"&DATE(2006,MONTH(C1503),DAY(C1503)))","v":23},null,0,1.5,2,0.5,2.5,5.5,4.5,4,6.5]
["KS198524","KS","1985-08-11",{"$f":"COUNTIF(Calculations!$E$56:$E$98,\"<=\"&DATE(2006,MONTH(C1504),DAY(C1504)))","v":24},null,4.5,3.5,1.5,4,4.5,3.5,5.5,5,4]
["KS198525","KS","1985-08-18",{"$f":"COUNTIF(Calculations!$E$56:$E$98,\"<=\"&DATE(2006,MONTH(C1505),DAY(C1505)))","v":25},null,3.5,3.5,1,2,4.5,2.5,5.5,3,2]
["KS198526","KS","1985-08-25",{"$f":"COUNTIF(Calculations!$E$56:$E$98,\"<=\"&DATE(2006,MONTH(C1506),DAY(C1506)))","v":26},null,4.5,3.5,0.5,2,2.5,1,4,3,1]
["KS198527","KS","1985-09-01",{"$f":"COUNTIF(Calculations!$E$56:$E$98,\"<=\"&DATE(2006,MONTH(C1507),DAY(C1507)))","v":27},null,5.5,4.5,3,6,4,4.5,6,6.5,4.5]
["KS198528","KS","1985-09-08",{"$f":"COUNTIF(Calculations!$E$56:$E$98,\"<=\"&DATE(2006,MONTH(C1508),DAY(C1508)))","v":28},null,6.5,6,6.5,6,6,6.5,6.5,6.5,7]
["KS198529","KS","1985-09-15",{"$f":"COUNTIF(Calculations!$E$56:$E$98,\"<=\"&DATE(2006,MONTH(C1509),DAY(C1509)))","v":29},null,4.5,5.5,6,4,5.5,5,3.5,5,5.5]
["KS198530","KS","1985-09-22",{"$f":"COUNTIF(Calculations!$E$56:$E$98,\"<=\"&DATE(2006,MONTH(C1510),DAY(C1510)))","v":30},null,6,4,4.5,4,5.5,6.5,4,4.5,5]
["KS198531","KS","1985-09-29",{"$f":"COUNTIF(Calculations!$E$56:$E$98,\"<=\"&DATE(2006,MONTH(C1511),DAY(C1511)))","v":31},null,4.5,1.5,2,3,3,1.5,4,3,1]
["KS198532","KS","1985-10-06",{"$f":"COUNTIF(Calculations!$E$56:$E$98,\"<=\"&DATE(2006,MONTH(C1512),DAY(C1512)))","v":32},null,2.5,1.5,1.5,3.5,3,2,4,4,2.5]
["KS198533","KS","1985-10-13",{"$f":"COUNTIF(Calculations!$E$56:$E$98,\"<=\"&DATE(2006,MONTH(C1513),DAY(C1513)))","v":33},null,3,3,2,3,2.5,1,3,3,3.5]
["KS198534","KS","1985-10-20",{"$f":"COUNTIF(Calculations!$E$56:$E$98,\"<=\"&DATE(2006,MONTH(C1514),DAY(C1514)))","v":34},null,3.5,3,2.5,3,2,1,2.5,2,1.5]
["KS198535","KS","1985-10-27",{"$f":"COUNTIF(Calculations!$E$56:$E$98,\"<=\"&DATE(2006,MONTH(C1515),DAY(C1515)))","v":35},null,4,4,3,4,5,4.5,4.5,4.5,3.5]
["KS198536","KS","1985-11-03",{"$f":"COUNTIF(Calculations!$E$56:$E$98,\"<=\"&DATE(2006,MONTH(C1516),DAY(C1516)))","v":36},null,5.5,6,6,5,5.5,4,5.5,5.5,3.5]
["KS198537","KS","1985-11-10",{"$f":"COUNTIF(Calculations!$E$56:$E$98,\"<=\"&DATE(2006,MONTH(C1517),DAY(C1517)))","v":37},null,6,6,6.5,6,6.5,5.5,6.5,6.5,6]
["KS198538","KS","1985-11-17",{"$f":"COUNTIF(Calculations!$E$56:$E$98,\"<=\"&DATE(2006,MONTH(C1518),DAY(C1518)))","v":38},null,3,3.5,1.5,2.5,2,1.5,3.5,3.5,1]
["KS198539","KS","1985-11-24",{"$f":"COUNTIF(Calculations!$E$56:$E$98,\"<=\"&DATE(2006,MONTH(C1519),DAY(C1519)))","v":39},null,1,2.5,2.5,2,3,0.5,4,4,1]
["KS198540","KS","1985-12-01",{"$f":"COUNTIF(Calculations!$E$56:$E$98,\"<=\"&DATE(2006,MONTH(C1520),DAY(C1520)))","v":40},null,2,2,2,4.5,2,2,4,3,0]
["KS19862","KS","1986-03-09",{"$f":"COUNTIF(Calculations!$E$56:$E$98,\"<=\"&DATE(2006,MONTH(C1521),DAY(C1521)))","v":2}]
["KS19863","KS","1986-03-16",{"$f":"COUNTIF(Calculations!$E$56:$E$98,\"<=\"&DATE(2006,MONTH(C1522),DAY(C1522)))","v":3}]
["KS19864","KS","1986-03-23",{"$f":"COUNTIF(Calculations!$E$56:$E$98,\"<=\"&DATE(2006,MONTH(C1523),DAY(C1523)))","v":4}]
["KS19865","KS","1986-03-30",{"$f":"COUNTIF(Calculations!$E$56:$E$98,\"<=\"&DATE(2006,MONTH(C1524),DAY(C1524)))","v":5}]
["KS19866","KS","1986-04-06",{"$f":"COUNTIF(Calculations!$E$56:$E$98,\"<=\"&DATE(2006,MONTH(C1525),DAY(C1525)))","v":6},null,5.5,2.5,4.5,5.5,3.5,2.5,6,4.5,2]
["KS19867","KS","1986-04-13",{"$f":"COUNTIF(Calculations!$E$56:$E$98,\"<=\"&DATE(2006,MONTH(C1526),DAY(C1526)))","v":7},null,4.5,4.5,3,6,5,2.5,6.5,6,1.5]
["KS19868","KS","1986-04-20",{"$f":"COUNTIF(Calculations!$E$56:$E$98,\"<=\"&DATE(2006,MONTH(C1527),DAY(C1527)))","v":8},null,5.5,4.5,3.5,5.5,5.5,4,6.5,5.5,3]
["KS19869","KS","1986-04-27",{"$f":"COUNTIF(Calculations!$E$56:$E$98,\"<=\"&DATE(2006,MONTH(C1528),DAY(C1528)))","v":9},null,6,6,5,6,6,5.5,6.5,6.5,6]
["KS198610","KS","1986-05-04",{"$f":"COUNTIF(Calculations!$E$56:$E$98,\"<=\"&DATE(2006,MONTH(C1529),DAY(C1529)))","v":10},null,5,2,4,5.5,3,3.5,5.5,5.5,5]
["KS198611","KS","1986-05-11",{"$f":"COUNTIF(Calculations!$E$56:$E$98,\"<=\"&DATE(2006,MONTH(C1530),DAY(C1530)))","v":11},null,6,5,4,6.5,5.5,4.5,6.5,5.5,5.5]
["KS198612","KS","1986-05-18",{"$f":"COUNTIF(Calculations!$E$56:$E$98,\"<=\"&DATE(2006,MONTH(C1531),DAY(C1531)))","v":12},null,6,3.5,1.5,6,4,2,6.5,5,3]
["KS198613","KS","1986-05-25",{"$f":"COUNTIF(Calculations!$E$56:$E$98,\"<=\"&DATE(2006,MONTH(C1532),DAY(C1532)))","v":13},null,2.5,3,1,6,4,2.5,7,4.5,2]
["KS198614","KS","1986-06-01",{"$f":"COUNTIF(Calculations!$E$56:$E$98,\"<=\"&DATE(2006,MONTH(C1533),DAY(C1533)))","v":14},null,2,3.5,3.5,4.5,2.5,5,4.5,3.5,3.5]
["KS198615","KS","1986-06-08",{"$f":"COUNTIF(Calculations!$E$56:$E$98,\"<=\"&DATE(2006,MONTH(C1534),DAY(C1534)))","v":15},null,2.5,4.5,4.5,3,4,4.5,3,2,3]
["KS198616","KS","1986-06-15",{"$f":"COUNTIF(Calculations!$E$56:$E$98,\"<=\"&DATE(2006,MONTH(C1535),DAY(C1535)))","v":16},null,2.5,3,4,3,3,5,3,3,2]
["KS198617","KS","1986-06-22",{"$f":"COUNTIF(Calculations!$E$56:$E$98,\"<=\"&DATE(2006,MONTH(C1536),DAY(C1536)))","v":17},null,5.5,4.5,6.5,6,6,6.5,6,6,6.5]
["KS198618","KS","1986-06-29",{"$f":"COUNTIF(Calculations!$E$56:$E$98,\"<=\"&DATE(2006,MONTH(C1537),DAY(C1537)))","v":18},null,3.5,5.5,5.5,4,4.5,6.5,5.5,5.5,6]
["KS198619","KS","1986-07-06",{"$f":"COUNTIF(Calculations!$E$56:$E$98,\"<=\"&DATE(2006,MONTH(C1538),DAY(C1538)))","v":19},null,5,3,3,5,5,2.5,5,4.5,4]
["KS198620","KS","1986-07-13",{"$f":"COUNTIF(Calculations!$E$56:$E$98,\"<=\"&DATE(2006,MONTH(C1539),DAY(C1539)))","v":20},null,4.5,2,2.5,5.5,2,4,5.5,5,5]
["KS198621","KS","1986-07-20",{"$f":"COUNTIF(Calculations!$E$56:$E$98,\"<=\"&DATE(2006,MONTH(C1540),DAY(C1540)))","v":21},null,6.5,3.5,4.5,5.5,6.5,5.5,6.5,6,6]
["KS198622","KS","1986-07-27",{"$f":"COUNTIF(Calculations!$E$56:$E$98,\"<=\"&DATE(2006,MONTH(C1541),DAY(C1541)))","v":22},null,6,6.5,7,5.5,6.5,7,5.5,6.5,7]
["KS198623","KS","1986-08-03",{"$f":"COUNTIF(Calculations!$E$56:$E$98,\"<=\"&DATE(2006,MONTH(C1542),DAY(C1542)))","v":23},null,6,7,7,6,6.5,5.5,6.5,6.5,7]
["KS198624","KS","1986-08-10",{"$f":"COUNTIF(Calculations!$E$56:$E$98,\"<=\"&DATE(2006,MONTH(C1543),DAY(C1543)))","v":24},null,6,4,5,6.5,5,3.5,5.5,5,4.5]
["KS198625","KS","1986-08-17",{"$f":"COUNTIF(Calculations!$E$56:$E$98,\"<=\"&DATE(2006,MONTH(C1544),DAY(C1544)))","v":25},null,5.5,3,1.5,5.5,4.5,3.5,4.5,4.5,5]
["KS198626","KS","1986-08-24",{"$f":"COUNTIF(Calculations!$E$56:$E$98,\"<=\"&DATE(2006,MONTH(C1545),DAY(C1545)))","v":26},null,6,3,3.5,5.5,4,4.5,5,3,5]
["KS198627","KS","1986-08-31",{"$f":"COUNTIF(Calculations!$E$56:$E$98,\"<=\"&DATE(2006,MONTH(C1546),DAY(C1546)))","v":27},null,6.5,4,5,5.5,4.5,4.5,4.5,3.5,5]
["KS198628","KS","1986-09-07",{"$f":"COUNTIF(Calculations!$E$56:$E$98,\"<=\"&DATE(2006,MONTH(C1547),DAY(C1547)))","v":28},null,5.5,5,6.5,4.5,6.5,6,4.5,5,4.5]
["KS198629","KS","1986-09-14",{"$f":"COUNTIF(Calculations!$E$56:$E$98,\"<=\"&DATE(2006,MONTH(C1548),DAY(C1548)))","v":29},null,5,3.5,5.5,6,5,5.5,5.5,5,4.5]
["KS198630","KS","1986-09-21",{"$f":"COUNTIF(Calculations!$E$56:$E$98,\"<=\"&DATE(2006,MONTH(C1549),DAY(C1549)))","v":30},null,5,4.5,1.5,5,3.5,3.5,6.5,5,1.5]
["KS198631","KS","1986-09-28",{"$f":"COUNTIF(Calculations!$E$56:$E$98,\"<=\"&DATE(2006,MONTH(C1550),DAY(C1550)))","v":31},null,5,3.5,2.5,6.5,4,4,6,5,5]
["KS198632","KS","1986-10-05",{"$f":"COUNTIF(Calculations!$E$56:$E$98,\"<=\"&DATE(2006,MONTH(C1551),DAY(C1551)))","v":32},null,5,2.5,0.5,4.5,2,0.5,4.5,2,0.5]
["KS198633","KS","1986-10-12",{"$f":"COUNTIF(Calculations!$E$56:$E$98,\"<=\"&DATE(2006,MONTH(C1552),DAY(C1552)))","v":33},null,5.5,3.5,2,5,2.5,1.5,5,3.5,1]
["KS198634","KS","1986-10-19",{"$f":"COUNTIF(Calculations!$E$56:$E$98,\"<=\"&DATE(2006,MONTH(C1553),DAY(C1553)))","v":34},null,4.5,1.5,2.5,5.5,3.5,2.5,5.5,4,2.5]
["KS198635","KS","1986-10-26",{"$f":"COUNTIF(Calculations!$E$56:$E$98,\"<=\"&DATE(2006,MONTH(C1554),DAY(C1554)))","v":35},null,2.5,3,4.5,3,3,4,3,3.5,2.5]
[{"$f":"B1555&YEAR(C1555)&D1555","v":"KS198636"},"KS","1986-11-02",{"$f":"COUNTIF(Calculations!$E$56:$E$98,\"<=\"&DATE(2006,MONTH(C1555),DAY(C1555)))","v":36},null,5,3.5,2.5,5.5,4,3,5.5,6,3]
["KS198637","KS","1986-11-09",{"$f":"COUNTIF(Calculations!$E$56:$E$98,\"<=\"&DATE(2006,MONTH(C1556),DAY(C1556)))","v":37},null,3,2.5,2.5,3,2.5,2,1.5,3,1.5]
["KS198638","KS","1986-11-16",{"$f":"COUNTIF(Calculations!$E$56:$E$98,\"<=\"&DATE(2006,MONTH(C1557),DAY(C1557)))","v":38},null,3.5,3,3,5,3.5,3,3,4,2]
["KS198639","KS","1986-11-23",{"$f":"COUNTIF(Calculations!$E$56:$E$98,\"<=\"&DATE(2006,MONTH(C1558),DAY(C1558)))","v":39},null,5.5,4.5,3,6,5,4,6,6,4.5]
["KS198640","KS","1986-11-30",{"$f":"COUNTIF(Calculations!$E$56:$E$98,\"<=\"&DATE(2006,MONTH(C1559),DAY(C1559)))","v":40},null,6.5,5.5,5,6,6,4,6.5,6,3]
["KS19872","KS","1987-03-08",{"$f":"COUNTIF(Calculations!$E$56:$E$98,\"<=\"&DATE(2006,MONTH(C1560),DAY(C1560)))","v":2}]
["KS19873","KS","1987-03-15",{"$f":"COUNTIF(Calculations!$E$56:$E$98,\"<=\"&DATE(2006,MONTH(C1561),DAY(C1561)))","v":3},null,3,3.5,5,4.5,5,4,5.5,4,4]
["KS19874","KS","1987-03-22",{"$f":"COUNTIF(Calculations!$E$56:$E$98,\"<=\"&DATE(2006,MONTH(C1562),DAY(C1562)))","v":4},null,1,0.5,1.5,1.5,2.5,0.5,3,2,2]
["KS19875","KS","1987-03-29",{"$f":"COUNTIF(Calculations!$E$56:$E$98,\"<=\"&DATE(2006,MONTH(C1563),DAY(C1563)))","v":5},null,0,0,0.5,1,1,0,0.5,0.5,0.5]
["KS19876","KS","1987-04-05",{"$f":"COUNTIF(Calculations!$E$56:$E$98,\"<=\"&DATE(2006,MONTH(C1564),DAY(C1564)))","v":6},null,0,0,0,0.5,0.5,0.5,1,1,1.5]
["KS19877","KS","1987-04-12",{"$f":"COUNTIF(Calculations!$E$56:$E$98,\"<=\"&DATE(2006,MONTH(C1565),DAY(C1565)))","v":7},null,1.5,0.5,3,2,2,4,3.5,4,5]
["KS19878","KS","1987-04-19",{"$f":"COUNTIF(Calculations!$E$56:$E$98,\"<=\"&DATE(2006,MONTH(C1566),DAY(C1566)))","v":8},null,1,0.5,1,2.5,1,0.5,4,2.5,1]
["KS19879","KS","1987-04-26",{"$f":"COUNTIF(Calculations!$E$56:$E$98,\"<=\"&DATE(2006,MONTH(C1567),DAY(C1567)))","v":9},null,4.5,3,4,4.5,3.5,4.5,6,5,5]
["KS198710","KS","1987-05-03",{"$f":"COUNTIF(Calculations!$E$56:$E$98,\"<=\"&DATE(2006,MONTH(C1568),DAY(C1568)))","v":10},null,6.5,6,7,6,6.5,6.5,6.5,6.5,6.5]
["KS198711","KS","1987-05-10",{"$f":"COUNTIF(Calculations!$E$56:$E$98,\"<=\"&DATE(2006,MONTH(C1569),DAY(C1569)))","v":11},null,0.5,1,2.5,1,2.5,1.5,2,2.5,1.5]
["KS198712","KS","1987-05-17",{"$f":"COUNTIF(Calculations!$E$56:$E$98,\"<=\"&DATE(2006,MONTH(C1570),DAY(C1570)))","v":12},null,5,4.5,4.5,5,5,6.5,6,6,5]
["KS198713","KS","1987-05-24",{"$f":"COUNTIF(Calculations!$E$56:$E$98,\"<=\"&DATE(2006,MONTH(C1571),DAY(C1571)))","v":13},null,2,2.5,5.5,3.5,5,6.5,5.5,5,6]
["KS198714","KS","1987-05-31",{"$f":"COUNTIF(Calculations!$E$56:$E$98,\"<=\"&DATE(2006,MONTH(C1572),DAY(C1572)))","v":14},null,2.5,1,2,2.5,0.5,1.5,1,1,1]
["KS198715","KS","1987-06-07",{"$f":"COUNTIF(Calculations!$E$56:$E$98,\"<=\"&DATE(2006,MONTH(C1573),DAY(C1573)))","v":15},null,5.5,4.5,2.5,6,4.5,3,6,4,3]
["KS198716","KS","1987-06-14",{"$f":"COUNTIF(Calculations!$E$56:$E$98,\"<=\"&DATE(2006,MONTH(C1574),DAY(C1574)))","v":16},null,4.5,3.5,4.5,5,5,5.5,6,4,4.5]
["KS198717","KS","1987-06-21",{"$f":"COUNTIF(Calculations!$E$56:$E$98,\"<=\"&DATE(2006,MONTH(C1575),DAY(C1575)))","v":17},null,5,5,5,6,5,5.5,6.5,5.5,6.5]
["KS198718","KS","1987-06-28",{"$f":"COUNTIF(Calculations!$E$56:$E$98,\"<=\"&DATE(2006,MONTH(C1576),DAY(C1576)))","v":18},null,4.5,5,4.5,3.5,4.5,4,3.5,5,4]
["KS198719","KS","1987-07-05",{"$f":"COUNTIF(Calculations!$E$56:$E$98,\"<=\"&DATE(2006,MONTH(C1577),DAY(C1577)))","v":19},null,3,3,3.5,4,3,3.5,3,2.5,3.5]
["KS198720","KS","1987-07-12",{"$f":"COUNTIF(Calculations!$E$56:$E$98,\"<=\"&DATE(2006,MONTH(C1578),DAY(C1578)))","v":20},null,3,3.5,3,3,2,4,4,2.5,4]
["KS198721","KS","1987-07-19",{"$f":"COUNTIF(Calculations!$E$56:$E$98,\"<=\"&DATE(2006,MONTH(C1579),DAY(C1579)))","v":21},null,4.5,4,4.5,5,4.5,5.5,5,5.5,6]
["KS198722","KS","1987-07-26",{"$f":"COUNTIF(Calculations!$E$56:$E$98,\"<=\"&DATE(2006,MONTH(C1580),DAY(C1580)))","v":22},null,6,5.5,7,6.5,6,6.5,6,6.5,7]
["KS198723","KS","1987-08-02",{"$f":"COUNTIF(Calculations!$E$56:$E$98,\"<=\"&DATE(2006,MONTH(C1581),DAY(C1581)))","v":23},null,7,6,7,6.5,7,6.5,7,7,7]
["KS198724","KS","1987-08-09",{"$f":"COUNTIF(Calculations!$E$56:$E$98,\"<=\"&DATE(2006,MONTH(C1582),DAY(C1582)))","v":24},null,6,6,6.5,5.5,5.5,5.5,5,6.5,6]
["KS198725","KS","1987-08-16",{"$f":"COUNTIF(Calculations!$E$56:$E$98,\"<=\"&DATE(2006,MONTH(C1583),DAY(C1583)))","v":25},null,5.5,3,6,5,4.5,4.5,5.5,4,4.5]
["KS198726","KS","1987-08-23",{"$f":"COUNTIF(Calculations!$E$56:$E$98,\"<=\"&DATE(2006,MONTH(C1584),DAY(C1584)))","v":26},null,5.5,4,4.5,6,4,3.5,7,5,4]
["KS198727","KS","1987-08-30",{"$f":"COUNTIF(Calculations!$E$56:$E$98,\"<=\"&DATE(2006,MONTH(C1585),DAY(C1585)))","v":27},null,3.5,2,3.5,5.5,1.5,2,4.5,2.5,1]
["KS198728","KS","1987-09-06",{"$f":"COUNTIF(Calculations!$E$56:$E$98,\"<=\"&DATE(2006,MONTH(C1586),DAY(C1586)))","v":28},null,6.5,6.5,5.5,6.5,5,6,7,5.5,6.5]
["KS198729","KS","1987-09-13",{"$f":"COUNTIF(Calculations!$E$56:$E$98,\"<=\"&DATE(2006,MONTH(C1587),DAY(C1587)))","v":29},null,6,6,4,5.5,4.5,4,5,5.5,4.5]
["KS198730","KS","1987-09-20",{"$f":"COUNTIF(Calculations!$E$56:$E$98,\"<=\"&DATE(2006,MONTH(C1588),DAY(C1588)))","v":30},null,5.5,5,2.5,6,5.5,2.5,5.5,5,5]
["KS198731","KS","1987-09-27",{"$f":"COUNTIF(Calculations!$E$56:$E$98,\"<=\"&DATE(2006,MONTH(C1589),DAY(C1589)))","v":31},null,6.5,6,5,6.5,6.5,6,6,7,5.5]
["KS198732","KS","1987-10-04",{"$f":"COUNTIF(Calculations!$E$56:$E$98,\"<=\"&DATE(2006,MONTH(C1590),DAY(C1590)))","v":32},null,6.5,5.5,7,6,6.5,5.5,6,5,3.5]
["KS198733","KS","1987-10-11",{"$f":"COUNTIF(Calculations!$E$56:$E$98,\"<=\"&DATE(2006,MONTH(C1591),DAY(C1591)))","v":33},null,6.5,6.5,7,6.5,7,7,6.5,6.5,7]
["KS198734","KS","1987-10-18",{"$f":"COUNTIF(Calculations!$E$56:$E$98,\"<=\"&DATE(2006,MONTH(C1592),DAY(C1592)))","v":34},null,6,6,6,6,5.5,5.5,6,5.5,5]
["KS198735","KS","1987-10-25",{"$f":"COUNTIF(Calculations!$E$56:$E$98,\"<=\"&DATE(2006,MONTH(C1593),DAY(C1593)))","v":35},null,6.5,5,5.5,6.5,6,5.5,6.5,6,5]
["KS198736","KS","1987-11-01",{"$f":"COUNTIF(Calculations!$E$56:$E$98,\"<=\"&DATE(2006,MONTH(C1594),DAY(C1594)))","v":36},null,6.5,4.5,5.5,6.5,4.5,5.5,7,6.5,4.5]
["KS198737","KS","1987-11-08",{"$f":"COUNTIF(Calculations!$E$56:$E$98,\"<=\"&DATE(2006,MONTH(C1595),DAY(C1595)))","v":37},null,6,4.5,4,7,5.5,5.5,7,6.5,6.5]
["KS198738","KS","1987-11-15",{"$f":"COUNTIF(Calculations!$E$56:$E$98,\"<=\"&DATE(2006,MONTH(C1596),DAY(C1596)))","v":38},null,6.5,6,6.5,6.5,6.5,6.5,7,6.5,6.5]
["KS198739","KS","1987-11-22",{"$f":"COUNTIF(Calculations!$E$56:$E$98,\"<=\"&DATE(2006,MONTH(C1597),DAY(C1597)))","v":39},null,3.5,5,4,5.5,6,5,6,6.5,1.5]
["KS198740","KS","1987-11-29",{"$f":"COUNTIF(Calculations!$E$56:$E$98,\"<=\"&DATE(2006,MONTH(C1598),DAY(C1598)))","v":40},null,4,4,3.5,6,5.5,1.5,7,5,1]
["KS19882","KS","1988-03-06",{"$f":"COUNTIF(Calculations!$E$56:$E$98,\"<=\"&DATE(2006,MONTH(C1599),DAY(C1599)))","v":2},null,5,3,4.5,5.5,4.5,2.5,3.5,4,5.5]
["KS19883","KS","1988-03-13",{"$f":"COUNTIF(Calculations!$E$56:$E$98,\"<=\"&DATE(2006,MONTH(C1600),DAY(C1600)))","v":3},null,4.5,4.5,5,5.5,5.5,2.5,5.5,4,0.5]
["KS19884","KS","1988-03-20",{"$f":"COUNTIF(Calculations!$E$56:$E$98,\"<=\"&DATE(2006,MONTH(C1601),DAY(C1601)))","v":4},null,3,3.5,6,4,4,3,4.5,4,0.5]
["KS19885","KS","1988-03-27",{"$f":"COUNTIF(Calculations!$E$56:$E$98,\"<=\"&DATE(2006,MONTH(C1602),DAY(C1602)))","v":5},null,5,5.5,5,6,6,3.5,5.5,4.5,1]
["KS19886","KS","1988-04-03",{"$f":"COUNTIF(Calculations!$E$56:$E$98,\"<=\"&DATE(2006,MONTH(C1603),DAY(C1603)))","v":6},null,4.5,5,5,4.5,6,3,5,5,1.5]
["KS19887","KS","1988-04-10",{"$f":"COUNTIF(Calculations!$E$56:$E$98,\"<=\"&DATE(2006,MONTH(C1604),DAY(C1604)))","v":7},null,2,2,3.5,2.5,3,1.5,3.5,4,1]
["KS19888","KS","1988-04-17",{"$f":"COUNTIF(Calculations!$E$56:$E$98,\"<=\"&DATE(2006,MONTH(C1605),DAY(C1605)))","v":8},null,5.5,4.5,5,6,5.5,4.5,5.5,5.5,2.5]
["KS19889","KS","1988-04-24",{"$f":"COUNTIF(Calculations!$E$56:$E$98,\"<=\"&DATE(2006,MONTH(C1606),DAY(C1606)))","v":9},null,5,5.5,5,4.5,6,4,5,4,2.5]
["KS198810","KS","1988-05-01",{"$f":"COUNTIF(Calculations!$E$56:$E$98,\"<=\"&DATE(2006,MONTH(C1607),DAY(C1607)))","v":10},null,5.5,6,6,5.5,6,5,5,4.5,5]
["KS198811","KS","1988-05-08",{"$f":"COUNTIF(Calculations!$E$56:$E$98,\"<=\"&DATE(2006,MONTH(C1608),DAY(C1608)))","v":11},null,2.5,2.5,4.5,4,2,5,5.5,4,4.5]
["KS198812","KS","1988-05-15",{"$f":"COUNTIF(Calculations!$E$56:$E$98,\"<=\"&DATE(2006,MONTH(C1609),DAY(C1609)))","v":12},null,6,6,6,5.5,6.5,6.5,6.5,6,7]
["KS198813","KS","1988-05-22",{"$f":"COUNTIF(Calculations!$E$56:$E$98,\"<=\"&DATE(2006,MONTH(C1610),DAY(C1610)))","v":13},null,6,6.5,7,6,7,7,6.5,6.5,6.5]
["KS198814","KS","1988-05-29",{"$f":"COUNTIF(Calculations!$E$56:$E$98,\"<=\"&DATE(2006,MONTH(C1611),DAY(C1611)))","v":14},null,2.5,4.5,2.5,4.5,3,2.5,5.5,4.5,4.5]
["KS198815","KS","1988-06-05",{"$f":"COUNTIF(Calculations!$E$56:$E$98,\"<=\"&DATE(2006,MONTH(C1612),DAY(C1612)))","v":15},null,4,3.5,4.5,2.5,4,6,2.5,3.5,6]
["KS198816","KS","1988-06-12",{"$f":"COUNTIF(Calculations!$E$56:$E$98,\"<=\"&DATE(2006,MONTH(C1613),DAY(C1613)))","v":16},null,5.5,6.5,6.5,6.5,6.5,7,6.5,6.5,7]
["KS198817","KS","1988-06-19",{"$f":"COUNTIF(Calculations!$E$56:$E$98,\"<=\"&DATE(2006,MONTH(C1614),DAY(C1614)))","v":17},null,5.5,6,6.5,6.5,6.5,6,6,6.5,6.5]
["KS198818","KS","1988-06-26",{"$f":"COUNTIF(Calculations!$E$56:$E$98,\"<=\"&DATE(2006,MONTH(C1615),DAY(C1615)))","v":18},null,6.5,6.5,7,7,6.5,7,7,6.5,7]
["KS198819","KS","1988-07-03",{"$f":"COUNTIF(Calculations!$E$56:$E$98,\"<=\"&DATE(2006,MONTH(C1616),DAY(C1616)))","v":19},null,6.5,5.5,5.5,6.5,6,5.5,6.5,6,6.5]
["KS198820","KS","1988-07-10",{"$f":"COUNTIF(Calculations!$E$56:$E$98,\"<=\"&DATE(2006,MONTH(C1617),DAY(C1617)))","v":20},null,6,5.5,5.5,7,6,5,6.5,6.5,5.5]
["KS198821","KS","1988-07-17",{"$f":"COUNTIF(Calculations!$E$56:$E$98,\"<=\"&DATE(2006,MONTH(C1618),DAY(C1618)))","v":21},null,5.5,5.5,6,5.5,5,5.5,6.5,6.5,5.5]
[{"$f":"B1619&YEAR(C1619)&D1619","v":"KS198822"},"KS","1988-07-24",{"$f":"COUNTIF(Calculations!$E$56:$E$98,\"<=\"&DATE(2006,MONTH(C1619),DAY(C1619)))","v":22},null,4,2.5,6,4,3,6,5.5,4,2.5]
["KS198823","KS","1988-07-31",{"$f":"COUNTIF(Calculations!$E$56:$E$98,\"<=\"&DATE(2006,MONTH(C1620),DAY(C1620)))","v":23},null,5.5,6,7,7,6,7,7,5.5,6]
["KS198824","KS","1988-08-07",{"$f":"COUNTIF(Calculations!$E$56:$E$98,\"<=\"&DATE(2006,MONTH(C1621),DAY(C1621)))","v":24},null,5.5,5,7,5.5,6.5,7,7,6,6]
["KS198825","KS","1988-08-14",{"$f":"COUNTIF(Calculations!$E$56:$E$98,\"<=\"&DATE(2006,MONTH(C1622),DAY(C1622)))","v":25},null,6,6,6.5,4,4.5,6,6,6,6]
["KS198826","KS","1988-08-21",{"$f":"COUNTIF(Calculations!$E$56:$E$98,\"<=\"&DATE(2006,MONTH(C1623),DAY(C1623)))","v":26},null,6,4.5,5.5,5.5,7,7,7,6.5,6.5]
["KS198827","KS","1988-08-28",{"$f":"COUNTIF(Calculations!$E$56:$E$98,\"<=\"&DATE(2006,MONTH(C1624),DAY(C1624)))","v":27},null,6.5,6,6.5,7,6,6.5,7,6.5,5.5]
["KS198828","KS","1988-09-04",{"$f":"COUNTIF(Calculations!$E$56:$E$98,\"<=\"&DATE(2006,MONTH(C1625),DAY(C1625)))","v":28},null,6.5,6,6.5,6.5,6.5,7,6.5,6.5,7]
["KS198829","KS","1988-09-11",{"$f":"COUNTIF(Calculations!$E$56:$E$98,\"<=\"&DATE(2006,MONTH(C1626),DAY(C1626)))","v":29},null,7,6.5,7,7,7,7,6,7,7]
["KS198830","KS","1988-09-18",{"$f":"COUNTIF(Calculations!$E$56:$E$98,\"<=\"&DATE(2006,MONTH(C1627),DAY(C1627)))","v":30},null,4,5,6.5,5,6,6,4.5,6.5,6]
["KS198831","KS","1988-09-25",{"$f":"COUNTIF(Calculations!$E$56:$E$98,\"<=\"&DATE(2006,MONTH(C1628),DAY(C1628)))","v":31},null,5.5,5,5,4.5,5.5,3.5,6.5,6,4.5]
["KS198832","KS","1988-10-02",{"$f":"COUNTIF(Calculations!$E$56:$E$98,\"<=\"&DATE(2006,MONTH(C1629),DAY(C1629)))","v":32},null,5.5,6,5.5,6,6.5,6,6,6,4.5]
["KS198833","KS","1988-10-09",{"$f":"COUNTIF(Calculations!$E$56:$E$98,\"<=\"&DATE(2006,MONTH(C1630),DAY(C1630)))","v":33},null,5,4,6,5,5,5.5,3.5,4.5,4]
["KS198834","KS","1988-10-16",{"$f":"COUNTIF(Calculations!$E$56:$E$98,\"<=\"&DATE(2006,MONTH(C1631),DAY(C1631)))","v":34},null,6.5,6,7,6.5,6.5,6.5,6.5,5,5.5]
["KS198835","KS","1988-10-23",{"$f":"COUNTIF(Calculations!$E$56:$E$98,\"<=\"&DATE(2006,MONTH(C1632),DAY(C1632)))","v":35},null,6.5,6,6.5,7,6,7,6.5,6.5,6]
["KS198836","KS","1988-10-30",{"$f":"COUNTIF(Calculations!$E$56:$E$98,\"<=\"&DATE(2006,MONTH(C1633),DAY(C1633)))","v":36},null,6.5,6.5,7,7,7,5.5,7,6.5,5.5]
["KS198837","KS","1988-11-06",{"$f":"COUNTIF(Calculations!$E$56:$E$98,\"<=\"&DATE(2006,MONTH(C1634),DAY(C1634)))","v":37},null,7,6.5,7,6.5,6.5,7,7,7,7]
["KS198838","KS","1988-11-13",{"$f":"COUNTIF(Calculations!$E$56:$E$98,\"<=\"&DATE(2006,MONTH(C1635),DAY(C1635)))","v":38},null,6.5,6.5,6,6.5,6.5,6.5,7,7,6.5]
["KS198839","KS","1988-11-20",{"$f":"COUNTIF(Calculations!$E$56:$E$98,\"<=\"&DATE(2006,MONTH(C1636),DAY(C1636)))","v":39},null,3.5,2.5,5.5,3.5,5,5,4,5.5,2.5]
["KS198840","KS","1988-11-27",{"$f":"COUNTIF(Calculations!$E$56:$E$98,\"<=\"&DATE(2006,MONTH(C1637),DAY(C1637)))","v":40},null,3.5,5,6.5,6.5,5.5,3.5,5.5,4,2.5]
["KS19896","KS","1989-04-02",{"$f":"COUNTIF(Calculations!$E$56:$E$98,\"<=\"&DATE(2006,MONTH(C1638),DAY(C1638)))","v":6},null,6,5.5,3.5,4,4,2.5,5.5,3,1.5]
["KS19897","KS","1989-04-09",{"$f":"COUNTIF(Calculations!$E$56:$E$98,\"<=\"&DATE(2006,MONTH(C1639),DAY(C1639)))","v":7},null,6.5,6,1,6,6.5,1,6.5,5.5,2.5]
["KS19898","KS","1989-04-16",{"$f":"COUNTIF(Calculations!$E$56:$E$98,\"<=\"&DATE(2006,MONTH(C1640),DAY(C1640)))","v":8},null,4.5,6,5,2.5,6.5,4,5.5,6,6]
["KS19899","KS","1989-04-23",{"$f":"COUNTIF(Calculations!$E$56:$E$98,\"<=\"&DATE(2006,MONTH(C1641),DAY(C1641)))","v":9},null,5.5,6.5,6.5,6.5,6.5,6.5,6.5,7,6.5]
["KS198910","KS","1989-04-30",{"$f":"COUNTIF(Calculations!$E$56:$E$98,\"<=\"&DATE(2006,MONTH(C1642),DAY(C1642)))","v":10},null,6.5,7,6.5,7,6.5,7,7,6.5,7]
["KS198911","KS","1989-05-07",{"$f":"COUNTIF(Calculations!$E$56:$E$98,\"<=\"&DATE(2006,MONTH(C1643),DAY(C1643)))","v":11},null,6,6,4,6,6.5,5,5.5,6.5,6.5]
["KS198912","KS","1989-05-14",{"$f":"COUNTIF(Calculations!$E$56:$E$98,\"<=\"&DATE(2006,MONTH(C1644),DAY(C1644)))","v":12},null,6.5,6.5,7,6.5,6,6,6,7,6]
["KS198913","KS","1989-05-21",{"$f":"COUNTIF(Calculations!$E$56:$E$98,\"<=\"&DATE(2006,MONTH(C1645),DAY(C1645)))","v":13},null,1.5,4.5,5.5,2.5,4,5.5,1.5,2.5,3.5]
["KS198914","KS","1989-05-28",{"$f":"COUNTIF(Calculations!$E$56:$E$98,\"<=\"&DATE(2006,MONTH(C1646),DAY(C1646)))","v":14},null,4,4.5,4.5,4,3,2,4.5,2.5,1]
["KS198915","KS","1989-06-04",{"$f":"COUNTIF(Calculations!$E$56:$E$98,\"<=\"&DATE(2006,MONTH(C1647),DAY(C1647)))","v":15},null,6.5,5,5.5,5.5,5.5,5,6,5.5,4]
["KS198916","KS","1989-06-11",{"$f":"COUNTIF(Calculations!$E$56:$E$98,\"<=\"&DATE(2006,MONTH(C1648),DAY(C1648)))","v":16},null,3.5,5,5.5,3,3,2.5,2,2.5,1]
["KS198917","KS","1989-06-18",{"$f":"COUNTIF(Calculations!$E$56:$E$98,\"<=\"&DATE(2006,MONTH(C1649),DAY(C1649)))","v":17},null,4,3.5,6,3,2.5,4,2,3,2.5]
["KS198918","KS","1989-06-25",{"$f":"COUNTIF(Calculations!$E$56:$E$98,\"<=\"&DATE(2006,MONTH(C1650),DAY(C1650)))","v":18},null,6,5,5,5.5,6,5.5,5.5,5,5.5]
["KS198919","KS","1989-07-02",{"$f":"COUNTIF(Calculations!$E$56:$E$98,\"<=\"&DATE(2006,MONTH(C1651),DAY(C1651)))","v":19},null,4,2.5,3.5,3,2.5,4.5,4,2.5,4.5]
["KS198920","KS","1989-07-09",{"$f":"COUNTIF(Calculations!$E$56:$E$98,\"<=\"&DATE(2006,MONTH(C1652),DAY(C1652)))","v":20},null,5.5,4.5,6.5,7,4,6,6.5,4.5,6]
["KS198921","KS","1989-07-16",{"$f":"COUNTIF(Calculations!$E$56:$E$98,\"<=\"&DATE(2006,MONTH(C1653),DAY(C1653)))","v":21},null,5.5,5,5.5,5.5,7,6.5,6,6.5,4]
["KS198922","KS","1989-07-23",{"$f":"COUNTIF(Calculations!$E$56:$E$98,\"<=\"&DATE(2006,MONTH(C1654),DAY(C1654)))","v":22},null,5,4,4.5,5.5,6,4,6,6,3.5]
["KS198923","KS","1989-07-30",{"$f":"COUNTIF(Calculations!$E$56:$E$98,\"<=\"&DATE(2006,MONTH(C1655),DAY(C1655)))","v":23},null,6,5.5,6,6.5,5.5,5,6.5,6.5,6]
["KS198924","KS","1989-08-06",{"$f":"COUNTIF(Calculations!$E$56:$E$98,\"<=\"&DATE(2006,MONTH(C1656),DAY(C1656)))","v":24},null,6,5,6.5,5.5,6,5,5.5,6.5,5.5]
["KS198925","KS","1989-08-13",{"$f":"COUNTIF(Calculations!$E$56:$E$98,\"<=\"&DATE(2006,MONTH(C1657),DAY(C1657)))","v":25},null,6.5,6.5,7,5.5,6.5,5,6,6,6.5]
["KS198926","KS","1989-08-20",{"$f":"COUNTIF(Calculations!$E$56:$E$98,\"<=\"&DATE(2006,MONTH(C1658),DAY(C1658)))","v":26},null,5.5,6.5,6,6.5,6,4.5,5,3,5.5]
["KS198927","KS","1989-08-27",{"$f":"COUNTIF(Calculations!$E$56:$E$98,\"<=\"&DATE(2006,MONTH(C1659),DAY(C1659)))","v":27},null,3.5,3.5,4.5,4.5,4,1.5,4,3.5,1]
["KS198928","KS","1989-09-03",{"$f":"COUNTIF(Calculations!$E$56:$E$98,\"<=\"&DATE(2006,MONTH(C1660),DAY(C1660)))","v":28},null,4,2.5,1,6.5,3.5,0.5,5.5,2,1.5]
["KS198929","KS","1989-09-10",{"$f":"COUNTIF(Calculations!$E$56:$E$98,\"<=\"&DATE(2006,MONTH(C1661),DAY(C1661)))","v":29},null,3.5,3,1.5,4.5,2.5,0.5,5.5,2.5,2]
["KS198930","KS","1989-09-17",{"$f":"COUNTIF(Calculations!$E$56:$E$98,\"<=\"&DATE(2006,MONTH(C1662),DAY(C1662)))","v":30},null,1.5,0.5,1.5,2,1.5,0.5,2,1,0.5]
["KS198931","KS","1989-09-24",{"$f":"COUNTIF(Calculations!$E$56:$E$98,\"<=\"&DATE(2006,MONTH(C1663),DAY(C1663)))","v":31},null,5.5,4,2.5,5.5,4,2.5,6.5,5,4]
["KS198932","KS","1989-10-01",{"$f":"COUNTIF(Calculations!$E$56:$E$98,\"<=\"&DATE(2006,MONTH(C1664),DAY(C1664)))","v":32},null,6.5,6,5.5,7,6.5,6.5,7,7,7]
["KS198933","KS","1989-10-08",{"$f":"COUNTIF(Calculations!$E$56:$E$98,\"<=\"&DATE(2006,MONTH(C1665),DAY(C1665)))","v":33},null,6,6,6.5,7,6.5,7,6.5,6.5,5]
["KS198934","KS","1989-10-15",{"$f":"COUNTIF(Calculations!$E$56:$E$98,\"<=\"&DATE(2006,MONTH(C1666),DAY(C1666)))","v":34},null,6,6.5,6.5,7,6.5,6.5,7,6,5.5]
["KS198935","KS","1989-10-22",{"$f":"COUNTIF(Calculations!$E$56:$E$98,\"<=\"&DATE(2006,MONTH(C1667),DAY(C1667)))","v":35},null,5.5,5,6,5,6.5,6.5,6.5,7,6.5]
["KS198936","KS","1989-10-29",{"$f":"COUNTIF(Calculations!$E$56:$E$98,\"<=\"&DATE(2006,MONTH(C1668),DAY(C1668)))","v":36},null,6,6,6,6.5,6,6,6,6,6]
["KS198937","KS","1989-11-05",{"$f":"COUNTIF(Calculations!$E$56:$E$98,\"<=\"&DATE(2006,MONTH(C1669),DAY(C1669)))","v":37},null,6.5,5,1.5,7,5.5,1.5,6.5,6,1]
["KS198938","KS","1989-11-12",{"$f":"COUNTIF(Calculations!$E$56:$E$98,\"<=\"&DATE(2006,MONTH(C1670),DAY(C1670)))","v":38},null,6.5,6.5,5.5,7,7,5,7,7,6.5]
["KS198939","KS","1989-11-19",{"$f":"COUNTIF(Calculations!$E$56:$E$98,\"<=\"&DATE(2006,MONTH(C1671),DAY(C1671)))","v":39},null,6,6.5,6.5,6.5,6.5,6,7,6.5,6.5]
["KS198940","KS","1989-11-26",{"$f":"COUNTIF(Calculations!$E$56:$E$98,\"<=\"&DATE(2006,MONTH(C1672),DAY(C1672)))","v":40},null,7,6.5,6.5,7,6.5,6,7,6.5,7]
["KS19902","KS","1990-03-04",{"$f":"COUNTIF(Calculations!$E$56:$E$98,\"<=\"&DATE(2006,MONTH(C1673),DAY(C1673)))","v":2},null,7,6,3.5,3,3,3.5,0,1,0.5]
["KS19903","KS","1990-03-11",{"$f":"COUNTIF(Calculations!$E$56:$E$98,\"<=\"&DATE(2006,MONTH(C1674),DAY(C1674)))","v":3},null,2,2.5,2.5,2.5,2.5,1.5,1,1,0]
["KS19904","KS","1990-03-18",{"$f":"COUNTIF(Calculations!$E$56:$E$98,\"<=\"&DATE(2006,MONTH(C1675),DAY(C1675)))","v":4},null,2.5,1,0,3,0.5,0.5,3,1.5,0]
["KS19905","KS","1990-03-25",{"$f":"COUNTIF(Calculations!$E$56:$E$98,\"<=\"&DATE(2006,MONTH(C1676),DAY(C1676)))","v":5},null,5.5,3.5,2.5,5.5,3,1,6,3,1]
["KS19906","KS","1990-04-01",{"$f":"COUNTIF(Calculations!$E$56:$E$98,\"<=\"&DATE(2006,MONTH(C1677),DAY(C1677)))","v":6},null,3.5,1.5,0,2.5,2,0,4,2.5,0]
["KS19907","KS","1990-04-08",{"$f":"COUNTIF(Calculations!$E$56:$E$98,\"<=\"&DATE(2006,MONTH(C1678),DAY(C1678)))","v":7},null,2,1.5,1.5,3,2,0.5,5,4,2]
["KS19908","KS","1990-04-15",{"$f":"COUNTIF(Calculations!$E$56:$E$98,\"<=\"&DATE(2006,MONTH(C1679),DAY(C1679)))","v":8},null,2.5,3.5,3,2.5,2.5,2,4.5,4.5,2]
["KS19909","KS","1990-04-22",{"$f":"COUNTIF(Calculations!$E$56:$E$98,\"<=\"&DATE(2006,MONTH(C1680),DAY(C1680)))","v":9},null,5,4,4.5,4.5,3.5,2,5.5,5,3]
["KS199010","KS","1990-04-29",{"$f":"COUNTIF(Calculations!$E$56:$E$98,\"<=\"&DATE(2006,MONTH(C1681),DAY(C1681)))","v":10},null,4.5,3.5,6,3,2,3.5,3,2.5,2.5]
["KS199011","KS","1990-05-06",{"$f":"COUNTIF(Calculations!$E$56:$E$98,\"<=\"&DATE(2006,MONTH(C1682),DAY(C1682)))","v":11},null,4.5,3.5,5,3,2,3.5,2,2.5,1.5]
[{"$f":"B1683&YEAR(C1683)&D1683","v":"KS199012"},"KS","1990-05-13",{"$f":"COUNTIF(Calculations!$E$56:$E$98,\"<=\"&DATE(2006,MONTH(C1683),DAY(C1683)))","v":12},null,1.5,1.5,4,4,2.5,3,4.5,4.5,3]
["KS199013","KS","1990-05-20",{"$f":"COUNTIF(Calculations!$E$56:$E$98,\"<=\"&DATE(2006,MONTH(C1684),DAY(C1684)))","v":13},null,1,0.5,0.5,4.5,3,1.5,6.5,5,1.5]
["KS199014","KS","1990-05-27",{"$f":"COUNTIF(Calculations!$E$56:$E$98,\"<=\"&DATE(2006,MONTH(C1685),DAY(C1685)))","v":14},null,3.5,2,2,3.5,3,0.5,6,6,3]
["KS199015","KS","1990-06-03",{"$f":"COUNTIF(Calculations!$E$56:$E$98,\"<=\"&DATE(2006,MONTH(C1686),DAY(C1686)))","v":15},null,1,3,2.5,1,1,1,2.5,2,1]
["KS199016","KS","1990-06-10",{"$f":"COUNTIF(Calculations!$E$56:$E$98,\"<=\"&DATE(2006,MONTH(C1687),DAY(C1687)))","v":16},null,3,4.5,3.5,4.5,4,5,6.5,5.5,5]
["KS199017","KS","1990-06-17",{"$f":"COUNTIF(Calculations!$E$56:$E$98,\"<=\"&DATE(2006,MONTH(C1688),DAY(C1688)))","v":17},null,6,5.5,2.5,5.5,5,4,6.5,4.5,4.5]
["KS199018","KS","1990-06-24",{"$f":"COUNTIF(Calculations!$E$56:$E$98,\"<=\"&DATE(2006,MONTH(C1689),DAY(C1689)))","v":18},null,5.5,4,2.5,4.5,3,3.5,5.5,5,4]
["KS199019","KS","1990-07-01",{"$f":"COUNTIF(Calculations!$E$56:$E$98,\"<=\"&DATE(2006,MONTH(C1690),DAY(C1690)))","v":19},null,6.5,5.5,6,6,6.5,5,6.5,6.5,7]
["KS199020","KS","1990-07-08",{"$f":"COUNTIF(Calculations!$E$56:$E$98,\"<=\"&DATE(2006,MONTH(C1691),DAY(C1691)))","v":20},null,6,6,6.5,6.5,7,6,6.5,7,7]
["KS199021","KS","1990-07-15",{"$f":"COUNTIF(Calculations!$E$56:$E$98,\"<=\"&DATE(2006,MONTH(C1692),DAY(C1692)))","v":21},null,4.5,6,6,4.5,6.5,5,6.5,6.5,7]
["KS199022","KS","1990-07-22",{"$f":"COUNTIF(Calculations!$E$56:$E$98,\"<=\"&DATE(2006,MONTH(C1693),DAY(C1693)))","v":22},null,6,6,6.5,6,6.5,6,7,6.5,7]
["KS199023","KS","1990-07-29",{"$f":"COUNTIF(Calculations!$E$56:$E$98,\"<=\"&DATE(2006,MONTH(C1694),DAY(C1694)))","v":23},null,4.5,3.5,4,3.5,5,4,5,6,6.5]
["KS199024","KS","1990-08-05",{"$f":"COUNTIF(Calculations!$E$56:$E$98,\"<=\"&DATE(2006,MONTH(C1695),DAY(C1695)))","v":24},null,5,3,4.5,3,4.5,4,5,5,5]
["KS199025","KS","1990-08-12",{"$f":"COUNTIF(Calculations!$E$56:$E$98,\"<=\"&DATE(2006,MONTH(C1696),DAY(C1696)))","v":25},null,6.5,6,5.5,6,6,5.5,6,6,6]
["KS199026","KS","1990-08-19",{"$f":"COUNTIF(Calculations!$E$56:$E$98,\"<=\"&DATE(2006,MONTH(C1697),DAY(C1697)))","v":26},null,5,1.5,1.5,5,1.5,0.5,6,5.5,4.5]
["KS199027","KS","1990-08-26",{"$f":"COUNTIF(Calculations!$E$56:$E$98,\"<=\"&DATE(2006,MONTH(C1698),DAY(C1698)))","v":27},null,4.5,3.5,5,4.5,3.5,5.5,6.5,6.5,6.5]
["KS199028","KS","1990-09-02",{"$f":"COUNTIF(Calculations!$E$56:$E$98,\"<=\"&DATE(2006,MONTH(C1699),DAY(C1699)))","v":28},null,6,6.5,6.5,6.5,6.5,7,7,6.5,7]
["KS199029","KS","1990-09-09",{"$f":"COUNTIF(Calculations!$E$56:$E$98,\"<=\"&DATE(2006,MONTH(C1700),DAY(C1700)))","v":29},null,7,6.5,6.5,6.5,6.5,6.5,7,6.5,7]
["KS199030","KS","1990-09-16",{"$f":"COUNTIF(Calculations!$E$56:$E$98,\"<=\"&DATE(2006,MONTH(C1701),DAY(C1701)))","v":30},null,6.5,6,7,6,6.5,6.5,6.5,7,6.5]
["KS199031","KS","1990-09-23",{"$f":"COUNTIF(Calculations!$E$56:$E$98,\"<=\"&DATE(2006,MONTH(C1702),DAY(C1702)))","v":31},null,5.5,5,6,5,4.5,6,4,5,4.5]
["KS199032","KS","1990-09-30",{"$f":"COUNTIF(Calculations!$E$56:$E$98,\"<=\"&DATE(2006,MONTH(C1703),DAY(C1703)))","v":32},null,6.5,6.5,6.5,6.5,6,6.5,6.5,5.5,5.5]
["KS199033","KS","1990-10-07",{"$f":"COUNTIF(Calculations!$E$56:$E$98,\"<=\"&DATE(2006,MONTH(C1704),DAY(C1704)))","v":33},null,5.5,4.5,5.5,6,4.5,4.5,4.5,3,4.5]
["KS199034","KS","1990-10-14",{"$f":"COUNTIF(Calculations!$E$56:$E$98,\"<=\"&DATE(2006,MONTH(C1705),DAY(C1705)))","v":34},null,5.5,5.5,3.5,6,4.5,2.5,5.5,5,3.5]
["KS199035","KS","1990-10-21",{"$f":"COUNTIF(Calculations!$E$56:$E$98,\"<=\"&DATE(2006,MONTH(C1706),DAY(C1706)))","v":35},null,6.5,6.5,7,6.5,6.5,6.5,7,6.5,6.5]
["KS199036","KS","1990-10-28",{"$f":"COUNTIF(Calculations!$E$56:$E$98,\"<=\"&DATE(2006,MONTH(C1707),DAY(C1707)))","v":36},null,5,6.5,6.5,6.5,6.5,7,7,7,7]
["KS199037","KS","1990-11-04",{"$f":"COUNTIF(Calculations!$E$56:$E$98,\"<=\"&DATE(2006,MONTH(C1708),DAY(C1708)))","v":37},null,5.5,6,5.5,5.5,5.5,6,6,5.5,6]
["KS199038","KS","1990-11-11",{"$f":"COUNTIF(Calculations!$E$56:$E$98,\"<=\"&DATE(2006,MONTH(C1709),DAY(C1709)))","v":38},null,2,3.5,1.5,3.5,3.5,2,4.5,3,2.5]
["KS199039","KS","1990-11-18",{"$f":"COUNTIF(Calculations!$E$56:$E$98,\"<=\"&DATE(2006,MONTH(C1710),DAY(C1710)))","v":39},null,5,5,4.5,6.5,6,3,7,6,5.5]
["KS199040","KS","1990-11-25",{"$f":"COUNTIF(Calculations!$E$56:$E$98,\"<=\"&DATE(2006,MONTH(C1711),DAY(C1711)))","v":40},null,6,6,5.5,7,6,4,7,5.5,5.5]
["KS199041","KS","1990-12-02",{"$f":"COUNTIF(Calculations!$E$56:$E$98,\"<=\"&DATE(2006,MONTH(C1712),DAY(C1712)))","v":41},null,4,4.5,4.5,6.5,4.5,4.5,7,6.5,5.5]
["KS19912","KS","1991-03-10",{"$f":"COUNTIF(Calculations!$E$56:$E$98,\"<=\"&DATE(2006,MONTH(C1713),DAY(C1713)))","v":2},null,6,6.5,3.5,6.5,6.5,5.5,6,7,7]
["KS19913","KS","1991-03-17",{"$f":"COUNTIF(Calculations!$E$56:$E$98,\"<=\"&DATE(2006,MONTH(C1714),DAY(C1714)))","v":3},null,5.5,5.5,4,5,6,6,5,6,6.5]
["KS19914","KS","1991-03-24",{"$f":"COUNTIF(Calculations!$E$56:$E$98,\"<=\"&DATE(2006,MONTH(C1715),DAY(C1715)))","v":4},null,3.5,2,4.5,3,3,4.5,4.5,4,6]
["KS19915","KS","1991-03-31",{"$f":"COUNTIF(Calculations!$E$56:$E$98,\"<=\"&DATE(2006,MONTH(C1716),DAY(C1716)))","v":5},null,3.5,3.5,4,4.5,5.5,5.5,5.5,5,6.5]
["KS19916","KS","1991-04-07",{"$f":"COUNTIF(Calculations!$E$56:$E$98,\"<=\"&DATE(2006,MONTH(C1717),DAY(C1717)))","v":6},null,5,4.5,4.5,4.5,5.5,5.5,6,4,5.5]
["KS19917","KS","1991-04-14",{"$f":"COUNTIF(Calculations!$E$56:$E$98,\"<=\"&DATE(2006,MONTH(C1718),DAY(C1718)))","v":7},null,5.5,6,6,5.5,6.5,6.5,6,6,7]
["KS19918","KS","1991-04-21",{"$f":"COUNTIF(Calculations!$E$56:$E$98,\"<=\"&DATE(2006,MONTH(C1719),DAY(C1719)))","v":8},null,5.5,4.5,2.5,6,4.5,2.5,5.5,3.5,3]
["KS19919","KS","1991-04-28",{"$f":"COUNTIF(Calculations!$E$56:$E$98,\"<=\"&DATE(2006,MONTH(C1720),DAY(C1720)))","v":9},null,2.5,4,1.5,5,3,1.5,5.5,3.5,2]
["KS199110","KS","1991-05-05",{"$f":"COUNTIF(Calculations!$E$56:$E$98,\"<=\"&DATE(2006,MONTH(C1721),DAY(C1721)))","v":10},null,3,4,2.5,4,5,2,5.5,5.5,2]
["KS199111","KS","1991-05-12",{"$f":"COUNTIF(Calculations!$E$56:$E$98,\"<=\"&DATE(2006,MONTH(C1722),DAY(C1722)))","v":11},null,3,4.5,3,4.5,5,2.5,6.5,5,2.5]
["KS199112","KS","1991-05-19",{"$f":"COUNTIF(Calculations!$E$56:$E$98,\"<=\"&DATE(2006,MONTH(C1723),DAY(C1723)))","v":12},null,5,5,4,6,3.5,2.5,6,6.5,3.5]
["KS199113","KS","1991-05-26",{"$f":"COUNTIF(Calculations!$E$56:$E$98,\"<=\"&DATE(2006,MONTH(C1724),DAY(C1724)))","v":13},null,4,4,3,4.5,5,2,5,5.5,1.5]
["KS199114","KS","1991-06-02",{"$f":"COUNTIF(Calculations!$E$56:$E$98,\"<=\"&DATE(2006,MONTH(C1725),DAY(C1725)))","v":14},null,2,2,3,3.5,2,1.5,4,5,5]
["KS199115","KS","1991-06-09",{"$f":"COUNTIF(Calculations!$E$56:$E$98,\"<=\"&DATE(2006,MONTH(C1726),DAY(C1726)))","v":15},null,3.5,4,4,5,3.5,4,4.5,4.5,3.5]
["KS199116","KS","1991-06-16",{"$f":"COUNTIF(Calculations!$E$56:$E$98,\"<=\"&DATE(2006,MONTH(C1727),DAY(C1727)))","v":16},null,4,5,4.5,5.5,4.5,4.5,5.5,5,5.5]
["KS199117","KS","1991-06-23",{"$f":"COUNTIF(Calculations!$E$56:$E$98,\"<=\"&DATE(2006,MONTH(C1728),DAY(C1728)))","v":17},null,4.5,6.5,6.5,5.5,6.5,5.5,6,6,7]
["KS199118","KS","1991-06-30",{"$f":"COUNTIF(Calculations!$E$56:$E$98,\"<=\"&DATE(2006,MONTH(C1729),DAY(C1729)))","v":18},null,5.5,6,5.5,6,7,6,5.5,7,7]
["KS199119","KS","1991-07-07",{"$f":"COUNTIF(Calculations!$E$56:$E$98,\"<=\"&DATE(2006,MONTH(C1730),DAY(C1730)))","v":19},null,5.5,6,6.5,5.5,6,6.5,6.5,6.5,7]
["KS199120","KS","1991-07-14",{"$f":"COUNTIF(Calculations!$E$56:$E$98,\"<=\"&DATE(2006,MONTH(C1731),DAY(C1731)))","v":20},null,4.5,6,6,4.5,6,6.5,6.5,6.5,6.5]
["KS199121","KS","1991-07-21",{"$f":"COUNTIF(Calculations!$E$56:$E$98,\"<=\"&DATE(2006,MONTH(C1732),DAY(C1732)))","v":21},null,6.5,6.5,6.5,6.5,6.5,6.5,6.5,7,6.5]
["KS199122","KS","1991-07-28",{"$f":"COUNTIF(Calculations!$E$56:$E$98,\"<=\"&DATE(2006,MONTH(C1733),DAY(C1733)))","v":22},null,3,6.5,6.5,4.5,5.5,6.5,5,5.5,4.5]
["KS199123","KS","1991-08-04",{"$f":"COUNTIF(Calculations!$E$56:$E$98,\"<=\"&DATE(2006,MONTH(C1734),DAY(C1734)))","v":23},null,6,6.5,7,7,7,7,6.5,7,6]
["KS199124","KS","1991-08-11",{"$f":"COUNTIF(Calculations!$E$56:$E$98,\"<=\"&DATE(2006,MONTH(C1735),DAY(C1735)))","v":24},null,3,3.5,6,4,5,6,4.5,6.5,6]
["KS199125","KS","1991-08-18",{"$f":"COUNTIF(Calculations!$E$56:$E$98,\"<=\"&DATE(2006,MONTH(C1736),DAY(C1736)))","v":25},null,4,4,6.5,4,5,6,5.5,6.5,6.5]
["KS199126","KS","1991-08-25",{"$f":"COUNTIF(Calculations!$E$56:$E$98,\"<=\"&DATE(2006,MONTH(C1737),DAY(C1737)))","v":26},null,6.5,6.5,6.5,6,5.5,7,6.5,5.5,6.5]
["KS199127","KS","1991-09-01",{"$f":"COUNTIF(Calculations!$E$56:$E$98,\"<=\"&DATE(2006,MONTH(C1738),DAY(C1738)))","v":27},null,6.5,6.5,6.5,6,5.5,7,6.5,6.5,6.5]
["KS199128","KS","1991-09-08",{"$f":"COUNTIF(Calculations!$E$56:$E$98,\"<=\"&DATE(2006,MONTH(C1739),DAY(C1739)))","v":28},null,6.5,6,5.5,6.5,5,6.5,7,5,5.5]
["KS199129","KS","1991-09-15",{"$f":"COUNTIF(Calculations!$E$56:$E$98,\"<=\"&DATE(2006,MONTH(C1740),DAY(C1740)))","v":29},null,4.5,4,6.5,6,6,6,6.5,6,6.5]
["KS199130","KS","1991-09-22",{"$f":"COUNTIF(Calculations!$E$56:$E$98,\"<=\"&DATE(2006,MONTH(C1741),DAY(C1741)))","v":30},null,5,6,6,6.5,5.5,5.5,6.5,6.5,4.5]
["KS199131","KS","1991-09-29",{"$f":"COUNTIF(Calculations!$E$56:$E$98,\"<=\"&DATE(2006,MONTH(C1742),DAY(C1742)))","v":31},null,7,6.5,6.5,7,6.5,6.5,7,7,6]
["KS199132","KS","1991-10-06",{"$f":"COUNTIF(Calculations!$E$56:$E$98,\"<=\"&DATE(2006,MONTH(C1743),DAY(C1743)))","v":32},null,7,6.5,6,7,6.5,6.5,7,7,7]
["KS199133","KS","1991-10-13",{"$f":"COUNTIF(Calculations!$E$56:$E$98,\"<=\"&DATE(2006,MONTH(C1744),DAY(C1744)))","v":33},null,7,6.5,6.5,7,6.5,7,7,7,7]
["KS199134","KS","1991-10-20",{"$f":"COUNTIF(Calculations!$E$56:$E$98,\"<=\"&DATE(2006,MONTH(C1745),DAY(C1745)))","v":34},null,7,7,7,7,7,7,7,7,7]
["KS199135","KS","1991-10-27",{"$f":"COUNTIF(Calculations!$E$56:$E$98,\"<=\"&DATE(2006,MONTH(C1746),DAY(C1746)))","v":35},null,7,7,7,7,6.5,6.5,7,6.5,6]
[{"$f":"B1747&YEAR(C1747)&D1747","v":"KS199136"},"KS","1991-11-03",{"$f":"COUNTIF(Calculations!$E$56:$E$98,\"<=\"&DATE(2006,MONTH(C1747),DAY(C1747)))","v":36},null,3.5,3.5,3,5.5,6,3.5,3.5,4.5,1.5]
["KS199137","KS","1991-11-10",{"$f":"COUNTIF(Calculations!$E$56:$E$98,\"<=\"&DATE(2006,MONTH(C1748),DAY(C1748)))","v":37},null,0,0,1,0,1.5,0,0.5,0.5,1.5]
["KS199138","KS","1991-11-17",{"$f":"COUNTIF(Calculations!$E$56:$E$98,\"<=\"&DATE(2006,MONTH(C1749),DAY(C1749)))","v":38},null,1,0.5,0,0,1,2,1,3,4.5]
["KS199139","KS","1991-11-24",{"$f":"COUNTIF(Calculations!$E$56:$E$98,\"<=\"&DATE(2006,MONTH(C1750),DAY(C1750)))","v":39},null,2,1,1,1.5,2.5,0.5,1,3.5,1]
["KS199140","KS","1991-12-01",{"$f":"COUNTIF(Calculations!$E$56:$E$98,\"<=\"&DATE(2006,MONTH(C1751),DAY(C1751)))","v":40},null,3.5,0.5,0,3.5,3.5,0.5,3.5,4.5,3]
["KS19922","KS","1992-03-08",{"$f":"COUNTIF(Calculations!$E$56:$E$98,\"<=\"&DATE(2006,MONTH(C1752),DAY(C1752)))","v":2},null,2,3,4,4,4.5,4,5.5,5,3.5]
["KS19923","KS","1992-03-15",{"$f":"COUNTIF(Calculations!$E$56:$E$98,\"<=\"&DATE(2006,MONTH(C1753),DAY(C1753)))","v":3},null,1,2,2,2,3.5,2,4.5,5,3.5]
["KS19924","KS","1992-03-22",{"$f":"COUNTIF(Calculations!$E$56:$E$98,\"<=\"&DATE(2006,MONTH(C1754),DAY(C1754)))","v":4},null,1.5,2.5,1.5,4,4,1.5,5.5,3.5,3]
["KS19925","KS","1992-03-29",{"$f":"COUNTIF(Calculations!$E$56:$E$98,\"<=\"&DATE(2006,MONTH(C1755),DAY(C1755)))","v":5},null,2.5,3.5,1.5,5.5,3,0.5,7,4.5,3.5]
["KS19926","KS","1992-04-05",{"$f":"COUNTIF(Calculations!$E$56:$E$98,\"<=\"&DATE(2006,MONTH(C1756),DAY(C1756)))","v":6},null,2.5,2.5,0.5,4.5,4,2,7,5,4.5]
["KS19927","KS","1992-04-12",{"$f":"COUNTIF(Calculations!$E$56:$E$98,\"<=\"&DATE(2006,MONTH(C1757),DAY(C1757)))","v":7},null,3,3,4.5,6,5.5,4.5,7,6,6.5]
["KS19928","KS","1992-04-19",{"$f":"COUNTIF(Calculations!$E$56:$E$98,\"<=\"&DATE(2006,MONTH(C1758),DAY(C1758)))","v":8},null,5.5,3.5,4,6,5.5,3.5,7,5.5,3.5]
["KS19929","KS","1992-04-26",{"$f":"COUNTIF(Calculations!$E$56:$E$98,\"<=\"&DATE(2006,MONTH(C1759),DAY(C1759)))","v":9},null,5.5,3,1,5.5,5,1.5,6.5,5.5,1.5]
["KS199210","KS","1992-05-03",{"$f":"COUNTIF(Calculations!$E$56:$E$98,\"<=\"&DATE(2006,MONTH(C1760),DAY(C1760)))","v":10},null,6,5,3,7,6.5,4.5,7,5.5,3.5]
["KS199211","KS","1992-05-10",{"$f":"COUNTIF(Calculations!$E$56:$E$98,\"<=\"&DATE(2006,MONTH(C1761),DAY(C1761)))","v":11},null,7,6,6,7,6.5,6.5,7,6.5,6.5]
["KS199212","KS","1992-05-17",{"$f":"COUNTIF(Calculations!$E$56:$E$98,\"<=\"&DATE(2006,MONTH(C1762),DAY(C1762)))","v":12},null,6,3.5,5.5,5.5,3.5,5,6.5,4,3]
["KS199213","KS","1992-05-24",{"$f":"COUNTIF(Calculations!$E$56:$E$98,\"<=\"&DATE(2006,MONTH(C1763),DAY(C1763)))","v":13},null,7,5,6,6,4.5,4,6,5,1.5]
["KS199214","KS","1992-05-31",{"$f":"COUNTIF(Calculations!$E$56:$E$98,\"<=\"&DATE(2006,MONTH(C1764),DAY(C1764)))","v":14},null,2,3,6,3.5,2,4,5,2.5,3]
["KS199215","KS","1992-06-07",{"$f":"COUNTIF(Calculations!$E$56:$E$98,\"<=\"&DATE(2006,MONTH(C1765),DAY(C1765)))","v":15},null,1.5,1.5,3.5,0.5,0.5,2.5,2.5,0.5,1]
["KS199216","KS","1992-06-14",{"$f":"COUNTIF(Calculations!$E$56:$E$98,\"<=\"&DATE(2006,MONTH(C1766),DAY(C1766)))","v":16},null,0.5,1.5,2,0.5,0.5,1.5,2,1,1]
["KS199217","KS","1992-06-21",{"$f":"COUNTIF(Calculations!$E$56:$E$98,\"<=\"&DATE(2006,MONTH(C1767),DAY(C1767)))","v":17},null,4.5,2.5,4.5,5,2.5,3.5,5.5,4,4]
["KS199218","KS","1992-06-28",{"$f":"COUNTIF(Calculations!$E$56:$E$98,\"<=\"&DATE(2006,MONTH(C1768),DAY(C1768)))","v":18},null,5,4.5,5.5,4,4,5,4,4,5]
["KS199219","KS","1992-07-05",{"$f":"COUNTIF(Calculations!$E$56:$E$98,\"<=\"&DATE(2006,MONTH(C1769),DAY(C1769)))","v":19},null,4,5.5,6.5,6,2.5,5,3,4,4.5]
["KS199220","KS","1992-07-12",{"$f":"COUNTIF(Calculations!$E$56:$E$98,\"<=\"&DATE(2006,MONTH(C1770),DAY(C1770)))","v":20},null,4,3.5,2.5,4.5,5.5,4,6,6,5]
["KS199221","KS","1992-07-19",{"$f":"COUNTIF(Calculations!$E$56:$E$98,\"<=\"&DATE(2006,MONTH(C1771),DAY(C1771)))","v":21},null,2.5,3,1,3.5,4,2.5,5,4,2]
["KS199222","KS","1992-07-26",{"$f":"COUNTIF(Calculations!$E$56:$E$98,\"<=\"&DATE(2006,MONTH(C1772),DAY(C1772)))","v":22},null,3.5,1,1,3,1.5,1,3.5,3.5,2.5]
["KS199223","KS","1992-08-02",{"$f":"COUNTIF(Calculations!$E$56:$E$98,\"<=\"&DATE(2006,MONTH(C1773),DAY(C1773)))","v":23},null,5,1.5,1,5.5,2.5,2.5,5.5,6,4]
["KS199224","KS","1992-08-09",{"$f":"COUNTIF(Calculations!$E$56:$E$98,\"<=\"&DATE(2006,MONTH(C1774),DAY(C1774)))","v":24},null,1.5,1,2,4.5,1.5,2,5,3.5,1.5]
["KS199225","KS","1992-08-16",{"$f":"COUNTIF(Calculations!$E$56:$E$98,\"<=\"&DATE(2006,MONTH(C1775),DAY(C1775)))","v":25},null,2.5,3.5,2,4,2,3,3.5,3,3.5]
["KS199226","KS","1992-08-23",{"$f":"COUNTIF(Calculations!$E$56:$E$98,\"<=\"&DATE(2006,MONTH(C1776),DAY(C1776)))","v":26},null,3,4.5,5,2,4.5,5.5,4,5.5,6]
["KS199227","KS","1992-08-30",{"$f":"COUNTIF(Calculations!$E$56:$E$98,\"<=\"&DATE(2006,MONTH(C1777),DAY(C1777)))","v":27},null,3,3,5.5,3,5,5,3.5,4.5,5.5]
["KS199228","KS","1992-09-06",{"$f":"COUNTIF(Calculations!$E$56:$E$98,\"<=\"&DATE(2006,MONTH(C1778),DAY(C1778)))","v":28},null,3,5,6,4.5,6,5.5,5.5,6.5,5.5]
["KS199229","KS","1992-09-13",{"$f":"COUNTIF(Calculations!$E$56:$E$98,\"<=\"&DATE(2006,MONTH(C1779),DAY(C1779)))","v":29},null,5.5,5.5,4,5.5,6.5,5,6.5,6,3.5]
["KS199230","KS","1992-09-20",{"$f":"COUNTIF(Calculations!$E$56:$E$98,\"<=\"&DATE(2006,MONTH(C1780),DAY(C1780)))","v":30},null,7,6,5.5,7,6.5,5.5,7,6.5,6.5]
["KS199231","KS","1992-09-27",{"$f":"COUNTIF(Calculations!$E$56:$E$98,\"<=\"&DATE(2006,MONTH(C1781),DAY(C1781)))","v":31},null,7,4.5,4.5,6.5,6,5,7,6.5,5]
["KS199232","KS","1992-10-04",{"$f":"COUNTIF(Calculations!$E$56:$E$98,\"<=\"&DATE(2006,MONTH(C1782),DAY(C1782)))","v":32},null,7,6,6.5,6.5,6,6.5,7,6.5,5.5]
["KS199233","KS","1992-10-11",{"$f":"COUNTIF(Calculations!$E$56:$E$98,\"<=\"&DATE(2006,MONTH(C1783),DAY(C1783)))","v":33},null,5,5,5.5,5,5.5,6,6,5,6]
["KS199234","KS","1992-10-18",{"$f":"COUNTIF(Calculations!$E$56:$E$98,\"<=\"&DATE(2006,MONTH(C1784),DAY(C1784)))","v":34},null,6,3.5,5,6.5,2.5,6.5,7,6,6]
["KS199235","KS","1992-10-25",{"$f":"COUNTIF(Calculations!$E$56:$E$98,\"<=\"&DATE(2006,MONTH(C1785),DAY(C1785)))","v":35},null,6.5,5.5,6.5,7,6,7,7,6.5,7]
["KS199236","KS","1992-11-01",{"$f":"COUNTIF(Calculations!$E$56:$E$98,\"<=\"&DATE(2006,MONTH(C1786),DAY(C1786)))","v":36},null,4,3,5,5,3.5,4.5,6,5.5,5]
["KS199237","KS","1992-11-08",{"$f":"COUNTIF(Calculations!$E$56:$E$98,\"<=\"&DATE(2006,MONTH(C1787),DAY(C1787)))","v":37},null,3,2,1,4,2,0.5,5,2.5,0.5]
["KS199238","KS","1992-11-15",{"$f":"COUNTIF(Calculations!$E$56:$E$98,\"<=\"&DATE(2006,MONTH(C1788),DAY(C1788)))","v":38},null,4,3.5,1.5,3,2.5,0.5,5.5,3,1]
["KS199239","KS","1992-11-22",{"$f":"COUNTIF(Calculations!$E$56:$E$98,\"<=\"&DATE(2006,MONTH(C1789),DAY(C1789)))","v":39},null,3,2.5,2.5,2.5,2,1,3,2.5,2]
["KS199240","KS","1992-11-29",{"$f":"COUNTIF(Calculations!$E$56:$E$98,\"<=\"&DATE(2006,MONTH(C1790),DAY(C1790)))","v":40},null,0.5,1,0.5,1.5,0.5,0.5,0.5,1,0]
["KS199241","KS","1992-12-06",{"$f":"COUNTIF(Calculations!$E$56:$E$98,\"<=\"&DATE(2006,MONTH(C1791),DAY(C1791)))","v":41},null,2,2.5,2.5,0.5,1,2,0.5,2,2.5]
["KS199242","KS","1992-12-13",{"$f":"COUNTIF(Calculations!$E$56:$E$98,\"<=\"&DATE(2006,MONTH(C1792),DAY(C1792)))","v":42},null,4,2,2.5,2,2.5,2.5,1,1.5,1.5]
["KS199243","KS","1992-12-20",{"$f":"COUNTIF(Calculations!$E$56:$E$98,\"<=\"&DATE(2006,MONTH(C1793),DAY(C1793)))","v":43},null,2,0.5,0.5,1.5,1,0.5,1,1,0.5]
["KS19932","KS","1993-03-07",{"$f":"COUNTIF(Calculations!$E$56:$E$98,\"<=\"&DATE(2006,MONTH(C1794),DAY(C1794)))","v":2},null,0,0,0,0,0,0,0,0,0]
["KS19933","KS","1993-03-14",{"$f":"COUNTIF(Calculations!$E$56:$E$98,\"<=\"&DATE(2006,MONTH(C1795),DAY(C1795)))","v":3},null,0,0,0,0.5,0,1,0.5,1,0]
["KS19934","KS","1993-03-21",{"$f":"COUNTIF(Calculations!$E$56:$E$98,\"<=\"&DATE(2006,MONTH(C1796),DAY(C1796)))","v":4},null,0,0.5,0.5,1.5,0.5,1,2,1.5,2]
["KS19935","KS","1993-03-28",{"$f":"COUNTIF(Calculations!$E$56:$E$98,\"<=\"&DATE(2006,MONTH(C1797),DAY(C1797)))","v":5},null,0.5,0.5,1,2,1.5,1.5,3.5,4.5,2.5]
["KS19936","KS","1993-04-04",{"$f":"COUNTIF(Calculations!$E$56:$E$98,\"<=\"&DATE(2006,MONTH(C1798),DAY(C1798)))","v":6},null,1.5,0,1,2,1,1.5,1,2,0.5]
["KS19937","KS","1993-04-11",{"$f":"COUNTIF(Calculations!$E$56:$E$98,\"<=\"&DATE(2006,MONTH(C1799),DAY(C1799)))","v":7},null,0.5,0,0,1.5,0,0,1,1,0.5]
["KS19938","KS","1993-04-18",{"$f":"COUNTIF(Calculations!$E$56:$E$98,\"<=\"&DATE(2006,MONTH(C1800),DAY(C1800)))","v":8},null,2,1,0,3.5,0.5,0.5,3.5,2.5,1.5]
["KS19939","KS","1993-04-25",{"$f":"COUNTIF(Calculations!$E$56:$E$98,\"<=\"&DATE(2006,MONTH(C1801),DAY(C1801)))","v":9},null,3.5,1.5,0.5,4.5,2,2,6,4.5,3]
["KS199310","KS","1993-05-02",{"$f":"COUNTIF(Calculations!$E$56:$E$98,\"<=\"&DATE(2006,MONTH(C1802),DAY(C1802)))","v":10},null,5,3,3,5.5,4.5,3,5,4.5,3.5]
["KS199311","KS","1993-05-09",{"$f":"COUNTIF(Calculations!$E$56:$E$98,\"<=\"&DATE(2006,MONTH(C1803),DAY(C1803)))","v":11},null,4.5,2.5,1,5,1.5,0,4,2,1]
["KS199312","KS","1993-05-16",{"$f":"COUNTIF(Calculations!$E$56:$E$98,\"<=\"&DATE(2006,MONTH(C1804),DAY(C1804)))","v":12},null,3.5,1,0.5,4.5,0.5,0.5,4,0.5,0]
["KS199313","KS","1993-05-23",{"$f":"COUNTIF(Calculations!$E$56:$E$98,\"<=\"&DATE(2006,MONTH(C1805),DAY(C1805)))","v":13},null,3,1,1.5,4,0.5,0.5,5.5,3,1]
["KS199314","KS","1993-05-30",{"$f":"COUNTIF(Calculations!$E$56:$E$98,\"<=\"&DATE(2006,MONTH(C1806),DAY(C1806)))","v":14},null,4.5,3,3.5,6,2,6,5.5,4,5]
["KS199315","KS","1993-06-06",{"$f":"COUNTIF(Calculations!$E$56:$E$98,\"<=\"&DATE(2006,MONTH(C1807),DAY(C1807)))","v":15},null,3,4.5,4.5,4,3,3,4.5,4.5,3]
["KS199316","KS","1993-06-13",{"$f":"COUNTIF(Calculations!$E$56:$E$98,\"<=\"&DATE(2006,MONTH(C1808),DAY(C1808)))","v":16},null,5.5,6,4,6.5,5.5,4.5,5.5,5.5,3]
["KS199317","KS","1993-06-20",{"$f":"COUNTIF(Calculations!$E$56:$E$98,\"<=\"&DATE(2006,MONTH(C1809),DAY(C1809)))","v":17},null,6.5,5.5,5.5,6,5.5,5.5,4.5,6,5.5]
["KS199318","KS","1993-06-27",{"$f":"COUNTIF(Calculations!$E$56:$E$98,\"<=\"&DATE(2006,MONTH(C1810),DAY(C1810)))","v":18},null,5.5,2,3.5,6,1.5,4,5.5,5,4]
[{"$f":"B1811&YEAR(C1811)&D1811","v":"KS199319"},"KS","1993-07-04",{"$f":"COUNTIF(Calculations!$E$56:$E$98,\"<=\"&DATE(2006,MONTH(C1811),DAY(C1811)))","v":19},null,5.5,4,3.5,5.5,3.5,4.5,6,5,4]
["KS199320","KS","1993-07-11",{"$f":"COUNTIF(Calculations!$E$56:$E$98,\"<=\"&DATE(2006,MONTH(C1812),DAY(C1812)))","v":20},null,3.5,1,0.5,5.5,1,0.5,6.5,4.5,2.5]
["KS199321","KS","1993-07-18",{"$f":"COUNTIF(Calculations!$E$56:$E$98,\"<=\"&DATE(2006,MONTH(C1813),DAY(C1813)))","v":21},null,2,1,1,3,1,1,4.5,2,3]
["KS199322","KS","1993-07-25",{"$f":"COUNTIF(Calculations!$E$56:$E$98,\"<=\"&DATE(2006,MONTH(C1814),DAY(C1814)))","v":22},null,2,0,0.5,2,0.5,0.5,3.5,2.5,3.5]
["KS199323","KS","1993-08-01",{"$f":"COUNTIF(Calculations!$E$56:$E$98,\"<=\"&DATE(2006,MONTH(C1815),DAY(C1815)))","v":23},null,5,3,3,5.5,4.5,3.5,6.5,6.5,5.5]
["KS199324","KS","1993-08-08",{"$f":"COUNTIF(Calculations!$E$56:$E$98,\"<=\"&DATE(2006,MONTH(C1816),DAY(C1816)))","v":24},null,3.5,3,4.5,3.5,4.5,3.5,3.5,4,5.5]
["KS199325","KS","1993-08-15",{"$f":"COUNTIF(Calculations!$E$56:$E$98,\"<=\"&DATE(2006,MONTH(C1817),DAY(C1817)))","v":25},null,5,4.5,5,4.5,6,5,4,5,6]
["KS199326","KS","1993-08-22",{"$f":"COUNTIF(Calculations!$E$56:$E$98,\"<=\"&DATE(2006,MONTH(C1818),DAY(C1818)))","v":26},null,5,5,6.5,5,6,6.5,6.5,6.5,7]
["KS199327","KS","1993-08-29",{"$f":"COUNTIF(Calculations!$E$56:$E$98,\"<=\"&DATE(2006,MONTH(C1819),DAY(C1819)))","v":27},null,4,3.5,5,4,5,6.5,6.5,6.5,7]
["KS199328","KS","1993-09-05",{"$f":"COUNTIF(Calculations!$E$56:$E$98,\"<=\"&DATE(2006,MONTH(C1820),DAY(C1820)))","v":28},null,2.5,2.5,4.5,4,3,4.5,5.5,6,5]
["KS199329","KS","1993-09-12",{"$f":"COUNTIF(Calculations!$E$56:$E$98,\"<=\"&DATE(2006,MONTH(C1821),DAY(C1821)))","v":29},null,4.5,3.5,4,6,3.5,5,6,6.5,5.5]
["KS199330","KS","1993-09-19",{"$f":"COUNTIF(Calculations!$E$56:$E$98,\"<=\"&DATE(2006,MONTH(C1822),DAY(C1822)))","v":30},null,6,5.5,4,6,6,3.5,5.5,6.5,3]
["KS199331","KS","1993-09-26",{"$f":"COUNTIF(Calculations!$E$56:$E$98,\"<=\"&DATE(2006,MONTH(C1823),DAY(C1823)))","v":31},null,4,2,1.5,5,3.5,2.5,4,6,3]
["KS199332","KS","1993-10-03",{"$f":"COUNTIF(Calculations!$E$56:$E$98,\"<=\"&DATE(2006,MONTH(C1824),DAY(C1824)))","v":32},null,7,4,4,6.5,4.5,3.5,6,6,3]
["KS199333","KS","1993-10-10",{"$f":"COUNTIF(Calculations!$E$56:$E$98,\"<=\"&DATE(2006,MONTH(C1825),DAY(C1825)))","v":33},null,6.5,6,6,6.5,6,6,7,6.5,6]
["KS199334","KS","1993-10-17",{"$f":"COUNTIF(Calculations!$E$56:$E$98,\"<=\"&DATE(2006,MONTH(C1826),DAY(C1826)))","v":34},null,4.5,5.5,6,6.5,6.5,5.5,6.5,6.5,6]
["KS199335","KS","1993-10-24",{"$f":"COUNTIF(Calculations!$E$56:$E$98,\"<=\"&DATE(2006,MONTH(C1827),DAY(C1827)))","v":35},null,3,2,2.5,3.5,3.5,1.5,3.5,3.5,3]
["KS199336","KS","1993-10-31",{"$f":"COUNTIF(Calculations!$E$56:$E$98,\"<=\"&DATE(2006,MONTH(C1828),DAY(C1828)))","v":36},null,6,6.5,6.5,5,6.5,5.5,5,6,6]
["KS199337","KS","1993-11-07",{"$f":"COUNTIF(Calculations!$E$56:$E$98,\"<=\"&DATE(2006,MONTH(C1829),DAY(C1829)))","v":37},null,6.5,6.5,6.5,5.5,6,6.5,5.5,6.5,7]
["KS199338","KS","1993-11-14",{"$f":"COUNTIF(Calculations!$E$56:$E$98,\"<=\"&DATE(2006,MONTH(C1830),DAY(C1830)))","v":38},null,6,5.5,6.5,6.5,6,5.5,6,6,6]
["KS199339","KS","1993-11-21",{"$f":"COUNTIF(Calculations!$E$56:$E$98,\"<=\"&DATE(2006,MONTH(C1831),DAY(C1831)))","v":39},null,3,2.5,2,4.5,3,0.5,4.5,2,1]
["KS199340","KS","1993-11-28",{"$f":"COUNTIF(Calculations!$E$56:$E$98,\"<=\"&DATE(2006,MONTH(C1832),DAY(C1832)))","v":40},null,2.5,4,3,2.5,4,3,6,4,3]
["KS19942","KS","1994-03-06",{"$f":"COUNTIF(Calculations!$E$56:$E$98,\"<=\"&DATE(2006,MONTH(C1833),DAY(C1833)))","v":2},null,1,0,1.5,2.5,1.5,1,6,3.5,1]
["KS19943","KS","1994-03-13",{"$f":"COUNTIF(Calculations!$E$56:$E$98,\"<=\"&DATE(2006,MONTH(C1834),DAY(C1834)))","v":3},null,0,0.5,2,4,3,2.5,2.5,6,2]
["KS19944","KS","1994-03-20",{"$f":"COUNTIF(Calculations!$E$56:$E$98,\"<=\"&DATE(2006,MONTH(C1835),DAY(C1835)))","v":4},null,4,4,5.5,5.5,4.5,5,5.5,7,5.5]
["KS19945","KS","1994-03-27",{"$f":"COUNTIF(Calculations!$E$56:$E$98,\"<=\"&DATE(2006,MONTH(C1836),DAY(C1836)))","v":5},null,6.5,5,6,6.5,5.5,6.5,6,6,6.5]
["KS19946","KS","1994-04-03",{"$f":"COUNTIF(Calculations!$E$56:$E$98,\"<=\"&DATE(2006,MONTH(C1837),DAY(C1837)))","v":6},null,5.5,5.5,5,6.5,4.5,5.5,6.5,6,3.5]
["KS19947","KS","1994-04-10",{"$f":"COUNTIF(Calculations!$E$56:$E$98,\"<=\"&DATE(2006,MONTH(C1838),DAY(C1838)))","v":7},null,5,4,5,5,3.5,2,3.5,4.5,2.5]
["KS19948","KS","1994-04-17",{"$f":"COUNTIF(Calculations!$E$56:$E$98,\"<=\"&DATE(2006,MONTH(C1839),DAY(C1839)))","v":8},null,0.5,0.5,1.5,0.5,1,1,2,2,0.5]
["KS19949","KS","1994-04-24",{"$f":"COUNTIF(Calculations!$E$56:$E$98,\"<=\"&DATE(2006,MONTH(C1840),DAY(C1840)))","v":9},null,3.5,4.5,4.5,5,5.5,3.5,5.5,6,3.5]
["KS199410","KS","1994-05-01",{"$f":"COUNTIF(Calculations!$E$56:$E$98,\"<=\"&DATE(2006,MONTH(C1841),DAY(C1841)))","v":10},null,1.5,3,2,2,3,2.5,3,2.5,1.5]
["KS199411","KS","1994-05-08",{"$f":"COUNTIF(Calculations!$E$56:$E$98,\"<=\"&DATE(2006,MONTH(C1842),DAY(C1842)))","v":11},null,2.5,1,1.5,1.5,1.5,1,4.5,2,1]
["KS199412","KS","1994-05-15",{"$f":"COUNTIF(Calculations!$E$56:$E$98,\"<=\"&DATE(2006,MONTH(C1843),DAY(C1843)))","v":12},null,5.5,4,3,5,3.5,3,5,4,4]
["KS199413","KS","1994-05-22",{"$f":"COUNTIF(Calculations!$E$56:$E$98,\"<=\"&DATE(2006,MONTH(C1844),DAY(C1844)))","v":13},null,7,4,5.5,6.5,5.5,5,5.5,6,6]
["KS199414","KS","1994-05-29",{"$f":"COUNTIF(Calculations!$E$56:$E$98,\"<=\"&DATE(2006,MONTH(C1845),DAY(C1845)))","v":14},null,5.5,5,6,4.5,5,6,5,5.5,6.5]
["KS199415","KS","1994-06-05",{"$f":"COUNTIF(Calculations!$E$56:$E$98,\"<=\"&DATE(2006,MONTH(C1846),DAY(C1846)))","v":15},null,4.5,5.5,5,4.5,5.5,6.5,6,5.5,6.5]
["KS199416","KS","1994-06-12",{"$f":"COUNTIF(Calculations!$E$56:$E$98,\"<=\"&DATE(2006,MONTH(C1847),DAY(C1847)))","v":16},null,4,3,3,5,5,1.5,6,5,4.5]
["KS199417","KS","1994-06-19",{"$f":"COUNTIF(Calculations!$E$56:$E$98,\"<=\"&DATE(2006,MONTH(C1848),DAY(C1848)))","v":17},null,5.5,6,6.5,6,6.5,6,6.5,6.5,6.5]
["KS199418","KS","1994-06-26",{"$f":"COUNTIF(Calculations!$E$56:$E$98,\"<=\"&DATE(2006,MONTH(C1849),DAY(C1849)))","v":18},null,3.5,3,5.5,3.5,5,5.5,5,6.5,6.5]
["KS199419","KS","1994-07-03",{"$f":"COUNTIF(Calculations!$E$56:$E$98,\"<=\"&DATE(2006,MONTH(C1850),DAY(C1850)))","v":19},null,6.5,6,6.5,6,6,7,6.5,6,7]
["KS199420","KS","1994-07-10",{"$f":"COUNTIF(Calculations!$E$56:$E$98,\"<=\"&DATE(2006,MONTH(C1851),DAY(C1851)))","v":20},null,3.5,3,4,4,3.5,4.5,6.5,5,6]
["KS199421","KS","1994-07-17",{"$f":"COUNTIF(Calculations!$E$56:$E$98,\"<=\"&DATE(2006,MONTH(C1852),DAY(C1852)))","v":21},null,4,4,6,5.5,5,6.5,5.5,5.5,6]
["KS199422","KS","1994-07-24",{"$f":"COUNTIF(Calculations!$E$56:$E$98,\"<=\"&DATE(2006,MONTH(C1853),DAY(C1853)))","v":22},null,5.5,3.5,5.5,4.5,3.5,4,5.5,4.5,4]
["KS199423","KS","1994-07-31",{"$f":"COUNTIF(Calculations!$E$56:$E$98,\"<=\"&DATE(2006,MONTH(C1854),DAY(C1854)))","v":23},null,4.5,4,5.5,3.5,4.5,6,5,5,4.5]
["KS199424","KS","1994-08-07",{"$f":"COUNTIF(Calculations!$E$56:$E$98,\"<=\"&DATE(2006,MONTH(C1855),DAY(C1855)))","v":24},null,6.5,5.5,5.5,5,5.5,5.5,4.5,5.5,6.5]
["KS199425","KS","1994-08-14",{"$f":"COUNTIF(Calculations!$E$56:$E$98,\"<=\"&DATE(2006,MONTH(C1856),DAY(C1856)))","v":25},null,5,6,6.5,6,6,7,6.5,6.5,6.5]
["KS199427","KS","1994-08-28",{"$f":"COUNTIF(Calculations!$E$56:$E$98,\"<=\"&DATE(2006,MONTH(C1857),DAY(C1857)))","v":27},null,6,6.5,6,6,6.5,6,6,6,6]
["KS199428","KS","1994-09-04",{"$f":"COUNTIF(Calculations!$E$56:$E$98,\"<=\"&DATE(2006,MONTH(C1858),DAY(C1858)))","v":28},null,6.5,6.5,3,6.5,6.5,4,3.5,5,4]
["KS199429","KS","1994-09-11",{"$f":"COUNTIF(Calculations!$E$56:$E$98,\"<=\"&DATE(2006,MONTH(C1859),DAY(C1859)))","v":29},null,5.5,5.5,6,5.5,5.5,6,4.5,4.5,5]
["KS199430","KS","1994-09-18",{"$f":"COUNTIF(Calculations!$E$56:$E$98,\"<=\"&DATE(2006,MONTH(C1860),DAY(C1860)))","v":30},null,7,6.5,7,7,6.5,6.5,6.5,6.5,6.5]
["KS199431","KS","1994-09-25",{"$f":"COUNTIF(Calculations!$E$56:$E$98,\"<=\"&DATE(2006,MONTH(C1861),DAY(C1861)))","v":31},null,6,6,5,6,5.5,4.5,6,5.5,4.5]
["KS199432","KS","1994-10-02",{"$f":"COUNTIF(Calculations!$E$56:$E$98,\"<=\"&DATE(2006,MONTH(C1862),DAY(C1862)))","v":32},null,7,6.5,6,7,6.5,5,7,6.5,6.5]
["KS199433","KS","1994-10-09",{"$f":"COUNTIF(Calculations!$E$56:$E$98,\"<=\"&DATE(2006,MONTH(C1863),DAY(C1863)))","v":33},null,4,4,3.5,5,6.5,5,5,5.5,5]
["KS199434","KS","1994-10-16",{"$f":"COUNTIF(Calculations!$E$56:$E$98,\"<=\"&DATE(2006,MONTH(C1864),DAY(C1864)))","v":34},null,6.5,6.5,6,6.5,6.5,6,6.5,7,6]
["KS199435","KS","1994-10-23",{"$f":"COUNTIF(Calculations!$E$56:$E$98,\"<=\"&DATE(2006,MONTH(C1865),DAY(C1865)))","v":35},null,3,3.5,3.5,3.5,4.5,4.5,6.5,4,3.5]
["KS199436","KS","1994-10-30",{"$f":"COUNTIF(Calculations!$E$56:$E$98,\"<=\"&DATE(2006,MONTH(C1866),DAY(C1866)))","v":36},null,7,6.5,6.5,5.5,6,5.5,7,6.5,5.5]
["KS199437","KS","1994-11-06",{"$f":"COUNTIF(Calculations!$E$56:$E$98,\"<=\"&DATE(2006,MONTH(C1867),DAY(C1867)))","v":37},null,6,6,5,5.5,6,3.5,6,4,2.5]
["KS199438","KS","1994-11-13",{"$f":"COUNTIF(Calculations!$E$56:$E$98,\"<=\"&DATE(2006,MONTH(C1868),DAY(C1868)))","v":38},null,6.5,6,5.5,6.5,6.5,3.5,6.5,5.5,2]
["KS199439","KS","1994-11-20",{"$f":"COUNTIF(Calculations!$E$56:$E$98,\"<=\"&DATE(2006,MONTH(C1869),DAY(C1869)))","v":39},null,6.5,6,5,6,6.5,4.5,6.5,6.5,2]
["KS199440","KS","1994-11-27",{"$f":"COUNTIF(Calculations!$E$56:$E$98,\"<=\"&DATE(2006,MONTH(C1870),DAY(C1870)))","v":40},null,2,0.5,3,2,3,2,4,3,0.5]
["KS19952","KS","1995-03-05",{"$f":"COUNTIF(Calculations!$E$56:$E$98,\"<=\"&DATE(2006,MONTH(C1871),DAY(C1871)))","v":2},null,1,2,2.5,2.5,2,2,0.5,1.5,1]
["KS19953","KS","1995-03-12",{"$f":"COUNTIF(Calculations!$E$56:$E$98,\"<=\"&DATE(2006,MONTH(C1872),DAY(C1872)))","v":3},null,0.2,0.4,0.6,0.3,0.9,0.5,1,1.7,0.2]
["KS19954","KS","1995-03-19",{"$f":"COUNTIF(Calculations!$E$56:$E$98,\"<=\"&DATE(2006,MONTH(C1873),DAY(C1873)))","v":4},null,3.3,0.8,0.9,4.2,0.6,1.9,5.5,1.2,1.1000000000000001]
["KS19955","KS","1995-03-26",{"$f":"COUNTIF(Calculations!$E$56:$E$98,\"<=\"&DATE(2006,MONTH(C1874),DAY(C1874)))","v":5},null,5.4,4.4000000000000004,4,5.8,4.9000000000000004,4.4000000000000004,5.9,4.9000000000000004,5]
[{"$f":"B1875&YEAR(C1875)&D1875","v":"KS19956"},"KS","1995-04-02",{"$f":"COUNTIF(Calculations!$E$56:$E$98,\"<=\"&DATE(2006,MONTH(C1875),DAY(C1875)))","v":6},null,0.9,2.2999999999999998,1.9,2.5,2,4.7,3.4,2.4,6]
["KS19957","KS","1995-04-09",{"$f":"COUNTIF(Calculations!$E$56:$E$98,\"<=\"&DATE(2006,MONTH(C1876),DAY(C1876)))","v":7},null,4.7,5.4,5.6,6.3,6.1,6.4,6.9,5.7,6.5]
["KS19958","KS","1995-04-16",{"$f":"COUNTIF(Calculations!$E$56:$E$98,\"<=\"&DATE(2006,MONTH(C1877),DAY(C1877)))","v":8},null,3,2.6,2.4,3.4,3.5,3.9,5.7,3.9,4]
["KS19959","KS","1995-04-23",{"$f":"COUNTIF(Calculations!$E$56:$E$98,\"<=\"&DATE(2006,MONTH(C1878),DAY(C1878)))","v":9},null,3,1.6,1,2,3.8,2.4,3,4,3.4]
["KS199510","KS","1995-04-30",{"$f":"COUNTIF(Calculations!$E$56:$E$98,\"<=\"&DATE(2006,MONTH(C1879),DAY(C1879)))","v":10},null,2.8,3.4,2,2,2.2999999999999998,2.4,3.9,3.3,2.4]
["KS199511","KS","1995-05-07",{"$f":"COUNTIF(Calculations!$E$56:$E$98,\"<=\"&DATE(2006,MONTH(C1880),DAY(C1880)))","v":11},null,0.1,0.4,0.1,1.6,0.4,0.4,3.3,1,0.1]
["KS199512","KS","1995-05-14",{"$f":"COUNTIF(Calculations!$E$56:$E$98,\"<=\"&DATE(2006,MONTH(C1881),DAY(C1881)))","v":12},null,0.7,0.1,0,0.8,0.3,0,3.1,1.6,0.2]
["KS199513","KS","1995-05-21",{"$f":"COUNTIF(Calculations!$E$56:$E$98,\"<=\"&DATE(2006,MONTH(C1882),DAY(C1882)))","v":13},null,3.1,0.8,0.9,2.6,0.2,0.6,3.8,2.9,2.9]
["KS199514","KS","1995-05-28",{"$f":"COUNTIF(Calculations!$E$56:$E$98,\"<=\"&DATE(2006,MONTH(C1883),DAY(C1883)))","v":14},null,0.3,0.3,1.2,0.3,0,0,1.9,0.3,0.5]
["KS199515","KS","1995-06-04",{"$f":"COUNTIF(Calculations!$E$56:$E$98,\"<=\"&DATE(2006,MONTH(C1884),DAY(C1884)))","v":15},null,1,0.7,0.6,0.6,0.6,0.3,2.7,0.9,0.6]
["KS199516","KS","1995-06-11",{"$f":"COUNTIF(Calculations!$E$56:$E$98,\"<=\"&DATE(2006,MONTH(C1885),DAY(C1885)))","v":16},null,4.2,3.2,2.4,3.8,3.5,1.2,3.8,1.9,0.2]
["KS199517","KS","1995-06-18",{"$f":"COUNTIF(Calculations!$E$56:$E$98,\"<=\"&DATE(2006,MONTH(C1886),DAY(C1886)))","v":17},null,6.3,6.6,4.9000000000000004,5.7,3.7,5.0999999999999996,6.5,4.8,4.4000000000000004]
["KS199518","KS","1995-06-25",{"$f":"COUNTIF(Calculations!$E$56:$E$98,\"<=\"&DATE(2006,MONTH(C1887),DAY(C1887)))","v":18},null,6.8,6.6,6.9,6.6,6.1,6.3,6,6.4,6.7]
["KS199519","KS","1995-07-02",{"$f":"COUNTIF(Calculations!$E$56:$E$98,\"<=\"&DATE(2006,MONTH(C1888),DAY(C1888)))","v":19},null,5.7,4.0999999999999996,4.4000000000000004,5,3.2,4.5999999999999996,3.8,3.9,3.8]
["KS199520","KS","1995-07-09",{"$f":"COUNTIF(Calculations!$E$56:$E$98,\"<=\"&DATE(2006,MONTH(C1889),DAY(C1889)))","v":20},null,5.3,3.6,2.9,4.2,5,5.8,4.7,5,4.5]
["KS199521","KS","1995-07-16",{"$f":"COUNTIF(Calculations!$E$56:$E$98,\"<=\"&DATE(2006,MONTH(C1890),DAY(C1890)))","v":21},null,7,6.9,7,6.8,6.4,6.9,6.6,6.8,6.3]
["KS199522","KS","1995-07-23",{"$f":"COUNTIF(Calculations!$E$56:$E$98,\"<=\"&DATE(2006,MONTH(C1891),DAY(C1891)))","v":22},null,5,5.9,5.4,4,4.9000000000000004,5,5.0999999999999996,4,5]
["KS199523","KS","1995-07-30",{"$f":"COUNTIF(Calculations!$E$56:$E$98,\"<=\"&DATE(2006,MONTH(C1892),DAY(C1892)))","v":23},null,6.3,6.4,6.1,5.8,4.7,6.2,6,4.4000000000000004,5.5]
["KS199524","KS","1995-08-06",{"$f":"COUNTIF(Calculations!$E$56:$E$98,\"<=\"&DATE(2006,MONTH(C1893),DAY(C1893)))","v":24},null,7,5.3,6.1,7,5.0999999999999996,3.8,5.8,4.4000000000000004,2.2999999999999998]
["KS199525","KS","1995-08-13",{"$f":"COUNTIF(Calculations!$E$56:$E$98,\"<=\"&DATE(2006,MONTH(C1894),DAY(C1894)))","v":25},null,6.8,6.3,6.4,7,4.8,6.7,6.6,4.2,4.8]
["KS199526","KS","1995-08-20",{"$f":"COUNTIF(Calculations!$E$56:$E$98,\"<=\"&DATE(2006,MONTH(C1895),DAY(C1895)))","v":26},null,7,2.5,4.7,6.8,4.5,4,6.7,4.5999999999999996,5.8]
["KS199527","KS","1995-08-27",{"$f":"COUNTIF(Calculations!$E$56:$E$98,\"<=\"&DATE(2006,MONTH(C1896),DAY(C1896)))","v":27},null,7,6,6.7,6.8,5.4,6.5,7,6.6,6.8]
["KS199528","KS","1995-09-03",{"$f":"COUNTIF(Calculations!$E$56:$E$98,\"<=\"&DATE(2006,MONTH(C1897),DAY(C1897)))","v":28},null,6.9,6.2,6.6,6.8,6.4,6.5,6.7,6.8,7]
["KS199529","KS","1995-09-10",{"$f":"COUNTIF(Calculations!$E$56:$E$98,\"<=\"&DATE(2006,MONTH(C1898),DAY(C1898)))","v":29},null,6.6,5.7,6.1,6.8,6.4,6.4,6.7,6.9,6.5]
["KS199530","KS","1995-09-17",{"$f":"COUNTIF(Calculations!$E$56:$E$98,\"<=\"&DATE(2006,MONTH(C1899),DAY(C1899)))","v":30},null,6.5,4.7,5.2,6.5,6.3,6.6,6.7,6.3,6.4]
["KS199531","KS","1995-09-24",{"$f":"COUNTIF(Calculations!$E$56:$E$98,\"<=\"&DATE(2006,MONTH(C1900),DAY(C1900)))","v":31},null,3,2,3.8,2.5,2.8,4.3,3.8,3.6,4.8]
["KS199532","KS","1995-10-01",{"$f":"COUNTIF(Calculations!$E$56:$E$98,\"<=\"&DATE(2006,MONTH(C1901),DAY(C1901)))","v":32},null,4.5,4.4000000000000004,5.6,3.3,3.7,5.0999999999999996,6,5.2,6.3]
["KS199533","KS","1995-10-08",{"$f":"COUNTIF(Calculations!$E$56:$E$98,\"<=\"&DATE(2006,MONTH(C1902),DAY(C1902)))","v":33},null,5.6,5.0999999999999996,5.6,6,4.9000000000000004,6,6.2,4.5,6.6]
["KS199534","KS","1995-10-15",{"$f":"COUNTIF(Calculations!$E$56:$E$98,\"<=\"&DATE(2006,MONTH(C1903),DAY(C1903)))","v":34},null,7,6.4,6.7,7,6,7,6.8,6.7,6.9]
["KS199535","KS","1995-10-22",{"$f":"COUNTIF(Calculations!$E$56:$E$98,\"<=\"&DATE(2006,MONTH(C1904),DAY(C1904)))","v":35},null,6.6,6.6,6.7,7,6.6,6.9,6.9,6.9,6.9]
["KS199537","KS","1995-11-05",{"$f":"COUNTIF(Calculations!$E$56:$E$98,\"<=\"&DATE(2006,MONTH(C1905),DAY(C1905)))","v":37},null,4.5999999999999996,3,2.2999999999999998,4.0999999999999996,2.8,3.8,5.9,6,4.8]
["KS199538","KS","1995-11-12",{"$f":"COUNTIF(Calculations!$E$56:$E$98,\"<=\"&DATE(2006,MONTH(C1906),DAY(C1906)))","v":38},null,5.6,5.8,5.4,6.6,6.4,5.0999999999999996,6.8,6.8,6.3]
["KS199539","KS","1995-11-19",{"$f":"COUNTIF(Calculations!$E$56:$E$98,\"<=\"&DATE(2006,MONTH(C1907),DAY(C1907)))","v":39},null,5.8,5,2.6,5.5,6.4,6.1,6.6,6.8,6.6]
["KS199540","KS","1995-11-26",{"$f":"COUNTIF(Calculations!$E$56:$E$98,\"<=\"&DATE(2006,MONTH(C1908),DAY(C1908)))","v":40},null,6.5,6.2,6.3,5.8,6.4,6.8,7,6.8,6.8]
["KS19961","KS","1996-03-03",{"$f":"COUNTIF(Calculations!$E$56:$E$98,\"<=\"&DATE(2006,MONTH(C1909),DAY(C1909)))","v":1},null,3.8,5.7,4.2,6.8,6.7,6.3,6.3,6.7,6.4]
["KS19962","KS","1996-03-10",{"$f":"COUNTIF(Calculations!$E$56:$E$98,\"<=\"&DATE(2006,MONTH(C1910),DAY(C1910)))","v":2},null,4.7,5.7,3,6.3,5.8,5.6,5,6.3,6.2]
["KS19963","KS","1996-03-17",{"$f":"COUNTIF(Calculations!$E$56:$E$98,\"<=\"&DATE(2006,MONTH(C1911),DAY(C1911)))","v":3},null,5.7,6.1,5.3,5.4,6,5,5.4,5.8,5.7]
["KS19964","KS","1996-03-24",{"$f":"COUNTIF(Calculations!$E$56:$E$98,\"<=\"&DATE(2006,MONTH(C1912),DAY(C1912)))","v":4},null,5.4,5.8,6.5,4.4000000000000004,4.8,5.8,5.8,4.7,6.1]
["KS19965","KS","1996-03-31",{"$f":"COUNTIF(Calculations!$E$56:$E$98,\"<=\"&DATE(2006,MONTH(C1913),DAY(C1913)))","v":5},null,3.6,4.2,4,5,5.0999999999999996,5.6,5.3,5.3,4.8]
["KS19966","KS","1996-04-07",{"$f":"COUNTIF(Calculations!$E$56:$E$98,\"<=\"&DATE(2006,MONTH(C1914),DAY(C1914)))","v":6},null,6.2,4.4000000000000004,4.5,6.4,4.8,5.9,5.6,5.4,5.4]
["KS19967","KS","1996-04-14",{"$f":"COUNTIF(Calculations!$E$56:$E$98,\"<=\"&DATE(2006,MONTH(C1915),DAY(C1915)))","v":7},null,6.3,6.2,5.4,6.6,6.3,6.6,6.5,6.7,6.8]
["KS19968","KS","1996-04-21",{"$f":"COUNTIF(Calculations!$E$56:$E$98,\"<=\"&DATE(2006,MONTH(C1916),DAY(C1916)))","v":8},null,3.4,4.7,5.3,4.5999999999999996,6.4,6.9,6.3,6.6,6.2]
["KS19969","KS","1996-04-28",{"$f":"COUNTIF(Calculations!$E$56:$E$98,\"<=\"&DATE(2006,MONTH(C1917),DAY(C1917)))","v":9},null,6,6,6.3,6.5,6.6,6.5,6.2,6.3,4.8]
["KS199610","KS","1996-05-05",{"$f":"COUNTIF(Calculations!$E$56:$E$98,\"<=\"&DATE(2006,MONTH(C1918),DAY(C1918)))","v":10},null,4.8,4,2.2999999999999998,6.2,4.4000000000000004,3.4,6.8,4.2,2.7]
["KS199611","KS","1996-05-12",{"$f":"COUNTIF(Calculations!$E$56:$E$98,\"<=\"&DATE(2006,MONTH(C1919),DAY(C1919)))","v":11},null,2.2999999999999998,1.2,0,3,1.1000000000000001,0.1,5.7,3.9,1.3]
["KS199612","KS","1996-05-19",{"$f":"COUNTIF(Calculations!$E$56:$E$98,\"<=\"&DATE(2006,MONTH(C1920),DAY(C1920)))","v":12},null,6,2.7,0.5,4,2.2000000000000002,2.2999999999999998,5.7,5.2,3.1]
["KS199613","KS","1996-05-26",{"$f":"COUNTIF(Calculations!$E$56:$E$98,\"<=\"&DATE(2006,MONTH(C1921),DAY(C1921)))","v":13},null,5.3,5.4,3.7,6.4,6.4,5.9,7,6.1,6.7]
["KS199614","KS","1996-06-02",{"$f":"COUNTIF(Calculations!$E$56:$E$98,\"<=\"&DATE(2006,MONTH(C1922),DAY(C1922)))","v":14},null,1.2,1.1000000000000001,1.4,1.5,0.8,2.6,3.4,3.3,5.5]
["KS199615","KS","1996-06-09",{"$f":"COUNTIF(Calculations!$E$56:$E$98,\"<=\"&DATE(2006,MONTH(C1923),DAY(C1923)))","v":15},null,3.8,3.9,1.9,4.8,0.8,1.3,5.5,3.4,3.7]
["KS199616","KS","1996-06-16",{"$f":"COUNTIF(Calculations!$E$56:$E$98,\"<=\"&DATE(2006,MONTH(C1924),DAY(C1924)))","v":16},null,5.3,6,3.1,5.8,5.5,3.1,4.8,5.7,6.3]
["KS199617","KS","1996-06-23",{"$f":"COUNTIF(Calculations!$E$56:$E$98,\"<=\"&DATE(2006,MONTH(C1925),DAY(C1925)))","v":17},null,3.9,5.4,4.3,4,6,4.4000000000000004,5.0999999999999996,6.6,4.5999999999999996]
["KS199618","KS","1996-06-30",{"$f":"COUNTIF(Calculations!$E$56:$E$98,\"<=\"&DATE(2006,MONTH(C1926),DAY(C1926)))","v":18},null,4.7,6.3,5,2.2999999999999998,4.8,6.5,3.1,5.0999999999999996,6.2]
["KS199619","KS","1996-07-07",{"$f":"COUNTIF(Calculations!$E$56:$E$98,\"<=\"&DATE(2006,MONTH(C1927),DAY(C1927)))","v":19},null,6.7,6.6,5.4,6.8,6.4,5.7,5.4,6.6,5.9]
["KS199620","KS","1996-07-14",{"$f":"COUNTIF(Calculations!$E$56:$E$98,\"<=\"&DATE(2006,MONTH(C1928),DAY(C1928)))","v":20},null,3.3,3.7,4.5,2.4,4.7,4,4,2.7,3.2]
["KS199621","KS","1996-07-21",{"$f":"COUNTIF(Calculations!$E$56:$E$98,\"<=\"&DATE(2006,MONTH(C1929),DAY(C1929)))","v":21},null,5.8,4.4000000000000004,7,5.8,6,6.3,5.9,5.3,6.5]
["KS199622","KS","1996-07-28",{"$f":"COUNTIF(Calculations!$E$56:$E$98,\"<=\"&DATE(2006,MONTH(C1930),DAY(C1930)))","v":22},null,6,5,4.3,4.3,4.5,4.9000000000000004,1.6,5.0999999999999996,5.8]
["KS199623","KS","1996-08-04",{"$f":"COUNTIF(Calculations!$E$56:$E$98,\"<=\"&DATE(2006,MONTH(C1931),DAY(C1931)))","v":23},null,2.8,4.9000000000000004,3.4,1.7,5.4,5.3,2.4,2.6,6.2]
["KS199624","KS","1996-08-11",{"$f":"COUNTIF(Calculations!$E$56:$E$98,\"<=\"&DATE(2006,MONTH(C1932),DAY(C1932)))","v":24},null,2.4,3.4,4.4000000000000004,3,4.5999999999999996,6.1,4.3,3.6,6.3]
["KS199625","KS","1996-08-18",{"$f":"COUNTIF(Calculations!$E$56:$E$98,\"<=\"&DATE(2006,MONTH(C1933),DAY(C1933)))","v":25},null,4,4.9000000000000004,5.5,3.3,3.2,5.2,3.3,4,4.5999999999999996]
["KS199626","KS","1996-08-25",{"$f":"COUNTIF(Calculations!$E$56:$E$98,\"<=\"&DATE(2006,MONTH(C1934),DAY(C1934)))","v":26},null,5,2.1,2.1,4.8,2.7,1.4,2.6,2.2999999999999998,4.3]
["KS199627","KS","1996-09-01",{"$f":"COUNTIF(Calculations!$E$56:$E$98,\"<=\"&DATE(2006,MONTH(C1935),DAY(C1935)))","v":27},null,4.3,3.1,4.0999999999999996,4,2.7,5,2.2000000000000002,2.5,4.5]
["KS199628","KS","1996-09-08",{"$f":"COUNTIF(Calculations!$E$56:$E$98,\"<=\"&DATE(2006,MONTH(C1936),DAY(C1936)))","v":28},null,6.4,5.5,6.1,3.5,5.3,5.8,5,4.7,6.4]
["KS199629","KS","1996-09-15",{"$f":"COUNTIF(Calculations!$E$56:$E$98,\"<=\"&DATE(2006,MONTH(C1937),DAY(C1937)))","v":29},null,4.8,4.9000000000000004,5.6,4.8,6,5.8,5.2,5.2,6.7]
["KS199630","KS","1996-09-22",{"$f":"COUNTIF(Calculations!$E$56:$E$98,\"<=\"&DATE(2006,MONTH(C1938),DAY(C1938)))","v":30},null,0.4,0.8,3,0.7,0.3,2.6,1.6,0.6,1.4]
[{"$f":"B1939&YEAR(C1939)&D1939","v":"KS199631"},"KS","1996-09-29",{"$f":"COUNTIF(Calculations!$E$56:$E$98,\"<=\"&DATE(2006,MONTH(C1939),DAY(C1939)))","v":31},null,2.7,1.4,0.9,2,1.7,2.4,4,2,0.6]
["KS199632","KS","1996-10-06",{"$f":"COUNTIF(Calculations!$E$56:$E$98,\"<=\"&DATE(2006,MONTH(C1940),DAY(C1940)))","v":32},null,6.4,5.3,4.5999999999999996,6.4,5,5.2,7,5.9,4.7]
["KS199633","KS","1996-10-13",{"$f":"COUNTIF(Calculations!$E$56:$E$98,\"<=\"&DATE(2006,MONTH(C1941),DAY(C1941)))","v":33},null,6.5,3.5,2.4,4.8,4.9000000000000004,4.5,6.3,3.7,4.2]
["KS199634","KS","1996-10-20",{"$f":"COUNTIF(Calculations!$E$56:$E$98,\"<=\"&DATE(2006,MONTH(C1942),DAY(C1942)))","v":34},null,6.7,5.8,5.8,6.3,6,6.6,7,6.7,5.6]
["KS199635","KS","1996-10-27",{"$f":"COUNTIF(Calculations!$E$56:$E$98,\"<=\"&DATE(2006,MONTH(C1943),DAY(C1943)))","v":35},null,6.7,5.9,2.8,5.8,4.9000000000000004,3.3,5.3,4,3.1]
["KS199636","KS","1996-11-03",{"$f":"COUNTIF(Calculations!$E$56:$E$98,\"<=\"&DATE(2006,MONTH(C1944),DAY(C1944)))","v":36},null,6.3,5.9,4.3,5.8,5,3.5,4.7,5.3,1.8]
["KS199637","KS","1996-11-10",{"$f":"COUNTIF(Calculations!$E$56:$E$98,\"<=\"&DATE(2006,MONTH(C1945),DAY(C1945)))","v":37},null,6.8,5.9,4,6.3,5.9,3.3,7,4.4000000000000004,1.9]
["KS199638","KS","1996-11-17",{"$f":"COUNTIF(Calculations!$E$56:$E$98,\"<=\"&DATE(2006,MONTH(C1946),DAY(C1946)))","v":38},null,4.0999999999999996,4,2.9,4.2,3.8,2.5,5.4,3.4,1.6]
["KS199639","KS","1996-11-24",{"$f":"COUNTIF(Calculations!$E$56:$E$98,\"<=\"&DATE(2006,MONTH(C1947),DAY(C1947)))","v":39},null,3.3,0.3,0.3,1.2,0.7,1.4,2.2999999999999998,0.5,0.7]
["KS199640","KS","1996-12-01",{"$f":"COUNTIF(Calculations!$E$56:$E$98,\"<=\"&DATE(2006,MONTH(C1948),DAY(C1948)))","v":40},null,3.5,2.1,2.6,3.5,2.6,1.1000000000000001,4.3,2.6,2.4]
["KS19972","KS","1997-03-09",{"$f":"COUNTIF(Calculations!$E$56:$E$98,\"<=\"&DATE(2006,MONTH(C1949),DAY(C1949)))","v":2},null,1.3,0.5,0.9,1.4,2.7,0.4,5.5,3.6,0.9]
["KS19973","KS","1997-03-16",{"$f":"COUNTIF(Calculations!$E$56:$E$98,\"<=\"&DATE(2006,MONTH(C1950),DAY(C1950)))","v":3},null,3.9,3.3,4.4000000000000004,5.2,5,3.1,7,5.7,2.7]
["KS19974","KS","1997-03-23",{"$f":"COUNTIF(Calculations!$E$56:$E$98,\"<=\"&DATE(2006,MONTH(C1951),DAY(C1951)))","v":4},null,5.4,5.3,5.8,5.5,6,4.9000000000000004,6.7,6.6,3.5]
["KS19975","KS","1997-03-30",{"$f":"COUNTIF(Calculations!$E$56:$E$98,\"<=\"&DATE(2006,MONTH(C1952),DAY(C1952)))","v":5},null,6.6,6.1,6.8,5.9,6.1,5,6.9,6.3,3.6]
["KS19976","KS","1997-04-06",{"$f":"COUNTIF(Calculations!$E$56:$E$98,\"<=\"&DATE(2006,MONTH(C1953),DAY(C1953)))","v":6},null,3.5,3.2,3.5,5,4.9000000000000004,3.1,5.0999999999999996,5.3,4.8]
["KS19977","KS","1997-04-13",{"$f":"COUNTIF(Calculations!$E$56:$E$98,\"<=\"&DATE(2006,MONTH(C1954),DAY(C1954)))","v":7},null,1.7,1.8,0.2,1.7,2.2999999999999998,0.8,1.4,0.7,0.7]
["KS19978","KS","1997-04-20",{"$f":"COUNTIF(Calculations!$E$56:$E$98,\"<=\"&DATE(2006,MONTH(C1955),DAY(C1955)))","v":8},null,3.5,1,1.2,1.8,1.8,2.1,4,1.5,3]
["KS19979","KS","1997-04-27",{"$f":"COUNTIF(Calculations!$E$56:$E$98,\"<=\"&DATE(2006,MONTH(C1956),DAY(C1956)))","v":9},null,4.2,4.8,1,4.5,4.5999999999999996,5.2,3.7,4.5,5.8]
["KS199710","KS","1997-05-04",{"$f":"COUNTIF(Calculations!$E$56:$E$98,\"<=\"&DATE(2006,MONTH(C1957),DAY(C1957)))","v":10},null,3.7,2.9,4.0999999999999996,4.9000000000000004,3,5.3,4.3,5.5,5.9]
["KS199711","KS","1997-05-11",{"$f":"COUNTIF(Calculations!$E$56:$E$98,\"<=\"&DATE(2006,MONTH(C1958),DAY(C1958)))","v":11},null,5.7,5.3,4.3,5.7,5.4,4.4000000000000004,5.5,5.3,5.2]
["KS199712","KS","1997-05-18",{"$f":"COUNTIF(Calculations!$E$56:$E$98,\"<=\"&DATE(2006,MONTH(C1959),DAY(C1959)))","v":12},null,6.9,6.5,6.5,5.4,6.1,5.6,6.1,6.8,5.6]
["KS199713","KS","1997-05-25",{"$f":"COUNTIF(Calculations!$E$56:$E$98,\"<=\"&DATE(2006,MONTH(C1960),DAY(C1960)))","v":13},null,5.7,6.4,6.6,5,4.0999999999999996,4.4000000000000004,4.8,4,4.3]
["KS199714","KS","1997-06-01",{"$f":"COUNTIF(Calculations!$E$56:$E$98,\"<=\"&DATE(2006,MONTH(C1961),DAY(C1961)))","v":14},null,3.5,4.3,2.8,3.2,3.6,2.8,3.8,3.9,3.9]
["KS199715","KS","1997-06-08",{"$f":"COUNTIF(Calculations!$E$56:$E$98,\"<=\"&DATE(2006,MONTH(C1962),DAY(C1962)))","v":15},null,3,4.5999999999999996,5.3,3.2,3.6,4,4.9000000000000004,4.7,3.8]
["KS199716","KS","1997-06-15",{"$f":"COUNTIF(Calculations!$E$56:$E$98,\"<=\"&DATE(2006,MONTH(C1963),DAY(C1963)))","v":16},null,4.8,3.3,5.6,3.3,4.3,4.3,3.9,5.3,4.3]
["KS199717","KS","1997-06-22",{"$f":"COUNTIF(Calculations!$E$56:$E$98,\"<=\"&DATE(2006,MONTH(C1964),DAY(C1964)))","v":17},null,6.3,6,4.9000000000000004,5.5,5.2,4.9000000000000004,5.7,5,3.5]
["KS199718","KS","1997-06-29",{"$f":"COUNTIF(Calculations!$E$56:$E$98,\"<=\"&DATE(2006,MONTH(C1965),DAY(C1965)))","v":18},null,4.8,2.7,4.8,3.5,2.8,5,3.3,3.2,3.8]
["KS199719","KS","1997-07-06",{"$f":"COUNTIF(Calculations!$E$56:$E$98,\"<=\"&DATE(2006,MONTH(C1966),DAY(C1966)))","v":19},null,7,5.9,5.0999999999999996,5,5.0999999999999996,5.9,6.3,5,4.5999999999999996]
["KS199720","KS","1997-07-13",{"$f":"COUNTIF(Calculations!$E$56:$E$98,\"<=\"&DATE(2006,MONTH(C1967),DAY(C1967)))","v":20},null,5.8,4.8,4.9000000000000004,5.5,5,4.2,6.6,5.8,3.3]
["KS199721","KS","1997-07-20",{"$f":"COUNTIF(Calculations!$E$56:$E$98,\"<=\"&DATE(2006,MONTH(C1968),DAY(C1968)))","v":21},null,6.3,6.7,6,6.3,6.2,6.3,6.6,5,5.2]
["KS199722","KS","1997-07-27",{"$f":"COUNTIF(Calculations!$E$56:$E$98,\"<=\"&DATE(2006,MONTH(C1969),DAY(C1969)))","v":22},null,6.8,6.8,6.8,5.9,5.6,6,6.7,5.5,5.9]
["KS199723","KS","1997-08-03",{"$f":"COUNTIF(Calculations!$E$56:$E$98,\"<=\"&DATE(2006,MONTH(C1970),DAY(C1970)))","v":23},null,4,4,5.5,5.7,4.7,5.7,4.9000000000000004,6,6.4]
["KS199724","KS","1997-08-10",{"$f":"COUNTIF(Calculations!$E$56:$E$98,\"<=\"&DATE(2006,MONTH(C1971),DAY(C1971)))","v":24},null,2.6,4.8,6.4,2.6,4.2,6.7,1.6,3.7,6.3]
["KS199725","KS","1997-08-17",{"$f":"COUNTIF(Calculations!$E$56:$E$98,\"<=\"&DATE(2006,MONTH(C1972),DAY(C1972)))","v":25},null,3,3.5,3,3.3,2.7,2.7,2.5,4.2,4.7]
["KS199726","KS","1997-08-24",{"$f":"COUNTIF(Calculations!$E$56:$E$98,\"<=\"&DATE(2006,MONTH(C1973),DAY(C1973)))","v":26},null,3,3.4,3,2.6,0.9,1.6,6,1.8,2.4]
["KS199727","KS","1997-08-31",{"$f":"COUNTIF(Calculations!$E$56:$E$98,\"<=\"&DATE(2006,MONTH(C1974),DAY(C1974)))","v":27},null,5.8,5.9,6.2,5.5,4.0999999999999996,6.3,6.5,4.3,6.6]
["KS199728","KS","1997-09-07",{"$f":"COUNTIF(Calculations!$E$56:$E$98,\"<=\"&DATE(2006,MONTH(C1975),DAY(C1975)))","v":28},null,6.5,5.8,4.5,5.8,6,6.7,6.5,5.7,5.0999999999999996]
["KS199729","KS","1997-09-14",{"$f":"COUNTIF(Calculations!$E$56:$E$98,\"<=\"&DATE(2006,MONTH(C1976),DAY(C1976)))","v":29},null,6,5.2,6.3,5.9,4.8,6.8,6.5,6.3,5.9]
["KS199730","KS","1997-09-21",{"$f":"COUNTIF(Calculations!$E$56:$E$98,\"<=\"&DATE(2006,MONTH(C1977),DAY(C1977)))","v":30},null,6,6.3,5.9,6.3,5.7,6.3,6.7,6.7,5.5]
["KS199731","KS","1997-09-28",{"$f":"COUNTIF(Calculations!$E$56:$E$98,\"<=\"&DATE(2006,MONTH(C1978),DAY(C1978)))","v":31},null,3.1,1.1000000000000001,2.5,3.6,0.6,1.8,4,1,2.2999999999999998]
["KS199732","KS","1997-10-05",{"$f":"COUNTIF(Calculations!$E$56:$E$98,\"<=\"&DATE(2006,MONTH(C1979),DAY(C1979)))","v":32},null,6.3,5.9,6.7,6.1,5.6,6.6,6.9,5.3,6]
["KS199733","KS","1997-10-12",{"$f":"COUNTIF(Calculations!$E$56:$E$98,\"<=\"&DATE(2006,MONTH(C1980),DAY(C1980)))","v":33},null,5.6,5.3,4.5999999999999996,6.6,4.2,4.3,6.3,4.0999999999999996,4.5]
["KS199734","KS","1997-10-19",{"$f":"COUNTIF(Calculations!$E$56:$E$98,\"<=\"&DATE(2006,MONTH(C1981),DAY(C1981)))","v":34},null,4.3,6,3.4,6.3,4.2,4,5.9,4,3.9]
["KS199735","KS","1997-10-26",{"$f":"COUNTIF(Calculations!$E$56:$E$98,\"<=\"&DATE(2006,MONTH(C1982),DAY(C1982)))","v":35},null,5.8,6.1,5.3,5.6,5.7,5,5.2,5.7,5.7]
["KS199736","KS","1997-11-02",{"$f":"COUNTIF(Calculations!$E$56:$E$98,\"<=\"&DATE(2006,MONTH(C1983),DAY(C1983)))","v":36},null,0,0.8,2.2999999999999998,0.1,1.7,3.2,0.7,3.9,3.7]
["KS199737","KS","1997-11-09",{"$f":"COUNTIF(Calculations!$E$56:$E$98,\"<=\"&DATE(2006,MONTH(C1984),DAY(C1984)))","v":37},null,3.8,3,4.5,2,5.5,4.5,4.9000000000000004,6.3,5]
["KS199738","KS","1997-11-16",{"$f":"COUNTIF(Calculations!$E$56:$E$98,\"<=\"&DATE(2006,MONTH(C1985),DAY(C1985)))","v":38},null,2.8,4.9000000000000004,5.2,3.1,5.3,5.9,3.4,4.8,3.7]
["KS199739","KS","1997-11-23",{"$f":"COUNTIF(Calculations!$E$56:$E$98,\"<=\"&DATE(2006,MONTH(C1986),DAY(C1986)))","v":39},null,5.3,6,5.6,6.3,6,6.4,6.1,6.5,6.2]
["KS199740","KS","1997-11-30",{"$f":"COUNTIF(Calculations!$E$56:$E$98,\"<=\"&DATE(2006,MONTH(C1987),DAY(C1987)))","v":40},null,5.6,6.2,5.5,5.4,5.4,5.3,5.3,5.3,5.4]
["KS19982","KS","1998-03-08",{"$f":"COUNTIF(Calculations!$E$56:$E$98,\"<=\"&DATE(2006,MONTH(C1988),DAY(C1988)))","v":2},null,4,3.8,3.7,5,5,4,6.6,5.4,5.7]
["KS19983","KS","1998-03-15",{"$f":"COUNTIF(Calculations!$E$56:$E$98,\"<=\"&DATE(2006,MONTH(C1989),DAY(C1989)))","v":3},null,0.8,0.6,0,1.3,0,0.6,1.8,0.9,0.3]
["KS19984","KS","1998-03-22",{"$f":"COUNTIF(Calculations!$E$56:$E$98,\"<=\"&DATE(2006,MONTH(C1990),DAY(C1990)))","v":4},null,1.1000000000000001,0,0,2.5,0,0.6,0.1,0,0]
["KS19985","KS","1998-03-29",{"$f":"COUNTIF(Calculations!$E$56:$E$98,\"<=\"&DATE(2006,MONTH(C1991),DAY(C1991)))","v":5},null,4.9000000000000004,1.2,1.1000000000000001,3.3,0.5,0.9,1.6,0.7,0.7]
["KS19986","KS","1998-04-05",{"$f":"COUNTIF(Calculations!$E$56:$E$98,\"<=\"&DATE(2006,MONTH(C1992),DAY(C1992)))","v":6},null,2.1,0.7,0.1,2.2999999999999998,0.3,0.8,4.8,1.8,0.7]
["KS19987","KS","1998-04-12",{"$f":"COUNTIF(Calculations!$E$56:$E$98,\"<=\"&DATE(2006,MONTH(C1993),DAY(C1993)))","v":7},null,1.6,0.3,0.4,2,0,1.5,5.3,1.8,1.4]
["KS19988","KS","1998-04-19",{"$f":"COUNTIF(Calculations!$E$56:$E$98,\"<=\"&DATE(2006,MONTH(C1994),DAY(C1994)))","v":8},null,4.3,3,3,3.5,2.9,3.8,6.8,5.4,4.9000000000000004]
["KS19989","KS","1998-04-26",{"$f":"COUNTIF(Calculations!$E$56:$E$98,\"<=\"&DATE(2006,MONTH(C1995),DAY(C1995)))","v":9},null,6.4,5.9,6.2,5,6.3,6.3,6.9,6.9,6.5]
["KS199810","KS","1998-05-03",{"$f":"COUNTIF(Calculations!$E$56:$E$98,\"<=\"&DATE(2006,MONTH(C1996),DAY(C1996)))","v":10},null,4.5999999999999996,1.4,1.9,3.4,1.6,0.8,3.3,2.2000000000000002,1.1000000000000001]
["KS199811","KS","1998-05-10",{"$f":"COUNTIF(Calculations!$E$56:$E$98,\"<=\"&DATE(2006,MONTH(C1997),DAY(C1997)))","v":11},null,3.8,4.4000000000000004,4.9000000000000004,2.6,3.9,3.7,3.5,4.5,2.2999999999999998]
["KS199812","KS","1998-05-17",{"$f":"COUNTIF(Calculations!$E$56:$E$98,\"<=\"&DATE(2006,MONTH(C1998),DAY(C1998)))","v":12},null,4.9000000000000004,5.3,5.3,4.7,3.5,4.4000000000000004,5.0999999999999996,5,4.3]
["KS199813","KS","1998-05-24",{"$f":"COUNTIF(Calculations!$E$56:$E$98,\"<=\"&DATE(2006,MONTH(C1999),DAY(C1999)))","v":13},null,6.1,6.1,6.6,5.7,5.6,6.5,6,5.8,6.3]
["KS199814","KS","1998-05-31",{"$f":"COUNTIF(Calculations!$E$56:$E$98,\"<=\"&DATE(2006,MONTH(C2000),DAY(C2000)))","v":14},null,5.6,6.4,5.9,5.2,6,6.3,6.1,6.7,5.3]
["KS199815","KS","1998-06-07",{"$f":"COUNTIF(Calculations!$E$56:$E$98,\"<=\"&DATE(2006,MONTH(C2001),DAY(C2001)))","v":15},null,5.3,6.2,6.6,5.5,6.4,5.6,6.9,6.7,6.1]
["KS199816","KS","1998-06-14",{"$f":"COUNTIF(Calculations!$E$56:$E$98,\"<=\"&DATE(2006,MONTH(C2002),DAY(C2002)))","v":16},null,6.1,4.4000000000000004,2.6,5.8,6.1,4.2,6.1,6.7,4.7]
[{"$f":"B2003&YEAR(C2003)&D2003","v":"KS199817"},"KS","1998-06-21",{"$f":"COUNTIF(Calculations!$E$56:$E$98,\"<=\"&DATE(2006,MONTH(C2003),DAY(C2003)))","v":17},null,6.8,6.3,4.7,6.6,6.5,5.8,6.6,6.9,5.9]
["KS199818","KS","1998-06-28",{"$f":"COUNTIF(Calculations!$E$56:$E$98,\"<=\"&DATE(2006,MONTH(C2004),DAY(C2004)))","v":18},null,6.8,5.8,2.9,5.7,4.5999999999999996,3.7,6.7,6.2,6.5]
["KS199819","KS","1998-07-05",{"$f":"COUNTIF(Calculations!$E$56:$E$98,\"<=\"&DATE(2006,MONTH(C2005),DAY(C2005)))","v":19},null,6.4,6.4,3.5,6.5,4.8,4.4000000000000004,6.6,4.9000000000000004,4.0999999999999996]
["KS199820","KS","1998-07-12",{"$f":"COUNTIF(Calculations!$E$56:$E$98,\"<=\"&DATE(2006,MONTH(C2006),DAY(C2006)))","v":20},null,4.0999999999999996,3.4,4.0999999999999996,3.2,3.3,5.2,2.8,2.9,4.2]
["KS199821","KS","1998-07-19",{"$f":"COUNTIF(Calculations!$E$56:$E$98,\"<=\"&DATE(2006,MONTH(C2007),DAY(C2007)))","v":21},null,6,5.2,5.3,5.5,5.8,5.7,6.2,5.7,5.5]
["KS199822","KS","1998-07-26",{"$f":"COUNTIF(Calculations!$E$56:$E$98,\"<=\"&DATE(2006,MONTH(C2008),DAY(C2008)))","v":22},null,5.7,3.7,5.9,5,4.0999999999999996,4.7,6.3,6.2,5.4]
["KS199823","KS","1998-08-02",{"$f":"COUNTIF(Calculations!$E$56:$E$98,\"<=\"&DATE(2006,MONTH(C2009),DAY(C2009)))","v":23},null,1.8,1,2.8,2.5,1.7,1,4.0999999999999996,2,1.7]
["KS199824","KS","1998-08-09",{"$f":"COUNTIF(Calculations!$E$56:$E$98,\"<=\"&DATE(2006,MONTH(C2010),DAY(C2010)))","v":24},null,4.7,3.4,1.8,2,3.2,1.3,3.6,5.3,4.4000000000000004]
["KS199825","KS","1998-08-16",{"$f":"COUNTIF(Calculations!$E$56:$E$98,\"<=\"&DATE(2006,MONTH(C2011),DAY(C2011)))","v":25},null,4.7,5.7,5.8,3.8,5.7,5.8,5.4,6,5.2]
["KS199826","KS","1998-08-23",{"$f":"COUNTIF(Calculations!$E$56:$E$98,\"<=\"&DATE(2006,MONTH(C2012),DAY(C2012)))","v":26},null,6.7,6.4,7,6.2,6.1,6.9,6.9,6.9,6.5]
["KS199827","KS","1998-08-30",{"$f":"COUNTIF(Calculations!$E$56:$E$98,\"<=\"&DATE(2006,MONTH(C2013),DAY(C2013)))","v":27},null,5.8,5.6,5,6.2,5.6,6,5.8,6.3,6.2]
["KS199828","KS","1998-09-06",{"$f":"COUNTIF(Calculations!$E$56:$E$98,\"<=\"&DATE(2006,MONTH(C2014),DAY(C2014)))","v":28},null,6.5,6.5,6.4,6.5,6,6.8,5.9,6.3,6.9]
["KS199829","KS","1998-09-13",{"$f":"COUNTIF(Calculations!$E$56:$E$98,\"<=\"&DATE(2006,MONTH(C2015),DAY(C2015)))","v":29},null,7,6.6,6.9,7,6.7,6.8,7,6.9,6.9]
["KS199830","KS","1998-09-20",{"$f":"COUNTIF(Calculations!$E$56:$E$98,\"<=\"&DATE(2006,MONTH(C2016),DAY(C2016)))","v":30},null,5.8,6.6,6.3,7,6.8,4,6.9,6.8,2.2999999999999998]
["KS199831","KS","1998-09-27",{"$f":"COUNTIF(Calculations!$E$56:$E$98,\"<=\"&DATE(2006,MONTH(C2017),DAY(C2017)))","v":31},null,6.4,3.7,1.4,6.2,4.7,1.4,5.9,5,1.6]
["KS199832","KS","1998-10-04",{"$f":"COUNTIF(Calculations!$E$56:$E$98,\"<=\"&DATE(2006,MONTH(C2018),DAY(C2018)))","v":32},null,4.3,2.2999999999999998,2,4.5,1.8,1.8,4.4000000000000004,3.9,2.4]
["KS199833","KS","1998-10-11",{"$f":"COUNTIF(Calculations!$E$56:$E$98,\"<=\"&DATE(2006,MONTH(C2019),DAY(C2019)))","v":33},null,4,3,3,4.8,2.6,1,5.9,3.1,1.5]
["KS199834","KS","1998-10-18",{"$f":"COUNTIF(Calculations!$E$56:$E$98,\"<=\"&DATE(2006,MONTH(C2020),DAY(C2020)))","v":34},null,6.7,5.7,5.6,6,5.4,5.4,6.2,6,5.0999999999999996]
["KS199835","KS","1998-10-25",{"$f":"COUNTIF(Calculations!$E$56:$E$98,\"<=\"&DATE(2006,MONTH(C2021),DAY(C2021)))","v":35},null,6.7,6.3,4.8,6.5,4.9000000000000004,4,6.7,6,3.8]
["KS199836","KS","1998-11-01",{"$f":"COUNTIF(Calculations!$E$56:$E$98,\"<=\"&DATE(2006,MONTH(C2022),DAY(C2022)))","v":36},null,5.8,5.4,6.1,5.8,6.1,5.3,4.8,6.3,6.3]
["KS199837","KS","1998-11-08",{"$f":"COUNTIF(Calculations!$E$56:$E$98,\"<=\"&DATE(2006,MONTH(C2023),DAY(C2023)))","v":37},null,0.1,1,0.3,0,0,0,0.5,0,0.1]
["KS199838","KS","1998-11-15",{"$f":"COUNTIF(Calculations!$E$56:$E$98,\"<=\"&DATE(2006,MONTH(C2024),DAY(C2024)))","v":38},null,0.3,0.6,1,0.8,1.9,1.2,2.7,1.1000000000000001,0.4]
["KS199839","KS","1998-11-22",{"$f":"COUNTIF(Calculations!$E$56:$E$98,\"<=\"&DATE(2006,MONTH(C2025),DAY(C2025)))","v":39},null,4,4.5,4.5999999999999996,1.7,2.8,5,5.8,4.4000000000000004,3.2]
["KS199840","KS","1998-11-29",{"$f":"COUNTIF(Calculations!$E$56:$E$98,\"<=\"&DATE(2006,MONTH(C2026),DAY(C2026)))","v":40},null,5.6,6.4,6,5.3,5.9,6.4,6.8,6.4,6.2]
["KS19992","KS","1999-03-07",{"$f":"COUNTIF(Calculations!$E$56:$E$98,\"<=\"&DATE(2006,MONTH(C2027),DAY(C2027)))","v":2},null,5.8,6.3,4.7,5.3,6.3,4.3,6.4,6.9,3.1]
["KS19993","KS","1999-03-14",{"$f":"COUNTIF(Calculations!$E$56:$E$98,\"<=\"&DATE(2006,MONTH(C2028),DAY(C2028)))","v":3},null,3,1.7,1.5,2.7,2.8,0.3,3.9,3.6,1.3]
["KS19994","KS","1999-03-21",{"$f":"COUNTIF(Calculations!$E$56:$E$98,\"<=\"&DATE(2006,MONTH(C2029),DAY(C2029)))","v":4},null,1.8,3.6,3.9,0.6,2.1,4.4000000000000004,0.6,0.8,0.3]
["KS19995","KS","1999-03-28",{"$f":"COUNTIF(Calculations!$E$56:$E$98,\"<=\"&DATE(2006,MONTH(C2030),DAY(C2030)))","v":5},null,3.2,5.6,6.4,2,5.0999999999999996,5.9,1.8,4.0999999999999996,1.7]
["KS19996","KS","1999-04-04",{"$f":"COUNTIF(Calculations!$E$56:$E$98,\"<=\"&DATE(2006,MONTH(C2031),DAY(C2031)))","v":6},null,3,5.6,6.6,5,6,5.9,5.6,5.9,4.7]
["KS19997","KS","1999-04-11",{"$f":"COUNTIF(Calculations!$E$56:$E$98,\"<=\"&DATE(2006,MONTH(C2032),DAY(C2032)))","v":7},null,1.6,2.5,1,2.7,2.9,3,4.4000000000000004,2.8,4.7]
["KS19998","KS","1999-04-18",{"$f":"COUNTIF(Calculations!$E$56:$E$98,\"<=\"&DATE(2006,MONTH(C2033),DAY(C2033)))","v":8},null,1.2,2,2.2999999999999998,2.6,2.2999999999999998,1.5,3.2,2.7,2.7]
["KS19999","KS","1999-04-25",{"$f":"COUNTIF(Calculations!$E$56:$E$98,\"<=\"&DATE(2006,MONTH(C2034),DAY(C2034)))","v":9},null,1.8,1.8,1,3,1.9,1.3,2.9,2.9,2.2999999999999998]
["KS199910","KS","1999-05-02",{"$f":"COUNTIF(Calculations!$E$56:$E$98,\"<=\"&DATE(2006,MONTH(C2035),DAY(C2035)))","v":10},null,1.8,0.6,0,1,0.8,0,3.1,2.7,0]
["KS199911","KS","1999-05-09",{"$f":"COUNTIF(Calculations!$E$56:$E$98,\"<=\"&DATE(2006,MONTH(C2036),DAY(C2036)))","v":11},null,3.2,0.6,1.9,3.8,2.1,2,3.4,4.5,1]
["KS199912","KS","1999-05-16",{"$f":"COUNTIF(Calculations!$E$56:$E$98,\"<=\"&DATE(2006,MONTH(C2037),DAY(C2037)))","v":12},null,5.5,4.5,2.8,5.4,3.4,2.2000000000000002,6.4,5.6,2.6]
["KS199913","KS","1999-05-23",{"$f":"COUNTIF(Calculations!$E$56:$E$98,\"<=\"&DATE(2006,MONTH(C2038),DAY(C2038)))","v":13},null,4.4000000000000004,2.2999999999999998,2.5,4.5,2.2000000000000002,1.5,5.9,4,1.9]
["KS199914","KS","1999-05-30",{"$f":"COUNTIF(Calculations!$E$56:$E$98,\"<=\"&DATE(2006,MONTH(C2039),DAY(C2039)))","v":14},null,5,4.9000000000000004,4.7,5,4.4000000000000004,4.8,4.2,3.6,3.4]
["KS199915","KS","1999-06-06",{"$f":"COUNTIF(Calculations!$E$56:$E$98,\"<=\"&DATE(2006,MONTH(C2040),DAY(C2040)))","v":15},null,3.3,3.5,2.9,5.8,3.8,2.2000000000000002,5.6,3.4,2.6]
["KS199916","KS","1999-06-13",{"$f":"COUNTIF(Calculations!$E$56:$E$98,\"<=\"&DATE(2006,MONTH(C2041),DAY(C2041)))","v":16},null,5,5.4,5.3,3.4,4.9000000000000004,5.4,2.9,3.4,4.0999999999999996]
["KS199917","KS","1999-06-20",{"$f":"COUNTIF(Calculations!$E$56:$E$98,\"<=\"&DATE(2006,MONTH(C2042),DAY(C2042)))","v":17},null,3.2,2.6,2.2000000000000002,4.4000000000000004,2.4,3.4,3.7,2.4,3.4]
["KS199918","KS","1999-06-27",{"$f":"COUNTIF(Calculations!$E$56:$E$98,\"<=\"&DATE(2006,MONTH(C2043),DAY(C2043)))","v":18},null,4.3,3.3,1.6,3.6,1.6,1.2,4.0999999999999996,1.1000000000000001,0.4]
["KS199919","KS","1999-07-04",{"$f":"COUNTIF(Calculations!$E$56:$E$98,\"<=\"&DATE(2006,MONTH(C2044),DAY(C2044)))","v":19},null,3.4,2.2999999999999998,1.4,4.2,3.5,1.6,5.3,3.8,1.8]
["KS199920","KS","1999-07-11",{"$f":"COUNTIF(Calculations!$E$56:$E$98,\"<=\"&DATE(2006,MONTH(C2045),DAY(C2045)))","v":20},null,5.5,5.8,6.1,5.4,5.4,6.4,6.3,5.0999999999999996,6]
["KS199921","KS","1999-07-18",{"$f":"COUNTIF(Calculations!$E$56:$E$98,\"<=\"&DATE(2006,MONTH(C2046),DAY(C2046)))","v":21},null,5.7,5.9,6.8,5.5,5.5,7,6.4,5.5,5.6]
["KS199922","KS","1999-07-25",{"$f":"COUNTIF(Calculations!$E$56:$E$98,\"<=\"&DATE(2006,MONTH(C2047),DAY(C2047)))","v":22},null,6.5,6.5,6.7,5.5,5.4,6.8,7,6.9,6.6]
["KS199923","KS","1999-08-01",{"$f":"COUNTIF(Calculations!$E$56:$E$98,\"<=\"&DATE(2006,MONTH(C2048),DAY(C2048)))","v":23},null,5.8,6.5,6.9,5.5,6.3,6.4,6.8,6.9,6.9]
["KS199924","KS","1999-08-08",{"$f":"COUNTIF(Calculations!$E$56:$E$98,\"<=\"&DATE(2006,MONTH(C2049),DAY(C2049)))","v":24},null,3.3,2.2999999999999998,5,1,1.3,4.3,2.7,4.5999999999999996,5.4]
["KS199925","KS","1999-08-15",{"$f":"COUNTIF(Calculations!$E$56:$E$98,\"<=\"&DATE(2006,MONTH(C2050),DAY(C2050)))","v":25},null,5.2,5.8,6.1,5.8,5.7,6.1,5.8,6.2,6.7]
["KS199926","KS","1999-08-22",{"$f":"COUNTIF(Calculations!$E$56:$E$98,\"<=\"&DATE(2006,MONTH(C2051),DAY(C2051)))","v":26},null,5.8,5.9,7,6.2,6.5,6.7,6.9,6.8,6.9]
["KS199927","KS","1999-08-29",{"$f":"COUNTIF(Calculations!$E$56:$E$98,\"<=\"&DATE(2006,MONTH(C2052),DAY(C2052)))","v":27},null,6.7,6.7,7,6.3,6.6,6.1,6.9,6.9,6.8]
["KS199928","KS","1999-09-05",{"$f":"COUNTIF(Calculations!$E$56:$E$98,\"<=\"&DATE(2006,MONTH(C2053),DAY(C2053)))","v":28},null,6,6.6,6.8,5.9,6.4,6.9,6.8,6.7,7]
["KS199929","KS","1999-09-12",{"$f":"COUNTIF(Calculations!$E$56:$E$98,\"<=\"&DATE(2006,MONTH(C2054),DAY(C2054)))","v":29},null,6.6,6.6,5.5,6.3,6.2,5.3,6.5,5.5,6.2]
["KS199930","KS","1999-09-19",{"$f":"COUNTIF(Calculations!$E$56:$E$98,\"<=\"&DATE(2006,MONTH(C2055),DAY(C2055)))","v":30},null,6.6,5.9,6.9,4.2,2.9,5,2.2999999999999998,3.6,4.7]
["KS199931","KS","1999-09-26",{"$f":"COUNTIF(Calculations!$E$56:$E$98,\"<=\"&DATE(2006,MONTH(C2056),DAY(C2056)))","v":31},null,6.2,6.5,6.8,5.4,5.4,6,5.4,5.2,5.2]
["KS199932","KS","1999-10-03",{"$f":"COUNTIF(Calculations!$E$56:$E$98,\"<=\"&DATE(2006,MONTH(C2057),DAY(C2057)))","v":32},null,5.4,5.7,2.2999999999999998,4.5,5.2,1.8,5.4,4,2.2000000000000002]
["KS199933","KS","1999-10-10",{"$f":"COUNTIF(Calculations!$E$56:$E$98,\"<=\"&DATE(2006,MONTH(C2058),DAY(C2058)))","v":33},null,6.4,6.4,6.4,5,6.1,5.3,5.6,5.7,6]
["KS199934","KS","1999-10-17",{"$f":"COUNTIF(Calculations!$E$56:$E$98,\"<=\"&DATE(2006,MONTH(C2059),DAY(C2059)))","v":34},null,6.6,6.8,7,5.8,6.8,6.7,6.1,6.9,6.8]
["KS199935","KS","1999-10-24",{"$f":"COUNTIF(Calculations!$E$56:$E$98,\"<=\"&DATE(2006,MONTH(C2060),DAY(C2060)))","v":35},null,7,6.8,6.8,6.7,6.8,6.8,6.7,7,7]
["KS199936","KS","1999-10-31",{"$f":"COUNTIF(Calculations!$E$56:$E$98,\"<=\"&DATE(2006,MONTH(C2061),DAY(C2061)))","v":36},null,6.8,6.8,7,7,6.9,6.6,7,7,6.7]
["KS199937","KS","1999-11-07",{"$f":"COUNTIF(Calculations!$E$56:$E$98,\"<=\"&DATE(2006,MONTH(C2062),DAY(C2062)))","v":37},null,6.8,6.9,6.7,6.9,6.7,6.2,6.9,6.5,5.3]
["KS199938","KS","1999-11-14",{"$f":"COUNTIF(Calculations!$E$56:$E$98,\"<=\"&DATE(2006,MONTH(C2063),DAY(C2063)))","v":38},null,7,6.9,7,6.9,6.8,6.9,6.8,7,7]
["KS199939","KS","1999-11-21",{"$f":"COUNTIF(Calculations!$E$56:$E$98,\"<=\"&DATE(2006,MONTH(C2064),DAY(C2064)))","v":39},null,7,6.9,7,7,6.7,6.9,7,7,6.8]
["KS199940","KS","1999-11-28",{"$f":"COUNTIF(Calculations!$E$56:$E$98,\"<=\"&DATE(2006,MONTH(C2065),DAY(C2065)))","v":40},null,6.3,3.9,3,6,3.7,3.4,6.6,5.8,3]
["KS20002","KS","2000-03-05",{"$f":"COUNTIF(Calculations!$E$56:$E$98,\"<=\"&DATE(2006,MONTH(C2066),DAY(C2066)))","v":2},null,2,1.3,2,2.7,1,2.4,4,3.1,2.2000000000000002]
[{"$f":"B2067&YEAR(C2067)&D2067","v":"KS20003"},"KS","2000-03-12",{"$f":"COUNTIF(Calculations!$E$56:$E$98,\"<=\"&DATE(2006,MONTH(C2067),DAY(C2067)))","v":3},null,1,2.9,3.3,2.2999999999999998,1.8,3.3,3.6,1.3,2]
["KS20004","KS","2000-03-19",{"$f":"COUNTIF(Calculations!$E$56:$E$98,\"<=\"&DATE(2006,MONTH(C2068),DAY(C2068)))","v":4},null,3.3,4.0999999999999996,3.3,3,1.6,1.3,2.2000000000000002,1,0.1]
["KS20005","KS","2000-03-26",{"$f":"COUNTIF(Calculations!$E$56:$E$98,\"<=\"&DATE(2006,MONTH(C2069),DAY(C2069)))","v":5},null,2.6,1.9,3,0.8,0.8,1.9,0.8,0.6,0]
["KS20006","KS","2000-04-02",{"$f":"COUNTIF(Calculations!$E$56:$E$98,\"<=\"&DATE(2006,MONTH(C2070),DAY(C2070)))","v":6},null,2.9,3.6,4.7,0.6,1.5,3.7,1.4,0.6,0.8]
["KS20007","KS","2000-04-09",{"$f":"COUNTIF(Calculations!$E$56:$E$98,\"<=\"&DATE(2006,MONTH(C2071),DAY(C2071)))","v":7},null,3.8,5.3,6.2,3.6,3.3,5.7,4.8,3,3.5]
["KS20008","KS","2000-04-16",{"$f":"COUNTIF(Calculations!$E$56:$E$98,\"<=\"&DATE(2006,MONTH(C2072),DAY(C2072)))","v":8},null,5,6.4,6.9,5.7,5.4,6.9,6.8,5.7,6.1]
["KS20009","KS","2000-04-23",{"$f":"COUNTIF(Calculations!$E$56:$E$98,\"<=\"&DATE(2006,MONTH(C2073),DAY(C2073)))","v":9},null,5.5,5.4,4.5999999999999996,5.9,4,6.2,6.6,5.9,6.3]
["KS200010","KS","2000-04-30",{"$f":"COUNTIF(Calculations!$E$56:$E$98,\"<=\"&DATE(2006,MONTH(C2074),DAY(C2074)))","v":10},null,6,5.5,5.6,5,4.5,5.4,6,6.5,6.7]
["KS200011","KS","2000-05-07",{"$f":"COUNTIF(Calculations!$E$56:$E$98,\"<=\"&DATE(2006,MONTH(C2075),DAY(C2075)))","v":11},null,5.2,3.5,4.9000000000000004,3,2.5,5.4,3.2,4.9000000000000004,5]
["KS200012","KS","2000-05-14",{"$f":"COUNTIF(Calculations!$E$56:$E$98,\"<=\"&DATE(2006,MONTH(C2076),DAY(C2076)))","v":12},null,6.1,6,5.8,5.3,5.5,5.4,6.3,6.2,3.4]
["KS200013","KS","2000-05-21",{"$f":"COUNTIF(Calculations!$E$56:$E$98,\"<=\"&DATE(2006,MONTH(C2077),DAY(C2077)))","v":13},null,6.9,6.4,6.7,5.8,6,6.4,6.4,6.6,5.4]
["KS200014","KS","2000-05-28",{"$f":"COUNTIF(Calculations!$E$56:$E$98,\"<=\"&DATE(2006,MONTH(C2078),DAY(C2078)))","v":14},null,7,6,5.8,6,5.0999999999999996,5.8,6,5,5.3]
["KS200015","KS","2000-06-04",{"$f":"COUNTIF(Calculations!$E$56:$E$98,\"<=\"&DATE(2006,MONTH(C2079),DAY(C2079)))","v":15},null,6.7,6,5.9,6,4.8,4.5999999999999996,6.7,5.3,5.9]
["KS200016","KS","2000-06-11",{"$f":"COUNTIF(Calculations!$E$56:$E$98,\"<=\"&DATE(2006,MONTH(C2080),DAY(C2080)))","v":16},null,7,6.8,7,7,6.7,6.2,6.8,6.8,6.6]
["KS200017","KS","2000-06-18",{"$f":"COUNTIF(Calculations!$E$56:$E$98,\"<=\"&DATE(2006,MONTH(C2081),DAY(C2081)))","v":17},null,6.6,6.3,4.4000000000000004,6.6,5.9,3.3,5.9,5.2,2.9]
["KS200018","KS","2000-06-25",{"$f":"COUNTIF(Calculations!$E$56:$E$98,\"<=\"&DATE(2006,MONTH(C2082),DAY(C2082)))","v":18},null,5.7,5.3,3.8,5.8,6.1,2.4,6.4,4.7,1.3]
["KS200019","KS","2000-07-02",{"$f":"COUNTIF(Calculations!$E$56:$E$98,\"<=\"&DATE(2006,MONTH(C2083),DAY(C2083)))","v":19},null,5.2,4.2,3.4,5.5,3.2,3,5.4,2.6,1.2]
["KS200020","KS","2000-07-09",{"$f":"COUNTIF(Calculations!$E$56:$E$98,\"<=\"&DATE(2006,MONTH(C2084),DAY(C2084)))","v":20},null,6.4,5.8,3.6,6.2,5.7,6.6,6.8,6.6,6.4]
["KS200021","KS","2000-07-16",{"$f":"COUNTIF(Calculations!$E$56:$E$98,\"<=\"&DATE(2006,MONTH(C2085),DAY(C2085)))","v":21},null,6.7,6.7,6.8,6.3,6.2,6.8,6.9,7,6.8]
["KS200022","KS","2000-07-23",{"$f":"COUNTIF(Calculations!$E$56:$E$98,\"<=\"&DATE(2006,MONTH(C2086),DAY(C2086)))","v":22},null,3.9,5.6,4.2,2.5,2.2000000000000002,5.2,3.6,2,3.8]
["KS200023","KS","2000-07-30",{"$f":"COUNTIF(Calculations!$E$56:$E$98,\"<=\"&DATE(2006,MONTH(C2087),DAY(C2087)))","v":23},null,6.5,5.9,3.9,4.5999999999999996,3.4,5.9,5.4,1.9,4.0999999999999996]
["KS200024","KS","2000-08-06",{"$f":"COUNTIF(Calculations!$E$56:$E$98,\"<=\"&DATE(2006,MONTH(C2088),DAY(C2088)))","v":24},null,6.6,6.8,6.6,6.6,6.4,6.8,6.6,6.3,6.5]
["KS200025","KS","2000-08-13",{"$f":"COUNTIF(Calculations!$E$56:$E$98,\"<=\"&DATE(2006,MONTH(C2089),DAY(C2089)))","v":25},null,7,6.7,6.7,5.9,6.9,6.6,5.8,7,6.9]
["KS200026","KS","2000-08-20",{"$f":"COUNTIF(Calculations!$E$56:$E$98,\"<=\"&DATE(2006,MONTH(C2090),DAY(C2090)))","v":26},null,6.8,6.8,6.9,6.3,6.7,6.7,7,7,6.9]
["KS200027","KS","2000-08-27",{"$f":"COUNTIF(Calculations!$E$56:$E$98,\"<=\"&DATE(2006,MONTH(C2091),DAY(C2091)))","v":27},null,6.6,6.8,6.4,6.2,6.9,6.8,7,7,6.9]
["KS200028","KS","2000-09-03",{"$f":"COUNTIF(Calculations!$E$56:$E$98,\"<=\"&DATE(2006,MONTH(C2092),DAY(C2092)))","v":28},null,6.8,6.8,7,6.8,7,6.8,7,7,6.9]
["KS200029","KS","2000-09-10",{"$f":"COUNTIF(Calculations!$E$56:$E$98,\"<=\"&DATE(2006,MONTH(C2093),DAY(C2093)))","v":29},null,7,6.7,7,7,7,6.8,7,7,6.9]
["KS200030","KS","2000-09-17",{"$f":"COUNTIF(Calculations!$E$56:$E$98,\"<=\"&DATE(2006,MONTH(C2094),DAY(C2094)))","v":30},null,7,6.8,7,7,7,6.6,7,7,6.8]
["KS200031","KS","2000-09-24",{"$f":"COUNTIF(Calculations!$E$56:$E$98,\"<=\"&DATE(2006,MONTH(C2095),DAY(C2095)))","v":31},null,5.7,6.2,6,6.5,6.7,6.3,6.8,7,6.9]
["KS200032","KS","2000-10-01",{"$f":"COUNTIF(Calculations!$E$56:$E$98,\"<=\"&DATE(2006,MONTH(C2096),DAY(C2096)))","v":32},null,6.2,6.3,4.4000000000000004,6.1,6,6,6.9,6.4,5.6]
["KS200033","KS","2000-10-08",{"$f":"COUNTIF(Calculations!$E$56:$E$98,\"<=\"&DATE(2006,MONTH(C2097),DAY(C2097)))","v":33},null,6.3,6,4.5999999999999996,5.8,5.4,4.5,6.8,5.4,5.8]
["KS200034","KS","2000-10-15",{"$f":"COUNTIF(Calculations!$E$56:$E$98,\"<=\"&DATE(2006,MONTH(C2098),DAY(C2098)))","v":34},null,6.9,6.5,5.8,6.4,6.2,6,6.7,6.6,6.3]
["KS200035","KS","2000-10-22",{"$f":"COUNTIF(Calculations!$E$56:$E$98,\"<=\"&DATE(2006,MONTH(C2099),DAY(C2099)))","v":35},null,6.9,6.8,5.4,6.9,5.8,4.4000000000000004,6.9,5.6,3.9]
["KS200036","KS","2000-10-29",{"$f":"COUNTIF(Calculations!$E$56:$E$98,\"<=\"&DATE(2006,MONTH(C2100),DAY(C2100)))","v":36},null,4.2,3,1.9,2.2999999999999998,2,2.9,2.2999999999999998,0.8,2]
["KS200037","KS","2000-11-05",{"$f":"COUNTIF(Calculations!$E$56:$E$98,\"<=\"&DATE(2006,MONTH(C2101),DAY(C2101)))","v":37},null,2.4,2.2000000000000002,1.6,1.8,1.6,2,2.9,1.1000000000000001,2.2999999999999998]
["KS200038","KS","2000-11-12",{"$f":"COUNTIF(Calculations!$E$56:$E$98,\"<=\"&DATE(2006,MONTH(C2102),DAY(C2102)))","v":38},null,2.7,2.1,1.4,3,2.8,1.8,6,2.5,0.9]
["KS200039","KS","2000-11-19",{"$f":"COUNTIF(Calculations!$E$56:$E$98,\"<=\"&DATE(2006,MONTH(C2103),DAY(C2103)))","v":39},null,0.9,1.9,4.4000000000000004,1.8,3.6,3,5.7,4.3,3.9]
["KS200040","KS","2000-11-26",{"$f":"COUNTIF(Calculations!$E$56:$E$98,\"<=\"&DATE(2006,MONTH(C2104),DAY(C2104)))","v":40},null,0.5,3.7,5.6,3.3,5.2,4.5999999999999996,6.5,6.7,5.4]
["KS20012","KS","2001-03-04",{"$f":"COUNTIF(Calculations!$E$56:$E$98,\"<=\"&DATE(2006,MONTH(C2105),DAY(C2105)))","v":2},null,0,0,0.4,0,0,0,0.2,0.5,0]
["KS20013","KS","2001-03-11",{"$f":"COUNTIF(Calculations!$E$56:$E$98,\"<=\"&DATE(2006,MONTH(C2106),DAY(C2106)))","v":3},null,0,0,0,0.2,0,0.3,3.3,0.5,0.5]
["KS20014","KS","2001-03-18",{"$f":"COUNTIF(Calculations!$E$56:$E$98,\"<=\"&DATE(2006,MONTH(C2107),DAY(C2107)))","v":4},null,0,0,1,0.3,0.2,0.7,1.3,0.9,1.3]
["KS20015","KS","2001-03-25",{"$f":"COUNTIF(Calculations!$E$56:$E$98,\"<=\"&DATE(2006,MONTH(C2108),DAY(C2108)))","v":5},null,0.5,1.3,0.7,2,1.3,1.8,3.6,2.6,2.1]
["KS20016","KS","2001-04-01",{"$f":"COUNTIF(Calculations!$E$56:$E$98,\"<=\"&DATE(2006,MONTH(C2109),DAY(C2109)))","v":6},null,2.8,3,2.5,1.8,3.2,3.3,1.7,2.9,3.1]
["KS20017","KS","2001-04-08",{"$f":"COUNTIF(Calculations!$E$56:$E$98,\"<=\"&DATE(2006,MONTH(C2110),DAY(C2110)))","v":7},null,2,3.4,2.1,2.2000000000000002,4,3.5,3.6,5.2,3.6]
["KS20018","KS","2001-04-15",{"$f":"COUNTIF(Calculations!$E$56:$E$98,\"<=\"&DATE(2006,MONTH(C2111),DAY(C2111)))","v":8},null,3,3,2,3,3.4,4.0999999999999996,4.8,5.4,4.5]
["KS20019","KS","2001-04-22",{"$f":"COUNTIF(Calculations!$E$56:$E$98,\"<=\"&DATE(2006,MONTH(C2112),DAY(C2112)))","v":9},null,4.3,5.8,3.5,5.2,5.3,5.0999999999999996,6,6.1,5.5]
["KS200110","KS","2001-04-29",{"$f":"COUNTIF(Calculations!$E$56:$E$98,\"<=\"&DATE(2006,MONTH(C2113),DAY(C2113)))","v":10},null,6,5.8,6.1,6,4.5,6,6.7,6.7,5.9]
["KS200111","KS","2001-05-06",{"$f":"COUNTIF(Calculations!$E$56:$E$98,\"<=\"&DATE(2006,MONTH(C2114),DAY(C2114)))","v":11},null,4.3,4.2,4.2,4,4.5999999999999996,5.8,4.9000000000000004,5.0999999999999996,6]
["KS200112","KS","2001-05-13",{"$f":"COUNTIF(Calculations!$E$56:$E$98,\"<=\"&DATE(2006,MONTH(C2115),DAY(C2115)))","v":12},null,4.7,3.8,3.5,3.7,4.4000000000000004,4,6.1,4.8,5.3]
["KS200113","KS","2001-05-20",{"$f":"COUNTIF(Calculations!$E$56:$E$98,\"<=\"&DATE(2006,MONTH(C2116),DAY(C2116)))","v":13},null,6.3,6,6.3,5.4,6.1,5.8,5,6.4,5.7]
["KS200114","KS","2001-05-27",{"$f":"COUNTIF(Calculations!$E$56:$E$98,\"<=\"&DATE(2006,MONTH(C2117),DAY(C2117)))","v":14},null,6.4,5.2,5.3,5.2,5.9,4.4000000000000004,6,5,4.9000000000000004]
["KS200115","KS","2001-06-03",{"$f":"COUNTIF(Calculations!$E$56:$E$98,\"<=\"&DATE(2006,MONTH(C2118),DAY(C2118)))","v":15},null,2.8,3.3,2.4,3.4,2.2999999999999998,3,2.7,1.6,3.4]
["KS200116","KS","2001-06-10",{"$f":"COUNTIF(Calculations!$E$56:$E$98,\"<=\"&DATE(2006,MONTH(C2119),DAY(C2119)))","v":16},null,4.5999999999999996,1.2,1,2.4,0,1.4,4.8,1,2.2999999999999998]
["KS200117","KS","2001-06-17",{"$f":"COUNTIF(Calculations!$E$56:$E$98,\"<=\"&DATE(2006,MONTH(C2120),DAY(C2120)))","v":17},null,6.4,4.5,4.9000000000000004,6,4.3,3.4,6.5,6.1,4.5]
["KS200118","KS","2001-06-24",{"$f":"COUNTIF(Calculations!$E$56:$E$98,\"<=\"&DATE(2006,MONTH(C2121),DAY(C2121)))","v":18},null,6.7,6,2.1,6.7,5.3,2.4,6.9,5.0999999999999996,3.7]
["KS200119","KS","2001-07-01",{"$f":"COUNTIF(Calculations!$E$56:$E$98,\"<=\"&DATE(2006,MONTH(C2122),DAY(C2122)))","v":19},null,7,6.7,6.6,6.8,6.7,6.4,6.6,6.9,6.3]
["KS200120","KS","2001-07-08",{"$f":"COUNTIF(Calculations!$E$56:$E$98,\"<=\"&DATE(2006,MONTH(C2123),DAY(C2123)))","v":20},null,6.3,6,6.6,7,6.3,6.1,6.8,7,6.6]
["KS200121","KS","2001-07-15",{"$f":"COUNTIF(Calculations!$E$56:$E$98,\"<=\"&DATE(2006,MONTH(C2124),DAY(C2124)))","v":21},null,6.3,6.6,4.5999999999999996,5.5,6.9,6.4,6.4,7,6.9]
["KS200122","KS","2001-07-22",{"$f":"COUNTIF(Calculations!$E$56:$E$98,\"<=\"&DATE(2006,MONTH(C2125),DAY(C2125)))","v":22},null,6.2,6,4.8,5.9,6.9,6.6,6.3,6.6,6.5]
["KS200123","KS","2001-07-29",{"$f":"COUNTIF(Calculations!$E$56:$E$98,\"<=\"&DATE(2006,MONTH(C2126),DAY(C2126)))","v":23},null,2.2000000000000002,3.8,3.6,3.3,5,4.5999999999999996,6.3,6,5.0999999999999996]
["KS200124","KS","2001-08-05",{"$f":"COUNTIF(Calculations!$E$56:$E$98,\"<=\"&DATE(2006,MONTH(C2127),DAY(C2127)))","v":24},null,6.8,6.3,5.5,5.3,6.3,6.2,6.9,6.6,6.3]
["KS200125","KS","2001-08-12",{"$f":"COUNTIF(Calculations!$E$56:$E$98,\"<=\"&DATE(2006,MONTH(C2128),DAY(C2128)))","v":25},null,6.3,6.4,6.7,6.5,6.6,6.8,6.6,7,6.9]
["KS200126","KS","2001-08-19",{"$f":"COUNTIF(Calculations!$E$56:$E$98,\"<=\"&DATE(2006,MONTH(C2129),DAY(C2129)))","v":26},null,6.7,6.5,6.8,4.8,6,6.3,5.4,6.4,6.9]
["KS200127","KS","2001-08-26",{"$f":"COUNTIF(Calculations!$E$56:$E$98,\"<=\"&DATE(2006,MONTH(C2130),DAY(C2130)))","v":27},null,5.8,5.3,4.9000000000000004,6,5.3,4.7,6.7,6.8,6.4]
[{"$f":"B2131&YEAR(C2131)&D2131","v":"KS200128"},"KS","2001-09-02",{"$f":"COUNTIF(Calculations!$E$56:$E$98,\"<=\"&DATE(2006,MONTH(C2131),DAY(C2131)))","v":28},null,6.9,5.8,5.0999999999999996,6.8,5.4,4.8,6.8,6.9,6.3]
["KS200129","KS","2001-09-09",{"$f":"COUNTIF(Calculations!$E$56:$E$98,\"<=\"&DATE(2006,MONTH(C2132),DAY(C2132)))","v":29},null,6,6.1,5.2,5.8,5.6,5.2,7,6,5.6]
["KS200130","KS","2001-09-16",{"$f":"COUNTIF(Calculations!$E$56:$E$98,\"<=\"&DATE(2006,MONTH(C2133),DAY(C2133)))","v":30},null,5.8,5.0999999999999996,6,5.9,5.2,5.9,6.7,6.4,6.6]
["KS200131","KS","2001-09-23",{"$f":"COUNTIF(Calculations!$E$56:$E$98,\"<=\"&DATE(2006,MONTH(C2134),DAY(C2134)))","v":31},null,3.5,2.1,1.6,3.6,1.8,2.8,6,3.7,4.2]
["KS200132","KS","2001-09-30",{"$f":"COUNTIF(Calculations!$E$56:$E$98,\"<=\"&DATE(2006,MONTH(C2135),DAY(C2135)))","v":32},null,7,5.3,5.2,5.8,5.3,6.3,6.8,6.6,6.4]
["KS200133","KS","2001-10-07",{"$f":"COUNTIF(Calculations!$E$56:$E$98,\"<=\"&DATE(2006,MONTH(C2136),DAY(C2136)))","v":33},null,6.3,6.5,5.8,6.8,5.5,5.4,6.8,6.3,5.6]
["KS200134","KS","2001-10-14",{"$f":"COUNTIF(Calculations!$E$56:$E$98,\"<=\"&DATE(2006,MONTH(C2137),DAY(C2137)))","v":34},null,6.3,5.7,5,6.3,6,5.7,6.5,7,4.4000000000000004]
["KS200135","KS","2001-10-21",{"$f":"COUNTIF(Calculations!$E$56:$E$98,\"<=\"&DATE(2006,MONTH(C2138),DAY(C2138)))","v":35},null,6.4,4.5999999999999996,4.4000000000000004,6.8,5.6,4.4000000000000004,6.9,6.7,4.9000000000000004]
["KS200136","KS","2001-10-28",{"$f":"COUNTIF(Calculations!$E$56:$E$98,\"<=\"&DATE(2006,MONTH(C2139),DAY(C2139)))","v":36},null,7,6.4,5.8,7,6.5,6.4,6.8,7,6.6]
["KS200137","KS","2001-11-04",{"$f":"COUNTIF(Calculations!$E$56:$E$98,\"<=\"&DATE(2006,MONTH(C2140),DAY(C2140)))","v":37},null,7,6.7,6.9,7,7,6.9,6.8,7,5.9]
["KS200138","KS","2001-11-11",{"$f":"COUNTIF(Calculations!$E$56:$E$98,\"<=\"&DATE(2006,MONTH(C2141),DAY(C2141)))","v":38},null,6.8,6.7,7,6.8,6.9,6.8,6.5,6.9,6.4]
["KS200139","KS","2001-11-18",{"$f":"COUNTIF(Calculations!$E$56:$E$98,\"<=\"&DATE(2006,MONTH(C2142),DAY(C2142)))","v":39},null,6.8,6.9,7,6.9,6.8,6.5,6.7,6.9,6.4]
["KS200140","KS","2001-11-25",{"$f":"COUNTIF(Calculations!$E$56:$E$98,\"<=\"&DATE(2006,MONTH(C2143),DAY(C2143)))","v":40},null,5.4,5.9,5.5,6.2,6.1,6.6,6.4,7,6.6]
["KS200141","KS","2001-12-02",{"$f":"COUNTIF(Calculations!$E$56:$E$98,\"<=\"&DATE(2006,MONTH(C2144),DAY(C2144)))","v":41},null,4.3,5.5,5.6,5.3,6.6,6.4,6.4,6,6.6]
["KS20023","KS","2002-03-11",{"$f":"COUNTIF(Calculations!$E$56:$E$98,\"<=\"&DATE(2006,MONTH(C2145),DAY(C2145)))","v":3},null,2.4,3.9,3.3,4,4.4000000000000004,3.4,6.4,5.4,2.9]
["KS20024","KS","2002-03-18",{"$f":"COUNTIF(Calculations!$E$56:$E$98,\"<=\"&DATE(2006,MONTH(C2146),DAY(C2146)))","v":4},null,4.9000000000000004,4,5.8,5.4,6.4,5.8,6.6,6.7,5.9]
["KS20025","KS","2002-03-25",{"$f":"COUNTIF(Calculations!$E$56:$E$98,\"<=\"&DATE(2006,MONTH(C2147),DAY(C2147)))","v":5},null,5.5,4.9000000000000004,5.3,5.5,5.5,5.8,6.8,6.8,5.4]
["KS20026","KS","2002-04-01",{"$f":"COUNTIF(Calculations!$E$56:$E$98,\"<=\"&DATE(2006,MONTH(C2148),DAY(C2148)))","v":6},null,4.0999999999999996,4.5,5.4,4.8,6.6,6.3,7,6.9,6.8]
["KS20027","KS","2002-04-08",{"$f":"COUNTIF(Calculations!$E$56:$E$98,\"<=\"&DATE(2006,MONTH(C2149),DAY(C2149)))","v":7},null,6.3,5.9,6.8,5.8,6.8,6.6,7,6.9,6.9]
["KS20028","KS","2002-04-15",{"$f":"COUNTIF(Calculations!$E$56:$E$98,\"<=\"&DATE(2006,MONTH(C2150),DAY(C2150)))","v":8},null,6.1,4.9000000000000004,3.1,6.3,5.0999999999999996,4.3,5.2,5.4,3.7]
["KS20029","KS","2002-04-22",{"$f":"COUNTIF(Calculations!$E$56:$E$98,\"<=\"&DATE(2006,MONTH(C2151),DAY(C2151)))","v":9},null,6.8,5.0999999999999996,5.4,6.4,5,4.5999999999999996,6.4,5.4,5.6]
["KS200210","KS","2002-04-29",{"$f":"COUNTIF(Calculations!$E$56:$E$98,\"<=\"&DATE(2006,MONTH(C2152),DAY(C2152)))","v":10},null,6.6,4.4000000000000004,1.7,6.8,4.3,3,6.4,5,4.3]
["KS200211","KS","2002-05-06",{"$f":"COUNTIF(Calculations!$E$56:$E$98,\"<=\"&DATE(2006,MONTH(C2153),DAY(C2153)))","v":11},null,6.4,5.8,3.6,6.6,5.3,4.0999999999999996,6.4,6.5,3.9]
["KS200212","KS","2002-05-13",{"$f":"COUNTIF(Calculations!$E$56:$E$98,\"<=\"&DATE(2006,MONTH(C2154),DAY(C2154)))","v":12},null,6.9,5.9,2.6,6.8,4.7,2.2999999999999998,6.8,5,2]
["KS200213","KS","2002-05-20",{"$f":"COUNTIF(Calculations!$E$56:$E$98,\"<=\"&DATE(2006,MONTH(C2155),DAY(C2155)))","v":13},null,6.7,5.4,2.4,6.2,3.4,0.9,6.4,5.0999999999999996,0.6]
["KS200214","KS","2002-05-27",{"$f":"COUNTIF(Calculations!$E$56:$E$98,\"<=\"&DATE(2006,MONTH(C2156),DAY(C2156)))","v":14},null,6,4.3,4.0999999999999996,6.5,4.5999999999999996,3,5.8,5.2,1.2]
["KS200215","KS","2002-06-03",{"$f":"COUNTIF(Calculations!$E$56:$E$98,\"<=\"&DATE(2006,MONTH(C2157),DAY(C2157)))","v":15},null,6.8,4.8,4.0999999999999996,7,4.9000000000000004,3,7,6.3,3.2]
["KS200216","KS","2002-06-10",{"$f":"COUNTIF(Calculations!$E$56:$E$98,\"<=\"&DATE(2006,MONTH(C2158),DAY(C2158)))","v":16},null,6.6,6.7,6,6.4,5.9,4.3,6.4,5.2,4]
["KS200217","KS","2002-06-17",{"$f":"COUNTIF(Calculations!$E$56:$E$98,\"<=\"&DATE(2006,MONTH(C2159),DAY(C2159)))","v":17},null,6.1,5.4,5.2,5.8,4.0999999999999996,2.2999999999999998,5.4,4.0999999999999996,3.1]
["KS200218","KS","2002-06-24",{"$f":"COUNTIF(Calculations!$E$56:$E$98,\"<=\"&DATE(2006,MONTH(C2160),DAY(C2160)))","v":18},null,6.9,6.6,6.6,6.2,5,6.4,6,6.2,5.5]
["KS200219","KS","2002-07-01",{"$f":"COUNTIF(Calculations!$E$56:$E$98,\"<=\"&DATE(2006,MONTH(C2161),DAY(C2161)))","v":19},null,6.2,6.8,6.3,6.6,6.8,6,7,7,6.7]
["KS200220","KS","2002-07-08",{"$f":"COUNTIF(Calculations!$E$56:$E$98,\"<=\"&DATE(2006,MONTH(C2162),DAY(C2162)))","v":20},null,6.8,6.7,6.3,6.8,6.8,6.5,6.4,6.7,6.6]
["KS200221","KS","2002-07-15",{"$f":"COUNTIF(Calculations!$E$56:$E$98,\"<=\"&DATE(2006,MONTH(C2163),DAY(C2163)))","v":21},null,7,6.9,6.8,6.8,6.9,5.8,6.3,6,4.5999999999999996]
["KS200222","KS","2002-07-22",{"$f":"COUNTIF(Calculations!$E$56:$E$98,\"<=\"&DATE(2006,MONTH(C2164),DAY(C2164)))","v":22},null,7,6.8,6.9,7,7,6.7,7,7,6.4]
["KS200223","KS","2002-07-29",{"$f":"COUNTIF(Calculations!$E$56:$E$98,\"<=\"&DATE(2006,MONTH(C2165),DAY(C2165)))","v":23},null,7,6.6,6.7,6.6,6.7,6.8,6.8,6.7,6]
["KS200224","KS","2002-08-05",{"$f":"COUNTIF(Calculations!$E$56:$E$98,\"<=\"&DATE(2006,MONTH(C2166),DAY(C2166)))","v":24},null,7,6.5,6,7,6.6,6.1,6.5,6,6]
["KS200225","KS","2002-08-12",{"$f":"COUNTIF(Calculations!$E$56:$E$98,\"<=\"&DATE(2006,MONTH(C2167),DAY(C2167)))","v":25},null,6.8,6.1,7,7,5.9,6.8,6.5,6.9,6.9]
["KS200226","KS","2002-08-19",{"$f":"COUNTIF(Calculations!$E$56:$E$98,\"<=\"&DATE(2006,MONTH(C2168),DAY(C2168)))","v":26},null,6.5,5.3,4.4000000000000004,6.6,2.6,5.5,5.6,4.2,5.8]
["KS200227","KS","2002-08-26",{"$f":"COUNTIF(Calculations!$E$56:$E$98,\"<=\"&DATE(2006,MONTH(C2169),DAY(C2169)))","v":27},null,6.6,5.6,4.5,6,5.7,5.9,6.3,5.7,6]
["KS200228","KS","2002-09-02",{"$f":"COUNTIF(Calculations!$E$56:$E$98,\"<=\"&DATE(2006,MONTH(C2170),DAY(C2170)))","v":28},null,5.7,6.3,6.1,4.8,6,6.7,4.9000000000000004,5.7,6.8]
["KS200229","KS","2002-09-09",{"$f":"COUNTIF(Calculations!$E$56:$E$98,\"<=\"&DATE(2006,MONTH(C2171),DAY(C2171)))","v":29},null,6.6,6.8,6.9,7,6.7,6.7,6.9,7,6.9]
["KS200230","KS","2002-09-16",{"$f":"COUNTIF(Calculations!$E$56:$E$98,\"<=\"&DATE(2006,MONTH(C2172),DAY(C2172)))","v":30},null,6.1,5.0999999999999996,6.4,5,5.2,5.9,5.0999999999999996,5.7,6.7]
["KS200231","KS","2002-09-23",{"$f":"COUNTIF(Calculations!$E$56:$E$98,\"<=\"&DATE(2006,MONTH(C2173),DAY(C2173)))","v":31},null,6.6,5.9,4.9000000000000004,6,5.4,4.5999999999999996,6.4,5.3,4.5]
["KS200232","KS","2002-09-30",{"$f":"COUNTIF(Calculations!$E$56:$E$98,\"<=\"&DATE(2006,MONTH(C2174),DAY(C2174)))","v":32},null,7,6.5,6.4,7,6.9,6.8,7,6.8,6.5]
["KS200233","KS","2002-10-07",{"$f":"COUNTIF(Calculations!$E$56:$E$98,\"<=\"&DATE(2006,MONTH(C2175),DAY(C2175)))","v":33},null,5.5,3.5,3.3,4.4000000000000004,3.2,3.1,3.4,3.3,4.9000000000000004]
["KS200234","KS","2002-10-14",{"$f":"COUNTIF(Calculations!$E$56:$E$98,\"<=\"&DATE(2006,MONTH(C2176),DAY(C2176)))","v":34},null,6.1,5.6,5.0999999999999996,5.7,4.0999999999999996,5.4,5.3,4.0999999999999996,6]
["KS200235","KS","2002-10-21",{"$f":"COUNTIF(Calculations!$E$56:$E$98,\"<=\"&DATE(2006,MONTH(C2177),DAY(C2177)))","v":35},null,6.6,6.4,3.3,6.6,6.4,4.8,6.9,6.5,6.3]
["KS200236","KS","2002-10-28",{"$f":"COUNTIF(Calculations!$E$56:$E$98,\"<=\"&DATE(2006,MONTH(C2178),DAY(C2178)))","v":36},null,3.1,2.8,1.3,2,2.2999999999999998,1.6,3.3,2.8,3.3]
["KS200237","KS","2002-11-04",{"$f":"COUNTIF(Calculations!$E$56:$E$98,\"<=\"&DATE(2006,MONTH(C2179),DAY(C2179)))","v":37},null,1.6,2.1,0.8,1.7,0.8,0.6,0.5,0.9,1]
["KS200238","KS","2002-11-11",{"$f":"COUNTIF(Calculations!$E$56:$E$98,\"<=\"&DATE(2006,MONTH(C2180),DAY(C2180)))","v":38},null,5.3,4.9000000000000004,3.3,4.8,3.1,3.9,5,3.4,3]
["KS200239","KS","2002-11-18",{"$f":"COUNTIF(Calculations!$E$56:$E$98,\"<=\"&DATE(2006,MONTH(C2181),DAY(C2181)))","v":39},null,5.6,5.6,4.5999999999999996,6.1,4.4000000000000004,4.5,6.6,5.3,4.9000000000000004]
["KS200240","KS","2002-11-25",{"$f":"COUNTIF(Calculations!$E$56:$E$98,\"<=\"&DATE(2006,MONTH(C2182),DAY(C2182)))","v":40},null,6.4,6.7,5.9,6.5,6.4,6,6.9,6.8,6.4]
["KS200241","KS","2002-12-02",{"$f":"COUNTIF(Calculations!$E$56:$E$98,\"<=\"&DATE(2006,MONTH(C2183),DAY(C2183)))","v":41},null,6.5,6.7,6.1,6.8,6.4,6.4,7,7,6.9]
["KS20032","KS","2003-03-09",{"$f":"COUNTIF(Calculations!$E$56:$E$98,\"<=\"&DATE(2006,MONTH(C2184),DAY(C2184)))","v":2},null,3,4.3,1.2,2.2999999999999998,1.3,1.6,2.2999999999999998,2.2999999999999998,1.4]
["KS20033","KS","2003-03-16",{"$f":"COUNTIF(Calculations!$E$56:$E$98,\"<=\"&DATE(2006,MONTH(C2185),DAY(C2185)))","v":3},null,6.3,6.1,2,5.9,5.4,2.8,5.6,4.8,2.1]
["KS20034","KS","2003-03-23",{"$f":"COUNTIF(Calculations!$E$56:$E$98,\"<=\"&DATE(2006,MONTH(C2186),DAY(C2186)))","v":4},null,3.1,2.2999999999999998,2.9,2.4,1.5,2.2000000000000002,2.9,1.2,1.1000000000000001]
["KS20035","KS","2003-03-30",{"$f":"COUNTIF(Calculations!$E$56:$E$98,\"<=\"&DATE(2006,MONTH(C2187),DAY(C2187)))","v":5},null,5,4.9000000000000004,4.9000000000000004,4.8,4,4.0999999999999996,6,2.9,2.1]
["KS20036","KS","2003-04-06",{"$f":"COUNTIF(Calculations!$E$56:$E$98,\"<=\"&DATE(2006,MONTH(C2188),DAY(C2188)))","v":6},null,6.3,5.9,4.9000000000000004,6.3,5.7,5.8,7,6.2,5]
["KS20037","KS","2003-04-13",{"$f":"COUNTIF(Calculations!$E$56:$E$98,\"<=\"&DATE(2006,MONTH(C2189),DAY(C2189)))","v":7},null,5.3,5.9,5,4.5,6.6,6.7,6.8,6.7,5.8]
["KS20038","KS","2003-04-20",{"$f":"COUNTIF(Calculations!$E$56:$E$98,\"<=\"&DATE(2006,MONTH(C2190),DAY(C2190)))","v":8},null,4.5999999999999996,3.8,4.8,5.6,4.0999999999999996,4.8,6,4.3,4.9000000000000004]
["KS20039","KS","2003-04-27",{"$f":"COUNTIF(Calculations!$E$56:$E$98,\"<=\"&DATE(2006,MONTH(C2191),DAY(C2191)))","v":9},null,2.7,2.7,0.8,2.9,1.4,1.1000000000000001,5,1.7,2]
["KS200310","KS","2003-05-04",{"$f":"COUNTIF(Calculations!$E$56:$E$98,\"<=\"&DATE(2006,MONTH(C2192),DAY(C2192)))","v":10},null,5.4,4,2.4,4.5,3.8,2.1,6.4,4.4000000000000004,2.6]
["KS200311","KS","2003-05-11",{"$f":"COUNTIF(Calculations!$E$56:$E$98,\"<=\"&DATE(2006,MONTH(C2193),DAY(C2193)))","v":11},null,4.5999999999999996,3.6,2.2999999999999998,5.2,4.5999999999999996,2.6,6.5,6.3,3.5]
["KS200312","KS","2003-05-18",{"$f":"COUNTIF(Calculations!$E$56:$E$98,\"<=\"&DATE(2006,MONTH(C2194),DAY(C2194)))","v":12},null,4,4.5999999999999996,5,4.3,2.9,2.5,4.7,4.2,1.6]
[{"$f":"B2195&YEAR(C2195)&D2195","v":"KS200313"},"KS","2003-05-25",{"$f":"COUNTIF(Calculations!$E$56:$E$98,\"<=\"&DATE(2006,MONTH(C2195),DAY(C2195)))","v":13},null,5.8,4.0999999999999996,4.7,5.5,3,3.8,4.9000000000000004,4.0999999999999996,2.8]
["KS200314","KS","2003-06-01",{"$f":"COUNTIF(Calculations!$E$56:$E$98,\"<=\"&DATE(2006,MONTH(C2196),DAY(C2196)))","v":14},null,6.7,5.2,6.4,6.9,5.4,6,6.3,5.9,4.3]
["KS200315","KS","2003-06-08",{"$f":"COUNTIF(Calculations!$E$56:$E$98,\"<=\"&DATE(2006,MONTH(C2197),DAY(C2197)))","v":15},null,5.7,3.1,2.8,3,2,1.6,1.2,2.8,2.2999999999999998]
["KS200316","KS","2003-06-15",{"$f":"COUNTIF(Calculations!$E$56:$E$98,\"<=\"&DATE(2006,MONTH(C2198),DAY(C2198)))","v":16},null,4.4000000000000004,4.3,4.7,4.3,4.4000000000000004,5.0999999999999996,4.5999999999999996,5.8,3.7]
["KS200317","KS","2003-06-22",{"$f":"COUNTIF(Calculations!$E$56:$E$98,\"<=\"&DATE(2006,MONTH(C2199),DAY(C2199)))","v":17},null,5.0999999999999996,5.8,5.9,3.4,5.8,6.3,3.8,5.8,6.4]
["KS200318","KS","2003-06-29",{"$f":"COUNTIF(Calculations!$E$56:$E$98,\"<=\"&DATE(2006,MONTH(C2200),DAY(C2200)))","v":18},null,5.6,5,4.5999999999999996,6.3,6,4.9000000000000004,6.6,6.2,4.9000000000000004]
["KS200319","KS","2003-07-06",{"$f":"COUNTIF(Calculations!$E$56:$E$98,\"<=\"&DATE(2006,MONTH(C2201),DAY(C2201)))","v":19},null,5.7,6.7,6.5,6.3,6.4,6.8,6.7,7,6.9]
["KS200320","KS","2003-07-13",{"$f":"COUNTIF(Calculations!$E$56:$E$98,\"<=\"&DATE(2006,MONTH(C2202),DAY(C2202)))","v":20},null,7,6.9,6.7,6.8,6.9,6.3,6.8,6.8,5.9]
["KS200321","KS","2003-07-20",{"$f":"COUNTIF(Calculations!$E$56:$E$98,\"<=\"&DATE(2006,MONTH(C2203),DAY(C2203)))","v":21},null,7,6.8,6.8,6.9,6.9,6.9,7,7,7]
["KS200322","KS","2003-07-27",{"$f":"COUNTIF(Calculations!$E$56:$E$98,\"<=\"&DATE(2006,MONTH(C2204),DAY(C2204)))","v":22},null,7,6.9,7,7,6.8,6.8,7,7,6.4]
["KS200323","KS","2003-08-03",{"$f":"COUNTIF(Calculations!$E$56:$E$98,\"<=\"&DATE(2006,MONTH(C2205),DAY(C2205)))","v":23},null,6.8,6.8,6.7,6.8,6.1,7,6.4,6.8,7]
["KS200324","KS","2003-08-10",{"$f":"COUNTIF(Calculations!$E$56:$E$98,\"<=\"&DATE(2006,MONTH(C2206),DAY(C2206)))","v":24},null,6.9,6.9,6.8,6.8,6.9,6.7,6.7,7,6.9]
["KS200325","KS","2003-08-17",{"$f":"COUNTIF(Calculations!$E$56:$E$98,\"<=\"&DATE(2006,MONTH(C2207),DAY(C2207)))","v":25},null,7,6.9,6.9,6.8,7,6.8,6.5,7,7]
["KS200326","KS","2003-08-24",{"$f":"COUNTIF(Calculations!$E$56:$E$98,\"<=\"&DATE(2006,MONTH(C2208),DAY(C2208)))","v":26},null,7,6.1,6.7,6.2,5.8,6.9,6.7,6.9,7]
["KS200327","KS","2003-08-31",{"$f":"COUNTIF(Calculations!$E$56:$E$98,\"<=\"&DATE(2006,MONTH(C2209),DAY(C2209)))","v":27},null,6.7,5.7,5.7,5.6,4.5,4.3,6.1,5.0999999999999996,5.3]
["KS200328","KS","2003-09-07",{"$f":"COUNTIF(Calculations!$E$56:$E$98,\"<=\"&DATE(2006,MONTH(C2210),DAY(C2210)))","v":28},null,6.8,5.6,4,4.7,4.5999999999999996,3,4.4000000000000004,4,2.2999999999999998]
["KS200329","KS","2003-09-14",{"$f":"COUNTIF(Calculations!$E$56:$E$98,\"<=\"&DATE(2006,MONTH(C2211),DAY(C2211)))","v":29},null,5.8,3.8,4.3,5.8,3.3,3,2.5,3.9,4.7]
["KS200330","KS","2003-09-21",{"$f":"COUNTIF(Calculations!$E$56:$E$98,\"<=\"&DATE(2006,MONTH(C2212),DAY(C2212)))","v":30},null,6.7,4.5,4.2,6.8,3.9,4.8,5.9,5,4.3]
["KS200331","KS","2003-09-28",{"$f":"COUNTIF(Calculations!$E$56:$E$98,\"<=\"&DATE(2006,MONTH(C2213),DAY(C2213)))","v":31},null,6.9,6.1,6.3,7,5.6,5.4,7,5,5.7]
["KS200332","KS","2003-10-05",{"$f":"COUNTIF(Calculations!$E$56:$E$98,\"<=\"&DATE(2006,MONTH(C2214),DAY(C2214)))","v":32},null,6.6,6.1,5.2,6.4,4.8,4.8,6,2.7,4.0999999999999996]
["KS200333","KS","2003-10-12",{"$f":"COUNTIF(Calculations!$E$56:$E$98,\"<=\"&DATE(2006,MONTH(C2215),DAY(C2215)))","v":33},null,7,6.1,5.4,7,4.4000000000000004,4.5999999999999996,6.1,2.8,3.8]
["KS200334","KS","2003-10-19",{"$f":"COUNTIF(Calculations!$E$56:$E$98,\"<=\"&DATE(2006,MONTH(C2216),DAY(C2216)))","v":34},null,7,6.6,5,6.9,5.2,5.2,7,6.1,4.2]
["KS200335","KS","2003-10-26",{"$f":"COUNTIF(Calculations!$E$56:$E$98,\"<=\"&DATE(2006,MONTH(C2217),DAY(C2217)))","v":35},null,7,6.6,6.3,7,6.6,6.4,6.9,6.8,6.3]
["KS200336","KS","2003-11-02",{"$f":"COUNTIF(Calculations!$E$56:$E$98,\"<=\"&DATE(2006,MONTH(C2218),DAY(C2218)))","v":36},null,6.7,6.4,6.1,6.9,6.3,6.5,6.9,7,6.5]
["KS200337","KS","2003-11-09",{"$f":"COUNTIF(Calculations!$E$56:$E$98,\"<=\"&DATE(2006,MONTH(C2219),DAY(C2219)))","v":37},null,5.5,3.4,3,6.1,5,6.1,6.8,6.8,6.5]
["KS200338","KS","2003-11-16",{"$f":"COUNTIF(Calculations!$E$56:$E$98,\"<=\"&DATE(2006,MONTH(C2220),DAY(C2220)))","v":38},null,6.2,6,5.6,6.2,6.6,6,5.8,6.9,6.6]
["KS200339","KS","2003-11-23",{"$f":"COUNTIF(Calculations!$E$56:$E$98,\"<=\"&DATE(2006,MONTH(C2221),DAY(C2221)))","v":39},null,6.5,6,5.7,6.3,6.8,5.6,0.5,6.8,4.8]
["KS200340","KS","2003-11-30",{"$f":"COUNTIF(Calculations!$E$56:$E$98,\"<=\"&DATE(2006,MONTH(C2222),DAY(C2222)))","v":40},null,6.8,6.2,6.2,7,6.2,6.2,7,7,6]
["KS20042","KS","2004-03-07",{"$f":"COUNTIF(Calculations!$E$56:$E$98,\"<=\"&DATE(2006,MONTH(C2223),DAY(C2223)))","v":2},null,1.1000000000000001,0.7,0.6,1.6,0.6,0.7,1,1.1000000000000001,1]
["KS20043","KS","2004-03-14",{"$f":"COUNTIF(Calculations!$E$56:$E$98,\"<=\"&DATE(2006,MONTH(C2224),DAY(C2224)))","v":3},null,4.0999999999999996,2.8,1.6,4.4000000000000004,4,0.9,4.3,3,1.2]
["KS20044","KS","2004-03-21",{"$f":"COUNTIF(Calculations!$E$56:$E$98,\"<=\"&DATE(2006,MONTH(C2225),DAY(C2225)))","v":4},null,5.8,5.7,4.2,5.5,5.8,3,6.7,5.3,3.8]
["KS20045","KS","2004-03-28",{"$f":"COUNTIF(Calculations!$E$56:$E$98,\"<=\"&DATE(2006,MONTH(C2226),DAY(C2226)))","v":5},null,6.1,5.7,4.9000000000000004,6.4,5.7,4.3,7,5.8,5.8]
["KS20046","KS","2004-04-04",{"$f":"COUNTIF(Calculations!$E$56:$E$98,\"<=\"&DATE(2006,MONTH(C2227),DAY(C2227)))","v":6},null,6.5,5.3,4.5,6.7,5.3,2.8,6.8,5.8,4]
["KS20047","KS","2004-04-11",{"$f":"COUNTIF(Calculations!$E$56:$E$98,\"<=\"&DATE(2006,MONTH(C2228),DAY(C2228)))","v":7},null,4.5999999999999996,5.9,5.7,4.4000000000000004,4.5999999999999996,4.4000000000000004,5.9,3.9,5.6]
["KS20048","KS","2004-04-18",{"$f":"COUNTIF(Calculations!$E$56:$E$98,\"<=\"&DATE(2006,MONTH(C2229),DAY(C2229)))","v":8},null,4.8,5.8,6.6,4.0999999999999996,6.2,6.1,5.5,5.6,5.6]
["KS20049","KS","2004-04-25",{"$f":"COUNTIF(Calculations!$E$56:$E$98,\"<=\"&DATE(2006,MONTH(C2230),DAY(C2230)))","v":9},null,3.1,5.3,4.8,3.8,3.9,3.4,3.4,3.7,1.8]
["KS200410","KS","2004-05-02",{"$f":"COUNTIF(Calculations!$E$56:$E$98,\"<=\"&DATE(2006,MONTH(C2231),DAY(C2231)))","v":10},null,3.4,5.3,4.7,3.1,3.6,3.2,4.3,3.8,1.2]
["KS200411","KS","2004-05-09",{"$f":"COUNTIF(Calculations!$E$56:$E$98,\"<=\"&DATE(2006,MONTH(C2232),DAY(C2232)))","v":11},null,6.1,6.1,5.8,6.9,5.8,5.9,7,6.4,5.3]
["KS200412","KS","2004-05-16",{"$f":"COUNTIF(Calculations!$E$56:$E$98,\"<=\"&DATE(2006,MONTH(C2233),DAY(C2233)))","v":12},null,6,2.7,3.2,6.6,3.4,3.5,6.7,4.7,2.9]
["KS200413","KS","2004-05-23",{"$f":"COUNTIF(Calculations!$E$56:$E$98,\"<=\"&DATE(2006,MONTH(C2234),DAY(C2234)))","v":13},null,6.5,5,1.8,6.4,4.7,4.2,6.8,6,4.0999999999999996]
["KS200414","KS","2004-05-30",{"$f":"COUNTIF(Calculations!$E$56:$E$98,\"<=\"&DATE(2006,MONTH(C2235),DAY(C2235)))","v":14},null,6.6,5.8,2.7,6.8,6.3,4.0999999999999996,7,6.8,4.7]
["KS200415","KS","2004-06-06",{"$f":"COUNTIF(Calculations!$E$56:$E$98,\"<=\"&DATE(2006,MONTH(C2236),DAY(C2236)))","v":15},null,5.7,7,5.7,6.2,6.1,5.9,6.6,5.0999999999999996,6.5]
["KS200416","KS","2004-06-13",{"$f":"COUNTIF(Calculations!$E$56:$E$98,\"<=\"&DATE(2006,MONTH(C2237),DAY(C2237)))","v":16},null,6.6,6,4.4000000000000004,7,6.3,2.7,6.9,5.3,3.5]
["KS200417","KS","2004-06-20",{"$f":"COUNTIF(Calculations!$E$56:$E$98,\"<=\"&DATE(2006,MONTH(C2238),DAY(C2238)))","v":17},null,2.8,3.1,1.5,1.8,2.4,1,3.3,3.1,1.8]
["KS200418","KS","2004-06-27",{"$f":"COUNTIF(Calculations!$E$56:$E$98,\"<=\"&DATE(2006,MONTH(C2239),DAY(C2239)))","v":18},null,4.9000000000000004,4.9000000000000004,5.5,4.5999999999999996,3.7,4.5999999999999996,2.9,4,3.8]
["KS200419","KS","2004-07-04",{"$f":"COUNTIF(Calculations!$E$56:$E$98,\"<=\"&DATE(2006,MONTH(C2240),DAY(C2240)))","v":19},null,2.1,3.2,4.5999999999999996,3.5,3.6,1.9,2.2999999999999998,3,1.9]
["KS200420","KS","2004-07-11",{"$f":"COUNTIF(Calculations!$E$56:$E$98,\"<=\"&DATE(2006,MONTH(C2241),DAY(C2241)))","v":20},null,4.9000000000000004,1.7,4,6.1,2.8,1.9,4.5,4.4000000000000004,1.5]
["KS200421","KS","2004-07-18",{"$f":"COUNTIF(Calculations!$E$56:$E$98,\"<=\"&DATE(2006,MONTH(C2242),DAY(C2242)))","v":21},null,4.9000000000000004,5.6,5.0999999999999996,5.2,5.6,5.2,7,6.3,6.1]
["KS200422","KS","2004-07-25",{"$f":"COUNTIF(Calculations!$E$56:$E$98,\"<=\"&DATE(2006,MONTH(C2243),DAY(C2243)))","v":22},null,3.8,4.5999999999999996,4.4000000000000004,4,3.8,4.5999999999999996,4.8,4.5999999999999996,5.8]
["KS200423","KS","2004-08-01",{"$f":"COUNTIF(Calculations!$E$56:$E$98,\"<=\"&DATE(2006,MONTH(C2244),DAY(C2244)))","v":23},null,5.0999999999999996,4.5,4.9000000000000004,5.6,3.6,5,5.5,4,3.7]
["KS200424","KS","2004-08-08",{"$f":"COUNTIF(Calculations!$E$56:$E$98,\"<=\"&DATE(2006,MONTH(C2245),DAY(C2245)))","v":24},null,6,6.6,6.5,5.6,6.5,6.1,5.4,6.4,6.3]
["KS200425","KS","2004-08-15",{"$f":"COUNTIF(Calculations!$E$56:$E$98,\"<=\"&DATE(2006,MONTH(C2246),DAY(C2246)))","v":25},null,5.2,5.9,6.6,4.2,5.2,5.9,3.1,5.4,6.4]
["KS200426","KS","2004-08-22",{"$f":"COUNTIF(Calculations!$E$56:$E$98,\"<=\"&DATE(2006,MONTH(C2247),DAY(C2247)))","v":26},null,5.9,6.2,6.4,5.2,5.2,5.9,5.0999999999999996,3.7,5.4]
["KS200427","KS","2004-08-29",{"$f":"COUNTIF(Calculations!$E$56:$E$98,\"<=\"&DATE(2006,MONTH(C2248),DAY(C2248)))","v":27},null,6.4,6.5,2,6.1,6.5,3.8,6.8,6.1,6.4]
["KS200428","KS","2004-09-05",{"$f":"COUNTIF(Calculations!$E$56:$E$98,\"<=\"&DATE(2006,MONTH(C2249),DAY(C2249)))","v":28},null,6.6,6.8,4.2,6.6,6.1,6.5,6.6,6.1,6.3]
["KS200429","KS","2004-09-12",{"$f":"COUNTIF(Calculations!$E$56:$E$98,\"<=\"&DATE(2006,MONTH(C2250),DAY(C2250)))","v":29},null,6.4,6.9,5.6,7,6.7,5.8,7,7,6.3]
["KS200430","KS","2004-09-19",{"$f":"COUNTIF(Calculations!$E$56:$E$98,\"<=\"&DATE(2006,MONTH(C2251),DAY(C2251)))","v":30},null,5.2,6.2,5.2,6,6.4,6.1,7,7,6.4]
["KS200431","KS","2004-09-26",{"$f":"COUNTIF(Calculations!$E$56:$E$98,\"<=\"&DATE(2006,MONTH(C2252),DAY(C2252)))","v":31},null,3,4.3,5.9,2.6,4.2,6.6,3.1,4.9000000000000004,6.8]
["KS200432","KS","2004-10-03",{"$f":"COUNTIF(Calculations!$E$56:$E$98,\"<=\"&DATE(2006,MONTH(C2253),DAY(C2253)))","v":32},null,3.6,6,6.2,3.6,5.9,6.4,3.9,6.8,6.8]
["KS200433","KS","2004-10-10",{"$f":"COUNTIF(Calculations!$E$56:$E$98,\"<=\"&DATE(2006,MONTH(C2254),DAY(C2254)))","v":33},null,4,4.2,5.4,3.8,3.6,3.9,4.3,3.6,4.7]
["KS200434","KS","2004-10-17",{"$f":"COUNTIF(Calculations!$E$56:$E$98,\"<=\"&DATE(2006,MONTH(C2255),DAY(C2255)))","v":34},null,3.8,4.3,5.4,2.9,3.3,4.3,2.7,3.2,3]
["KS200435","KS","2004-10-24",{"$f":"COUNTIF(Calculations!$E$56:$E$98,\"<=\"&DATE(2006,MONTH(C2256),DAY(C2256)))","v":35},null,4.9000000000000004,4.7,4.5,4.3,5.4,3.9,5.4,4.5999999999999996,4.7]
["KS200436","KS","2004-10-31",{"$f":"COUNTIF(Calculations!$E$56:$E$98,\"<=\"&DATE(2006,MONTH(C2257),DAY(C2257)))","v":36},null,5.5,4.8,1.9,5.8,4.7,1.9,6.9,3.4,1.8]
["KS200437","KS","2004-11-07",{"$f":"COUNTIF(Calculations!$E$56:$E$98,\"<=\"&DATE(2006,MONTH(C2258),DAY(C2258)))","v":37},null,6.4,6.1,2.2000000000000002,6,6.1,2.2000000000000002,5.4,5.3,4]
[{"$f":"B2259&YEAR(C2259)&D2259","v":"KS200438"},"KS","2004-11-14",{"$f":"COUNTIF(Calculations!$E$56:$E$98,\"<=\"&DATE(2006,MONTH(C2259),DAY(C2259)))","v":38},null,5,5.9,4.5,4.7,4.5999999999999996,3.3,3.8,3.3,2.2000000000000002]
["KS200439","KS","2004-11-21",{"$f":"COUNTIF(Calculations!$E$56:$E$98,\"<=\"&DATE(2006,MONTH(C2260),DAY(C2260)))","v":39},null,3.9,3.9,2.9,2.1,2.1,1.3,0.7,0.8,1.2]
["KS200440","KS","2004-11-28",{"$f":"COUNTIF(Calculations!$E$56:$E$98,\"<=\"&DATE(2006,MONTH(C2261),DAY(C2261)))","v":40},null,3.3,3.8,3.2,2.4,1.8,1.3,1.6,0.5,1]
["KS20053","KS","2005-03-13",{"$f":"COUNTIF(Calculations!$E$56:$E$98,\"<=\"&DATE(2006,MONTH(C2262),DAY(C2262)))","v":3},null,4.5999999999999996,5.8,6.4,4.8,6.2,4.2,6.8,6.3,4]
["KS20054","KS","2005-03-20",{"$f":"COUNTIF(Calculations!$E$56:$E$98,\"<=\"&DATE(2006,MONTH(C2263),DAY(C2263)))","v":4},null,6.4,6.5,6.4,7,6.7,6.6,6.8,6.6,6.1]
["KS20055","KS","2005-03-27",{"$f":"COUNTIF(Calculations!$E$56:$E$98,\"<=\"&DATE(2006,MONTH(C2264),DAY(C2264)))","v":5},null,1.6,1.9,2.2000000000000002,0.6,1.1000000000000001,1.3,3.3,2.6,2.1]
["KS20056","KS","2005-04-03",{"$f":"COUNTIF(Calculations!$E$56:$E$98,\"<=\"&DATE(2006,MONTH(C2265),DAY(C2265)))","v":6},null,4.8,4.4000000000000004,5,5.4,3.6,4.5,3.7,5.2,4.4000000000000004]
["KS20057","KS","2005-04-10",{"$f":"COUNTIF(Calculations!$E$56:$E$98,\"<=\"&DATE(2006,MONTH(C2266),DAY(C2266)))","v":7},null,3.6,2.2000000000000002,3.4,4,1.8,3.5,4.5999999999999996,4.5999999999999996,4.3]
["KS20058","KS","2005-04-17",{"$f":"COUNTIF(Calculations!$E$56:$E$98,\"<=\"&DATE(2006,MONTH(C2267),DAY(C2267)))","v":8},null,4.5,2.6,3.6,4.8,2.9,5.6,6.2,5.2,5.9]
["KS20059","KS","2005-04-24",{"$f":"COUNTIF(Calculations!$E$56:$E$98,\"<=\"&DATE(2006,MONTH(C2268),DAY(C2268)))","v":9},null,5,4.7,4.8,5.7,5.5,6.4,6.4,5.4,6.4]
["KS200510","KS","2005-05-01",{"$f":"COUNTIF(Calculations!$E$56:$E$98,\"<=\"&DATE(2006,MONTH(C2269),DAY(C2269)))","v":10},null,3.6,4.4000000000000004,4.3,4.7,4.4000000000000004,4.9000000000000004,4.2,3.9,3.8]
["KS200511","KS","2005-05-08",{"$f":"COUNTIF(Calculations!$E$56:$E$98,\"<=\"&DATE(2006,MONTH(C2270),DAY(C2270)))","v":11},null,5.8,6.1,6.4,6.6,6.7,6.2,5.7,6.6,6.6]
["KS200512","KS","2005-05-15",{"$f":"COUNTIF(Calculations!$E$56:$E$98,\"<=\"&DATE(2006,MONTH(C2271),DAY(C2271)))","v":12},null,6.5,5.7,3.4,6.4,5.6,4.0999999999999996,6.5,4.4000000000000004,4.5999999999999996]
["KS200513","KS","2005-05-22",{"$f":"COUNTIF(Calculations!$E$56:$E$98,\"<=\"&DATE(2006,MONTH(C2272),DAY(C2272)))","v":13},null,6.4,6.8,4.5999999999999996,7,5.9,4,6.7,6.4,4.8]
["KS200514","KS","2005-05-29",{"$f":"COUNTIF(Calculations!$E$56:$E$98,\"<=\"&DATE(2006,MONTH(C2273),DAY(C2273)))","v":14},null,3.9,6.4,5.8,2.4,5,5.3,3,4.7,2.8]
["KS200515","KS","2005-06-05",{"$f":"COUNTIF(Calculations!$E$56:$E$98,\"<=\"&DATE(2006,MONTH(C2274),DAY(C2274)))","v":15},null,3,3,3.3,3.2,2.9,3.2,2.6,4.5,3]
["KS200516","KS","2005-06-12",{"$f":"COUNTIF(Calculations!$E$56:$E$98,\"<=\"&DATE(2006,MONTH(C2275),DAY(C2275)))","v":16},null,3,2.2999999999999998,3,3.9,2.8,1,3.5,3.4,3]
["KS200517","KS","2005-06-19",{"$f":"COUNTIF(Calculations!$E$56:$E$98,\"<=\"&DATE(2006,MONTH(C2276),DAY(C2276)))","v":17},null,5.3,4.9000000000000004,4.3,4.4000000000000004,3.5,2.7,3.8,2,2]
["KS200518","KS","2005-06-26",{"$f":"COUNTIF(Calculations!$E$56:$E$98,\"<=\"&DATE(2006,MONTH(C2277),DAY(C2277)))","v":18},null,6,6.6,6.8,5.8,6.6,6.7,6.3,6.3,6.6]
["KS200519","KS","2005-07-03",{"$f":"COUNTIF(Calculations!$E$56:$E$98,\"<=\"&DATE(2006,MONTH(C2278),DAY(C2278)))","v":19},null,5.8,5.9,4.5999999999999996,6.4,6.3,5.3,6.2,6.7,5.9]
["KS200520","KS","2005-07-10",{"$f":"COUNTIF(Calculations!$E$56:$E$98,\"<=\"&DATE(2006,MONTH(C2279),DAY(C2279)))","v":20},null,5,6.4,6,5,6.3,5.4,5.3,3.9,5.7]
["KS200521","KS","2005-07-17",{"$f":"COUNTIF(Calculations!$E$56:$E$98,\"<=\"&DATE(2006,MONTH(C2280),DAY(C2280)))","v":21},null,6.5,6.4,6.9,7,6.3,6.6,6.3,6.7,6.4]
["KS200522","KS","2005-07-24",{"$f":"COUNTIF(Calculations!$E$56:$E$98,\"<=\"&DATE(2006,MONTH(C2281),DAY(C2281)))","v":22},null,6.7,6.7,6.3,7,6.3,5,7,6.3,5.9]
["KS200523","KS","2005-07-31",{"$f":"COUNTIF(Calculations!$E$56:$E$98,\"<=\"&DATE(2006,MONTH(C2282),DAY(C2282)))","v":23},null,5.5,4.5,5.5,5.9,6.1,6,7,7,6.6]
["KS200524","KS","2005-08-07",{"$f":"COUNTIF(Calculations!$E$56:$E$98,\"<=\"&DATE(2006,MONTH(C2283),DAY(C2283)))","v":24},null,6.7,6.6,6.7,6.7,6.5,6.6,7,6.8,6.9]
["KS200525","KS","2005-08-14",{"$f":"COUNTIF(Calculations!$E$56:$E$98,\"<=\"&DATE(2006,MONTH(C2284),DAY(C2284)))","v":25},null,5.4,4.8,5.9,6,5.6,5.6,5.4,6.2,6.6]
["KS200526","KS","2005-08-21",{"$f":"COUNTIF(Calculations!$E$56:$E$98,\"<=\"&DATE(2006,MONTH(C2285),DAY(C2285)))","v":26},null,5,4.4000000000000004,3.4,5,4.3,3.8,5.0999999999999996,4.2,4.3]
["KS200527","KS","2005-08-28",{"$f":"COUNTIF(Calculations!$E$56:$E$98,\"<=\"&DATE(2006,MONTH(C2286),DAY(C2286)))","v":27},null,3.1,1.7,0.8,2.8,1.1000000000000001,0.9,5.5,1.6,2.2999999999999998]
["KS200528","KS","2005-09-04",{"$f":"COUNTIF(Calculations!$E$56:$E$98,\"<=\"&DATE(2006,MONTH(C2287),DAY(C2287)))","v":28},null,4.8,5.3,3.8,6.5,4.4000000000000004,2.8,6.4,4.5999999999999996,5.8]
["KS200529","KS","2005-09-11",{"$f":"COUNTIF(Calculations!$E$56:$E$98,\"<=\"&DATE(2006,MONTH(C2288),DAY(C2288)))","v":29},null,5.8,5,5.6,5.6,5.8,6.3,5,6.9,6.9]
["KS200530","KS","2005-09-18",{"$f":"COUNTIF(Calculations!$E$56:$E$98,\"<=\"&DATE(2006,MONTH(C2289),DAY(C2289)))","v":30},null,7,6.1,4.3,6,5.7,3.8,6.3,5,4.4000000000000004]
["KS200531","KS","2005-09-25",{"$f":"COUNTIF(Calculations!$E$56:$E$98,\"<=\"&DATE(2006,MONTH(C2290),DAY(C2290)))","v":31},null,6.4,6.6,5.2,7,6.9,4.5999999999999996,7,6.9,6.9]
["KS200532","KS","2005-10-02",{"$f":"COUNTIF(Calculations!$E$56:$E$98,\"<=\"&DATE(2006,MONTH(C2291),DAY(C2291)))","v":32},null,6.7,6.6,4.4000000000000004,7,6.9,5.3,7,6.4,6.5]
["KS200533","KS","2005-10-09",{"$f":"COUNTIF(Calculations!$E$56:$E$98,\"<=\"&DATE(2006,MONTH(C2292),DAY(C2292)))","v":33},null,6.4,6.9,4.4000000000000004,6.7,6.9,5.8,6.9,6.6,5.6]
["KS200534","KS","2005-10-16",{"$f":"COUNTIF(Calculations!$E$56:$E$98,\"<=\"&DATE(2006,MONTH(C2293),DAY(C2293)))","v":34},null,1,4.8,5.0999999999999996,1,5,6.7,2.9,5.3,6.6]
["KS200535","KS","2005-10-23",{"$f":"COUNTIF(Calculations!$E$56:$E$98,\"<=\"&DATE(2006,MONTH(C2294),DAY(C2294)))","v":35},null,3.7,4,3.8,4.4000000000000004,3.7,3.9,5.3,5.2,5.7]
["KS200536","KS","2005-10-30",{"$f":"COUNTIF(Calculations!$E$56:$E$98,\"<=\"&DATE(2006,MONTH(C2295),DAY(C2295)))","v":36},null,6.4,5.0999999999999996,5.4,6.3,5.4,5.9,6.9,6,6.8]
["KS200537","KS","2005-11-06",{"$f":"COUNTIF(Calculations!$E$56:$E$98,\"<=\"&DATE(2006,MONTH(C2296),DAY(C2296)))","v":37},null,6.6,6.5,6.5,4.7,6.9,6.5,5.9,6.1,5.3]
["KS200538","KS","2005-11-13",{"$f":"COUNTIF(Calculations!$E$56:$E$98,\"<=\"&DATE(2006,MONTH(C2297),DAY(C2297)))","v":38},null,6.5,6.8,6.7,7,7,6.6,7,6.8,6.9]
["KS200539","KS","2005-11-20",{"$f":"COUNTIF(Calculations!$E$56:$E$98,\"<=\"&DATE(2006,MONTH(C2298),DAY(C2298)))","v":39},null,6.7,5.3,4.9000000000000004,6.6,6.1,5.7,6.7,6.6,7]
["KS200540","KS","2005-11-27",{"$f":"COUNTIF(Calculations!$E$56:$E$98,\"<=\"&DATE(2006,MONTH(C2299),DAY(C2299)))","v":40},null,6.5,5.7,6.3,7,6.1,5.7,6.7,6.5,6.9]
["KS20063","KS","2006-03-12",{"$f":"COUNTIF(Calculations!$E$56:$E$98,\"<=\"&DATE(2006,MONTH(C2300),DAY(C2300)))","v":3},null,7,6.7,4.7,7,7,3.7,6.8,6.1,6]
["KS20064","KS","2006-03-19",{"$f":"COUNTIF(Calculations!$E$56:$E$98,\"<=\"&DATE(2006,MONTH(C2301),DAY(C2301)))","v":4},null,5.4,4.8,4.9000000000000004,6.6,6.3,5.0999999999999996,6.9,6.3,5.9]
["KS20065","KS","2006-03-26",{"$f":"COUNTIF(Calculations!$E$56:$E$98,\"<=\"&DATE(2006,MONTH(C2302),DAY(C2302)))","v":5},null,0,1,1.3,0,0.4,1.8,0.5,1.9,1.9]
["KS20066","KS","2006-04-02",{"$f":"COUNTIF(Calculations!$E$56:$E$98,\"<=\"&DATE(2006,MONTH(C2303),DAY(C2303)))","v":6},null,3.3,2.9,2.5,2.8,2.9,3.5,4.9000000000000004,5.3,4.8]
["KS20067","KS","2006-04-09",{"$f":"COUNTIF(Calculations!$E$56:$E$98,\"<=\"&DATE(2006,MONTH(C2304),DAY(C2304)))","v":7},null,3.9,2.8,3.3,4,3.7,5,6.3,5.2,6]
["KS20068","KS","2006-04-16",{"$f":"COUNTIF(Calculations!$E$56:$E$98,\"<=\"&DATE(2006,MONTH(C2305),DAY(C2305)))","v":8},null,6.6,5.5,5.8,7,6.5,6.5,6.8,6.7,7]
["KS20069","KS","2006-04-23",{"$f":"COUNTIF(Calculations!$E$56:$E$98,\"<=\"&DATE(2006,MONTH(C2306),DAY(C2306)))","v":9},null,6.6,6.2,6.6,7,7,6.7,6.9,6.7,6.9]
["KS200610","KS","2006-04-30",{"$f":"COUNTIF(Calculations!$E$56:$E$98,\"<=\"&DATE(2006,MONTH(C2307),DAY(C2307)))","v":10},null,6.3,4.5999999999999996,3.6,4.3,3.8,2.8,5.3,4.5,2.6]
["KS200611","KS","2006-05-07",{"$f":"COUNTIF(Calculations!$E$56:$E$98,\"<=\"&DATE(2006,MONTH(C2308),DAY(C2308)))","v":11},null,5.3,2.6,0.6,4.3,1.7,0.9,5,2.5,1.1000000000000001]
["KS200612","KS","2006-05-14",{"$f":"COUNTIF(Calculations!$E$56:$E$98,\"<=\"&DATE(2006,MONTH(C2309),DAY(C2309)))","v":12},null,5.9,5.4,2.4,5.7,3.5,1.7,6,3.3,1.1000000000000001]
["KS200613","KS","2006-05-21",{"$f":"COUNTIF(Calculations!$E$56:$E$98,\"<=\"&DATE(2006,MONTH(C2310),DAY(C2310)))","v":13},null,6.8,6.8,5.7,6.8,6.8,5.8,7,6.9,5.8]
["KS200614","KS","2006-05-28",{"$f":"COUNTIF(Calculations!$E$56:$E$98,\"<=\"&DATE(2006,MONTH(C2311),DAY(C2311)))","v":14},null,6,6,6.6,7,6.6,6.5,6,5.8,6.7]
["KS200615","KS","2006-06-04",{"$f":"COUNTIF(Calculations!$E$56:$E$98,\"<=\"&DATE(2006,MONTH(C2312),DAY(C2312)))","v":15},null,4.7,4.9000000000000004,3.9,3.4,4.5999999999999996,4.5,5.6,4.3,6]
["KS200616","KS","2006-06-11",{"$f":"COUNTIF(Calculations!$E$56:$E$98,\"<=\"&DATE(2006,MONTH(C2313),DAY(C2313)))","v":16},null,6.7,6.1,6.1,6.5,6.5,6.6,7,5.9,5.3]
["KS200617","KS","2006-06-18",{"$f":"COUNTIF(Calculations!$E$56:$E$98,\"<=\"&DATE(2006,MONTH(C2314),DAY(C2314)))","v":17},null,5.8,5.7,6.6,5.2,5.3,5.9,6.5,6.3,6.2]
["KS200618","KS","2006-06-25",{"$f":"COUNTIF(Calculations!$E$56:$E$98,\"<=\"&DATE(2006,MONTH(C2315),DAY(C2315)))","v":18},null,3.9,5.2,5.7,4.8,4.0999999999999996,5.2,5.3,4.2,5.2]
["KS200619","KS","2006-07-02",{"$f":"COUNTIF(Calculations!$E$56:$E$98,\"<=\"&DATE(2006,MONTH(C2316),DAY(C2316)))","v":19},null,5.8,7,6.7,6.7,5.8,6.3,7,6.7,7]
["KS200620","KS","2006-07-09",{"$f":"COUNTIF(Calculations!$E$56:$E$98,\"<=\"&DATE(2006,MONTH(C2317),DAY(C2317)))","v":20},null,6,5.9,5.5,5.4,6,6.1,4.2,6.3,6.7]
["KS200621","KS","2006-07-16",{"$f":"COUNTIF(Calculations!$E$56:$E$98,\"<=\"&DATE(2006,MONTH(C2318),DAY(C2318)))","v":21},null,6.4,6.4,5.7,6,6.6,5.3,6.3,6.7,5.4]
["KS200622","KS","2006-07-23",{"$f":"COUNTIF(Calculations!$E$56:$E$98,\"<=\"&DATE(2006,MONTH(C2319),DAY(C2319)))","v":22},null,6.2,6.4,6.5,6.8,6.8,6.2,7,6.6,7]
["KS200623","KS","2006-07-30",{"$f":"COUNTIF(Calculations!$E$56:$E$98,\"<=\"&DATE(2006,MONTH(C2320),DAY(C2320)))","v":23},null,6.4,6.1,6.3,6.8,6.9,6.6,6.8,5.7,6.5]
["KS200624","KS","2006-08-06",{"$f":"COUNTIF(Calculations!$E$56:$E$98,\"<=\"&DATE(2006,MONTH(C2321),DAY(C2321)))","v":24},null,6.7,5.4,5.7,6,5.5,6.6,6.5,5.8,6.8]
["KS200625","KS","2006-08-13",{"$f":"COUNTIF(Calculations!$E$56:$E$98,\"<=\"&DATE(2006,MONTH(C2322),DAY(C2322)))","v":25},null,6.4,5.9,5.8,6.2,6.3,6.5,6.1,6.6,6.6]
[{"$f":"B2323&YEAR(C2323)&D2323","v":"KS200626"},"KS","2006-08-20",{"$f":"COUNTIF(Calculations!$E$56:$E$98,\"<=\"&DATE(2006,MONTH(C2323),DAY(C2323)))","v":26},null,5.7,3.1,3.6,4.2,3.5,5.3,5.2,4.5999999999999996,6.3]
["KS200627","KS","2006-08-27",{"$f":"COUNTIF(Calculations!$E$56:$E$98,\"<=\"&DATE(2006,MONTH(C2324),DAY(C2324)))","v":27},null,4.7,4.7,3.6,4,3.5,5.2,3.3,3.4,6.2]
["KS200628","KS","2006-09-03",{"$f":"COUNTIF(Calculations!$E$56:$E$98,\"<=\"&DATE(2006,MONTH(C2325),DAY(C2325)))","v":28},null,3.5,5.2,4.0999999999999996,5,4.4000000000000004,5.6,3.9,3.9,6.1]
["KS200629","KS","2006-09-10",{"$f":"COUNTIF(Calculations!$E$56:$E$98,\"<=\"&DATE(2006,MONTH(C2326),DAY(C2326)))","v":29},null,5.4,4,4.3,4,5.2,5.0999999999999996,3.7,6,6.9]
["KS200630","KS","2006-09-17",{"$f":"COUNTIF(Calculations!$E$56:$E$98,\"<=\"&DATE(2006,MONTH(C2327),DAY(C2327)))","v":30},null,6.4,5.0999999999999996,4.5999999999999996,6.2,5.6,5.8,5.9,5.9,6.7]
["KS200631","KS","2006-09-24",{"$f":"COUNTIF(Calculations!$E$56:$E$98,\"<=\"&DATE(2006,MONTH(C2328),DAY(C2328)))","v":31},null,4.3,4.2,3.1,7,4.0999999999999996,5.0999999999999996,6.4,6.8,5.9]
["KS200632","KS","2006-10-01",{"$f":"COUNTIF(Calculations!$E$56:$E$98,\"<=\"&DATE(2006,MONTH(C2329),DAY(C2329)))","v":32},null,6.8,6.5,6.1,7,6.6,6.7,7,7,6.8]
["KS200633","KS","2006-10-08",{"$f":"COUNTIF(Calculations!$E$56:$E$98,\"<=\"&DATE(2006,MONTH(C2330),DAY(C2330)))","v":33},null,6.7,6.8,6.8,7,6.8,6.7,6.9,6.9,7]
["KS200634","KS","2006-10-15",{"$f":"COUNTIF(Calculations!$E$56:$E$98,\"<=\"&DATE(2006,MONTH(C2331),DAY(C2331)))","v":34},null,2.5,3.9,4.9000000000000004,1,3.8,5.6,3.9,5.2,6.3]
["KS200635","KS","2006-10-22",{"$f":"COUNTIF(Calculations!$E$56:$E$98,\"<=\"&DATE(2006,MONTH(C2332),DAY(C2332)))","v":35},null,3.7,4.0999999999999996,2.7,4.5999999999999996,5.3,4.5999999999999996,6.4,6.4,5.6]
["KS200636","KS","2006-10-29",{"$f":"COUNTIF(Calculations!$E$56:$E$98,\"<=\"&DATE(2006,MONTH(C2333),DAY(C2333)))","v":36},null,4.2,3.5,3.1,3.3,3.7,3.2,5.3,4.5,4.8]
["KS200637","KS","2006-11-05",{"$f":"COUNTIF(Calculations!$E$56:$E$98,\"<=\"&DATE(2006,MONTH(C2334),DAY(C2334)))","v":37},null,6.5,6.2,6.1,6.5,6.1,5.5,6.8,6.6,6.4]
["KS200638","KS","2006-11-12",{"$f":"COUNTIF(Calculations!$E$56:$E$98,\"<=\"&DATE(2006,MONTH(C2335),DAY(C2335)))","v":38},null,6.6,6.5,6,6.8,6.7,6.4,7,6.8,6.4]
["KS200639","KS","2006-11-19",{"$f":"COUNTIF(Calculations!$E$56:$E$98,\"<=\"&DATE(2006,MONTH(C2336),DAY(C2336)))","v":39},null,5.8,6.5,6,7,6.1,6.3,6.6,6.7,6.6]
["KS200640","KS","2006-11-26",{"$f":"COUNTIF(Calculations!$E$56:$E$98,\"<=\"&DATE(2006,MONTH(C2337),DAY(C2337)))","v":40},null,6.8,6.1,6.9,7,6.8,6.9,7,7,7]
["KS20073","KS","2007-03-11",{"$f":"COUNTIF(Calculations!$E$56:$E$98,\"<=\"&DATE(2006,MONTH(C2338),DAY(C2338)))","v":3},null,2,3.6,2.2999999999999998,3,4.8,4.0999999999999996,5.3,6.5,5.9]
["KS20074","KS","2007-03-18",{"$f":"COUNTIF(Calculations!$E$56:$E$98,\"<=\"&DATE(2006,MONTH(C2339),DAY(C2339)))","v":4},null,2.4,5.3,5,4.4000000000000004,4.3,5.3,4.8,6.6,6.3]
["KS20075","KS","2007-03-25",{"$f":"COUNTIF(Calculations!$E$56:$E$98,\"<=\"&DATE(2006,MONTH(C2340),DAY(C2340)))","v":5},null,3.8,5.9,4.3,5.0999999999999996,4.8,4.2,5.4,4,3.2]
["KS20076","KS","2007-04-01",{"$f":"COUNTIF(Calculations!$E$56:$E$98,\"<=\"&DATE(2006,MONTH(C2341),DAY(C2341)))","v":6},null,2.2000000000000002,2.7,2.7,1,0.9,3.1,3.2,0.9,0.7]
["KS20077","KS","2007-04-08",{"$f":"COUNTIF(Calculations!$E$56:$E$98,\"<=\"&DATE(2006,MONTH(C2342),DAY(C2342)))","v":7},null,3.8,2.7,2.2999999999999998,2.2000000000000002,1.7,3.3,3.6,2,2.4]
["KS20078","KS","2007-04-15",{"$f":"COUNTIF(Calculations!$E$56:$E$98,\"<=\"&DATE(2006,MONTH(C2343),DAY(C2343)))","v":8},null,2.6,1,1.3,3.7,0.6,1.2,2.8,1.8,2.4]
["KS20079","KS","2007-04-22",{"$f":"COUNTIF(Calculations!$E$56:$E$98,\"<=\"&DATE(2006,MONTH(C2344),DAY(C2344)))","v":9},null,4.7,3.9,4.4000000000000004,3.6,2.4,1.9,2.5,2.4,3]
["KS200710","KS","2007-04-29",{"$f":"COUNTIF(Calculations!$E$56:$E$98,\"<=\"&DATE(2006,MONTH(C2345),DAY(C2345)))","v":10},null,2.2000000000000002,4.9000000000000004,2.9,2,3.7,2.9,4.4000000000000004,4.9000000000000004,2.9]
["KS200711","KS","2007-05-06",{"$f":"COUNTIF(Calculations!$E$56:$E$98,\"<=\"&DATE(2006,MONTH(C2346),DAY(C2346)))","v":11},null,3.7,4.3,2.2000000000000002,4.4000000000000004,2.4,1.2,6.2,4,0.6]
["KS200712","KS","2007-05-13",{"$f":"COUNTIF(Calculations!$E$56:$E$98,\"<=\"&DATE(2006,MONTH(C2347),DAY(C2347)))","v":12},null,6.9,4.8,1.9,6.9,2.9,1.7,6.8,3,0.6]
["KS200713","KS","2007-05-20",{"$f":"COUNTIF(Calculations!$E$56:$E$98,\"<=\"&DATE(2006,MONTH(C2348),DAY(C2348)))","v":13},null,6.6,4.8,3.8,4.7,3.2,4.2,6.3,5.5,4.3]
["KS200714","KS","2007-05-27",{"$f":"COUNTIF(Calculations!$E$56:$E$98,\"<=\"&DATE(2006,MONTH(C2349),DAY(C2349)))","v":14},null,6,4.2,3.3,5.4,1.6,3.8,5.7,3.8,4.2]
["KS200715","KS","2007-06-03",{"$f":"COUNTIF(Calculations!$E$56:$E$98,\"<=\"&DATE(2006,MONTH(C2350),DAY(C2350)))","v":15},null,5,3.3,1.9,5,1.9,3.2,4.9000000000000004,3.1,1.7]
["KS200716","KS","2007-06-10",{"$f":"COUNTIF(Calculations!$E$56:$E$98,\"<=\"&DATE(2006,MONTH(C2351),DAY(C2351)))","v":16},null,6.8,5.8,4.8,6.8,5.4,5.0999999999999996,5.8,5.8,4.4000000000000004]
["KS200717","KS","2007-06-17",{"$f":"COUNTIF(Calculations!$E$56:$E$98,\"<=\"&DATE(2006,MONTH(C2352),DAY(C2352)))","v":17},null,3.6,4.5999999999999996,5.0999999999999996,2.9,4.0999999999999996,3.7,4.0999999999999996,3.1,1.3]
["KS200718","KS","2007-06-24",{"$f":"COUNTIF(Calculations!$E$56:$E$98,\"<=\"&DATE(2006,MONTH(C2353),DAY(C2353)))","v":18},null,5.8,6.2,5.2,5.7,5.9,5.0999999999999996,5.9,5,5]
["KS200719","KS","2007-07-01",{"$f":"COUNTIF(Calculations!$E$56:$E$98,\"<=\"&DATE(2006,MONTH(C2354),DAY(C2354)))","v":19},null,6.9,5.2,3.8,7,4.2,2.7,6.6,2.7,1.6]
["KS200720","KS","2007-07-08",{"$f":"COUNTIF(Calculations!$E$56:$E$98,\"<=\"&DATE(2006,MONTH(C2355),DAY(C2355)))","v":20},null,6.9,6.3,5.5,7,4.9000000000000004,3.3,6.7,3.7,3.5]
["KS200721","KS","2007-07-15",{"$f":"COUNTIF(Calculations!$E$56:$E$98,\"<=\"&DATE(2006,MONTH(C2356),DAY(C2356)))","v":21},null,5,6.5,6.5,5.8,4.0999999999999996,5.9,5.9,3.3,4.0999999999999996]
["KS200722","KS","2007-07-22",{"$f":"COUNTIF(Calculations!$E$56:$E$98,\"<=\"&DATE(2006,MONTH(C2357),DAY(C2357)))","v":22},null,6.7,5.2,6.3,6.4,5.4,6.5,6.8,6.2,6.2]
["KS200723","KS","2007-07-29",{"$f":"COUNTIF(Calculations!$E$56:$E$98,\"<=\"&DATE(2006,MONTH(C2358),DAY(C2358)))","v":23},null,5,6.7,5.8,6.5,6.6,5.3,7,6.7,5.9]
["KS200724","KS","2007-08-05",{"$f":"COUNTIF(Calculations!$E$56:$E$98,\"<=\"&DATE(2006,MONTH(C2359),DAY(C2359)))","v":24},null,4,3.6,5.3,4,2.7,5,5.9,5.9,6]
["KS200725","KS","2007-08-12",{"$f":"COUNTIF(Calculations!$E$56:$E$98,\"<=\"&DATE(2006,MONTH(C2360),DAY(C2360)))","v":25},null,5.3,6.5,5.0999999999999996,5,6.3,6.6,6.9,6.9,6.8]
["KS200726","KS","2007-08-19",{"$f":"COUNTIF(Calculations!$E$56:$E$98,\"<=\"&DATE(2006,MONTH(C2361),DAY(C2361)))","v":26},null,7,6.9,5.9,7,6.5,6.5,7,7,6.9]
["KS200727","KS","2007-08-26",{"$f":"COUNTIF(Calculations!$E$56:$E$98,\"<=\"&DATE(2006,MONTH(C2362),DAY(C2362)))","v":27},null,4,5.2,4.3,5.6,5.3,6.2,5.2,5.6,6.2]
["KS200728","KS","2007-09-02",{"$f":"COUNTIF(Calculations!$E$56:$E$98,\"<=\"&DATE(2006,MONTH(C2363),DAY(C2363)))","v":28},null,6.2,6.2,0,4.8,5.7,6.6,6.3,6.6,6.6]
["KS200729","KS","2007-09-09",{"$f":"COUNTIF(Calculations!$E$56:$E$98,\"<=\"&DATE(2006,MONTH(C2364),DAY(C2364)))","v":29},null,6.8,5.9,5.2,6.8,6.3,5.6,6.8,6.4,5.5]
["KS200730","KS","2007-09-16",{"$f":"COUNTIF(Calculations!$E$56:$E$98,\"<=\"&DATE(2006,MONTH(C2365),DAY(C2365)))","v":30},null,6,6.5,5.3,5.8,5.9,6,6.9,7,5.9]
["KS200731","KS","2007-09-23",{"$f":"COUNTIF(Calculations!$E$56:$E$98,\"<=\"&DATE(2006,MONTH(C2366),DAY(C2366)))","v":31},null,6.7,4.8,3,4,3.3,6.4,5.6,5.8,6.4]
["KS200732","KS","2007-09-30",{"$f":"COUNTIF(Calculations!$E$56:$E$98,\"<=\"&DATE(2006,MONTH(C2367),DAY(C2367)))","v":32},null,5.6,5.4,5.7,6.4,6.2,6.6,6.8,6.7,6.6]
["KS200733","KS","2007-10-07",{"$f":"COUNTIF(Calculations!$E$56:$E$98,\"<=\"&DATE(2006,MONTH(C2368),DAY(C2368)))","v":33},null,6.6,5.6,4.7,7,6.2,5.5,6.9,6.4,6.2]
["KS200734","KS","2007-10-14",{"$f":"COUNTIF(Calculations!$E$56:$E$98,\"<=\"&DATE(2006,MONTH(C2369),DAY(C2369)))","v":34},null,5.8,4.0999999999999996,4.9000000000000004,3.5,3.5,5.3,6.9,6.1,6.2]
["KS200735","KS","2007-10-21",{"$f":"COUNTIF(Calculations!$E$56:$E$98,\"<=\"&DATE(2006,MONTH(C2370),DAY(C2370)))","v":35},null,5.7,1.9,0.3,6.3,2.9,2.2000000000000002,7,4.3,3.8]
["KS200736","KS","2007-10-28",{"$f":"COUNTIF(Calculations!$E$56:$E$98,\"<=\"&DATE(2006,MONTH(C2371),DAY(C2371)))","v":36},null,6.7,5.4,4.7,7,6.4,3.3,7,6,4.7]
["KS200737","KS","2007-11-04",{"$f":"COUNTIF(Calculations!$E$56:$E$98,\"<=\"&DATE(2006,MONTH(C2372),DAY(C2372)))","v":37},null,6.7,6.3,6.3,7,6.9,6.6,7,6.9,6.2]
["KS200738","KS","2007-11-11",{"$f":"COUNTIF(Calculations!$E$56:$E$98,\"<=\"&DATE(2006,MONTH(C2373),DAY(C2373)))","v":38},null,6.8,6.3,6.8,7,7,6.3,7,7,7]
["KS200739","KS","2007-11-18",{"$f":"COUNTIF(Calculations!$E$56:$E$98,\"<=\"&DATE(2006,MONTH(C2374),DAY(C2374)))","v":39},null,7,6.8,6.9,7,7,6.6,7,7,6.9]
["KS200740","KS","2007-11-25",{"$f":"COUNTIF(Calculations!$E$56:$E$98,\"<=\"&DATE(2006,MONTH(C2375),DAY(C2375)))","v":40},null,4.9000000000000004,5,5.2,4.5999999999999996,5.2,5.4,5.7,6,6.3]
["KS20082","KS","2008-03-09",{"$f":"COUNTIF(Calculations!$E$56:$E$98,\"<=\"&DATE(2006,MONTH(C2376),DAY(C2376)))","v":2},null,5,1.6,1.4,6.8,3.6,1.2,6,4.8,1.6]
["KS20083","KS","2008-03-16",{"$f":"COUNTIF(Calculations!$E$56:$E$98,\"<=\"&DATE(2006,MONTH(C2377),DAY(C2377)))","v":3},null,4.8,4.7,1.4,6.8,4.7,1.7,7,5.9,2.5]
["KS20084","KS","2008-03-23",{"$f":"COUNTIF(Calculations!$E$56:$E$98,\"<=\"&DATE(2006,MONTH(C2378),DAY(C2378)))","v":4},null,4.7,3.9,1.1000000000000001,5.7,4.8,1.9,6.5,5.0999999999999996,1.7]
["KS20085","KS","2008-03-30",{"$f":"COUNTIF(Calculations!$E$56:$E$98,\"<=\"&DATE(2006,MONTH(C2379),DAY(C2379)))","v":5},null,4.5,5,3.3,6.3,4.9000000000000004,3.1,7,6.2,4]
["KS20086","KS","2008-04-06",{"$f":"COUNTIF(Calculations!$E$56:$E$98,\"<=\"&DATE(2006,MONTH(C2380),DAY(C2380)))","v":6},null,5.2,5.6,1.4,6.3,5.0999999999999996,3.8,6.9,6.1,3]
["KS20087","KS","2008-04-13",{"$f":"COUNTIF(Calculations!$E$56:$E$98,\"<=\"&DATE(2006,MONTH(C2381),DAY(C2381)))","v":7},null,2.9,2.4,1.1000000000000001,2.8,1.5,1.5,3.2,3.1,1.9]
["KS20088","KS","2008-04-20",{"$f":"COUNTIF(Calculations!$E$56:$E$98,\"<=\"&DATE(2006,MONTH(C2382),DAY(C2382)))","v":8},null,2.5,2.7,2,3,2.8,2.9,4.3,4.0999999999999996,3.8]
["KS20089","KS","2008-04-27",{"$f":"COUNTIF(Calculations!$E$56:$E$98,\"<=\"&DATE(2006,MONTH(C2383),DAY(C2383)))","v":9},null,4.9000000000000004,3.8,2.6,6.4,3.4,2.8,5.8,4.8,3.2]
["KS200810","KS","2008-05-04",{"$f":"COUNTIF(Calculations!$E$56:$E$98,\"<=\"&DATE(2006,MONTH(C2384),DAY(C2384)))","v":10},null,4.8,5.4,4.0999999999999996,6.5,6.2,3.9,7,6,4.2]
["KS200811","KS","2008-05-11",{"$f":"COUNTIF(Calculations!$E$56:$E$98,\"<=\"&DATE(2006,MONTH(C2385),DAY(C2385)))","v":11},null,5.6,4.7,3.8,3.7,1.5,2.4,3.1,2.1,2.7]
["KS200812","KS","2008-05-18",{"$f":"COUNTIF(Calculations!$E$56:$E$98,\"<=\"&DATE(2006,MONTH(C2386),DAY(C2386)))","v":12},null,6.3,6.2,5.0999999999999996,6.8,5.6,5.3,6,5.6,4.4000000000000004]
[{"$f":"B2387&YEAR(C2387)&D2387","v":"KS200813"},"KS","2008-05-25",{"$f":"COUNTIF(Calculations!$E$56:$E$98,\"<=\"&DATE(2006,MONTH(C2387),DAY(C2387)))","v":13},null,3.8,3.3,4.2,3.8,5,4.4000000000000004,5.4,5.3,5.6]
["KS200814","KS","2008-06-01",{"$f":"COUNTIF(Calculations!$E$56:$E$98,\"<=\"&DATE(2006,MONTH(C2388),DAY(C2388)))","v":14},null,3.2,2,0.5,2.7,2.2000000000000002,1.4,6.3,2.8,1.3]
["KS200815","KS","2008-06-08",{"$f":"COUNTIF(Calculations!$E$56:$E$98,\"<=\"&DATE(2006,MONTH(C2389),DAY(C2389)))","v":15},null,4,2,1.7,5.6,4.5999999999999996,2.2999999999999998,6.8,4.2,2]
["KS200816","KS","2008-06-15",{"$f":"COUNTIF(Calculations!$E$56:$E$98,\"<=\"&DATE(2006,MONTH(C2390),DAY(C2390)))","v":16},null,5.8,4.7,1.9,6.8,4.7,2.1,6.8,5.3,1.2]
["KS200817","KS","2008-06-22",{"$f":"COUNTIF(Calculations!$E$56:$E$98,\"<=\"&DATE(2006,MONTH(C2391),DAY(C2391)))","v":17},null,4.5,5.0999999999999996,3,5,2.4,3.3,5.3,3.5,2.7]
["KS200818","KS","2008-06-29",{"$f":"COUNTIF(Calculations!$E$56:$E$98,\"<=\"&DATE(2006,MONTH(C2392),DAY(C2392)))","v":18},null,5.5,5.0999999999999996,4,5.8,4.5999999999999996,4.5999999999999996,6,5.8,4]
["KS200819","KS","2008-07-06",{"$f":"COUNTIF(Calculations!$E$56:$E$98,\"<=\"&DATE(2006,MONTH(C2393),DAY(C2393)))","v":19},null,5.2,5.8,5.3,7,6.4,6,6.9,6.3,6.4]
["KS200820","KS","2008-07-13",{"$f":"COUNTIF(Calculations!$E$56:$E$98,\"<=\"&DATE(2006,MONTH(C2394),DAY(C2394)))","v":20},null,6.2,5.4,5.5,6,6.4,4.5,7,5.3,4.9000000000000004]
["KS200821","KS","2008-07-20",{"$f":"COUNTIF(Calculations!$E$56:$E$98,\"<=\"&DATE(2006,MONTH(C2395),DAY(C2395)))","v":21},null,5.5,4.5999999999999996,4.4000000000000004,6,5.2,6.3,6.4,6,6.9]
["KS200822","KS","2008-07-27",{"$f":"COUNTIF(Calculations!$E$56:$E$98,\"<=\"&DATE(2006,MONTH(C2396),DAY(C2396)))","v":22},null,6.8,6,4.8,6.4,6.3,6,7,6.6,6.8]
["KS200823","KS","2008-08-03",{"$f":"COUNTIF(Calculations!$E$56:$E$98,\"<=\"&DATE(2006,MONTH(C2397),DAY(C2397)))","v":23},null,6,6.4,4.5,5.8,5,5,7,4.9000000000000004,5.4]
["KS200824","KS","2008-08-10",{"$f":"COUNTIF(Calculations!$E$56:$E$98,\"<=\"&DATE(2006,MONTH(C2398),DAY(C2398)))","v":24},null,3.3,4.4000000000000004,5.9,4,3.3,5,4.9000000000000004,5.0999999999999996,4.3]
["KS200825","KS","2008-08-17",{"$f":"COUNTIF(Calculations!$E$56:$E$98,\"<=\"&DATE(2006,MONTH(C2399),DAY(C2399)))","v":25},null,3.2,3.4,5.3,5.2,3.1,5.2,3,4.8,4]
["KS200826","KS","2008-08-24",{"$f":"COUNTIF(Calculations!$E$56:$E$98,\"<=\"&DATE(2006,MONTH(C2400),DAY(C2400)))","v":26},null,5.8,5,5.3,5.8,5,6.3,3.6,5.8,5.7]
["KS200827","KS","2008-08-31",{"$f":"COUNTIF(Calculations!$E$56:$E$98,\"<=\"&DATE(2006,MONTH(C2401),DAY(C2401)))","v":27},null,6,4.9000000000000004,5.8,7,4.8,6.3,6.4,6.2,6.1]
["KS200828","KS","2008-09-07",{"$f":"COUNTIF(Calculations!$E$56:$E$98,\"<=\"&DATE(2006,MONTH(C2402),DAY(C2402)))","v":28},null,5.7,4.2,4.5999999999999996,6,3.7,4.5999999999999996,4.8,4,3.8]
["KS200829","KS","2008-09-14",{"$f":"COUNTIF(Calculations!$E$56:$E$98,\"<=\"&DATE(2006,MONTH(C2403),DAY(C2403)))","v":29},null,3.2,2.7,1.7,5.3,2.4,2.4,4,2,0.9]
["KS200830","KS","2008-09-21",{"$f":"COUNTIF(Calculations!$E$56:$E$98,\"<=\"&DATE(2006,MONTH(C2404),DAY(C2404)))","v":30},null,6.1,6.4,3.8,7,4.9000000000000004,3.8,6.9,4.0999999999999996,3.8]
["KS200831","KS","2008-09-28",{"$f":"COUNTIF(Calculations!$E$56:$E$98,\"<=\"&DATE(2006,MONTH(C2405),DAY(C2405)))","v":31},null,6.5,5.9,5.4,6,6.4,6,7,6.5,6.7]
["KS200832","KS","2008-10-05",{"$f":"COUNTIF(Calculations!$E$56:$E$98,\"<=\"&DATE(2006,MONTH(C2406),DAY(C2406)))","v":32},null,6.9,6.9,6.4,7,6.6,6.6,6.6,7,6.9]
["KS200833","KS","2008-10-12",{"$f":"COUNTIF(Calculations!$E$56:$E$98,\"<=\"&DATE(2006,MONTH(C2407),DAY(C2407)))","v":33},null,4.2,4.4000000000000004,5.4,4.8,4.8,5.7,6,3.8,5.7]
["KS200834","KS","2008-10-19",{"$f":"COUNTIF(Calculations!$E$56:$E$98,\"<=\"&DATE(2006,MONTH(C2408),DAY(C2408)))","v":34},null,2.2000000000000002,2.2999999999999998,1.5,1,1.3,3.3,1.5,1.4,3.9]
["KS200835","KS","2008-10-26",{"$f":"COUNTIF(Calculations!$E$56:$E$98,\"<=\"&DATE(2006,MONTH(C2409),DAY(C2409)))","v":35},null,1,1.9,1.6,1.3,0.8,2.2999999999999998,2.8,1.4,3.8]
["KS200836","KS","2008-11-02",{"$f":"COUNTIF(Calculations!$E$56:$E$98,\"<=\"&DATE(2006,MONTH(C2410),DAY(C2410)))","v":36},null,5.7,5,6,5.6,5.2,6.3,7,5.9,5.4]
["KS200837","KS","2008-11-09",{"$f":"COUNTIF(Calculations!$E$56:$E$98,\"<=\"&DATE(2006,MONTH(C2411),DAY(C2411)))","v":37},null,5.4,5.6,4.9000000000000004,7,6.7,4.5,7,6.7,4.3]
["KS200838","KS","2008-11-16",{"$f":"COUNTIF(Calculations!$E$56:$E$98,\"<=\"&DATE(2006,MONTH(C2412),DAY(C2412)))","v":38},null,3.6,3.2,3.3,4.4000000000000004,2.8,4,5.2,4,3.3]
["KS200839","KS","2008-11-23",{"$f":"COUNTIF(Calculations!$E$56:$E$98,\"<=\"&DATE(2006,MONTH(C2413),DAY(C2413)))","v":39},null,6.1,6.5,5.7,7,6.3,5.5,6.8,6.3,6.3]
["KS200840","KS","2008-11-30",{"$f":"COUNTIF(Calculations!$E$56:$E$98,\"<=\"&DATE(2006,MONTH(C2414),DAY(C2414)))","v":40},null,6.5,5.4,6.1,5.8,5.0999999999999996,5,5.3,6.3,6.1]
["KS20092","KS","2009-03-08",{"$f":"COUNTIF(Calculations!$E$56:$E$98,\"<=\"&DATE(2006,MONTH(C2415),DAY(C2415)))","v":2},null,6.4,6.2,3.6,7,6.9,5.6,6.7,6.6,5.9]
["KS20093","KS","2009-03-15",{"$f":"COUNTIF(Calculations!$E$56:$E$98,\"<=\"&DATE(2006,MONTH(C2416),DAY(C2416)))","v":3},null,6,5.3,1.6,7,6.1,2.5,6,6,4.0999999999999996]
["KS20094","KS","2009-03-22",{"$f":"COUNTIF(Calculations!$E$56:$E$98,\"<=\"&DATE(2006,MONTH(C2417),DAY(C2417)))","v":4},null,6.8,6.2,4.7,7,6.5,5.3,6.8,6.8,6]
["KS20095","KS","2009-03-29",{"$f":"COUNTIF(Calculations!$E$56:$E$98,\"<=\"&DATE(2006,MONTH(C2418),DAY(C2418)))","v":5},null,5.4,4.5999999999999996,1.6,4.5,4.5999999999999996,1.9,4,4.3,2.8]
["KS20096","KS","2009-04-05",{"$f":"COUNTIF(Calculations!$E$56:$E$98,\"<=\"&DATE(2006,MONTH(C2419),DAY(C2419)))","v":6},null,5.2,5.2,0.3,4.5999999999999996,2.2000000000000002,1.6,2.8,0.9,0.6]
["KS20097","KS","2009-04-12",{"$f":"COUNTIF(Calculations!$E$56:$E$98,\"<=\"&DATE(2006,MONTH(C2420),DAY(C2420)))","v":7},null,5.6,5.4,0.9,5.7,3.4,2.4,3.3,3.6,2.4]
["KS20098","KS","2009-04-19",{"$f":"COUNTIF(Calculations!$E$56:$E$98,\"<=\"&DATE(2006,MONTH(C2421),DAY(C2421)))","v":8},null,2.6,4.2,0.4,0,1.2,1.9,1,1.3,1.2]
["KS20099","KS","2009-04-26",{"$f":"COUNTIF(Calculations!$E$56:$E$98,\"<=\"&DATE(2006,MONTH(C2422),DAY(C2422)))","v":9},null,4.5999999999999996,4.7,4.8,1.3,2.4,2.6,5.6,3.6,2.7]
["KS200910","KS","2009-05-03",{"$f":"COUNTIF(Calculations!$E$56:$E$98,\"<=\"&DATE(2006,MONTH(C2423),DAY(C2423)))","v":10},null,4.4000000000000004,2,0.2,4.3,1.8,0.8,4.7,1.1000000000000001,0]
["KS200911","KS","2009-05-10",{"$f":"COUNTIF(Calculations!$E$56:$E$98,\"<=\"&DATE(2006,MONTH(C2424),DAY(C2424)))","v":11},null,3.5,4,2.2000000000000002,4.3,3,1.4,5.2,1.1000000000000001,0.5]
["KS200912","KS","2009-05-17",{"$f":"COUNTIF(Calculations!$E$56:$E$98,\"<=\"&DATE(2006,MONTH(C2425),DAY(C2425)))","v":12},null,6.4,5.2,3.3,6.6,5,3,6.8,4.3,0.9]
["KS200913","KS","2009-05-24",{"$f":"COUNTIF(Calculations!$E$56:$E$98,\"<=\"&DATE(2006,MONTH(C2426),DAY(C2426)))","v":13},null,5.3,6.4,5.8,7,6.6,6.4,6.7,6.7,4.0999999999999996]
["KS200914","KS","2009-05-31",{"$f":"COUNTIF(Calculations!$E$56:$E$98,\"<=\"&DATE(2006,MONTH(C2427),DAY(C2427)))","v":14},null,1,5.0999999999999996,5.8,1.3,4.2,6.7,6.2,6,6.6]
["KS200915","KS","2009-06-07",{"$f":"COUNTIF(Calculations!$E$56:$E$98,\"<=\"&DATE(2006,MONTH(C2428),DAY(C2428)))","v":15},null,4.5999999999999996,4.2,4.0999999999999996,5.7,5.5,5.4,6.3,6.1,6.6]
["KS200916","KS","2009-06-14",{"$f":"COUNTIF(Calculations!$E$56:$E$98,\"<=\"&DATE(2006,MONTH(C2429),DAY(C2429)))","v":16},null,1,1.9,1.5,1.2,3.3,3.1,5,3.6,4.2]
["KS200917","KS","2009-06-21",{"$f":"COUNTIF(Calculations!$E$56:$E$98,\"<=\"&DATE(2006,MONTH(C2430),DAY(C2430)))","v":17},null,4.8,4.3,2.1,4,4,2.6,4.4000000000000004,4.8,4.9000000000000004]
["KS200918","KS","2009-06-28",{"$f":"COUNTIF(Calculations!$E$56:$E$98,\"<=\"&DATE(2006,MONTH(C2431),DAY(C2431)))","v":18},null,6.2,6.4,3.6,6,6,5.4,6.5,6.1,6.5]
["KS200919","KS","2009-07-05",{"$f":"COUNTIF(Calculations!$E$56:$E$98,\"<=\"&DATE(2006,MONTH(C2432),DAY(C2432)))","v":19},null,6,4.8,4.8,6.4,5.5,5.3,6.3,6.2,5.7]
["KS200920","KS","2009-07-12",{"$f":"COUNTIF(Calculations!$E$56:$E$98,\"<=\"&DATE(2006,MONTH(C2433),DAY(C2433)))","v":20},null,5.2,5.2,5.3,6.4,5.6,5.5,7,6.4,6.2]
["KS200921","KS","2009-07-19",{"$f":"COUNTIF(Calculations!$E$56:$E$98,\"<=\"&DATE(2006,MONTH(C2434),DAY(C2434)))","v":21},null,4,1.2,4.2,5.3,3.4,5.7,6.8,5.4,4.5999999999999996]
["KS200922","KS","2009-07-26",{"$f":"COUNTIF(Calculations!$E$56:$E$98,\"<=\"&DATE(2006,MONTH(C2435),DAY(C2435)))","v":22},null,5.8,4,4.7,4.7,4.9000000000000004,5.4,6,6.6,4.7]
["KS200923","KS","2009-08-02",{"$f":"COUNTIF(Calculations!$E$56:$E$98,\"<=\"&DATE(2006,MONTH(C2436),DAY(C2436)))","v":23},null,4.2,5.0999999999999996,4.0999999999999996,4.8,5.0999999999999996,4.9000000000000004,3.6,5.7,6]
["KS200924","KS","2009-08-09",{"$f":"COUNTIF(Calculations!$E$56:$E$98,\"<=\"&DATE(2006,MONTH(C2437),DAY(C2437)))","v":24},null,7,5.9,5.9,4.3,5.8,6.6,5.5,6.1,6.8]
["KS200925","KS","2009-08-16",{"$f":"COUNTIF(Calculations!$E$56:$E$98,\"<=\"&DATE(2006,MONTH(C2438),DAY(C2438)))","v":25},null,4.9000000000000004,5.5,4.7,6.1,6.1,5.9,6.8,6.8,6.6]
["KS200926","KS","2009-08-23",{"$f":"COUNTIF(Calculations!$E$56:$E$98,\"<=\"&DATE(2006,MONTH(C2439),DAY(C2439)))","v":26},null,6.1,5.4,5.0999999999999996,4.3,4.0999999999999996,3.6,5.9,4.4000000000000004,2.9]
["KS200927","KS","2009-08-30",{"$f":"COUNTIF(Calculations!$E$56:$E$98,\"<=\"&DATE(2006,MONTH(C2440),DAY(C2440)))","v":27},null,4.5999999999999996,3.9,3,3.9,4.8,5.3,6.6,6,5.7]
["KS200928","KS","2009-09-06",{"$f":"COUNTIF(Calculations!$E$56:$E$98,\"<=\"&DATE(2006,MONTH(C2441),DAY(C2441)))","v":28},null,6.2,4.7,4.0999999999999996,6.4,4.7,4,6.8,6.9,4.3]
["KS200929","KS","2009-09-13",{"$f":"COUNTIF(Calculations!$E$56:$E$98,\"<=\"&DATE(2006,MONTH(C2442),DAY(C2442)))","v":29},null,5.0999999999999996,2.7,4.9000000000000004,2.7,1.5,3.6,5.4,2.4,2.2000000000000002]
["KS200930","KS","2009-09-20",{"$f":"COUNTIF(Calculations!$E$56:$E$98,\"<=\"&DATE(2006,MONTH(C2443),DAY(C2443)))","v":30},null,6.5,5.0999999999999996,6.2,4,4,5.8,6.8,4.0999999999999996,4.9000000000000004]
["KS200931","KS","2009-09-27",{"$f":"COUNTIF(Calculations!$E$56:$E$98,\"<=\"&DATE(2006,MONTH(C2444),DAY(C2444)))","v":31},null,2.2000000000000002,3.7,4.0999999999999996,3.5,4.2,4.0999999999999996,6.1,5.3,4.4000000000000004]
["KS200932","KS","2009-10-04",{"$f":"COUNTIF(Calculations!$E$56:$E$98,\"<=\"&DATE(2006,MONTH(C2445),DAY(C2445)))","v":32},null,6,6.4,5.6,6,6.6,6,6.8,6.4,5.9]
["KS200933","KS","2009-10-11",{"$f":"COUNTIF(Calculations!$E$56:$E$98,\"<=\"&DATE(2006,MONTH(C2446),DAY(C2446)))","v":33},null,3.1,3.7,4.0999999999999996,4.7,4,3.8,3.2,3.8,3.5]
["KS200934","KS","2009-10-18",{"$f":"COUNTIF(Calculations!$E$56:$E$98,\"<=\"&DATE(2006,MONTH(C2447),DAY(C2447)))","v":34},null,1.4,2.1,1.5,0.5,1.1000000000000001,2,1.9,2.1,0.4]
["KS200935","KS","2009-10-25",{"$f":"COUNTIF(Calculations!$E$56:$E$98,\"<=\"&DATE(2006,MONTH(C2448),DAY(C2448)))","v":35},null,0.5,2.2000000000000002,2.7,1.9,2.1,2.5,2.1,2.7,2.5]
["KS200936","KS","2009-11-01",{"$f":"COUNTIF(Calculations!$E$56:$E$98,\"<=\"&DATE(2006,MONTH(C2449),DAY(C2449)))","v":36},null,1,2.2999999999999998,2.4,1.9,2.1,2.1,2.7,2.2999999999999998,2.1]
["KS200937","KS","2009-11-08",{"$f":"COUNTIF(Calculations!$E$56:$E$98,\"<=\"&DATE(2006,MONTH(C2450),DAY(C2450)))","v":37},null,4.8,4.7,5.8,6.2,5.2,5.6,6.1,6.8,5.6]
[{"$f":"B2451&YEAR(C2451)&D2451","v":"KS200938"},"KS","2009-11-15",{"$f":"COUNTIF(Calculations!$E$56:$E$98,\"<=\"&DATE(2006,MONTH(C2451),DAY(C2451)))","v":38},null,5.3,5.5,4.7,4,4.8,4,4.8,4.3,3.9]
["KS200939","KS","2009-11-22",{"$f":"COUNTIF(Calculations!$E$56:$E$98,\"<=\"&DATE(2006,MONTH(C2452),DAY(C2452)))","v":39},null,4.9000000000000004,4.7,0.4,2.4,3.7,1.6,5.9,4.8,1.5]
["KS200940","KS","2009-11-29",{"$f":"COUNTIF(Calculations!$E$56:$E$98,\"<=\"&DATE(2006,MONTH(C2453),DAY(C2453)))","v":40},null,4.8,4.3,3.4,5,4.2,4.7,6.6,6.4,4.7]
["KS200941","KS","2009-12-06",{"$f":"COUNTIF(Calculations!$E$56:$E$98,\"<=\"&DATE(2006,MONTH(C2454),DAY(C2454)))","v":41},null,5.9,4.9000000000000004,5.3,6.6,5.8,6.5,6.3,6.6,5.9]
["KS200942","KS","2009-12-13",{"$f":"COUNTIF(Calculations!$E$56:$E$98,\"<=\"&DATE(2006,MONTH(C2455),DAY(C2455)))","v":42},null,2.2000000000000002,0.6,1.3,1,1.2,2.9,4.3,1.9,4.4000000000000004]
["KS20102","KS","2010-03-07",{"$f":"COUNTIF(Calculations!$E$56:$E$98,\"<=\"&DATE(2006,MONTH(C2456),DAY(C2456)))","v":2},null,2.1,1.6,0.9,3.4,2.1,0.5,4.4000000000000004,4.7,2.1]
["KS20103","KS","2010-03-14",{"$f":"COUNTIF(Calculations!$E$56:$E$98,\"<=\"&DATE(2006,MONTH(C2457),DAY(C2457)))","v":3},null,1.9,0.5,0,1.1000000000000001,1.4,0.2,3.1,2,1.2]
["KS20104","KS","2010-03-21",{"$f":"COUNTIF(Calculations!$E$56:$E$98,\"<=\"&DATE(2006,MONTH(C2458),DAY(C2458)))","v":4},null,1.5,0.8,0.7,3,1.8,0.6,4.7,3.4,2]
["KS20105","KS","2010-03-28",{"$f":"COUNTIF(Calculations!$E$56:$E$98,\"<=\"&DATE(2006,MONTH(C2459),DAY(C2459)))","v":5},null,2.8,1.3,0.4,2.6,1.4,0.4,3.3,4.2,0.6]
["KS20106","KS","2010-04-04",{"$f":"COUNTIF(Calculations!$E$56:$E$98,\"<=\"&DATE(2006,MONTH(C2460),DAY(C2460)))","v":6},null,5.6,3.6,2,4.9000000000000004,3.6,2.6,5.6,5.7,2.8]
["KS20107","KS","2010-04-11",{"$f":"COUNTIF(Calculations!$E$56:$E$98,\"<=\"&DATE(2006,MONTH(C2461),DAY(C2461)))","v":7},null,3.9,4.8,5.2,5.4,5.8,3.8,6.3,6.9,4.8]
["KS20108","KS","2010-04-18",{"$f":"COUNTIF(Calculations!$E$56:$E$98,\"<=\"&DATE(2006,MONTH(C2462),DAY(C2462)))","v":8},null,2.9,4.2,5,3.3,5.5,5.3,4.5999999999999996,5.7,6.1]
["KS20109","KS","2010-04-25",{"$f":"COUNTIF(Calculations!$E$56:$E$98,\"<=\"&DATE(2006,MONTH(C2463),DAY(C2463)))","v":9},null,2.6,3,3.3,2.2000000000000002,3.8,3.9,4.5,4.9000000000000004,5]
["KS201010","KS","2010-05-02",{"$f":"COUNTIF(Calculations!$E$56:$E$98,\"<=\"&DATE(2006,MONTH(C2464),DAY(C2464)))","v":10},null,3.9,4,2.7,4.3,4.3,3.1,6,5.7,4.5999999999999996]
["KS201011","KS","2010-05-09",{"$f":"COUNTIF(Calculations!$E$56:$E$98,\"<=\"&DATE(2006,MONTH(C2465),DAY(C2465)))","v":11},null,5.8,4.5999999999999996,4.5,6.3,6,5.4,6.6,6.7,6.3]
["KS201012","KS","2010-05-16",{"$f":"COUNTIF(Calculations!$E$56:$E$98,\"<=\"&DATE(2006,MONTH(C2466),DAY(C2466)))","v":12},null,4,2.2999999999999998,0.8,4.5,3.3,1.5,5.0999999999999996,4.5,0.8]
["KS201013","KS","2010-05-23",{"$f":"COUNTIF(Calculations!$E$56:$E$98,\"<=\"&DATE(2006,MONTH(C2467),DAY(C2467)))","v":13},null,2.4,2.6,0.5,2.2000000000000002,2.2000000000000002,0.8,3.9,2.4,0.8]
["KS201014","KS","2010-05-30",{"$f":"COUNTIF(Calculations!$E$56:$E$98,\"<=\"&DATE(2006,MONTH(C2468),DAY(C2468)))","v":14},null,4.5999999999999996,4.3,4.7,4.4000000000000004,3.2,5.2,6.1,3.2,5.2]
["KS201015","KS","2010-06-06",{"$f":"COUNTIF(Calculations!$E$56:$E$98,\"<=\"&DATE(2006,MONTH(C2469),DAY(C2469)))","v":15},null,5.5,6,4.7,6.2,6,6,6.8,6.2,6]
["KS201016","KS","2010-06-13",{"$f":"COUNTIF(Calculations!$E$56:$E$98,\"<=\"&DATE(2006,MONTH(C2470),DAY(C2470)))","v":16},null,5.2,3.2,3.9,5.7,3,2.7,5.9,3.4,2.5]
["KS201017","KS","2010-06-20",{"$f":"COUNTIF(Calculations!$E$56:$E$98,\"<=\"&DATE(2006,MONTH(C2471),DAY(C2471)))","v":17},null,4.8,3.3,1.5,6.2,3.7,1.9,5.5,4.2,3]
["KS201018","KS","2010-06-27",{"$f":"COUNTIF(Calculations!$E$56:$E$98,\"<=\"&DATE(2006,MONTH(C2472),DAY(C2472)))","v":18},null,5.0999999999999996,4.5,4.3,6.6,6.6,5.4,6.5,6.9,5.9]
["KS201019","KS","2010-07-04",{"$f":"COUNTIF(Calculations!$E$56:$E$98,\"<=\"&DATE(2006,MONTH(C2473),DAY(C2473)))","v":19},null,6.4,5.8,5.4,6.7,6.3,5.9,6.6,6,5.8]
["KS201020","KS","2010-07-11",{"$f":"COUNTIF(Calculations!$E$56:$E$98,\"<=\"&DATE(2006,MONTH(C2474),DAY(C2474)))","v":20},null,4.4000000000000004,3.7,2,5.2,3.5,1.5,5.2,3.8,0.6]
["KS201021","KS","2010-07-18",{"$f":"COUNTIF(Calculations!$E$56:$E$98,\"<=\"&DATE(2006,MONTH(C2475),DAY(C2475)))","v":21},null,6.4,5.5,5.2,6.3,5.4,4.7,6.1,5.3,3.3]
["KS201022","KS","2010-07-25",{"$f":"COUNTIF(Calculations!$E$56:$E$98,\"<=\"&DATE(2006,MONTH(C2476),DAY(C2476)))","v":22},null,6.2,3.9,4.7,5.8,5.0999999999999996,4.5999999999999996,6.4,6.1,6.4]
["KS201023","KS","2010-08-01",{"$f":"COUNTIF(Calculations!$E$56:$E$98,\"<=\"&DATE(2006,MONTH(C2477),DAY(C2477)))","v":23},null,6.8,6.1,5.8,6.3,6.6,6.4,6.4,6.8,6.1]
["KS201024","KS","2010-08-08",{"$f":"COUNTIF(Calculations!$E$56:$E$98,\"<=\"&DATE(2006,MONTH(C2478),DAY(C2478)))","v":24},null,4.9000000000000004,5.7,6.6,6.1,6.8,6.9,6.3,6.8,6.5]
["KS201025","KS","2010-08-15",{"$f":"COUNTIF(Calculations!$E$56:$E$98,\"<=\"&DATE(2006,MONTH(C2479),DAY(C2479)))","v":25},null,5.9,6.6,6.4,6.5,6.6,6.3,6.6,6.3,6.8]
["KS201026","KS","2010-08-22",{"$f":"COUNTIF(Calculations!$E$56:$E$98,\"<=\"&DATE(2006,MONTH(C2480),DAY(C2480)))","v":26},null,6.6,6.6,5.0999999999999996,6.3,6.4,6.3,5.8,4.7,5.4]
["KS201027","KS","2010-08-29",{"$f":"COUNTIF(Calculations!$E$56:$E$98,\"<=\"&DATE(2006,MONTH(C2481),DAY(C2481)))","v":27},null,6.7,5.7,6.4,6.1,4.5999999999999996,6.5,6.3,4.4000000000000004,6.7]
["KS201028","KS","2010-09-05",{"$f":"COUNTIF(Calculations!$E$56:$E$98,\"<=\"&DATE(2006,MONTH(C2482),DAY(C2482)))","v":28},null,6.8,5.4,4.5999999999999996,6.8,5.7,5.5,6.8,6.7,4.9000000000000004]
["KS201029","KS","2010-09-12",{"$f":"COUNTIF(Calculations!$E$56:$E$98,\"<=\"&DATE(2006,MONTH(C2483),DAY(C2483)))","v":29},null,6.9,5.9,5.0999999999999996,6.8,6.6,5,7,6.2,4.5999999999999996]
["KS201030","KS","2010-09-19",{"$f":"COUNTIF(Calculations!$E$56:$E$98,\"<=\"&DATE(2006,MONTH(C2484),DAY(C2484)))","v":30},null,5.2,3.8,3.1,6.7,4.0999999999999996,2.9,6.9,6.5,2.8]
["KS201031","KS","2010-09-26",{"$f":"COUNTIF(Calculations!$E$56:$E$98,\"<=\"&DATE(2006,MONTH(C2485),DAY(C2485)))","v":31},null,6.2,4.0999999999999996,3.2,6.4,4.3,4.5,6.4,5.0999999999999996,4.3]
["KS201032","KS","2010-10-03",{"$f":"COUNTIF(Calculations!$E$56:$E$98,\"<=\"&DATE(2006,MONTH(C2486),DAY(C2486)))","v":32},null,6.9,6.4,6.5,6.8,6.2,6.5,6.8,6.7,6.5]
["KS201033","KS","2010-10-10",{"$f":"COUNTIF(Calculations!$E$56:$E$98,\"<=\"&DATE(2006,MONTH(C2487),DAY(C2487)))","v":33},null,6.6,6.9,6.7,6.9,6.7,6.8,6.8,6.2,6.9]
["KS201034","KS","2010-10-17",{"$f":"COUNTIF(Calculations!$E$56:$E$98,\"<=\"&DATE(2006,MONTH(C2488),DAY(C2488)))","v":34},null,6.9,6.3,6.2,6.9,6.3,5.3,7,6,5.0999999999999996]
["KS201035","KS","2010-10-24",{"$f":"COUNTIF(Calculations!$E$56:$E$98,\"<=\"&DATE(2006,MONTH(C2489),DAY(C2489)))","v":35},null,6.4,6.3,5.7,6.3,6.7,5.6,6,6.4,5.8]
["KS201036","KS","2010-10-31",{"$f":"COUNTIF(Calculations!$E$56:$E$98,\"<=\"&DATE(2006,MONTH(C2490),DAY(C2490)))","v":36},null,6.9,6.9,6.3,6.8,6.9,6.5,6.8,6.9,6.9]
["KS201037","KS","2010-11-07",{"$f":"COUNTIF(Calculations!$E$56:$E$98,\"<=\"&DATE(2006,MONTH(C2491),DAY(C2491)))","v":37},null,7,7,6.9,6.9,6.9,6.9,7,6.8,6.9]
["KS201038","KS","2010-11-14",{"$f":"COUNTIF(Calculations!$E$56:$E$98,\"<=\"&DATE(2006,MONTH(C2492),DAY(C2492)))","v":38},null,5.5,4.5999999999999996,4.2,5.4,4.8,4.7,5.0999999999999996,4.0999999999999996,4.4000000000000004]
["KS201039","KS","2010-11-21",{"$f":"COUNTIF(Calculations!$E$56:$E$98,\"<=\"&DATE(2006,MONTH(C2493),DAY(C2493)))","v":39},null,6.1,2.1,2.7,5.8,2.2000000000000002,3.4,5.9,3.2,3.2]
["KS201040","KS","2010-11-28",{"$f":"COUNTIF(Calculations!$E$56:$E$98,\"<=\"&DATE(2006,MONTH(C2494),DAY(C2494)))","v":40},null,6.3,4.2,4.3,6.8,4.9000000000000004,5.4,6.4,5.8,5.0999999999999996]
["KS20112","KS","2011-03-06",{"$f":"COUNTIF(Calculations!$E$56:$E$98,\"<=\"&DATE(2006,MONTH(C2495),DAY(C2495)))","v":2},null,4.2,2.4,1.3,6.1,4,0.9,6.6,6.1,1.9]
["KS20113","KS","2011-03-13",{"$f":"COUNTIF(Calculations!$E$56:$E$98,\"<=\"&DATE(2006,MONTH(C2496),DAY(C2496)))","v":3},null,1.9,2.9,2.4,2.9,3.4,1.7,4.5999999999999996,4.9000000000000004,1.9]
["KS20114","KS","2011-03-20",{"$f":"COUNTIF(Calculations!$E$56:$E$98,\"<=\"&DATE(2006,MONTH(C2497),DAY(C2497)))","v":4},null,5.8,3.6,2.8,6.6,3.3,2.2000000000000002,6.4,5.8,2.2000000000000002]
["KS20115","KS","2011-03-27",{"$f":"COUNTIF(Calculations!$E$56:$E$98,\"<=\"&DATE(2006,MONTH(C2498),DAY(C2498)))","v":5},null,5.3,4.3,3.4,5.7,4.0999999999999996,2.6,5.9,6,3.4]
["KS20116","KS","2011-04-03",{"$f":"COUNTIF(Calculations!$E$56:$E$98,\"<=\"&DATE(2006,MONTH(C2499),DAY(C2499)))","v":6},null,4.5,4.4000000000000004,4.2,5.2,3.1,3.3,5.9,6.4,2.2999999999999998]
["KS20117","KS","2011-04-10",{"$f":"COUNTIF(Calculations!$E$56:$E$98,\"<=\"&DATE(2006,MONTH(C2500),DAY(C2500)))","v":7},null,6.4,5.7,4.5,6.3,5.6,4.7,6.6,6.5,4.7]
["KS20118","KS","2011-04-17",{"$f":"COUNTIF(Calculations!$E$56:$E$98,\"<=\"&DATE(2006,MONTH(C2501),DAY(C2501)))","v":8},null,4.0999999999999996,4.4000000000000004,4.0999999999999996,4.7,5.3,4.7,5.5,5.7,4.9000000000000004]
["KS20119","KS","2011-04-24",{"$f":"COUNTIF(Calculations!$E$56:$E$98,\"<=\"&DATE(2006,MONTH(C2502),DAY(C2502)))","v":9},null,4.7,4.4000000000000004,3.1,5.8,5.7,4.5,6.8,6.4,4.5999999999999996]
["KS201110","KS","2011-05-01",{"$f":"COUNTIF(Calculations!$E$56:$E$98,\"<=\"&DATE(2006,MONTH(C2503),DAY(C2503)))","v":10},null,3.4,4.9000000000000004,3.6,3.7,5.2,4.3,4.9000000000000004,5.2,2.6]
["KS201111","KS","2011-05-08",{"$f":"COUNTIF(Calculations!$E$56:$E$98,\"<=\"&DATE(2006,MONTH(C2504),DAY(C2504)))","v":11},null,6.7,6.6,5.8,6.8,6.9,5.5,6.8,6.7,5]
["KS201112","KS","2011-05-15",{"$f":"COUNTIF(Calculations!$E$56:$E$98,\"<=\"&DATE(2006,MONTH(C2505),DAY(C2505)))","v":12},null,4.9000000000000004,5.4,6,5.9,6.2,5.3,6.1,6.7,4.4000000000000004]
["KS201113","KS","2011-05-22",{"$f":"COUNTIF(Calculations!$E$56:$E$98,\"<=\"&DATE(2006,MONTH(C2506),DAY(C2506)))","v":13},null,3.9,3,4.2,6.1,4.8,3.4,6.1,5.5,3.8]
["KS201114","KS","2011-05-29",{"$f":"COUNTIF(Calculations!$E$56:$E$98,\"<=\"&DATE(2006,MONTH(C2507),DAY(C2507)))","v":14},null,3.3,1.5,1.7,4.4000000000000004,2.9,1.6,6.5,5.4,2]
["KS201115","KS","2011-06-05",{"$f":"COUNTIF(Calculations!$E$56:$E$98,\"<=\"&DATE(2006,MONTH(C2508),DAY(C2508)))","v":15},null,6.3,1.7,2,6.7,4.2,3.8,6.4,6.3,5.5]
["KS201116","KS","2011-06-12",{"$f":"COUNTIF(Calculations!$E$56:$E$98,\"<=\"&DATE(2006,MONTH(C2509),DAY(C2509)))","v":16},null,6.2,5.4,4.8,6.2,6.1,5.5,6.7,6.4,5.7]
["KS201117","KS","2011-06-19",{"$f":"COUNTIF(Calculations!$E$56:$E$98,\"<=\"&DATE(2006,MONTH(C2510),DAY(C2510)))","v":17},null,6.4,4.5999999999999996,4.7,5.0999999999999996,5.2,4.5999999999999996,6.5,5.7,5]
["KS201118","KS","2011-06-26",{"$f":"COUNTIF(Calculations!$E$56:$E$98,\"<=\"&DATE(2006,MONTH(C2511),DAY(C2511)))","v":18},5.8,5,6.3,5.2,5.3,6.7,5.3,6.4,6.6,5.4]
["KS201119","KS","2011-07-03",{"$f":"COUNTIF(Calculations!$E$56:$E$98,\"<=\"&DATE(2006,MONTH(C2512),DAY(C2512)))","v":19},6.6,5.9,6.6,6,6.6,6.8,6.7,6.9,6.8,6.6]
["KS201120","KS","2011-07-10",{"$f":"COUNTIF(Calculations!$E$56:$E$98,\"<=\"&DATE(2006,MONTH(C2513),DAY(C2513)))","v":20},5.7,4.5999999999999996,3.4,4.4000000000000004,5.8,5.2,5.9,6.9,6.9,6.7]
["KS201121","KS","2011-07-17",{"$f":"COUNTIF(Calculations!$E$56:$E$98,\"<=\"&DATE(2006,MONTH(C2514),DAY(C2514)))","v":21},6.5,5.3,6.1,5.6,6.6,6.8,6.6,6.9,6.9,6.8]
[{"$f":"B2515&YEAR(C2515)&D2515","v":"KS201122"},"KS","2011-07-24",{"$f":"COUNTIF(Calculations!$E$56:$E$98,\"<=\"&DATE(2006,MONTH(C2515),DAY(C2515)))","v":22},6.6,5.8,6.6,6.7,5.8,6.7,6.9,6.9,6.5,7]
["KS201123","KS","2011-07-31",{"$f":"COUNTIF(Calculations!$E$56:$E$98,\"<=\"&DATE(2006,MONTH(C2516),DAY(C2516)))","v":23},6.2,5.6,5.5,4.8,5.6,6.6,6.7,6.8,6.6,6.8]
["KS201124","KS","2011-08-07",{"$f":"COUNTIF(Calculations!$E$56:$E$98,\"<=\"&DATE(2006,MONTH(C2517),DAY(C2517)))","v":24},5.4,4.0999999999999996,3.8,4.8,5.2,5.3,6,6.1,6,6.3]
["KS201125","KS","2011-08-14",{"$f":"COUNTIF(Calculations!$E$56:$E$98,\"<=\"&DATE(2006,MONTH(C2518),DAY(C2518)))","v":25},5,4.3,3.5,4.5999999999999996,6.3,4.2,5.5,6.2,5.7,4.3]
["KS201126","KS","2011-08-21",{"$f":"COUNTIF(Calculations!$E$56:$E$98,\"<=\"&DATE(2006,MONTH(C2519),DAY(C2519)))","v":26},5.9,5.9,5.2,3.8,6.2,6.4,5.8,6.6,6.2,6.6]
["KS201127","KS","2011-08-28",{"$f":"COUNTIF(Calculations!$E$56:$E$98,\"<=\"&DATE(2006,MONTH(C2520),DAY(C2520)))","v":27},6.6,6.9,6.4,4.5999999999999996,6.6,6.9,6.8,6.9,6.8,6.9]
["KS201128","KS","2011-09-04",{"$f":"COUNTIF(Calculations!$E$56:$E$98,\"<=\"&DATE(2006,MONTH(C2521),DAY(C2521)))","v":28},6.6,6.4,5.7,5.9,6.8,6.8,6.9,6.9,6.8,7]
["KS201129","KS","2011-09-11",{"$f":"COUNTIF(Calculations!$E$56:$E$98,\"<=\"&DATE(2006,MONTH(C2522),DAY(C2522)))","v":29},6.7,6.9,6.7,5.9,6.9,7,6.5,6.9,6.9,7]
["KS201130","KS","2011-09-18",{"$f":"COUNTIF(Calculations!$E$56:$E$98,\"<=\"&DATE(2006,MONTH(C2523),DAY(C2523)))","v":30},5.7,5.6,5,4.8,5.7,6.2,5.7,6.1,6.1,5.7]
["KS201131","KS","2011-09-25",{"$f":"COUNTIF(Calculations!$E$56:$E$98,\"<=\"&DATE(2006,MONTH(C2524),DAY(C2524)))","v":31},6.3,6.8,6.4,6.3,6.7,5.8,6.3,6.7,6.6,5.3]
["KS201132","KS","2011-10-02",{"$f":"COUNTIF(Calculations!$E$56:$E$98,\"<=\"&DATE(2006,MONTH(C2525),DAY(C2525)))","v":32},6.9,7,6.9,6.8,6.9,7,7,6.9,6.9,6.9]
["KS201133","KS","2011-10-09",{"$f":"COUNTIF(Calculations!$E$56:$E$98,\"<=\"&DATE(2006,MONTH(C2526),DAY(C2526)))","v":33},5.9,4.9000000000000004,5.4,6.5,4.8,6.1,6.4,5.8,5.6,6.8]
["KS201134","KS","2011-10-16",{"$f":"COUNTIF(Calculations!$E$56:$E$98,\"<=\"&DATE(2006,MONTH(C2527),DAY(C2527)))","v":34},5.6,4.7,5.3,5.7,4.9000000000000004,5,6.1,6.1,5.9,6.2]
["KS201135","KS","2011-10-23",{"$f":"COUNTIF(Calculations!$E$56:$E$98,\"<=\"&DATE(2006,MONTH(C2528),DAY(C2528)))","v":35},6.6,6.2,6.4,6.3,6.2,6.6,6.8,6.9,6.9,6.5]
["KS201136","KS","2011-10-30",{"$f":"COUNTIF(Calculations!$E$56:$E$98,\"<=\"&DATE(2006,MONTH(C2529),DAY(C2529)))","v":36},6.7,5.7,6.9,6.8,6.4,6.8,6.7,6.5,6.9,6.9]
["KS201137","KS","2011-11-06",{"$f":"COUNTIF(Calculations!$E$56:$E$98,\"<=\"&DATE(2006,MONTH(C2530),DAY(C2530)))","v":37},5.7,4.9000000000000004,5.5,5.7,5,5.9,5.7,5.6,6.3,5.8]
["KS201138","KS","2011-11-13",{"$f":"COUNTIF(Calculations!$E$56:$E$98,\"<=\"&DATE(2006,MONTH(C2531),DAY(C2531)))","v":38},4.0999999999999996,5.9,4.2,2.1,5.9,3.2,3.5,5.2,4.8,3.1]
["KS201139","KS","2011-11-20",{"$f":"COUNTIF(Calculations!$E$56:$E$98,\"<=\"&DATE(2006,MONTH(C2532),DAY(C2532)))","v":39},5.9,6,5.2,5.5,6.6,5.8,5.3,6.7,6.3,5.5]
["KS201140","KS","2011-11-27",{"$f":"COUNTIF(Calculations!$E$56:$E$98,\"<=\"&DATE(2006,MONTH(C2533),DAY(C2533)))","v":40},5.5,6.9,5.9,4.0999999999999996,6.8,6.1,5,6,5.2,4.2]
["KS20122","KS","2012-03-04",{"$f":"COUNTIF(Calculations!$E$56:$E$98,\"<=\"&DATE(2006,MONTH(C2534),DAY(C2534)))","v":2},5.2,6.3,4.9000000000000004,4.2,5.9,6.1,4.0999999999999996,6.1,5.5,4.0999999999999996]
["KS20123","KS","2012-03-11",{"$f":"COUNTIF(Calculations!$E$56:$E$98,\"<=\"&DATE(2006,MONTH(C2535),DAY(C2535)))","v":3},5.0999999999999996,6.4,6.1,4.9000000000000004,5.9,5.6,4.0999999999999996,5.8,5.0999999999999996,3.3]
["KS20124","KS","2012-03-18",{"$f":"COUNTIF(Calculations!$E$56:$E$98,\"<=\"&DATE(2006,MONTH(C2536),DAY(C2536)))","v":4},5.8,6.6,6.6,5.0999999999999996,6.6,6.7,5,6.8,6.2,3.3]
["KS20125","KS","2012-03-25",{"$f":"COUNTIF(Calculations!$E$56:$E$98,\"<=\"&DATE(2006,MONTH(C2537),DAY(C2537)))","v":5},1.9,3.9,2.2999999999999998,0.7,3.3,1.5,0.6,3.5,1.6,0.5]
["KS20126","KS","2012-04-01",{"$f":"COUNTIF(Calculations!$E$56:$E$98,\"<=\"&DATE(2006,MONTH(C2538),DAY(C2538)))","v":6},5,6.9,5.8,3.9,6.5,5.0999999999999996,3.4,6.1,5.3,3.7]
["KS20127","KS","2012-04-08",{"$f":"COUNTIF(Calculations!$E$56:$E$98,\"<=\"&DATE(2006,MONTH(C2539),DAY(C2539)))","v":7},3.5,2.6,2.9,3.5,2.4,3,3.8,3.6,3.7,5]
["KS20128","KS","2012-04-15",{"$f":"COUNTIF(Calculations!$E$56:$E$98,\"<=\"&DATE(2006,MONTH(C2540),DAY(C2540)))","v":8},4.0999999999999996,4.5,4.4000000000000004,3.7,4.2,3.7,4.3,4.3,4,4.4000000000000004]
["KS20129","KS","2012-04-22",{"$f":"COUNTIF(Calculations!$E$56:$E$98,\"<=\"&DATE(2006,MONTH(C2541),DAY(C2541)))","v":9},5.6,5.7,5.2,5.2,6.3,4.8,6.1,5.9,5.5,5.2]
["KS201210","KS","2012-04-29",{"$f":"COUNTIF(Calculations!$E$56:$E$98,\"<=\"&DATE(2006,MONTH(C2542),DAY(C2542)))","v":10},5.6,4.4000000000000004,4.8,5.2,6.2,5.8,5.6,6.1,5.9,6.1]
["KS201211","KS","2012-05-06",{"$f":"COUNTIF(Calculations!$E$56:$E$98,\"<=\"&DATE(2006,MONTH(C2543),DAY(C2543)))","v":11},5,6.6,5.6,4.5999999999999996,6.8,6.6,4,5.9,5,2]
["KS201212","KS","2012-05-13",{"$f":"COUNTIF(Calculations!$E$56:$E$98,\"<=\"&DATE(2006,MONTH(C2544),DAY(C2544)))","v":12},6.2,6.6,6.7,6.1,6.9,6.9,5.4,6.7,6.5,4.8]
["KS201213","KS","2012-05-20",{"$f":"COUNTIF(Calculations!$E$56:$E$98,\"<=\"&DATE(2006,MONTH(C2545),DAY(C2545)))","v":13},6.9,6.8,7,6.7,6.9,7,6.7,6.9,6.9,6.9]
["KS201214","KS","2012-05-27",{"$f":"COUNTIF(Calculations!$E$56:$E$98,\"<=\"&DATE(2006,MONTH(C2546),DAY(C2546)))","v":14},6.7,6.4,6.8,6.9,6.7,6.9,6.3,6.8,6.8,7]
["KS201215","KS","2012-06-03",{"$f":"COUNTIF(Calculations!$E$56:$E$98,\"<=\"&DATE(2006,MONTH(C2547),DAY(C2547)))","v":15},5.6,6.9,5.5,6,6.4,5,5.3,6.2,5.0999999999999996,5]
["KS201216","KS","2012-06-10",{"$f":"COUNTIF(Calculations!$E$56:$E$98,\"<=\"&DATE(2006,MONTH(C2548),DAY(C2548)))","v":16},6.7,6.9,6.8,7,6.8,6.9,6.9,6.7,6.5,6.3]
["KS201217","KS","2012-06-17",{"$f":"COUNTIF(Calculations!$E$56:$E$98,\"<=\"&DATE(2006,MONTH(C2549),DAY(C2549)))","v":17},5.6,6.3,4.7,5.5,5.9,5,5.7,6,5.5,6.1]
["KS201218","KS","2012-06-24",{"$f":"COUNTIF(Calculations!$E$56:$E$98,\"<=\"&DATE(2006,MONTH(C2550),DAY(C2550)))","v":18},5.7,7,4.8,4.0999999999999996,7,5.7,5.4,6.6,5.6,5.5]
["KS201220","KS","2012-07-08",{"$f":"COUNTIF(Calculations!$E$56:$E$98,\"<=\"&DATE(2006,MONTH(C2551),DAY(C2551)))","v":20},6.8,6.4,6.8,6.4,6.7,6.7,6.9,6.8,6.9,6.9]
["KS201221","KS","2012-07-15",{"$f":"COUNTIF(Calculations!$E$56:$E$98,\"<=\"&DATE(2006,MONTH(C2552),DAY(C2552)))","v":21},6.5,6.1,6.5,6.1,6.8,6.6,6.6,6.2,6.6,6.8]
["KS201222","KS","2012-07-22",{"$f":"COUNTIF(Calculations!$E$56:$E$98,\"<=\"&DATE(2006,MONTH(C2553),DAY(C2553)))","v":22},6.9,7,6.9,6.7,7,7,6.8,6.9,6.9,6.9]
["KS201223","KS","2012-07-29",{"$f":"COUNTIF(Calculations!$E$56:$E$98,\"<=\"&DATE(2006,MONTH(C2554),DAY(C2554)))","v":23},6.7,6.8,5.7,6.7,6.9,6.4,6.8,6.7,7,7]
["KS201224","KS","2012-08-05",{"$f":"COUNTIF(Calculations!$E$56:$E$98,\"<=\"&DATE(2006,MONTH(C2555),DAY(C2555)))","v":24},6.6,6.3,5.6,6.5,6.8,6.7,6.8,6.6,6.9,6.9]
["KS201225","KS","2012-08-12",{"$f":"COUNTIF(Calculations!$E$56:$E$98,\"<=\"&DATE(2006,MONTH(C2556),DAY(C2556)))","v":25},6.9,6.9,6.7,6.9,7,6.6,7,6.8,6.9,7]
["KS201226","KS","2012-08-19",{"$f":"COUNTIF(Calculations!$E$56:$E$98,\"<=\"&DATE(2006,MONTH(C2557),DAY(C2557)))","v":26},6.7,7,6.6,7,6.3,6.4,6.8,6.7,6.7,6.8]
["KS201227","KS","2012-08-26",{"$f":"COUNTIF(Calculations!$E$56:$E$98,\"<=\"&DATE(2006,MONTH(C2558),DAY(C2558)))","v":27},5.3,5.5,4.8,4.7,4.8,4.8,5.2,5.8,5.5,6.1]
["KS201228","KS","2012-09-02",{"$f":"COUNTIF(Calculations!$E$56:$E$98,\"<=\"&DATE(2006,MONTH(C2559),DAY(C2559)))","v":28},5.9,7,6,4.9000000000000004,6.6,5.7,5,6.1,6.6,5.8]
["KS201229","KS","2012-09-09",{"$f":"COUNTIF(Calculations!$E$56:$E$98,\"<=\"&DATE(2006,MONTH(C2560),DAY(C2560)))","v":29},5.9,6.9,5.9,6.1,6.3,5.4,5.4,6.6,5.5,5.4]
["KS201230","KS","2012-09-16",{"$f":"COUNTIF(Calculations!$E$56:$E$98,\"<=\"&DATE(2006,MONTH(C2561),DAY(C2561)))","v":30},5.2,6.6,4.5999999999999996,4.7,6.2,4.9000000000000004,4.7,6.1,5.4,4.5]
["KS201231","KS","2012-09-23",{"$f":"COUNTIF(Calculations!$E$56:$E$98,\"<=\"&DATE(2006,MONTH(C2562),DAY(C2562)))","v":31},6.6,7,6.7,6.7,6.9,6.6,6.5,6.9,6.9,5.4]
["KS201232","KS","2012-09-30",{"$f":"COUNTIF(Calculations!$E$56:$E$98,\"<=\"&DATE(2006,MONTH(C2563),DAY(C2563)))","v":32},5.4,6.4,6,6.4,5.0999999999999996,5.2,4.8,4.5999999999999996,6.2,4.7]
["KS201233","KS","2012-10-07",{"$f":"COUNTIF(Calculations!$E$56:$E$98,\"<=\"&DATE(2006,MONTH(C2564),DAY(C2564)))","v":33},6.2,5.3,6.5,6.1,5.9,6.7,6.2,5.8,6.5,6.5]
["KS201234","KS","2012-10-14",{"$f":"COUNTIF(Calculations!$E$56:$E$98,\"<=\"&DATE(2006,MONTH(C2565),DAY(C2565)))","v":34},5.5,5.7,5.6,5.2,5.7,5.4,5.3,5.5,6.1,5.3]
["KS201235","KS","2012-10-21",{"$f":"COUNTIF(Calculations!$E$56:$E$98,\"<=\"&DATE(2006,MONTH(C2566),DAY(C2566)))","v":35},6,6.2,5.6,6.2,6.4,5.6,6.1,6.4,6.2,5.7]
["KS201236","KS","2012-10-28",{"$f":"COUNTIF(Calculations!$E$56:$E$98,\"<=\"&DATE(2006,MONTH(C2567),DAY(C2567)))","v":36},6.4,6.5,5.2,6.4,6.4,6.6,6.2,6.8,6.8,6.5]
["KS201237","KS","2012-11-04",{"$f":"COUNTIF(Calculations!$E$56:$E$98,\"<=\"&DATE(2006,MONTH(C2568),DAY(C2568)))","v":37},6.9,6.8,6.8,6.7,6.9,7,6.9,6.9,7,6.7]
["KS201238","KS","2012-11-11",{"$f":"COUNTIF(Calculations!$E$56:$E$98,\"<=\"&DATE(2006,MONTH(C2569),DAY(C2569)))","v":38},6.4,6.7,6.4,5.8,6.6,6.6,6.2,6.8,6.6,6.2]
["KS201239","KS","2012-11-18",{"$f":"COUNTIF(Calculations!$E$56:$E$98,\"<=\"&DATE(2006,MONTH(C2570),DAY(C2570)))","v":39},6.2,7,6.3,5.7,7,6.1,6,6.9,6.5,5.3]
["KS201240","KS","2012-11-25",{"$f":"COUNTIF(Calculations!$E$56:$E$98,\"<=\"&DATE(2006,MONTH(C2571),DAY(C2571)))","v":40},6.8,7,6.9,6.5,7,6.9,6.6,6.7,7,6.5]
["IL 201028","IL ","2010-09-05",{"$f":"COUNTIF(Calculations!$E$56:$E$98,\"<=\"&DATE(2006,MONTH(C2572),DAY(C2572)))","v":28},5.3,5.6,4.9000000000000004,4.4000000000000004,5.3,4.9000000000000004,5.3,5.4,6.2,6.8]
["IL 20117","IL ","2011-04-10",{"$f":"COUNTIF(Calculations!$E$56:$E$98,\"<=\"&DATE(2006,MONTH(C2573),DAY(C2573)))","v":7},4,3.2,4.2,4.0999999999999996,4.4000000000000004,4.3,4.0999999999999996,3.7,4.9000000000000004,4.8]
["IL 201124","IL ","2011-08-07",{"$f":"COUNTIF(Calculations!$E$56:$E$98,\"<=\"&DATE(2006,MONTH(C2574),DAY(C2574)))","v":24},6.3,6.4,5.8,6.8,7,6.7,6.1,6,5.9,6.8]
["IL19808","IL","1980-04-18",{"$f":"COUNTIF(Calculations!$E$56:$E$98,\"<=\"&DATE(2006,MONTH(C2575),DAY(C2575)))","v":8},1,1,1.5,1.5,0.5,1,1,1,1,0.5]
["IL19809","IL","1980-04-25",{"$f":"COUNTIF(Calculations!$E$56:$E$98,\"<=\"&DATE(2006,MONTH(C2576),DAY(C2576)))","v":9},5.75,6.5,6,6.5,6,6,6,5,5,5]
["IL198010","IL","1980-05-02",{"$f":"COUNTIF(Calculations!$E$56:$E$98,\"<=\"&DATE(2006,MONTH(C2577),DAY(C2577)))","v":10},5,6,4.5,7,4.5,4,6,5,6.5,5.5]
["IL198011","IL","1980-05-09",{"$f":"COUNTIF(Calculations!$E$56:$E$98,\"<=\"&DATE(2006,MONTH(C2578),DAY(C2578)))","v":11},7,7,7,7,7,7,7,7,7,7]
[{"$f":"B2579&YEAR(C2579)&D2579","v":"IL198012"},"IL","1980-05-16",{"$f":"COUNTIF(Calculations!$E$56:$E$98,\"<=\"&DATE(2006,MONTH(C2579),DAY(C2579)))","v":12},5.25,6.5,6.5,5.5,4.5,4,5,4.5,5.5,4.5]
["IL198013","IL","1980-05-23",{"$f":"COUNTIF(Calculations!$E$56:$E$98,\"<=\"&DATE(2006,MONTH(C2580),DAY(C2580)))","v":13},3.75,4.5,4.5,3,3,2.5,3.5,3.5,4,4.5]
["IL198014","IL","1980-05-30",{"$f":"COUNTIF(Calculations!$E$56:$E$98,\"<=\"&DATE(2006,MONTH(C2581),DAY(C2581)))","v":14},5,4.5,5,5,5,4,5.5,4.5,5.5,5.5]
["IL198015","IL","1980-06-06",{"$f":"COUNTIF(Calculations!$E$56:$E$98,\"<=\"&DATE(2006,MONTH(C2582),DAY(C2582)))","v":15},2.75,2.5,2,1,1,1,2,4,6,7]
["IL198016","IL","1980-06-13",{"$f":"COUNTIF(Calculations!$E$56:$E$98,\"<=\"&DATE(2006,MONTH(C2583),DAY(C2583)))","v":16},5.75,5.5,5,5.5,5.5,4,6,6.5,7,7]
["IL198017","IL","1980-06-20",{"$f":"COUNTIF(Calculations!$E$56:$E$98,\"<=\"&DATE(2006,MONTH(C2584),DAY(C2584)))","v":17},5.75,5,5.5,4.5,5,5,6.5,6.5,7,6.5]
["IL198018","IL","1980-06-27",{"$f":"COUNTIF(Calculations!$E$56:$E$98,\"<=\"&DATE(2006,MONTH(C2585),DAY(C2585)))","v":18},6,6.5,7,7,6.5,5.5,6,5,5.5,5.5]
["IL198019","IL","1980-07-04",{"$f":"COUNTIF(Calculations!$E$56:$E$98,\"<=\"&DATE(2006,MONTH(C2586),DAY(C2586)))","v":19},5.5,6.5,6.5,6,6,6.5,5.5,4.5,4,4]
["IL198020","IL","1980-07-11",{"$f":"COUNTIF(Calculations!$E$56:$E$98,\"<=\"&DATE(2006,MONTH(C2587),DAY(C2587)))","v":20},5.5,5,4.5,5.5,6.5,6,5,6,6.5,5]
["IL198021","IL","1980-07-18",{"$f":"COUNTIF(Calculations!$E$56:$E$98,\"<=\"&DATE(2006,MONTH(C2588),DAY(C2588)))","v":21},6.5,5.5,6,6.5,6.5,7,6.5,7,7,7]
["IL198022","IL","1980-07-25",{"$f":"COUNTIF(Calculations!$E$56:$E$98,\"<=\"&DATE(2006,MONTH(C2589),DAY(C2589)))","v":22},6.5,6.5,6.5,6.5,6.5,7,6.5,5.5,6.5,6.5]
["IL198023","IL","1980-08-01",{"$f":"COUNTIF(Calculations!$E$56:$E$98,\"<=\"&DATE(2006,MONTH(C2590),DAY(C2590)))","v":23},6.25,5.5,5,7,6.5,6.5,6.5,6,6.5,6]
["IL198024","IL","1980-08-08",{"$f":"COUNTIF(Calculations!$E$56:$E$98,\"<=\"&DATE(2006,MONTH(C2591),DAY(C2591)))","v":24},6,5,5,6,6.5,7,5.5,6,6.5,6.5]
["IL198025","IL","1980-08-15",{"$f":"COUNTIF(Calculations!$E$56:$E$98,\"<=\"&DATE(2006,MONTH(C2592),DAY(C2592)))","v":25},5,3.5,2.5,4.5,3.5,5,6,5.5,6.5,7]
["IL198026","IL","1980-08-22",{"$f":"COUNTIF(Calculations!$E$56:$E$98,\"<=\"&DATE(2006,MONTH(C2593),DAY(C2593)))","v":26},4.25,2.5,1.5,4.5,3.5,4,4.5,4.5,6,7]
["IL198027","IL","1980-08-29",{"$f":"COUNTIF(Calculations!$E$56:$E$98,\"<=\"&DATE(2006,MONTH(C2594),DAY(C2594)))","v":27},6.75,6.5,7,7,7,7,7,6.5,7,7]
["IL198028","IL","1980-09-05",{"$f":"COUNTIF(Calculations!$E$56:$E$98,\"<=\"&DATE(2006,MONTH(C2595),DAY(C2595)))","v":28},4,3,3.5,3,3.5,3.5,4.5,3.5,5.5,6.5]
["IL198029","IL","1980-09-12",{"$f":"COUNTIF(Calculations!$E$56:$E$98,\"<=\"&DATE(2006,MONTH(C2596),DAY(C2596)))","v":29},5,3,1.5,4.5,5,5,5.5,6,6.5,7]
["IL198030","IL","1980-09-19",{"$f":"COUNTIF(Calculations!$E$56:$E$98,\"<=\"&DATE(2006,MONTH(C2597),DAY(C2597)))","v":30},3.75,4,2,3.5,4,3.5,3.5,4,5.5,5.5]
["IL198031","IL","1980-09-26",{"$f":"COUNTIF(Calculations!$E$56:$E$98,\"<=\"&DATE(2006,MONTH(C2598),DAY(C2598)))","v":31},5.75,5,4.5,7,6.5,6,6.5,5.5,6,5.5]
["IL198032","IL","1980-10-03",{"$f":"COUNTIF(Calculations!$E$56:$E$98,\"<=\"&DATE(2006,MONTH(C2599),DAY(C2599)))","v":32},6.5,6,6.5,7,6.5,6.5,6.5,7,7,7]
["IL198033","IL","1980-10-10",{"$f":"COUNTIF(Calculations!$E$56:$E$98,\"<=\"&DATE(2006,MONTH(C2600),DAY(C2600)))","v":33},7,7,7,7,7,7,7,7,7,6.5]
["IL198034","IL","1980-10-17",{"$f":"COUNTIF(Calculations!$E$56:$E$98,\"<=\"&DATE(2006,MONTH(C2601),DAY(C2601)))","v":34},5.5,5.5,4.5,5.5,5.5,6,6,6,6,6.5]
["IL198035","IL","1980-10-24",{"$f":"COUNTIF(Calculations!$E$56:$E$98,\"<=\"&DATE(2006,MONTH(C2602),DAY(C2602)))","v":35},6,6,5.5,6.5,5.5,6.5,6,6,6,6.5]
["IL198036","IL","1980-10-31",{"$f":"COUNTIF(Calculations!$E$56:$E$98,\"<=\"&DATE(2006,MONTH(C2603),DAY(C2603)))","v":36},4.5,5,6,5.5,4,4.5,4.5,3.5,3.5,4]
["IL198037","IL","1980-11-07",{"$f":"COUNTIF(Calculations!$E$56:$E$98,\"<=\"&DATE(2006,MONTH(C2604),DAY(C2604)))","v":37},7,7,6.5,7,6.5,7,7,7,7,7]
["IL198038","IL","1980-11-14",{"$f":"COUNTIF(Calculations!$E$56:$E$98,\"<=\"&DATE(2006,MONTH(C2605),DAY(C2605)))","v":38},6.5,6,6.5,6.5,6,6.5,6,6,7,7]
["IL19816","IL","1981-04-03",{"$f":"COUNTIF(Calculations!$E$56:$E$98,\"<=\"&DATE(2006,MONTH(C2606),DAY(C2606)))","v":6},6,6.5,7,6,5.5,6,5.5,6.5,6.5,6.5]
["IL19817","IL","1981-04-10",{"$f":"COUNTIF(Calculations!$E$56:$E$98,\"<=\"&DATE(2006,MONTH(C2607),DAY(C2607)))","v":7},5.5,4.5,6,5,5.5,5,6,5,6,6]
["IL19818","IL","1981-04-17",{"$f":"COUNTIF(Calculations!$E$56:$E$98,\"<=\"&DATE(2006,MONTH(C2608),DAY(C2608)))","v":8},2.75,2,1.5,1,1.5,0.5,1.5,3.5,5.5,6]
["IL19819","IL","1981-04-24",{"$f":"COUNTIF(Calculations!$E$56:$E$98,\"<=\"&DATE(2006,MONTH(C2609),DAY(C2609)))","v":9},1.25,2,2,0,0.5,0.5,0.5,1.5,2.5,3]
["IL198110","IL","1981-05-01",{"$f":"COUNTIF(Calculations!$E$56:$E$98,\"<=\"&DATE(2006,MONTH(C2610),DAY(C2610)))","v":10},3.5,1.5,1.5,2.5,2.5,1.5,5,3.5,6.5,7]
["IL198111","IL","1981-05-08",{"$f":"COUNTIF(Calculations!$E$56:$E$98,\"<=\"&DATE(2006,MONTH(C2611),DAY(C2611)))","v":11},4.25,4,4.5,4.5,4,3,5,3.5,4.5,5]
["IL198112","IL","1981-05-15",{"$f":"COUNTIF(Calculations!$E$56:$E$98,\"<=\"&DATE(2006,MONTH(C2612),DAY(C2612)))","v":12},1,3,1,1,0.5,0.5,0.5,0.5,1,0]
["IL198113","IL","1981-05-22",{"$f":"COUNTIF(Calculations!$E$56:$E$98,\"<=\"&DATE(2006,MONTH(C2613),DAY(C2613)))","v":13},2.25,6.5,5.5,2,1,1.5,1,0,0.5,0]
["IL198114","IL","1981-05-29",{"$f":"COUNTIF(Calculations!$E$56:$E$98,\"<=\"&DATE(2006,MONTH(C2614),DAY(C2614)))","v":14},3,5.5,5.5,2,3.5,4,2,1,1.5,0.5]
["IL198115","IL","1981-06-05",{"$f":"COUNTIF(Calculations!$E$56:$E$98,\"<=\"&DATE(2006,MONTH(C2615),DAY(C2615)))","v":15},4.25,6.5,6.5,5,4.5,5,4,2,0.5,0.5]
["IL198116","IL","1981-06-12",{"$f":"COUNTIF(Calculations!$E$56:$E$98,\"<=\"&DATE(2006,MONTH(C2616),DAY(C2616)))","v":16},3.75,5.5,5,4.5,4.5,5.5,3.5,3,2,1]
["IL198117","IL","1981-06-19",{"$f":"COUNTIF(Calculations!$E$56:$E$98,\"<=\"&DATE(2006,MONTH(C2617),DAY(C2617)))","v":17},3.75,4,2.5,3.5,3,3,3,4,4.5,6]
["IL198118","IL","1981-06-26",{"$f":"COUNTIF(Calculations!$E$56:$E$98,\"<=\"&DATE(2006,MONTH(C2618),DAY(C2618)))","v":18},3.25,3.5,4,1.5,1.5,3,2,5.5,3.5,3]
["IL198119","IL","1981-07-03",{"$f":"COUNTIF(Calculations!$E$56:$E$98,\"<=\"&DATE(2006,MONTH(C2619),DAY(C2619)))","v":19},5.5,5.5,6,3.5,4.5,5.5,5.5,6,6.5,6.5]
["IL198120","IL","1981-07-10",{"$f":"COUNTIF(Calculations!$E$56:$E$98,\"<=\"&DATE(2006,MONTH(C2620),DAY(C2620)))","v":20},4.75,6.5,7,3.5,4.5,4.5,4.5,4.5,3.5,3.5]
["IL198121","IL","1981-07-17",{"$f":"COUNTIF(Calculations!$E$56:$E$98,\"<=\"&DATE(2006,MONTH(C2621),DAY(C2621)))","v":21},5,6,5.5,4,4,5,4.5,6,5,5.5]
["IL198122","IL","1981-07-24",{"$f":"COUNTIF(Calculations!$E$56:$E$98,\"<=\"&DATE(2006,MONTH(C2622),DAY(C2622)))","v":22},3.75,6.5,5.5,3,3.5,3.5,2,5,1.5,2]
["IL198123","IL","1981-07-31",{"$f":"COUNTIF(Calculations!$E$56:$E$98,\"<=\"&DATE(2006,MONTH(C2623),DAY(C2623)))","v":23},2.75,3.5,3,2.5,1.5,3,2.5,3.5,2.5,3]
["IL198124","IL","1981-08-07",{"$f":"COUNTIF(Calculations!$E$56:$E$98,\"<=\"&DATE(2006,MONTH(C2624),DAY(C2624)))","v":24},3.25,3,2.5,3.5,1,3,3,3,5,6]
["IL198125","IL","1981-08-14",{"$f":"COUNTIF(Calculations!$E$56:$E$98,\"<=\"&DATE(2006,MONTH(C2625),DAY(C2625)))","v":25},5,5,3.5,5.5,3.5,4.5,6,4.5,6,7]
["IL198126","IL","1981-08-21",{"$f":"COUNTIF(Calculations!$E$56:$E$98,\"<=\"&DATE(2006,MONTH(C2626),DAY(C2626)))","v":26},5.5,5.5,6,6,4.5,5,6,4.5,5.5,6.5]
["IL198127","IL","1981-08-28",{"$f":"COUNTIF(Calculations!$E$56:$E$98,\"<=\"&DATE(2006,MONTH(C2627),DAY(C2627)))","v":27},3.75,2.5,3,5,3.5,2.5,5,3,4.5,5.5]
["IL198128","IL","1981-09-04",{"$f":"COUNTIF(Calculations!$E$56:$E$98,\"<=\"&DATE(2006,MONTH(C2628),DAY(C2628)))","v":28},3,3.5,2,5.5,3.5,1,3.5,1.5,2.5,3.5]
["IL198129","IL","1981-09-11",{"$f":"COUNTIF(Calculations!$E$56:$E$98,\"<=\"&DATE(2006,MONTH(C2629),DAY(C2629)))","v":29},5,5,4.5,5.5,5,4,5,4,5.5,6]
["IL198130","IL","1981-09-18",{"$f":"COUNTIF(Calculations!$E$56:$E$98,\"<=\"&DATE(2006,MONTH(C2630),DAY(C2630)))","v":30},5.5,6.5,7,7,6,5.5,5.5,3,4,5]
["IL198131","IL","1981-09-25",{"$f":"COUNTIF(Calculations!$E$56:$E$98,\"<=\"&DATE(2006,MONTH(C2631),DAY(C2631)))","v":31},6.5,6.5,6,6.5,6.5,6.5,6.5,6,7,7]
["IL198132","IL","1981-10-02",{"$f":"COUNTIF(Calculations!$E$56:$E$98,\"<=\"&DATE(2006,MONTH(C2632),DAY(C2632)))","v":32},5,3,4.5,4.5,4,3,7,5.5,5,7]
["IL198133","IL","1981-10-09",{"$f":"COUNTIF(Calculations!$E$56:$E$98,\"<=\"&DATE(2006,MONTH(C2633),DAY(C2633)))","v":33},5.5,4.5,6.5,5.5,5,4,6,5.5,5,6.5]
["IL198134","IL","1981-10-16",{"$f":"COUNTIF(Calculations!$E$56:$E$98,\"<=\"&DATE(2006,MONTH(C2634),DAY(C2634)))","v":34},4.25,4,4.5,3.5,4,4,4,5.5,2.5,7]
["IL198135","IL","1981-10-23",{"$f":"COUNTIF(Calculations!$E$56:$E$98,\"<=\"&DATE(2006,MONTH(C2635),DAY(C2635)))","v":35},4,3.5,4,5,5,4,4.5,3.5,2.5,3.5]
["IL198136","IL","1981-10-30",{"$f":"COUNTIF(Calculations!$E$56:$E$98,\"<=\"&DATE(2006,MONTH(C2636),DAY(C2636)))","v":36},5.25,6,7,6,6,6,5.5,4,2.5,4.5]
["IL198137","IL","1981-11-06",{"$f":"COUNTIF(Calculations!$E$56:$E$98,\"<=\"&DATE(2006,MONTH(C2637),DAY(C2637)))","v":37},3.5,3,4.5,2,3.5,4.5,3,3.5,2.5,4]
["IL198138","IL","1981-11-13",{"$f":"COUNTIF(Calculations!$E$56:$E$98,\"<=\"&DATE(2006,MONTH(C2638),DAY(C2638)))","v":38},6,7,7,6.5,6,6.5,5.5,6,4,5]
["IL198139","IL","1981-11-20",{"$f":"COUNTIF(Calculations!$E$56:$E$98,\"<=\"&DATE(2006,MONTH(C2639),DAY(C2639)))","v":39},5,6,6,4.5,4.5,5.5,5,4.5,3.5,4.5]
["IL198140","IL","1981-11-27",{"$f":"COUNTIF(Calculations!$E$56:$E$98,\"<=\"&DATE(2006,MONTH(C2640),DAY(C2640)))","v":40},3.5,3,2.5,3,3.5,2.5,4,3.5,3.5,7]
["IL198210","IL","1982-04-30",{"$f":"COUNTIF(Calculations!$E$56:$E$98,\"<=\"&DATE(2006,MONTH(C2641),DAY(C2641)))","v":10},6,7,6.5,6,6,5.5,5,6,5.5,6.5]
["IL198211","IL","1982-05-07",{"$f":"COUNTIF(Calculations!$E$56:$E$98,\"<=\"&DATE(2006,MONTH(C2642),DAY(C2642)))","v":11},6,5.5,6.5,7,6,6.5,6,6,6,6]
[{"$f":"B2643&YEAR(C2643)&D2643","v":"IL198212"},"IL","1982-05-14",{"$f":"COUNTIF(Calculations!$E$56:$E$98,\"<=\"&DATE(2006,MONTH(C2643),DAY(C2643)))","v":12},6.5,6.5,7,7,7,7,7,6.5,6,5.5]
["IL198213","IL","1982-05-21",{"$f":"COUNTIF(Calculations!$E$56:$E$98,\"<=\"&DATE(2006,MONTH(C2644),DAY(C2644)))","v":13},5.5,5,4,5.5,5,5,6,6.5,6.5,5.5]
["IL198214","IL","1982-05-28",{"$f":"COUNTIF(Calculations!$E$56:$E$98,\"<=\"&DATE(2006,MONTH(C2645),DAY(C2645)))","v":14},3,2,1.5,2,2,2,4,4,5,4]
["IL198215","IL","1982-06-04",{"$f":"COUNTIF(Calculations!$E$56:$E$98,\"<=\"&DATE(2006,MONTH(C2646),DAY(C2646)))","v":15},1.5,3,4,1.5,1,1,1.5,1,1.5,0.5]
["IL198216","IL","1982-06-11",{"$f":"COUNTIF(Calculations!$E$56:$E$98,\"<=\"&DATE(2006,MONTH(C2647),DAY(C2647)))","v":16},3.25,6.5,7,3.5,4,4,1.5,1,0.5,1.5]
["IL198217","IL","1982-06-18",{"$f":"COUNTIF(Calculations!$E$56:$E$98,\"<=\"&DATE(2006,MONTH(C2648),DAY(C2648)))","v":17},3.5,4,4,3.5,3.5,5,2.5,2.5,3,2]
["IL198218","IL","1982-06-25",{"$f":"COUNTIF(Calculations!$E$56:$E$98,\"<=\"&DATE(2006,MONTH(C2649),DAY(C2649)))","v":18},5.75,6.5,6.5,6,6,6,5.5,4.5,5.5,6]
["IL198219","IL","1982-07-02",{"$f":"COUNTIF(Calculations!$E$56:$E$98,\"<=\"&DATE(2006,MONTH(C2650),DAY(C2650)))","v":19},4.25,4.5,5,4,4,4,3.5,3.5,5.5,6]
["IL198220","IL","1982-07-09",{"$f":"COUNTIF(Calculations!$E$56:$E$98,\"<=\"&DATE(2006,MONTH(C2651),DAY(C2651)))","v":20},3.75,4,4,4,3.5,3.5,4.5,3.5,3.5,5]
["IL198221","IL","1982-07-16",{"$f":"COUNTIF(Calculations!$E$56:$E$98,\"<=\"&DATE(2006,MONTH(C2652),DAY(C2652)))","v":21},4.5,3.5,6,3.5,4.5,3.5,5,4,5.5,6]
["IL198222","IL","1982-07-23",{"$f":"COUNTIF(Calculations!$E$56:$E$98,\"<=\"&DATE(2006,MONTH(C2653),DAY(C2653)))","v":22},3,2,2,3.5,2,3,3,2.5,5.5,4.5]
["IL198223","IL","1982-07-30",{"$f":"COUNTIF(Calculations!$E$56:$E$98,\"<=\"&DATE(2006,MONTH(C2654),DAY(C2654)))","v":23},6,5,5,6,5,5,6.5,7,6.5,7]
["IL198224","IL","1982-08-06",{"$f":"COUNTIF(Calculations!$E$56:$E$98,\"<=\"&DATE(2006,MONTH(C2655),DAY(C2655)))","v":24},6,4,4.5,6.5,5.5,5,7,6.5,6.5,7]
["IL198225","IL","1982-08-13",{"$f":"COUNTIF(Calculations!$E$56:$E$98,\"<=\"&DATE(2006,MONTH(C2656),DAY(C2656)))","v":25},5.25,6,5.5,5,5.5,5,5,5,5,6.5]
["IL198226","IL","1982-08-20",{"$f":"COUNTIF(Calculations!$E$56:$E$98,\"<=\"&DATE(2006,MONTH(C2657),DAY(C2657)))","v":26},6.5,7,7,6.5,6,6.5,6.5,6.5,6.5,7]
["IL198227","IL","1982-08-27",{"$f":"COUNTIF(Calculations!$E$56:$E$98,\"<=\"&DATE(2006,MONTH(C2658),DAY(C2658)))","v":27},5,7,7,3.5,3.5,5,5.5,5.5,5,5.5]
["IL198228","IL","1982-09-03",{"$f":"COUNTIF(Calculations!$E$56:$E$98,\"<=\"&DATE(2006,MONTH(C2659),DAY(C2659)))","v":28},4.25,5,5.5,3,4,6.5,4,3,3.5,4]
["IL198229","IL","1982-09-10",{"$f":"COUNTIF(Calculations!$E$56:$E$98,\"<=\"&DATE(2006,MONTH(C2660),DAY(C2660)))","v":29},5.5,4.5,6.5,4.5,5.5,6.5,6,5.5,5.5,6.5]
["IL198230","IL","1982-09-17",{"$f":"COUNTIF(Calculations!$E$56:$E$98,\"<=\"&DATE(2006,MONTH(C2661),DAY(C2661)))","v":30},4.75,5.5,6,4.5,5.5,5.5,3.5,3.5,4,3]
["IL198231","IL","1982-09-24",{"$f":"COUNTIF(Calculations!$E$56:$E$98,\"<=\"&DATE(2006,MONTH(C2662),DAY(C2662)))","v":31},5.25,5.5,5,4.5,5.5,6,5.5,6,6,4.5]
["IL198232","IL","1982-10-01",{"$f":"COUNTIF(Calculations!$E$56:$E$98,\"<=\"&DATE(2006,MONTH(C2663),DAY(C2663)))","v":32},6.5,7,6.5,6.5,7,6.5,7,5.5,7,7]
["IL198233","IL","1982-10-08",{"$f":"COUNTIF(Calculations!$E$56:$E$98,\"<=\"&DATE(2006,MONTH(C2664),DAY(C2664)))","v":33},5.75,6.5,6.5,6,5.5,6,4.5,6,5.5,6]
["IL198234","IL","1982-10-15",{"$f":"COUNTIF(Calculations!$E$56:$E$98,\"<=\"&DATE(2006,MONTH(C2665),DAY(C2665)))","v":34},5.75,5.5,5.5,6.5,6,6,6.5,5,5,5.5]
["IL198235","IL","1982-10-22",{"$f":"COUNTIF(Calculations!$E$56:$E$98,\"<=\"&DATE(2006,MONTH(C2666),DAY(C2666)))","v":35},5,5,5,5,5,4.5,4.5,5,6,6.5]
["IL198236","IL","1982-10-29",{"$f":"COUNTIF(Calculations!$E$56:$E$98,\"<=\"&DATE(2006,MONTH(C2667),DAY(C2667)))","v":36},6.5,6,6.5,6,6.5,6.5,6.5,6.5,6.5,6.5]
["IL198237","IL","1982-11-05",{"$f":"COUNTIF(Calculations!$E$56:$E$98,\"<=\"&DATE(2006,MONTH(C2668),DAY(C2668)))","v":37},3.5,3.5,4,4.5,3,2,3.5,3.5,4.5,4.5]
["IL198238","IL","1982-11-12",{"$f":"COUNTIF(Calculations!$E$56:$E$98,\"<=\"&DATE(2006,MONTH(C2669),DAY(C2669)))","v":38},4.75,3.5,2.5,4.5,4.5,4.5,5.5,6,5.5,6]
["IL198239","IL","1982-11-19",{"$f":"COUNTIF(Calculations!$E$56:$E$98,\"<=\"&DATE(2006,MONTH(C2670),DAY(C2670)))","v":39},4.5,4,5,4.5,3.5,4.5,3.5,4.5,5,5]
["IL19837","IL","1983-04-08",{"$f":"COUNTIF(Calculations!$E$56:$E$98,\"<=\"&DATE(2006,MONTH(C2671),DAY(C2671)))","v":7},0,0,0,0,0,0,0,0,0,0]
["IL19838","IL","1983-04-15",{"$f":"COUNTIF(Calculations!$E$56:$E$98,\"<=\"&DATE(2006,MONTH(C2672),DAY(C2672)))","v":8},0,0,0,0,0,0,0,0,0,0]
["IL19839","IL","1983-04-22",{"$f":"COUNTIF(Calculations!$E$56:$E$98,\"<=\"&DATE(2006,MONTH(C2673),DAY(C2673)))","v":9},1.5,3,1.5,2.5,1.5,1,1.5,1,0.5,0]
["IL198310","IL","1983-04-29",{"$f":"COUNTIF(Calculations!$E$56:$E$98,\"<=\"&DATE(2006,MONTH(C2674),DAY(C2674)))","v":10},4.5,6,6,5,4.5,4.5,4,5,2,4]
["IL198311","IL","1983-05-06",{"$f":"COUNTIF(Calculations!$E$56:$E$98,\"<=\"&DATE(2006,MONTH(C2675),DAY(C2675)))","v":11},1.25,4.5,2.5,2.5,1,0.5,0.5,0.5,0,0]
["IL198312","IL","1983-05-13",{"$f":"COUNTIF(Calculations!$E$56:$E$98,\"<=\"&DATE(2006,MONTH(C2676),DAY(C2676)))","v":12},4.25,6,6,4,3.5,4.5,5,3.5,3,3]
["IL198313","IL","1983-05-20",{"$f":"COUNTIF(Calculations!$E$56:$E$98,\"<=\"&DATE(2006,MONTH(C2677),DAY(C2677)))","v":13},2,3.5,2.5,3.5,1.5,1.5,2.5,2.5,1,0.5]
["IL198314","IL","1983-05-27",{"$f":"COUNTIF(Calculations!$E$56:$E$98,\"<=\"&DATE(2006,MONTH(C2678),DAY(C2678)))","v":14},4,4,3.5,5.5,5,3.5,3.5,4.5,4,3.5]
["IL198315","IL","1983-06-03",{"$f":"COUNTIF(Calculations!$E$56:$E$98,\"<=\"&DATE(2006,MONTH(C2679),DAY(C2679)))","v":15},4,4,2.5,5,3.5,3.5,4.5,4,5.5,4]
["IL198316","IL","1983-06-10",{"$f":"COUNTIF(Calculations!$E$56:$E$98,\"<=\"&DATE(2006,MONTH(C2680),DAY(C2680)))","v":16},5.25,6,6,6.5,6,5.5,5.5,2.5,4.5,4.5]
["IL198317","IL","1983-06-17",{"$f":"COUNTIF(Calculations!$E$56:$E$98,\"<=\"&DATE(2006,MONTH(C2681),DAY(C2681)))","v":17},6.25,6,6,7,5,6,7,5.5,7,7]
["IL198318","IL","1983-06-24",{"$f":"COUNTIF(Calculations!$E$56:$E$98,\"<=\"&DATE(2006,MONTH(C2682),DAY(C2682)))","v":18},6.25,7,6.5,6.5,5.5,6,6.5,6,6.5,6]
["IL198319","IL","1983-07-01",{"$f":"COUNTIF(Calculations!$E$56:$E$98,\"<=\"&DATE(2006,MONTH(C2683),DAY(C2683)))","v":19},4.25,4,3,6.5,4,4,5,4,3.5,4.5]
["IL198320","IL","1983-07-08",{"$f":"COUNTIF(Calculations!$E$56:$E$98,\"<=\"&DATE(2006,MONTH(C2684),DAY(C2684)))","v":20},5.5,5,4,6,5.5,5.5,6,5.5,6,6.5]
["IL198321","IL","1983-07-15",{"$f":"COUNTIF(Calculations!$E$56:$E$98,\"<=\"&DATE(2006,MONTH(C2685),DAY(C2685)))","v":21},7,6.5,7,7,6.5,7,7,7,7,7]
["IL198322","IL","1983-07-22",{"$f":"COUNTIF(Calculations!$E$56:$E$98,\"<=\"&DATE(2006,MONTH(C2686),DAY(C2686)))","v":22},6.75,6.5,6.5,7,6.5,6.5,7,7,7,7]
["IL198323","IL","1983-07-29",{"$f":"COUNTIF(Calculations!$E$56:$E$98,\"<=\"&DATE(2006,MONTH(C2687),DAY(C2687)))","v":23},6.5,7,7,7,7,7,7,6.5,6,5.5]
["IL198324","IL","1983-08-05",{"$f":"COUNTIF(Calculations!$E$56:$E$98,\"<=\"&DATE(2006,MONTH(C2688),DAY(C2688)))","v":24},6.5,7,6.5,7,6.5,6,7,6,7,7]
["IL198325","IL","1983-08-12",{"$f":"COUNTIF(Calculations!$E$56:$E$98,\"<=\"&DATE(2006,MONTH(C2689),DAY(C2689)))","v":25},6.75,6.5,6.5,7,6.5,6.5,7,7,6.5,7]
["IL198326","IL","1983-08-19",{"$f":"COUNTIF(Calculations!$E$56:$E$98,\"<=\"&DATE(2006,MONTH(C2690),DAY(C2690)))","v":26},6.75,7,6.5,7,6.5,5.5,7,6.5,7,7]
["IL198327","IL","1983-08-26",{"$f":"COUNTIF(Calculations!$E$56:$E$98,\"<=\"&DATE(2006,MONTH(C2691),DAY(C2691)))","v":27},6.25,6,5.5,6.5,6.5,6,6.5,7,7,6]
["IL198328","IL","1983-09-02",{"$f":"COUNTIF(Calculations!$E$56:$E$98,\"<=\"&DATE(2006,MONTH(C2692),DAY(C2692)))","v":28},6.25,6,5.5,6.5,6,6,7,6.5,7,6.5]
["IL198329","IL","1983-09-09",{"$f":"COUNTIF(Calculations!$E$56:$E$98,\"<=\"&DATE(2006,MONTH(C2693),DAY(C2693)))","v":29},6.75,6.5,6,7,7,7,7,6.5,7,7]
["IL198330","IL","1983-09-16",{"$f":"COUNTIF(Calculations!$E$56:$E$98,\"<=\"&DATE(2006,MONTH(C2694),DAY(C2694)))","v":30},5.75,5,4.5,5,5.5,5.5,6,6.5,6.5,6.5]
["IL198331","IL","1983-09-23",{"$f":"COUNTIF(Calculations!$E$56:$E$98,\"<=\"&DATE(2006,MONTH(C2695),DAY(C2695)))","v":31},4.75,3,3,4.5,4,4,6,5.5,6.5,6.5]
["IL198332","IL","1983-09-30",{"$f":"COUNTIF(Calculations!$E$56:$E$98,\"<=\"&DATE(2006,MONTH(C2696),DAY(C2696)))","v":32},6,5.5,5.5,6,5.5,5.5,6.5,7,6.5,7]
["IL198333","IL","1983-10-07",{"$f":"COUNTIF(Calculations!$E$56:$E$98,\"<=\"&DATE(2006,MONTH(C2697),DAY(C2697)))","v":33},6.25,7,7,7,7,7,7,6,4.5,4.5]
["IL198334","IL","1983-10-14",{"$f":"COUNTIF(Calculations!$E$56:$E$98,\"<=\"&DATE(2006,MONTH(C2698),DAY(C2698)))","v":34},5.25,5,6,5,5,5,6,5,5,4.5]
["IL198335","IL","1983-10-21",{"$f":"COUNTIF(Calculations!$E$56:$E$98,\"<=\"&DATE(2006,MONTH(C2699),DAY(C2699)))","v":35},3.75,4.5,4.5,4,4,4.5,3.5,3,3,3]
["IL198336","IL","1983-10-28",{"$f":"COUNTIF(Calculations!$E$56:$E$98,\"<=\"&DATE(2006,MONTH(C2700),DAY(C2700)))","v":36},3.25,5,4,3.5,3.5,3,3.5,3,2.5,2.5]
["IL198337","IL","1983-11-04",{"$f":"COUNTIF(Calculations!$E$56:$E$98,\"<=\"&DATE(2006,MONTH(C2701),DAY(C2701)))","v":37},4,3.5,4.5,3.5,4,4.5,4,3.5,4,4.5]
["IL198338","IL","1983-11-11",{"$f":"COUNTIF(Calculations!$E$56:$E$98,\"<=\"&DATE(2006,MONTH(C2702),DAY(C2702)))","v":38},3.75,3.5,4,3,4,4.5,3.5,4,3.5,5]
["IL19846","IL","1984-04-06",{"$f":"COUNTIF(Calculations!$E$56:$E$98,\"<=\"&DATE(2006,MONTH(C2703),DAY(C2703)))","v":6},0.75,2,1.5,0.5,1,0,0.5,0,0,0.5]
["IL19847","IL","1984-04-13",{"$f":"COUNTIF(Calculations!$E$56:$E$98,\"<=\"&DATE(2006,MONTH(C2704),DAY(C2704)))","v":7},1.25,3.5,3.5,0.5,1,0.5,0,0.5,0.5,0.5]
["IL19848","IL","1984-04-20",{"$f":"COUNTIF(Calculations!$E$56:$E$98,\"<=\"&DATE(2006,MONTH(C2705),DAY(C2705)))","v":8},1,2,0.5,1,1,0.5,1,1,1,0.5]
["IL19849","IL","1984-04-27",{"$f":"COUNTIF(Calculations!$E$56:$E$98,\"<=\"&DATE(2006,MONTH(C2706),DAY(C2706)))","v":9},1.5,2.5,2,1,1.5,1,2,0.5,2,1.5]
[{"$f":"B2707&YEAR(C2707)&D2707","v":"IL198410"},"IL","1984-05-04",{"$f":"COUNTIF(Calculations!$E$56:$E$98,\"<=\"&DATE(2006,MONTH(C2707),DAY(C2707)))","v":10},2,1.5,2,1.5,2,3,2,1.5,2.5,1.5]
["IL198411","IL","1984-05-11",{"$f":"COUNTIF(Calculations!$E$56:$E$98,\"<=\"&DATE(2006,MONTH(C2708),DAY(C2708)))","v":11},4,5.5,6.5,4,4.5,5.5,4,2,2.5,0.5]
["IL198412","IL","1984-05-18",{"$f":"COUNTIF(Calculations!$E$56:$E$98,\"<=\"&DATE(2006,MONTH(C2709),DAY(C2709)))","v":12},5.25,7,7,6,6,6,4.5,4,5,3.5]
["IL198413","IL","1984-05-25",{"$f":"COUNTIF(Calculations!$E$56:$E$98,\"<=\"&DATE(2006,MONTH(C2710),DAY(C2710)))","v":13},2.75,3,3,1,1,1,2.5,3,5,5.5]
["IL198414","IL","1984-06-01",{"$f":"COUNTIF(Calculations!$E$56:$E$98,\"<=\"&DATE(2006,MONTH(C2711),DAY(C2711)))","v":14},3,3,3.5,2,1.5,1.5,2,3.5,3.5,5]
["IL198415","IL","1984-06-08",{"$f":"COUNTIF(Calculations!$E$56:$E$98,\"<=\"&DATE(2006,MONTH(C2712),DAY(C2712)))","v":15},5.75,4.5,4.5,4.5,6,6.5,6,6,6.5,7]
["IL198416","IL","1984-06-15",{"$f":"COUNTIF(Calculations!$E$56:$E$98,\"<=\"&DATE(2006,MONTH(C2713),DAY(C2713)))","v":16},5.75,4.5,5.5,4,5.5,6,6.5,7,6.5,6.5]
["IL198417","IL","1984-06-22",{"$f":"COUNTIF(Calculations!$E$56:$E$98,\"<=\"&DATE(2006,MONTH(C2714),DAY(C2714)))","v":17},6,5.5,5.5,6.5,6,6.5,6.5,6.5,6,6]
["IL198418","IL","1984-06-29",{"$f":"COUNTIF(Calculations!$E$56:$E$98,\"<=\"&DATE(2006,MONTH(C2715),DAY(C2715)))","v":18},6,6,6,6,6.5,6,6,7,6,6]
["IL198419","IL","1984-07-06",{"$f":"COUNTIF(Calculations!$E$56:$E$98,\"<=\"&DATE(2006,MONTH(C2716),DAY(C2716)))","v":19},5.5,6.5,6.5,6.5,6,5,5.5,4.5,5,5]
["IL198420","IL","1984-07-13",{"$f":"COUNTIF(Calculations!$E$56:$E$98,\"<=\"&DATE(2006,MONTH(C2717),DAY(C2717)))","v":20},5.75,4.5,5.5,4,5.5,6,6.5,7,6.5,6.5]
["IL198421","IL","1984-07-20",{"$f":"COUNTIF(Calculations!$E$56:$E$98,\"<=\"&DATE(2006,MONTH(C2718),DAY(C2718)))","v":21},6,5.5,7,5,5,6,5.5,6.5,6.5,6.5]
["IL198422","IL","1984-07-27",{"$f":"COUNTIF(Calculations!$E$56:$E$98,\"<=\"&DATE(2006,MONTH(C2719),DAY(C2719)))","v":22},5.5,5,5,4.5,4,4.5,6.5,6.5,6.5,6.5]
["IL198423","IL","1984-08-03",{"$f":"COUNTIF(Calculations!$E$56:$E$98,\"<=\"&DATE(2006,MONTH(C2720),DAY(C2720)))","v":23},6.75,7,7,6.5,6.5,6,6.5,6.5,7,7]
["IL198424","IL","1984-08-10",{"$f":"COUNTIF(Calculations!$E$56:$E$98,\"<=\"&DATE(2006,MONTH(C2721),DAY(C2721)))","v":24},6.5,6.5,6,7,6.5,6,7,6,6.5,6.5]
["IL198425","IL","1984-08-17",{"$f":"COUNTIF(Calculations!$E$56:$E$98,\"<=\"&DATE(2006,MONTH(C2722),DAY(C2722)))","v":25},6.75,6.5,6.5,7,6.5,6.5,7,6.5,7,7]
["IL198426","IL","1984-08-24",{"$f":"COUNTIF(Calculations!$E$56:$E$98,\"<=\"&DATE(2006,MONTH(C2723),DAY(C2723)))","v":26},6.25,6,6.5,6,6.5,6.5,6,6.5,5.5,6]
["IL198427","IL","1984-08-31",{"$f":"COUNTIF(Calculations!$E$56:$E$98,\"<=\"&DATE(2006,MONTH(C2724),DAY(C2724)))","v":27},6.75,6.5,7,6.5,7,6.5,7,7,7,7]
["IL198428","IL","1984-09-07",{"$f":"COUNTIF(Calculations!$E$56:$E$98,\"<=\"&DATE(2006,MONTH(C2725),DAY(C2725)))","v":28},6.5,7,7,7,6,6.5,6,6.5,6,6.5]
["IL198429","IL","1984-09-14",{"$f":"COUNTIF(Calculations!$E$56:$E$98,\"<=\"&DATE(2006,MONTH(C2726),DAY(C2726)))","v":29},3.5,5,5,2.5,2.5,4,3,3.5,3,3.5]
["IL198430","IL","1984-09-21",{"$f":"COUNTIF(Calculations!$E$56:$E$98,\"<=\"&DATE(2006,MONTH(C2727),DAY(C2727)))","v":30},6.75,7,6.5,7,6.5,7,6,6.5,7,7]
["IL198431","IL","1984-09-28",{"$f":"COUNTIF(Calculations!$E$56:$E$98,\"<=\"&DATE(2006,MONTH(C2728),DAY(C2728)))","v":31},3,4.5,3.5,3,4,4,3,2,1.5,2.5]
["IL198432","IL","1984-10-05",{"$f":"COUNTIF(Calculations!$E$56:$E$98,\"<=\"&DATE(2006,MONTH(C2729),DAY(C2729)))","v":32},6.5,7,7,6.5,7,6.5,7,6.5,6,6.5]
["IL198433","IL","1984-10-12",{"$f":"COUNTIF(Calculations!$E$56:$E$98,\"<=\"&DATE(2006,MONTH(C2730),DAY(C2730)))","v":33},3.5,4.5,3.5,3,3,5.5,3.5,3,1.5,3]
["IL198434","IL","1984-10-19",{"$f":"COUNTIF(Calculations!$E$56:$E$98,\"<=\"&DATE(2006,MONTH(C2731),DAY(C2731)))","v":34},2.5,2.5,1.5,2,3.5,4,2,3,1.5,3]
["IL198435","IL","1984-10-26",{"$f":"COUNTIF(Calculations!$E$56:$E$98,\"<=\"&DATE(2006,MONTH(C2732),DAY(C2732)))","v":35},2.5,4,3,3.5,3,3,3,2,1,1]
["IL198436","IL","1984-11-02",{"$f":"COUNTIF(Calculations!$E$56:$E$98,\"<=\"&DATE(2006,MONTH(C2733),DAY(C2733)))","v":36},2.25,2.5,2.5,2.5,2.5,3,3.5,3,1.5,1]
["IL198437","IL","1984-11-09",{"$f":"COUNTIF(Calculations!$E$56:$E$98,\"<=\"&DATE(2006,MONTH(C2734),DAY(C2734)))","v":37},5.25,5,5.5,5.5,5,5,5,5.5,5,4.5]
["IL198438","IL","1984-11-16",{"$f":"COUNTIF(Calculations!$E$56:$E$98,\"<=\"&DATE(2006,MONTH(C2735),DAY(C2735)))","v":38},5,6,5,5,4.5,5,5,4,4,5]
["IL198439","IL","1984-11-23",{"$f":"COUNTIF(Calculations!$E$56:$E$98,\"<=\"&DATE(2006,MONTH(C2736),DAY(C2736)))","v":39},5.25,7,7,6.5,6,6,5,4.5,4,2.5]
["IL19856","IL","1985-04-05",{"$f":"COUNTIF(Calculations!$E$56:$E$98,\"<=\"&DATE(2006,MONTH(C2737),DAY(C2737)))","v":6},1.25,1.5,0.5,2,2,1,1.5,0.5,0.5,0.5]
["IL19857","IL","1985-04-12",{"$f":"COUNTIF(Calculations!$E$56:$E$98,\"<=\"&DATE(2006,MONTH(C2738),DAY(C2738)))","v":7},1.75,3.5,2.5,3,2,1,1,0.5,1,0.5]
["IL19858","IL","1985-04-19",{"$f":"COUNTIF(Calculations!$E$56:$E$98,\"<=\"&DATE(2006,MONTH(C2739),DAY(C2739)))","v":8},3.5,6.5,5.5,6.5,4,3,2,2,1.5,0.5]
["IL19859","IL","1985-04-26",{"$f":"COUNTIF(Calculations!$E$56:$E$98,\"<=\"&DATE(2006,MONTH(C2740),DAY(C2740)))","v":9},5.5,6,5.5,6.5,6,5.5,6.5,5,4.5,4.5]
["IL198510","IL","1985-05-03",{"$f":"COUNTIF(Calculations!$E$56:$E$98,\"<=\"&DATE(2006,MONTH(C2741),DAY(C2741)))","v":10},4.5,6.5,7,4.5,4.5,5.5,4.5,4,3.5,2]
["IL198511","IL","1985-05-10",{"$f":"COUNTIF(Calculations!$E$56:$E$98,\"<=\"&DATE(2006,MONTH(C2742),DAY(C2742)))","v":11},5.75,6.5,6,6,6.5,6.5,5.5,5,5.5,5.5]
["IL198512","IL","1985-05-17",{"$f":"COUNTIF(Calculations!$E$56:$E$98,\"<=\"&DATE(2006,MONTH(C2743),DAY(C2743)))","v":12},3.25,3,4,2.5,4,3.5,3.5,4,3,3]
["IL198513","IL","1985-05-24",{"$f":"COUNTIF(Calculations!$E$56:$E$98,\"<=\"&DATE(2006,MONTH(C2744),DAY(C2744)))","v":13},5.75,6.5,6,6.5,6.5,6.5,6.5,5.5,4,3]
["IL198514","IL","1985-05-31",{"$f":"COUNTIF(Calculations!$E$56:$E$98,\"<=\"&DATE(2006,MONTH(C2745),DAY(C2745)))","v":14},5.5,6,4.5,5,4.5,5.5,6.5,6.5,6,4.5]
["IL198515","IL","1985-06-07",{"$f":"COUNTIF(Calculations!$E$56:$E$98,\"<=\"&DATE(2006,MONTH(C2746),DAY(C2746)))","v":15},2.25,7,7,5.5,5,6,1.5,2.5,2.5,1.5]
["IL198516","IL","1985-06-14",{"$f":"COUNTIF(Calculations!$E$56:$E$98,\"<=\"&DATE(2006,MONTH(C2747),DAY(C2747)))","v":16},3.5,6,5.5,5.5,5,4.5,2,2,0.5,1]
["IL198517","IL","1985-06-21",{"$f":"COUNTIF(Calculations!$E$56:$E$98,\"<=\"&DATE(2006,MONTH(C2748),DAY(C2748)))","v":17},4,6,4.5,6,4.5,4,3.5,3,3,2]
["IL198518","IL","1985-06-28",{"$f":"COUNTIF(Calculations!$E$56:$E$98,\"<=\"&DATE(2006,MONTH(C2749),DAY(C2749)))","v":18},5,5.5,5.5,5.5,5,5.5,5.5,3.5,4.5,4.5]
["IL198519","IL","1985-07-05",{"$f":"COUNTIF(Calculations!$E$56:$E$98,\"<=\"&DATE(2006,MONTH(C2750),DAY(C2750)))","v":19},4.5,5.5,5,6.5,4,4,6,4,4,3]
["IL198520","IL","1985-07-12",{"$f":"COUNTIF(Calculations!$E$56:$E$98,\"<=\"&DATE(2006,MONTH(C2751),DAY(C2751)))","v":20},6.25,5.5,6,6.5,6,5,7,6.5,7,7]
["IL198521","IL","1985-07-19",{"$f":"COUNTIF(Calculations!$E$56:$E$98,\"<=\"&DATE(2006,MONTH(C2752),DAY(C2752)))","v":21},6,6,5.5,5.5,5,5.5,6.5,7,7,7]
["IL198522","IL","1985-07-26",{"$f":"COUNTIF(Calculations!$E$56:$E$98,\"<=\"&DATE(2006,MONTH(C2753),DAY(C2753)))","v":22},5.75,6,5.5,6,5.5,5.5,5.5,6,5.5,5.5]
["IL198523","IL","1985-08-02",{"$f":"COUNTIF(Calculations!$E$56:$E$98,\"<=\"&DATE(2006,MONTH(C2754),DAY(C2754)))","v":23},4.75,5,3.5,4,4,5,4,5.5,5.5,5]
["IL198524","IL","1985-08-09",{"$f":"COUNTIF(Calculations!$E$56:$E$98,\"<=\"&DATE(2006,MONTH(C2755),DAY(C2755)))","v":24},4.5,6.5,5.5,5.5,4,3,3,3.5,5,4.5]
["IL198525","IL","1985-08-16",{"$f":"COUNTIF(Calculations!$E$56:$E$98,\"<=\"&DATE(2006,MONTH(C2756),DAY(C2756)))","v":25},3,3.5,4,2,2.5,3,2.5,3,4,3.5]
["IL198526","IL","1985-08-23",{"$f":"COUNTIF(Calculations!$E$56:$E$98,\"<=\"&DATE(2006,MONTH(C2757),DAY(C2757)))","v":26},4.5,5.5,6.5,4,4.5,4,2.5,4.5,4,4.5]
["IL198527","IL","1985-08-30",{"$f":"COUNTIF(Calculations!$E$56:$E$98,\"<=\"&DATE(2006,MONTH(C2758),DAY(C2758)))","v":27},4.5,4,4.5,5,4.5,4.5,4,5,4.5,4]
["IL198528","IL","1985-09-06",{"$f":"COUNTIF(Calculations!$E$56:$E$98,\"<=\"&DATE(2006,MONTH(C2759),DAY(C2759)))","v":28},6,6.5,6,6.5,6,6,6,6.5,6.5,5]
["IL198529","IL","1985-09-13",{"$f":"COUNTIF(Calculations!$E$56:$E$98,\"<=\"&DATE(2006,MONTH(C2760),DAY(C2760)))","v":29},6.25,6.5,5.5,7,6.5,6,7,6.5,6.5,6.5]
["IL198530","IL","1985-09-20",{"$f":"COUNTIF(Calculations!$E$56:$E$98,\"<=\"&DATE(2006,MONTH(C2761),DAY(C2761)))","v":30},6.5,6.5,6.5,5.5,6.5,6.5,6.5,7,7,7]
["IL198531","IL","1985-09-27",{"$f":"COUNTIF(Calculations!$E$56:$E$98,\"<=\"&DATE(2006,MONTH(C2762),DAY(C2762)))","v":31},4,2,3,2.5,3.5,4,4,5.5,6,5.5]
["IL198532","IL","1985-10-04",{"$f":"COUNTIF(Calculations!$E$56:$E$98,\"<=\"&DATE(2006,MONTH(C2763),DAY(C2763)))","v":32},5.5,5,5,5,5,5,5.5,5.5,6.5,6]
["IL198533","IL","1985-10-11",{"$f":"COUNTIF(Calculations!$E$56:$E$98,\"<=\"&DATE(2006,MONTH(C2764),DAY(C2764)))","v":33},4.25,2.5,2.5,2.5,3.5,4,5,6.5,6.5,6.5]
["IL198534","IL","1985-10-18",{"$f":"COUNTIF(Calculations!$E$56:$E$98,\"<=\"&DATE(2006,MONTH(C2765),DAY(C2765)))","v":34},4.5,3.5,4,3,3.5,5,4.5,6,5,5.5]
["IL198535","IL","1985-10-25",{"$f":"COUNTIF(Calculations!$E$56:$E$98,\"<=\"&DATE(2006,MONTH(C2766),DAY(C2766)))","v":35},3.75,3.5,4.5,3.5,3.5,4,4,5.5,3.5,2.5]
["IL198536","IL","1985-11-01",{"$f":"COUNTIF(Calculations!$E$56:$E$98,\"<=\"&DATE(2006,MONTH(C2767),DAY(C2767)))","v":36},4.25,5,5,4.5,4.5,5,4,4.5,3,2.5]
["IL198537","IL","1985-11-08",{"$f":"COUNTIF(Calculations!$E$56:$E$98,\"<=\"&DATE(2006,MONTH(C2768),DAY(C2768)))","v":37},4.25,4,3.5,4,4,4,5,5,4.5,4]
["IL198538","IL","1985-11-15",{"$f":"COUNTIF(Calculations!$E$56:$E$98,\"<=\"&DATE(2006,MONTH(C2769),DAY(C2769)))","v":38},0.5,0.5,0,0,0.5,0.5,0.5,1,1,1.5]
["IL19866","IL","1986-04-04",{"$f":"COUNTIF(Calculations!$E$56:$E$98,\"<=\"&DATE(2006,MONTH(C2770),DAY(C2770)))","v":6},5.75,5,5.5,5.5,6,5,5.5,6,6.6,7]
[{"$f":"B2771&YEAR(C2771)&D2771","v":"IL19867"},"IL","1986-04-11",{"$f":"COUNTIF(Calculations!$E$56:$E$98,\"<=\"&DATE(2006,MONTH(C2771),DAY(C2771)))","v":7},6.5,7,6.5,7,7,7,6.5,6.5,5.5,6.5]
["IL19868","IL","1986-04-18",{"$f":"COUNTIF(Calculations!$E$56:$E$98,\"<=\"&DATE(2006,MONTH(C2772),DAY(C2772)))","v":8},5.25,4.5,4,5,5,4.5,5,6,6.5,6]
["IL19869","IL","1986-04-25",{"$f":"COUNTIF(Calculations!$E$56:$E$98,\"<=\"&DATE(2006,MONTH(C2773),DAY(C2773)))","v":9},5.5,7,6.5,7,6.5,5.5,6.5,5,4,2]
["IL198610","IL","1986-05-02",{"$f":"COUNTIF(Calculations!$E$56:$E$98,\"<=\"&DATE(2006,MONTH(C2774),DAY(C2774)))","v":10},5.25,5,6,5.5,4.5,4,6,5.5,6.5,4.5]
["IL198611","IL","1986-05-09",{"$f":"COUNTIF(Calculations!$E$56:$E$98,\"<=\"&DATE(2006,MONTH(C2775),DAY(C2775)))","v":11},6.5,6.5,6.5,4.5,5,4.5,6,6,7,7]
["IL198612","IL","1986-05-16",{"$f":"COUNTIF(Calculations!$E$56:$E$98,\"<=\"&DATE(2006,MONTH(C2776),DAY(C2776)))","v":12},4.25,4,4,5,4.5,3.5,5,4.5,4,4]
["IL198613","IL","1986-05-23",{"$f":"COUNTIF(Calculations!$E$56:$E$98,\"<=\"&DATE(2006,MONTH(C2777),DAY(C2777)))","v":13},3,2.5,3,3,3.5,2.5,4.5,4,3,1.5]
["IL198614","IL","1986-05-30",{"$f":"COUNTIF(Calculations!$E$56:$E$98,\"<=\"&DATE(2006,MONTH(C2778),DAY(C2778)))","v":14},2.75,3.5,2.5,3,3,2.5,5,2.5,3,0.5]
["IL198615","IL","1986-06-06",{"$f":"COUNTIF(Calculations!$E$56:$E$98,\"<=\"&DATE(2006,MONTH(C2779),DAY(C2779)))","v":15},4.5,5,4,4,4,4.5,5.5,5.5,5,2]
["IL198616","IL","1986-06-13",{"$f":"COUNTIF(Calculations!$E$56:$E$98,\"<=\"&DATE(2006,MONTH(C2780),DAY(C2780)))","v":16},3,4.5,3.5,3.5,3.5,2,3,1.5,3,2]
["IL198617","IL","1986-06-20",{"$f":"COUNTIF(Calculations!$E$56:$E$98,\"<=\"&DATE(2006,MONTH(C2781),DAY(C2781)))","v":17},6,5.5,5,5.5,6,5.5,5.5,6.5,6.5,6.5]
["IL198618","IL","1986-06-27",{"$f":"COUNTIF(Calculations!$E$56:$E$98,\"<=\"&DATE(2006,MONTH(C2782),DAY(C2782)))","v":18},6.5,6,5.5,7,7,6.5,7,6.5,7,7]
["IL198619","IL","1986-07-04",{"$f":"COUNTIF(Calculations!$E$56:$E$98,\"<=\"&DATE(2006,MONTH(C2783),DAY(C2783)))","v":19},3.5,3.5,3.5,2,1.5,2.5,3.5,4,5.5,5.5]
["IL198620","IL","1986-07-11",{"$f":"COUNTIF(Calculations!$E$56:$E$98,\"<=\"&DATE(2006,MONTH(C2784),DAY(C2784)))","v":20},3.75,1.5,1.5,3.5,3,4,5,5,5.5,4.5]
["IL198621","IL","1986-07-18",{"$f":"COUNTIF(Calculations!$E$56:$E$98,\"<=\"&DATE(2006,MONTH(C2785),DAY(C2785)))","v":21},4.25,6,5,4.5,4.5,3.5,4.5,4.5,45,1.5]
["IL198622","IL","1986-07-25",{"$f":"COUNTIF(Calculations!$E$56:$E$98,\"<=\"&DATE(2006,MONTH(C2786),DAY(C2786)))","v":22},6.5,6.5,6.5,6.5,7,6.5,6.5,7,6.5,7]
["IL198623","IL","1986-08-01",{"$f":"COUNTIF(Calculations!$E$56:$E$98,\"<=\"&DATE(2006,MONTH(C2787),DAY(C2787)))","v":23},5.75,6.5,7,4.5,5.5,6,4.5,4,7,6.5]
["IL198624","IL","1986-08-08",{"$f":"COUNTIF(Calculations!$E$56:$E$98,\"<=\"&DATE(2006,MONTH(C2788),DAY(C2788)))","v":24},5.25,4,5,4.5,5.5,6,6,5.5,4.5,5.5]
["IL198625","IL","1986-08-15",{"$f":"COUNTIF(Calculations!$E$56:$E$98,\"<=\"&DATE(2006,MONTH(C2789),DAY(C2789)))","v":25},5.5,5,5.5,5.5,6,6.5,5.5,6,5,5]
["IL198626","IL","1986-08-22",{"$f":"COUNTIF(Calculations!$E$56:$E$98,\"<=\"&DATE(2006,MONTH(C2790),DAY(C2790)))","v":26},6.5,6.5,7,6.5,7,7,6.5,6.5,6.5,5.5]
["IL198627","IL","1986-08-29",{"$f":"COUNTIF(Calculations!$E$56:$E$98,\"<=\"&DATE(2006,MONTH(C2791),DAY(C2791)))","v":27},6,5.5,5.5,6,6.5,6,7,6.5,5.5,5.5]
["IL198628","IL","1986-09-05",{"$f":"COUNTIF(Calculations!$E$56:$E$98,\"<=\"&DATE(2006,MONTH(C2792),DAY(C2792)))","v":28},6.5,6.5,6.5,7,6.5,7,7,6.5,6.5,6.5]
["IL198629","IL","1986-09-12",{"$f":"COUNTIF(Calculations!$E$56:$E$98,\"<=\"&DATE(2006,MONTH(C2793),DAY(C2793)))","v":29},5.25,5,5,5,5,5.5,5.5,5.5,5.5,5.5]
["IL198630","IL","1986-09-19",{"$f":"COUNTIF(Calculations!$E$56:$E$98,\"<=\"&DATE(2006,MONTH(C2794),DAY(C2794)))","v":30},4.5,4.5,5,4,5,5.5,4,5,4.5,4.5]
["IL198631","IL","1986-09-26",{"$f":"COUNTIF(Calculations!$E$56:$E$98,\"<=\"&DATE(2006,MONTH(C2795),DAY(C2795)))","v":31},3.25,2,2.5,2,2.5,4,2,5,4,4.5]
["IL198632","IL","1986-10-03",{"$f":"COUNTIF(Calculations!$E$56:$E$98,\"<=\"&DATE(2006,MONTH(C2796),DAY(C2796)))","v":32},1.5,0.5,0.5,0.5,1.5,2.5,1,2,2,3.5]
["IL198633","IL","1986-10-10",{"$f":"COUNTIF(Calculations!$E$56:$E$98,\"<=\"&DATE(2006,MONTH(C2797),DAY(C2797)))","v":33},4.25,4.5,4,4,3.5,4.5,4,4.5,4.5,5]
["IL198634","IL","1986-10-17",{"$f":"COUNTIF(Calculations!$E$56:$E$98,\"<=\"&DATE(2006,MONTH(C2798),DAY(C2798)))","v":34},4.5,4.5,4.5,4.5,4.5,5,4.5,4.5,6.5,5]
["IL198635","IL","1986-10-24",{"$f":"COUNTIF(Calculations!$E$56:$E$98,\"<=\"&DATE(2006,MONTH(C2799),DAY(C2799)))","v":35},5.75,6,6.5,6,6,6,6,6,5,5.5]
["IL198636","IL","1986-10-31",{"$f":"COUNTIF(Calculations!$E$56:$E$98,\"<=\"&DATE(2006,MONTH(C2800),DAY(C2800)))","v":36},3.75,4,4.5,3.5,3.5,3.5,3.5,4,3.5,4]
["IL198637","IL","1986-11-07",{"$f":"COUNTIF(Calculations!$E$56:$E$98,\"<=\"&DATE(2006,MONTH(C2801),DAY(C2801)))","v":37},4,6,5.5,3.5,4.5,4,3.5,4,3,2.4]
["IL198638","IL","1986-11-14",{"$f":"COUNTIF(Calculations!$E$56:$E$98,\"<=\"&DATE(2006,MONTH(C2802),DAY(C2802)))","v":38},5,6.5,7,5,5.5,5,5,5,4,3.5]
["IL198639","IL","1986-11-21",{"$f":"COUNTIF(Calculations!$E$56:$E$98,\"<=\"&DATE(2006,MONTH(C2803),DAY(C2803)))","v":39},4.5,4,4.5,5,5,4,5,6,4,4.5]
["IL19877","IL","1987-04-10",{"$f":"COUNTIF(Calculations!$E$56:$E$98,\"<=\"&DATE(2006,MONTH(C2804),DAY(C2804)))","v":7},6.25,6.5,7,6,6.5,6.5,6,6.5,6,5]
["IL19878","IL","1987-04-17",{"$f":"COUNTIF(Calculations!$E$56:$E$98,\"<=\"&DATE(2006,MONTH(C2805),DAY(C2805)))","v":8},1.5,2,1.5,1.5,2,2,1.5,1,1,1]
["IL19879","IL","1987-04-24",{"$f":"COUNTIF(Calculations!$E$56:$E$98,\"<=\"&DATE(2006,MONTH(C2806),DAY(C2806)))","v":9},3.25,4,3,4,3.5,25,3.5,2,4.5,3]
["IL198710","IL","1987-05-01",{"$f":"COUNTIF(Calculations!$E$56:$E$98,\"<=\"&DATE(2006,MONTH(C2807),DAY(C2807)))","v":10},6.25,6.5,6.5,7,6,5.5,6.5,5.5,6.5,6]
["IL198711","IL","1987-05-08",{"$f":"COUNTIF(Calculations!$E$56:$E$98,\"<=\"&DATE(2006,MONTH(C2808),DAY(C2808)))","v":11},6,6,5,6.5,7,6.5,6,6,5.5,5.5]
["IL198712","IL","1987-05-15",{"$f":"COUNTIF(Calculations!$E$56:$E$98,\"<=\"&DATE(2006,MONTH(C2809),DAY(C2809)))","v":12},6.5,7,6.5,7,6,7,6.5,6,6.5,6]
["IL198713","IL","1987-05-22",{"$f":"COUNTIF(Calculations!$E$56:$E$98,\"<=\"&DATE(2006,MONTH(C2810),DAY(C2810)))","v":13},5,3,2,5.5,5,3.5,6,6,6.5,6.5]
["IL198714","IL","1987-05-29",{"$f":"COUNTIF(Calculations!$E$56:$E$98,\"<=\"&DATE(2006,MONTH(C2811),DAY(C2811)))","v":14},5.25,3,3.5,6,5.5,5.5,6.5,6.5,6,5.5]
["IL198715","IL","1987-06-05",{"$f":"COUNTIF(Calculations!$E$56:$E$98,\"<=\"&DATE(2006,MONTH(C2812),DAY(C2812)))","v":15},4.5,5,4,4.5,4,3,5,5,5,5]
["IL198716","IL","1987-06-12",{"$f":"COUNTIF(Calculations!$E$56:$E$98,\"<=\"&DATE(2006,MONTH(C2813),DAY(C2813)))","v":16},6.5,6.5,6.5,6.5,6.5,5.5,7,7,6.5,6]
["IL198717","IL","1987-06-19",{"$f":"COUNTIF(Calculations!$E$56:$E$98,\"<=\"&DATE(2006,MONTH(C2814),DAY(C2814)))","v":17},6.25,7,7,7,6.5,6.5,6.5,6.5,5.5,4.5]
["IL198718","IL","1987-06-26",{"$f":"COUNTIF(Calculations!$E$56:$E$98,\"<=\"&DATE(2006,MONTH(C2815),DAY(C2815)))","v":18},4.75,4,5.5,4.5,4.5,5,5,4.5,5.5,4.5]
["IL198719","IL","1987-07-03",{"$f":"COUNTIF(Calculations!$E$56:$E$98,\"<=\"&DATE(2006,MONTH(C2816),DAY(C2816)))","v":19},4.25,5.5,5.5,5.5,4.5,3,4.5,3.5,3.5,3.5]
["IL198720","IL","1987-07-10",{"$f":"COUNTIF(Calculations!$E$56:$E$98,\"<=\"&DATE(2006,MONTH(C2817),DAY(C2817)))","v":20},4.25,6,7,6,5,5.5,4,1.5,1,1.5]
["IL198721","IL","1987-07-17",{"$f":"COUNTIF(Calculations!$E$56:$E$98,\"<=\"&DATE(2006,MONTH(C2818),DAY(C2818)))","v":21},4.75,5.5,5,6.5,6,3.5,5.5,2.5,5,3]
["IL198722","IL","1987-07-24",{"$f":"COUNTIF(Calculations!$E$56:$E$98,\"<=\"&DATE(2006,MONTH(C2819),DAY(C2819)))","v":22},6.75,7,6.5,7,6.5,6.5,7,7,7,7]
["IL198723","IL","1987-07-31",{"$f":"COUNTIF(Calculations!$E$56:$E$98,\"<=\"&DATE(2006,MONTH(C2820),DAY(C2820)))","v":23},5.5,6,4.5,6.5,5.5,5.5,6.5,4.5,5.5,5.5]
["IL198724","IL","1987-08-07",{"$f":"COUNTIF(Calculations!$E$56:$E$98,\"<=\"&DATE(2006,MONTH(C2821),DAY(C2821)))","v":24},6,6,6.5,6,6,6.5,7,6.5,6,4]
["IL198725","IL","1987-08-14",{"$f":"COUNTIF(Calculations!$E$56:$E$98,\"<=\"&DATE(2006,MONTH(C2822),DAY(C2822)))","v":25},5.5,4,5,4.5,5.5,6,5.5,6,6,6.5]
["IL198726","IL","1987-08-21",{"$f":"COUNTIF(Calculations!$E$56:$E$98,\"<=\"&DATE(2006,MONTH(C2823),DAY(C2823)))","v":26},5,2.5,2,5,5,5,6,6.5,7,7]
["IL198727","IL","1987-08-28",{"$f":"COUNTIF(Calculations!$E$56:$E$98,\"<=\"&DATE(2006,MONTH(C2824),DAY(C2824)))","v":27},3.5,1,1.5,3,3,3,5.5,5,5,6]
["IL198728","IL","1987-09-04",{"$f":"COUNTIF(Calculations!$E$56:$E$98,\"<=\"&DATE(2006,MONTH(C2825),DAY(C2825)))","v":28},6.25,5.5,5,7,5.5,6,7,6.5,6.5,6.5]
["IL198729","IL","1987-09-11",{"$f":"COUNTIF(Calculations!$E$56:$E$98,\"<=\"&DATE(2006,MONTH(C2826),DAY(C2826)))","v":29},6.25,5,6,6,5.5,6,7,6.5,7,7]
["IL198730","IL","1987-09-18",{"$f":"COUNTIF(Calculations!$E$56:$E$98,\"<=\"&DATE(2006,MONTH(C2827),DAY(C2827)))","v":30},5,3,3.5,4,6,4.5,6,6,6,6.5]
["IL198731","IL","1987-09-25",{"$f":"COUNTIF(Calculations!$E$56:$E$98,\"<=\"&DATE(2006,MONTH(C2828),DAY(C2828)))","v":31},6.25,5,3.5,7,6.5,6,7,7,7,7]
["IL198732","IL","1987-10-02",{"$f":"COUNTIF(Calculations!$E$56:$E$98,\"<=\"&DATE(2006,MONTH(C2829),DAY(C2829)))","v":32},5.75,5.5,6,6,5.5,6,5.5,6,5.5,6]
["IL198733","IL","1987-10-09",{"$f":"COUNTIF(Calculations!$E$56:$E$98,\"<=\"&DATE(2006,MONTH(C2830),DAY(C2830)))","v":33},6.75,6.5,6.5,7,6.5,6.5,7,6.5,7,7]
["IL198734","IL","1987-10-16",{"$f":"COUNTIF(Calculations!$E$56:$E$98,\"<=\"&DATE(2006,MONTH(C2831),DAY(C2831)))","v":34},6.25,6,6.5,6,6.5,6.5,6,6.5,6,5]
["IL198735","IL","1987-10-23",{"$f":"COUNTIF(Calculations!$E$56:$E$98,\"<=\"&DATE(2006,MONTH(C2832),DAY(C2832)))","v":35},6.25,6.5,6,6.5,6.5,5.5,6,6.5,6,7]
["IL198736","IL","1987-10-30",{"$f":"COUNTIF(Calculations!$E$56:$E$98,\"<=\"&DATE(2006,MONTH(C2833),DAY(C2833)))","v":36},5.75,6,5,6.5,6.5,6,6.5,5.5,5,6]
["IL19887","IL","1988-04-08",{"$f":"COUNTIF(Calculations!$E$56:$E$98,\"<=\"&DATE(2006,MONTH(C2834),DAY(C2834)))","v":7},1.25,2,1,2,1.5,1,0.5,1,1.5,0.5]
[{"$f":"B2835&YEAR(C2835)&D2835","v":"IL19888"},"IL","1988-04-15",{"$f":"COUNTIF(Calculations!$E$56:$E$98,\"<=\"&DATE(2006,MONTH(C2835),DAY(C2835)))","v":8},5.25,6,4.5,6,5.5,4.5,5,4,6.5,4]
["IL19889","IL","1988-04-22",{"$f":"COUNTIF(Calculations!$E$56:$E$98,\"<=\"&DATE(2006,MONTH(C2836),DAY(C2836)))","v":9},5.75,6.5,6,6.5,5.5,5,6.5,6,5,4]
["IL198810","IL","1988-04-29",{"$f":"COUNTIF(Calculations!$E$56:$E$98,\"<=\"&DATE(2006,MONTH(C2837),DAY(C2837)))","v":10},5.75,4.5,3.5,6.5,5.5,5.5,7,7,7,7]
["IL198811","IL","1988-05-06",{"$f":"COUNTIF(Calculations!$E$56:$E$98,\"<=\"&DATE(2006,MONTH(C2838),DAY(C2838)))","v":11},6.75,7,7,7,6.5,7,7,7,6,6]
["IL198812","IL","1988-05-13",{"$f":"COUNTIF(Calculations!$E$56:$E$98,\"<=\"&DATE(2006,MONTH(C2839),DAY(C2839)))","v":12},5.5,4.5,5.5,6.9,5,5.5,5.5,6.5,6,5.5]
["IL198813","IL","1988-05-20",{"$f":"COUNTIF(Calculations!$E$56:$E$98,\"<=\"&DATE(2006,MONTH(C2840),DAY(C2840)))","v":13},6.75,7,6.5,7,6.5,6.5,7,7,7,7]
["IL198814","IL","1988-05-27",{"$f":"COUNTIF(Calculations!$E$56:$E$98,\"<=\"&DATE(2006,MONTH(C2841),DAY(C2841)))","v":14},5,5.5,5.5,4.5,5,5,5,5,4.5,5]
["IL198815","IL","1988-06-03",{"$f":"COUNTIF(Calculations!$E$56:$E$98,\"<=\"&DATE(2006,MONTH(C2842),DAY(C2842)))","v":15},7,7,7,7,7,7,7,7,7,7]
["IL198816","IL","1988-06-10",{"$f":"COUNTIF(Calculations!$E$56:$E$98,\"<=\"&DATE(2006,MONTH(C2843),DAY(C2843)))","v":16},6,7,7,5,5.5,6.5,5.5,6.5,6.5,5]
["IL198817","IL","1988-06-17",{"$f":"COUNTIF(Calculations!$E$56:$E$98,\"<=\"&DATE(2006,MONTH(C2844),DAY(C2844)))","v":17},7,7,7,7,7,7,7,7,7,7]
["IL198818","IL","1988-06-24",{"$f":"COUNTIF(Calculations!$E$56:$E$98,\"<=\"&DATE(2006,MONTH(C2845),DAY(C2845)))","v":18},7,7,7,7,7,7,7,7,7,7]
["IL198819","IL","1988-07-01",{"$f":"COUNTIF(Calculations!$E$56:$E$98,\"<=\"&DATE(2006,MONTH(C2846),DAY(C2846)))","v":19},6.5,6.5,6.5,6.5,6.5,6.5,6.5,7,5.5,6]
["IL198820","IL","1988-07-08",{"$f":"COUNTIF(Calculations!$E$56:$E$98,\"<=\"&DATE(2006,MONTH(C2847),DAY(C2847)))","v":20},7,7,7,7,7,7,7,7,7,7]
["IL198821","IL","1988-07-15",{"$f":"COUNTIF(Calculations!$E$56:$E$98,\"<=\"&DATE(2006,MONTH(C2848),DAY(C2848)))","v":21},6.25,7,7,7,7,6.5,7,6.5,5,4.5]
["IL198822","IL","1988-07-22",{"$f":"COUNTIF(Calculations!$E$56:$E$98,\"<=\"&DATE(2006,MONTH(C2849),DAY(C2849)))","v":22},5.25,6.5,5.5,6,7,5,6,3.5,4,3.5]
["IL198823","IL","1988-07-29",{"$f":"COUNTIF(Calculations!$E$56:$E$98,\"<=\"&DATE(2006,MONTH(C2850),DAY(C2850)))","v":23},6.25,7,6.5,7,6.5,6,6,5.5,5.5,5.5]
["IL198824","IL","1988-08-05",{"$f":"COUNTIF(Calculations!$E$56:$E$98,\"<=\"&DATE(2006,MONTH(C2851),DAY(C2851)))","v":24},6.75,7,7,7,7,7,7,6,6.5,6.5]
["IL198825","IL","1988-08-12",{"$f":"COUNTIF(Calculations!$E$56:$E$98,\"<=\"&DATE(2006,MONTH(C2852),DAY(C2852)))","v":25},5.75,6,4.5,5.5,5.5,5,6.5,6.5,6.5,7]
["IL198826","IL","1988-08-19",{"$f":"COUNTIF(Calculations!$E$56:$E$98,\"<=\"&DATE(2006,MONTH(C2853),DAY(C2853)))","v":26},6.5,6.5,6,6.5,6.5,6,6.5,7,6.5,6.5]
["IL198827","IL","1988-08-26",{"$f":"COUNTIF(Calculations!$E$56:$E$98,\"<=\"&DATE(2006,MONTH(C2854),DAY(C2854)))","v":27},6.25,6,6.5,5.5,6.5,6,6,6.5,6.5,6.5]
["IL198828","IL","1988-09-02",{"$f":"COUNTIF(Calculations!$E$56:$E$98,\"<=\"&DATE(2006,MONTH(C2855),DAY(C2855)))","v":28},6.5,6,6.5,6.5,6.5,6.5,6.5,6.5,6.5,5.5]
["IL198829","IL","1988-09-09",{"$f":"COUNTIF(Calculations!$E$56:$E$98,\"<=\"&DATE(2006,MONTH(C2856),DAY(C2856)))","v":29},6.5,6.5,6.5,7,6.5,5.5,7,7,5.5,7]
["IL198830","IL","1988-09-16",{"$f":"COUNTIF(Calculations!$E$56:$E$98,\"<=\"&DATE(2006,MONTH(C2857),DAY(C2857)))","v":30},6.5,6.5,6.5,6,6.5,6.5,6.5,6.5,6.5,6.5]
["IL198831","IL","1988-09-23",{"$f":"COUNTIF(Calculations!$E$56:$E$98,\"<=\"&DATE(2006,MONTH(C2858),DAY(C2858)))","v":31},5,5,4,6,5,4.5,5.5,5,4.5,4.5]
["IL198832","IL","1988-09-30",{"$f":"COUNTIF(Calculations!$E$56:$E$98,\"<=\"&DATE(2006,MONTH(C2859),DAY(C2859)))","v":32},6.5,6.5,7,6.5,6.5,6.5,7,7,6,6.5]
["IL198833","IL","1988-10-07",{"$f":"COUNTIF(Calculations!$E$56:$E$98,\"<=\"&DATE(2006,MONTH(C2860),DAY(C2860)))","v":33},5.5,6,5,6.5,6.5,5,5.5,5,4.5,5]
["IL198834","IL","1988-10-14",{"$f":"COUNTIF(Calculations!$E$56:$E$98,\"<=\"&DATE(2006,MONTH(C2861),DAY(C2861)))","v":34},7,7,7,7,7,7,7,7,7,7]
["IL198835","IL","1988-10-21",{"$f":"COUNTIF(Calculations!$E$56:$E$98,\"<=\"&DATE(2006,MONTH(C2862),DAY(C2862)))","v":35},4.75,4.5,4.5,5.5,5,3.5,5.5,4.5,4.5,4.5]
["IL198836","IL","1988-10-28",{"$f":"COUNTIF(Calculations!$E$56:$E$98,\"<=\"&DATE(2006,MONTH(C2863),DAY(C2863)))","v":36},5.5,5,5,6.5,5.5,5,6.5,5.5,4.5,4]
["IL19896","IL","1989-04-07",{"$f":"COUNTIF(Calculations!$E$56:$E$98,\"<=\"&DATE(2006,MONTH(C2864),DAY(C2864)))","v":6},1.25,3,3,2,1,0.5,1,0.5,0,0]
["IL19897","IL","1989-04-14",{"$f":"COUNTIF(Calculations!$E$56:$E$98,\"<=\"&DATE(2006,MONTH(C2865),DAY(C2865)))","v":7},3,6,5,4,3.5,1.5,3,1,1.5,1]
["IL19898","IL","1989-04-21",{"$f":"COUNTIF(Calculations!$E$56:$E$98,\"<=\"&DATE(2006,MONTH(C2866),DAY(C2866)))","v":8},4.5,6,6,5.5,5,4,5,1.5,5.5,4]
["IL19899","IL","1989-04-28",{"$f":"COUNTIF(Calculations!$E$56:$E$98,\"<=\"&DATE(2006,MONTH(C2867),DAY(C2867)))","v":9},4.75,4.5,5.5,3.5,3,4.5,6,3.5,7,7]
["IL198910","IL","1989-05-05",{"$f":"COUNTIF(Calculations!$E$56:$E$98,\"<=\"&DATE(2006,MONTH(C2868),DAY(C2868)))","v":10},4.5,3.5,5,4,4,2,5.5,4,6,5.5]
["IL198911","IL","1989-05-12",{"$f":"COUNTIF(Calculations!$E$56:$E$98,\"<=\"&DATE(2006,MONTH(C2869),DAY(C2869)))","v":11},4.5,6,5.5,5,4,4,5,2.5,5.5,4.5]
["IL198912","IL","1989-05-19",{"$f":"COUNTIF(Calculations!$E$56:$E$98,\"<=\"&DATE(2006,MONTH(C2870),DAY(C2870)))","v":12},6,5.5,5.5,6,5.5,5.5,6.5,6,7,6.5]
["IL198913","IL","1989-05-26",{"$f":"COUNTIF(Calculations!$E$56:$E$98,\"<=\"&DATE(2006,MONTH(C2871),DAY(C2871)))","v":13},3.5,5.5,5,4.5,4,2.5,3,1.5,3,2]
["IL198914","IL","1989-06-02",{"$f":"COUNTIF(Calculations!$E$56:$E$98,\"<=\"&DATE(2006,MONTH(C2872),DAY(C2872)))","v":14},3.75,5,3,3,4.5,3,4,2.5,4.5,3.5]
["IL198915","IL","1989-06-09",{"$f":"COUNTIF(Calculations!$E$56:$E$98,\"<=\"&DATE(2006,MONTH(C2873),DAY(C2873)))","v":15},5,5,4.5,6,6,4.5,6,4,6.5,2.5]
["IL198916","IL","1989-06-16",{"$f":"COUNTIF(Calculations!$E$56:$E$98,\"<=\"&DATE(2006,MONTH(C2874),DAY(C2874)))","v":16},4.5,4.5,4.5,5,6,6,6.5,6.5,2,1]
["IL198917","IL","1989-06-23",{"$f":"COUNTIF(Calculations!$E$56:$E$98,\"<=\"&DATE(2006,MONTH(C2875),DAY(C2875)))","v":17},6,7,7,7,7,7,6.5,7,3.5,3.5]
["IL198918","IL","1989-06-30",{"$f":"COUNTIF(Calculations!$E$56:$E$98,\"<=\"&DATE(2006,MONTH(C2876),DAY(C2876)))","v":18},5.75,6.5,6.5,6,5.5,5,5.5,5.5,5,5]
["IL198919","IL","1989-07-07",{"$f":"COUNTIF(Calculations!$E$56:$E$98,\"<=\"&DATE(2006,MONTH(C2877),DAY(C2877)))","v":19},5.75,7,7,7,6.5,6.5,7,5,5,2.5]
["IL198920","IL","1989-07-14",{"$f":"COUNTIF(Calculations!$E$56:$E$98,\"<=\"&DATE(2006,MONTH(C2878),DAY(C2878)))","v":20},6,6.5,5.5,7,6.5,5.5,7,5.5,6.5,4]
["IL198921","IL","1989-07-21",{"$f":"COUNTIF(Calculations!$E$56:$E$98,\"<=\"&DATE(2006,MONTH(C2879),DAY(C2879)))","v":21},4.25,4,3,4.5,3.5,3.5,4.5,4.5,5,4.5]
["IL198922","IL","1989-07-28",{"$f":"COUNTIF(Calculations!$E$56:$E$98,\"<=\"&DATE(2006,MONTH(C2880),DAY(C2880)))","v":22},5.25,5.5,5.5,6,4.5,5,4,5,5,7]
["IL198923","IL","1989-08-04",{"$f":"COUNTIF(Calculations!$E$56:$E$98,\"<=\"&DATE(2006,MONTH(C2881),DAY(C2881)))","v":23},5.75,5.5,4,6,6,6.5,5,6,6,6]
["IL198924","IL","1989-08-11",{"$f":"COUNTIF(Calculations!$E$56:$E$98,\"<=\"&DATE(2006,MONTH(C2882),DAY(C2882)))","v":24},6.5,6,6,7,7,6.5,7,6.5,7,6.5]
["IL198925","IL","1989-08-18",{"$f":"COUNTIF(Calculations!$E$56:$E$98,\"<=\"&DATE(2006,MONTH(C2883),DAY(C2883)))","v":25},6,5,4.5,7,6.5,5.5,6.5,6,6.5,6]
["IL198926","IL","1989-08-25",{"$f":"COUNTIF(Calculations!$E$56:$E$98,\"<=\"&DATE(2006,MONTH(C2884),DAY(C2884)))","v":26},4.25,4.5,5,4,4.5,3.5,4.5,4,4.5,3.5]
["IL198927","IL","1989-09-01",{"$f":"COUNTIF(Calculations!$E$56:$E$98,\"<=\"&DATE(2006,MONTH(C2885),DAY(C2885)))","v":27},3.5,3.5,3.5,2.5,4,3,3,3,6.5,4.5]
["IL198928","IL","1989-09-08",{"$f":"COUNTIF(Calculations!$E$56:$E$98,\"<=\"&DATE(2006,MONTH(C2886),DAY(C2886)))","v":28},4.25,3.5,2.5,4,2.5,2.5,4.5,5.5,6.5,6]
["IL198929","IL","1989-09-15",{"$f":"COUNTIF(Calculations!$E$56:$E$98,\"<=\"&DATE(2006,MONTH(C2887),DAY(C2887)))","v":29},2,2,2.5,2.5,1,1,1.5,2,4,2.5]
["IL198930","IL","1989-09-22",{"$f":"COUNTIF(Calculations!$E$56:$E$98,\"<=\"&DATE(2006,MONTH(C2888),DAY(C2888)))","v":30},6,7,7,6.5,6,5,6,5.5,6.5,6]
["IL198931","IL","1989-09-29",{"$f":"COUNTIF(Calculations!$E$56:$E$98,\"<=\"&DATE(2006,MONTH(C2889),DAY(C2889)))","v":31},7,7,7,7,7,7,7,7,7,7]
["IL198932","IL","1989-10-06",{"$f":"COUNTIF(Calculations!$E$56:$E$98,\"<=\"&DATE(2006,MONTH(C2890),DAY(C2890)))","v":32},6,5.5,5.5,5.5,6,6,6.5,6.5,6,6]
["IL198933","IL","1989-10-13",{"$f":"COUNTIF(Calculations!$E$56:$E$98,\"<=\"&DATE(2006,MONTH(C2891),DAY(C2891)))","v":33},7,7,7,7,7,6.5,7,7,7,7]
["IL198934","IL","1989-10-20",{"$f":"COUNTIF(Calculations!$E$56:$E$98,\"<=\"&DATE(2006,MONTH(C2892),DAY(C2892)))","v":34},4.5,5.5,5,5,5,4,5.5,4.5,3.5,2.5]
["IL198935","IL","1989-10-27",{"$f":"COUNTIF(Calculations!$E$56:$E$98,\"<=\"&DATE(2006,MONTH(C2893),DAY(C2893)))","v":35},6.75,7,6.5,7,7,6,7,7,7,6.5]
["IL198936","IL","1989-11-03",{"$f":"COUNTIF(Calculations!$E$56:$E$98,\"<=\"&DATE(2006,MONTH(C2894),DAY(C2894)))","v":36},6.5,6,6.5,6.5,6.5,6.5,6,7,6,6.5]
["IL19906","IL","1990-04-06",{"$f":"COUNTIF(Calculations!$E$56:$E$98,\"<=\"&DATE(2006,MONTH(C2895),DAY(C2895)))","v":6},2.25,3,2.5,4.5,2.5,1.5,2.5,2,1,2]
["IL19907","IL","1990-04-13",{"$f":"COUNTIF(Calculations!$E$56:$E$98,\"<=\"&DATE(2006,MONTH(C2896),DAY(C2896)))","v":7},2.75,4,3,4.5,4,1.5,3,2.5,2,1]
["IL19908","IL","1990-04-20",{"$f":"COUNTIF(Calculations!$E$56:$E$98,\"<=\"&DATE(2006,MONTH(C2897),DAY(C2897)))","v":8},2,3.5,3.5,2.5,3,2,1.5,0.5,0,0.5]
["IL19909","IL","1990-04-27",{"$f":"COUNTIF(Calculations!$E$56:$E$98,\"<=\"&DATE(2006,MONTH(C2898),DAY(C2898)))","v":9},4.5,5.5,5.5,6,5.5,5,5,3,2.5,2.5]
[{"$f":"B2899&YEAR(C2899)&D2899","v":"IL199010"},"IL","1990-05-04",{"$f":"COUNTIF(Calculations!$E$56:$E$98,\"<=\"&DATE(2006,MONTH(C2899),DAY(C2899)))","v":10},3.25,4.5,5.5,3.5,4.5,5,3.5,2.5,0.5,0.5]
["IL199011","IL","1990-05-11",{"$f":"COUNTIF(Calculations!$E$56:$E$98,\"<=\"&DATE(2006,MONTH(C2900),DAY(C2900)))","v":11},2.25,1.5,2.5,1.5,2,3,3.5,2,2,1.5]
["IL199012","IL","1990-05-18",{"$f":"COUNTIF(Calculations!$E$56:$E$98,\"<=\"&DATE(2006,MONTH(C2901),DAY(C2901)))","v":12},0.5,2,0.5,1,0.5,0.5,0,0,0,0]
["IL199013","IL","1990-05-25",{"$f":"COUNTIF(Calculations!$E$56:$E$98,\"<=\"&DATE(2006,MONTH(C2902),DAY(C2902)))","v":13},1.25,2.5,2.5,1,1,2,0.5,1,1,0]
["IL199014","IL","1990-06-01",{"$f":"COUNTIF(Calculations!$E$56:$E$98,\"<=\"&DATE(2006,MONTH(C2903),DAY(C2903)))","v":14},3,5,5,2.5,3.5,4,2,3.5,1,0.5]
["IL199015","IL","1990-06-08",{"$f":"COUNTIF(Calculations!$E$56:$E$98,\"<=\"&DATE(2006,MONTH(C2904),DAY(C2904)))","v":15},4,4.5,4.5,4,5,5,3,3.5,3,2.5]
["IL199016","IL","1990-06-15",{"$f":"COUNTIF(Calculations!$E$56:$E$98,\"<=\"&DATE(2006,MONTH(C2905),DAY(C2905)))","v":16},4.75,4,5.5,3.5,4.5,5.5,4.5,5.5,5,4.5]
["IL199017","IL","1990-06-22",{"$f":"COUNTIF(Calculations!$E$56:$E$98,\"<=\"&DATE(2006,MONTH(C2906),DAY(C2906)))","v":17},3,2.5,2.5,1.5,2,2.5,3.5,3,5,4.5]
["IL199018","IL","1990-06-29",{"$f":"COUNTIF(Calculations!$E$56:$E$98,\"<=\"&DATE(2006,MONTH(C2907),DAY(C2907)))","v":18},5,3.5,3.5,4.5,4.5,4.5,6,6,6.5,6]
["IL199019","IL","1990-07-06",{"$f":"COUNTIF(Calculations!$E$56:$E$98,\"<=\"&DATE(2006,MONTH(C2908),DAY(C2908)))","v":19},6,4.5,5.5,6.5,5,6,6.5,6,7,7]
["IL199020","IL","1990-07-13",{"$f":"COUNTIF(Calculations!$E$56:$E$98,\"<=\"&DATE(2006,MONTH(C2909),DAY(C2909)))","v":20},4.5,4.5,5,3,3.5,3,4.5,5,6,6.5]
["IL199021","IL","1990-07-20",{"$f":"COUNTIF(Calculations!$E$56:$E$98,\"<=\"&DATE(2006,MONTH(C2910),DAY(C2910)))","v":21},5,3,3,4.5,4,4,6,6.5,7,7]
["IL199022","IL","1990-07-27",{"$f":"COUNTIF(Calculations!$E$56:$E$98,\"<=\"&DATE(2006,MONTH(C2911),DAY(C2911)))","v":22},4.5,5.5,5,5,3.5,2.5,5,4,4.5,4]
["IL199023","IL","1990-08-03",{"$f":"COUNTIF(Calculations!$E$56:$E$98,\"<=\"&DATE(2006,MONTH(C2912),DAY(C2912)))","v":23},6.25,6.5,6,6,6,6,6.5,7,6.5,7]
["IL199024","IL","1990-08-10",{"$f":"COUNTIF(Calculations!$E$56:$E$98,\"<=\"&DATE(2006,MONTH(C2913),DAY(C2913)))","v":24},5.75,6.5,6.5,5.5,5,5.5,5.5,6.5,5.5,6]
["IL199025","IL","1990-08-17",{"$f":"COUNTIF(Calculations!$E$56:$E$98,\"<=\"&DATE(2006,MONTH(C2914),DAY(C2914)))","v":25},4.75,5.5,4.5,4.5,4,4,4,5.5,4,7]
["IL199026","IL","1990-08-24",{"$f":"COUNTIF(Calculations!$E$56:$E$98,\"<=\"&DATE(2006,MONTH(C2915),DAY(C2915)))","v":26},4.25,3,2,5,3,3.5,5,5,6,6.5]
["IL199027","IL","1990-08-31",{"$f":"COUNTIF(Calculations!$E$56:$E$98,\"<=\"&DATE(2006,MONTH(C2916),DAY(C2916)))","v":27},5.5,5,6,5.5,4.5,5,6.5,5.5,6.5,6]
["IL199028","IL","1990-09-07",{"$f":"COUNTIF(Calculations!$E$56:$E$98,\"<=\"&DATE(2006,MONTH(C2917),DAY(C2917)))","v":28},6.5,7,6.5,6,5.5,6.5,7,7,7,7]
["IL199029","IL","1990-09-14",{"$f":"COUNTIF(Calculations!$E$56:$E$98,\"<=\"&DATE(2006,MONTH(C2918),DAY(C2918)))","v":29},6,6.5,6,7,6,6,7,5,4,3]
["IL199030","IL","1990-09-21",{"$f":"COUNTIF(Calculations!$E$56:$E$98,\"<=\"&DATE(2006,MONTH(C2919),DAY(C2919)))","v":30},4.5,5.5,5.5,4,4.5,5,5,5,4,3]
["IL199031","IL","1990-09-28",{"$f":"COUNTIF(Calculations!$E$56:$E$98,\"<=\"&DATE(2006,MONTH(C2920),DAY(C2920)))","v":31},6.25,6.5,6,6.5,6.5,5.5,6,6.5,6,6.5]
["IL199032","IL","1990-10-05",{"$f":"COUNTIF(Calculations!$E$56:$E$98,\"<=\"&DATE(2006,MONTH(C2921),DAY(C2921)))","v":32},5.25,5.5,5.5,5.5,4,4.5,5,6,5.5,4.5]
["IL199033","IL","1990-10-12",{"$f":"COUNTIF(Calculations!$E$56:$E$98,\"<=\"&DATE(2006,MONTH(C2922),DAY(C2922)))","v":33},1.75,2.5,1.5,3,2,1,2,1,1.5,1.5]
["IL199034","IL","1990-10-19",{"$f":"COUNTIF(Calculations!$E$56:$E$98,\"<=\"&DATE(2006,MONTH(C2923),DAY(C2923)))","v":34},4.75,4.5,4,6,4.5,4.5,5.5,5,4.5,4]
["IL199035","IL","1990-10-26",{"$f":"COUNTIF(Calculations!$E$56:$E$98,\"<=\"&DATE(2006,MONTH(C2924),DAY(C2924)))","v":35},6.5,7,7,6.5,6.5,6.5,7,6,6,5]
["IL199036","IL","1990-11-02",{"$f":"COUNTIF(Calculations!$E$56:$E$98,\"<=\"&DATE(2006,MONTH(C2925),DAY(C2925)))","v":36},7,7,7,7,6.5,7,7,7,7,7]
["IL199037","IL","1990-11-09",{"$f":"COUNTIF(Calculations!$E$56:$E$98,\"<=\"&DATE(2006,MONTH(C2926),DAY(C2926)))","v":37},3.25,3.5,2.5,4,2.5,2,3,4.5,4,4.5]
["IL199038","IL","1990-11-16",{"$f":"COUNTIF(Calculations!$E$56:$E$98,\"<=\"&DATE(2006,MONTH(C2927),DAY(C2927)))","v":38},6.5,7,6.5,6.5,6.5,6,6.5,7,7,6.5]
["IL19916","IL","1991-04-05",{"$f":"COUNTIF(Calculations!$E$56:$E$98,\"<=\"&DATE(2006,MONTH(C2928),DAY(C2928)))","v":6},3.5,4,2,5,4,3,4.5,3,4,3]
["IL19917","IL","1991-04-12",{"$f":"COUNTIF(Calculations!$E$56:$E$98,\"<=\"&DATE(2006,MONTH(C2929),DAY(C2929)))","v":7},4.5,4,3.5,5.5,5.5,5,6,4,4,2]
["IL19918","IL","1991-04-19",{"$f":"COUNTIF(Calculations!$E$56:$E$98,\"<=\"&DATE(2006,MONTH(C2930),DAY(C2930)))","v":8},1.5,1.5,1.5,1,1,0.5,0.5,3,1,1]
["IL19919","IL","1991-04-26",{"$f":"COUNTIF(Calculations!$E$56:$E$98,\"<=\"&DATE(2006,MONTH(C2931),DAY(C2931)))","v":9},4,5,5,3.5,6,4.5,3,4.5,3.5,3.5]
["IL199110","IL","1991-05-03",{"$f":"COUNTIF(Calculations!$E$56:$E$98,\"<=\"&DATE(2006,MONTH(C2932),DAY(C2932)))","v":10},4.5,6,4.5,5,4.5,4,4.5,5,4,3]
["IL199111","IL","1991-05-10",{"$f":"COUNTIF(Calculations!$E$56:$E$98,\"<=\"&DATE(2006,MONTH(C2933),DAY(C2933)))","v":11},3.5,5,4,2.5,3,3,2,4,4,3]
["IL199112","IL","1991-05-17",{"$f":"COUNTIF(Calculations!$E$56:$E$98,\"<=\"&DATE(2006,MONTH(C2934),DAY(C2934)))","v":12},4,5,5,4,3.5,3.5,3,4,3,3]
["IL199113","IL","1991-05-24",{"$f":"COUNTIF(Calculations!$E$56:$E$98,\"<=\"&DATE(2006,MONTH(C2935),DAY(C2935)))","v":13},3.25,3.5,4,0.5,3,2,3,5.5,3.5,3.5]
["IL199114","IL","1991-05-31",{"$f":"COUNTIF(Calculations!$E$56:$E$98,\"<=\"&DATE(2006,MONTH(C2936),DAY(C2936)))","v":14},3.75,3.5,3.5,1.5,3,4.5,3,6,5,5.5]
["IL199115","IL","1991-06-07",{"$f":"COUNTIF(Calculations!$E$56:$E$98,\"<=\"&DATE(2006,MONTH(C2937),DAY(C2937)))","v":15},5.75,6,5.5,5.5,6,5.5,4.5,6.5,6.5,6.5]
["IL199116","IL","1991-06-14",{"$f":"COUNTIF(Calculations!$E$56:$E$98,\"<=\"&DATE(2006,MONTH(C2938),DAY(C2938)))","v":16},6.5,6,5.5,6.5,6.5,7,7,7,6.5,6]
["IL199117","IL","1991-06-21",{"$f":"COUNTIF(Calculations!$E$56:$E$98,\"<=\"&DATE(2006,MONTH(C2939),DAY(C2939)))","v":17},6.5,7,7,6.5,6,7,5.5,6,6.5,6]
["IL199118","IL","1991-06-28",{"$f":"COUNTIF(Calculations!$E$56:$E$98,\"<=\"&DATE(2006,MONTH(C2940),DAY(C2940)))","v":18},6.25,6,6,6.5,7,6.5,6,6,6,6]
["IL199119","IL","1991-07-05",{"$f":"COUNTIF(Calculations!$E$56:$E$98,\"<=\"&DATE(2006,MONTH(C2941),DAY(C2941)))","v":19},6,6.5,6.5,7,5,6.5,6.5,5.5,5.5,5.5]
["IL199120","IL","1991-07-12",{"$f":"COUNTIF(Calculations!$E$56:$E$98,\"<=\"&DATE(2006,MONTH(C2942),DAY(C2942)))","v":20},5,6.5,6,4,5,6,4,5.5,5,5]
["IL199121","IL","1991-07-19",{"$f":"COUNTIF(Calculations!$E$56:$E$98,\"<=\"&DATE(2006,MONTH(C2943),DAY(C2943)))","v":21},6.75,7,6.5,7,6,6.5,6.5,7,6.5,7]
["IL199122","IL","1991-07-26",{"$f":"COUNTIF(Calculations!$E$56:$E$98,\"<=\"&DATE(2006,MONTH(C2944),DAY(C2944)))","v":22},6.75,6.5,6.5,6,7,6.5,6,7,7,6.5]
["IL199123","IL","1991-08-02",{"$f":"COUNTIF(Calculations!$E$56:$E$98,\"<=\"&DATE(2006,MONTH(C2945),DAY(C2945)))","v":23},7,7,7,7,7,7,7,7,7,7]
["IL199124","IL","1991-08-09",{"$f":"COUNTIF(Calculations!$E$56:$E$98,\"<=\"&DATE(2006,MONTH(C2946),DAY(C2946)))","v":24},4.5,4.5,5.5,4,3,4,3.5,4.5,5.5,5.5]
["IL199125","IL","1991-08-16",{"$f":"COUNTIF(Calculations!$E$56:$E$98,\"<=\"&DATE(2006,MONTH(C2947),DAY(C2947)))","v":25},6.5,7,7,6.5,6.5,6.5,7,6.5,6.5,6]
["IL199126","IL","1991-08-23",{"$f":"COUNTIF(Calculations!$E$56:$E$98,\"<=\"&DATE(2006,MONTH(C2948),DAY(C2948)))","v":26},6.5,6.5,7,6.5,6.5,6,7,6.5,6.5,7]
["IL199127","IL","1991-08-30",{"$f":"COUNTIF(Calculations!$E$56:$E$98,\"<=\"&DATE(2006,MONTH(C2949),DAY(C2949)))","v":27},6,6.5,7,6,5.5,6.5,5.5,6.5,6.5,6]
["IL199128","IL","1991-09-06",{"$f":"COUNTIF(Calculations!$E$56:$E$98,\"<=\"&DATE(2006,MONTH(C2950),DAY(C2950)))","v":28},5,5.5,5.5,5.5,5,5.5,4.5,5,4,4]
["IL199129","IL","1991-09-13",{"$f":"COUNTIF(Calculations!$E$56:$E$98,\"<=\"&DATE(2006,MONTH(C2951),DAY(C2951)))","v":29},5.5,5,5,5,5,6,6,6.5,6.5,6]
["IL199130","IL","1991-09-20",{"$f":"COUNTIF(Calculations!$E$56:$E$98,\"<=\"&DATE(2006,MONTH(C2952),DAY(C2952)))","v":30},6,5.5,5.5,5.5,6,6.5,6,6,5.5,4.5]
["IL199131","IL","1991-09-27",{"$f":"COUNTIF(Calculations!$E$56:$E$98,\"<=\"&DATE(2006,MONTH(C2953),DAY(C2953)))","v":31},6,6,6,6,6.5,6,6,5.5,4.5,4.5]
["IL199132","IL","1991-10-04",{"$f":"COUNTIF(Calculations!$E$56:$E$98,\"<=\"&DATE(2006,MONTH(C2954),DAY(C2954)))","v":32},5.5,5.5,5.5,5,5,5.5,5.5,6.5,5.5,6]
["IL199133","IL","1991-10-11",{"$f":"COUNTIF(Calculations!$E$56:$E$98,\"<=\"&DATE(2006,MONTH(C2955),DAY(C2955)))","v":33},5.5,5.5,5.5,5,5,5,5,6,6,6]
["IL199134","IL","1991-10-18",{"$f":"COUNTIF(Calculations!$E$56:$E$98,\"<=\"&DATE(2006,MONTH(C2956),DAY(C2956)))","v":34},6.5,6.5,6.5,6.5,6.5,6.5,6.5,6.5,6.5,6]
["IL199135","IL","1991-10-25",{"$f":"COUNTIF(Calculations!$E$56:$E$98,\"<=\"&DATE(2006,MONTH(C2957),DAY(C2957)))","v":35},5.25,4.5,5,5,4.5,5,5.5,6.5,5.5,6]
["IL199136","IL","1991-11-01",{"$f":"COUNTIF(Calculations!$E$56:$E$98,\"<=\"&DATE(2006,MONTH(C2958),DAY(C2958)))","v":36},0.5,0.5,0.5,0.5,1,0.5,0.5,0.5,0.5,0.5]
["IL19926","IL","1992-04-03",{"$f":"COUNTIF(Calculations!$E$56:$E$98,\"<=\"&DATE(2006,MONTH(C2959),DAY(C2959)))","v":6},2,4,3,3,2.5,1,1.5,0.5,1,0.5]
["IL19927","IL","1992-04-10",{"$f":"COUNTIF(Calculations!$E$56:$E$98,\"<=\"&DATE(2006,MONTH(C2960),DAY(C2960)))","v":7},5,6.5,6,6,5,4.5,5,3.5,5,3.5]
["IL19928","IL","1992-04-17",{"$f":"COUNTIF(Calculations!$E$56:$E$98,\"<=\"&DATE(2006,MONTH(C2961),DAY(C2961)))","v":8},3.75,3,2.5,3.5,3.5,3,4,3.5,5,5.5]
["IL19929","IL","1992-04-24",{"$f":"COUNTIF(Calculations!$E$56:$E$98,\"<=\"&DATE(2006,MONTH(C2962),DAY(C2962)))","v":9},0.5,0,1,0,1,1,0.5,0.5,0.5,0.5]
[{"$f":"B2963&YEAR(C2963)&D2963","v":"IL199210"},"IL","1992-05-01",{"$f":"COUNTIF(Calculations!$E$56:$E$98,\"<=\"&DATE(2006,MONTH(C2963),DAY(C2963)))","v":10},3.5,4,4,4,4.5,4,3,2,3.5,2]
["IL199211","IL","1992-05-08",{"$f":"COUNTIF(Calculations!$E$56:$E$98,\"<=\"&DATE(2006,MONTH(C2964),DAY(C2964)))","v":11},6.5,7,7,7,6.5,7,6.5,6,6.5,5.5]
["IL199212","IL","1992-05-15",{"$f":"COUNTIF(Calculations!$E$56:$E$98,\"<=\"&DATE(2006,MONTH(C2965),DAY(C2965)))","v":12},6,6,6.5,6.5,6,6,5,5,6.5,5.5]
["IL199213","IL","1992-05-22",{"$f":"COUNTIF(Calculations!$E$56:$E$98,\"<=\"&DATE(2006,MONTH(C2966),DAY(C2966)))","v":13},6,6.5,6.5,6,6.5,6.5,6,6,5.5,3.5]
["IL199214","IL","1992-05-29",{"$f":"COUNTIF(Calculations!$E$56:$E$98,\"<=\"&DATE(2006,MONTH(C2967),DAY(C2967)))","v":14},6,6,6.5,6,6.5,6.5,6,6,5,2.5]
["IL199215","IL","1992-06-05",{"$f":"COUNTIF(Calculations!$E$56:$E$98,\"<=\"&DATE(2006,MONTH(C2968),DAY(C2968)))","v":15},6,6.5,6.5,6,6.5,5.5,6,6.5,5.5,4]
["IL199216","IL","1992-06-12",{"$f":"COUNTIF(Calculations!$E$56:$E$98,\"<=\"&DATE(2006,MONTH(C2969),DAY(C2969)))","v":16},6,6.5,6.5,6.5,5.5,5,6,6,5.5,5.5]
["IL199217","IL","1992-06-19",{"$f":"COUNTIF(Calculations!$E$56:$E$98,\"<=\"&DATE(2006,MONTH(C2970),DAY(C2970)))","v":17},6,5.5,5.5,6,5.5,5.5,6.5,6.5,6.5,6.5]
["IL199218","IL","1992-06-26",{"$f":"COUNTIF(Calculations!$E$56:$E$98,\"<=\"&DATE(2006,MONTH(C2971),DAY(C2971)))","v":18},6.5,6,7,6.5,6,6,7,7,6,6.5]
["IL199219","IL","1992-07-03",{"$f":"COUNTIF(Calculations!$E$56:$E$98,\"<=\"&DATE(2006,MONTH(C2972),DAY(C2972)))","v":19},6,6,6,6,6,6.5,6.5,6.5,6.5,6]
["IL199220","IL","1992-07-10",{"$f":"COUNTIF(Calculations!$E$56:$E$98,\"<=\"&DATE(2006,MONTH(C2973),DAY(C2973)))","v":20},4.25,4.5,4,3.5,2.5,2.5,4.5,5,5.5,5.5]
["IL199221","IL","1992-07-17",{"$f":"COUNTIF(Calculations!$E$56:$E$98,\"<=\"&DATE(2006,MONTH(C2974),DAY(C2974)))","v":21},2.5,1.5,1.5,1,1,1,4,4,5.5,4.5]
["IL199222","IL","1992-07-24",{"$f":"COUNTIF(Calculations!$E$56:$E$98,\"<=\"&DATE(2006,MONTH(C2975),DAY(C2975)))","v":22},2.75,2,2.5,1.5,2,1.5,3,3,5.5,5]
["IL199223","IL","1992-07-31",{"$f":"COUNTIF(Calculations!$E$56:$E$98,\"<=\"&DATE(2006,MONTH(C2976),DAY(C2976)))","v":23},3,2,3,2,2,1,4,4,6,5.5]
["IL199224","IL","1992-08-07",{"$f":"COUNTIF(Calculations!$E$56:$E$98,\"<=\"&DATE(2006,MONTH(C2977),DAY(C2977)))","v":24},5.75,5,6,6,5,5.5,6.5,6,6.5,6.5]
["IL199225","IL","1992-08-14",{"$f":"COUNTIF(Calculations!$E$56:$E$98,\"<=\"&DATE(2006,MONTH(C2978),DAY(C2978)))","v":25},6.25,5.5,5.5,6.5,6,6.5,6.5,6.5,6.5,6.5]
["IL199226","IL","1992-08-21",{"$f":"COUNTIF(Calculations!$E$56:$E$98,\"<=\"&DATE(2006,MONTH(C2979),DAY(C2979)))","v":26},6.75,7,6.5,7,7,6.5,7,6.5,7,6.5]
["IL199227","IL","1992-08-28",{"$f":"COUNTIF(Calculations!$E$56:$E$98,\"<=\"&DATE(2006,MONTH(C2980),DAY(C2980)))","v":27},5,4,4,5.5,5.5,5,5.5,5,5,5]
["IL199228","IL","1992-09-04",{"$f":"COUNTIF(Calculations!$E$56:$E$98,\"<=\"&DATE(2006,MONTH(C2981),DAY(C2981)))","v":28},5.5,6,5.5,6.5,5,6,6,5.5,5.5,5]
["IL199229","IL","1992-09-11",{"$f":"COUNTIF(Calculations!$E$56:$E$98,\"<=\"&DATE(2006,MONTH(C2982),DAY(C2982)))","v":29},4,3.5,4.5,3.5,4,3.5,5,4.5,4,4]
["IL199230","IL","1992-09-18",{"$f":"COUNTIF(Calculations!$E$56:$E$98,\"<=\"&DATE(2006,MONTH(C2983),DAY(C2983)))","v":30},5.5,3.5,3.5,6,5.5,5.5,6.5,6.5,6.5,6.5]
["IL199231","IL","1992-09-25",{"$f":"COUNTIF(Calculations!$E$56:$E$98,\"<=\"&DATE(2006,MONTH(C2984),DAY(C2984)))","v":31},4.25,4.5,4.5,4.5,4,4.5,5,4,4,3.5]
["IL199232","IL","1992-10-02",{"$f":"COUNTIF(Calculations!$E$56:$E$98,\"<=\"&DATE(2006,MONTH(C2985),DAY(C2985)))","v":32},5.5,6,5.5,5.5,6,5,5.5,5.5,6,4.5]
["IL199233","IL","1992-10-09",{"$f":"COUNTIF(Calculations!$E$56:$E$98,\"<=\"&DATE(2006,MONTH(C2986),DAY(C2986)))","v":33},6,5,5.5,5.5,6,5.5,6.5,6.5,6.5,6.5]
["IL199234","IL","1992-10-16",{"$f":"COUNTIF(Calculations!$E$56:$E$98,\"<=\"&DATE(2006,MONTH(C2987),DAY(C2987)))","v":34},5.5,5,4.5,5,5,5,6,6,6,6]
["IL199235","IL","1992-10-23",{"$f":"COUNTIF(Calculations!$E$56:$E$98,\"<=\"&DATE(2006,MONTH(C2988),DAY(C2988)))","v":35},6.5,6.5,6.5,6.5,6.5,6.5,6.5,6.5,6.5,6]
["IL199236","IL","1992-10-30",{"$f":"COUNTIF(Calculations!$E$56:$E$98,\"<=\"&DATE(2006,MONTH(C2989),DAY(C2989)))","v":36},6.5,7,6.5,6,6.5,6.5,6,6,6,6.5]
["IL199237","IL","1992-11-06",{"$f":"COUNTIF(Calculations!$E$56:$E$98,\"<=\"&DATE(2006,MONTH(C2990),DAY(C2990)))","v":37},2.25,2,1.5,1.5,1.5,1,1.5,4,3.5,4]
["IL199238","IL","1992-11-13",{"$f":"COUNTIF(Calculations!$E$56:$E$98,\"<=\"&DATE(2006,MONTH(C2991),DAY(C2991)))","v":38},1.75,2.5,2.5,2,1.5,1,1,2,2.5,2.5]
["IL19936","IL","1993-04-02",{"$f":"COUNTIF(Calculations!$E$56:$E$98,\"<=\"&DATE(2006,MONTH(C2992),DAY(C2992)))","v":6},0.5,0.5,0.5,0.5,0.5,0.5,0.5,0.5,0.5,1]
["IL19937","IL","1993-04-09",{"$f":"COUNTIF(Calculations!$E$56:$E$98,\"<=\"&DATE(2006,MONTH(C2993),DAY(C2993)))","v":7},0.75,0.5,1,0.5,1,0.5,1,1,0.5,0.5]
["IL19938","IL","1993-04-16",{"$f":"COUNTIF(Calculations!$E$56:$E$98,\"<=\"&DATE(2006,MONTH(C2994),DAY(C2994)))","v":8},0.75,0.5,0.5,0.5,1.5,1,1.5,0.5,0,0.5]
["IL19939","IL","1993-04-23",{"$f":"COUNTIF(Calculations!$E$56:$E$98,\"<=\"&DATE(2006,MONTH(C2995),DAY(C2995)))","v":9},0.25,0.5,0.25,0,0.25,0.5,0,0.25,0.5,0.25]
["IL199310","IL","1993-04-30",{"$f":"COUNTIF(Calculations!$E$56:$E$98,\"<=\"&DATE(2006,MONTH(C2996),DAY(C2996)))","v":10},2,4,2.5,2,2,1.5,1,1,1.5,2]
["IL199311","IL","1993-05-07",{"$f":"COUNTIF(Calculations!$E$56:$E$98,\"<=\"&DATE(2006,MONTH(C2997),DAY(C2997)))","v":11},1,1.5,2,1,2,1.5,1,0.5,0.5,0.5]
["IL199312","IL","1993-05-14",{"$f":"COUNTIF(Calculations!$E$56:$E$98,\"<=\"&DATE(2006,MONTH(C2998),DAY(C2998)))","v":12},4.5,5.5,6.5,4,6,6,3,4,1,2]
["IL199313","IL","1993-05-21",{"$f":"COUNTIF(Calculations!$E$56:$E$98,\"<=\"&DATE(2006,MONTH(C2999),DAY(C2999)))","v":13},5.5,6.5,6.5,6.5,6.5,6.5,5,3.5,2.5,3]
["IL199314","IL","1993-05-28",{"$f":"COUNTIF(Calculations!$E$56:$E$98,\"<=\"&DATE(2006,MONTH(C3000),DAY(C3000)))","v":14},5,3.5,4.5,5.5,5.5,5,6.5,4.5,4.5,6]
["IL199315","IL","1993-06-04",{"$f":"COUNTIF(Calculations!$E$56:$E$98,\"<=\"&DATE(2006,MONTH(C3001),DAY(C3001)))","v":15},5,3.5,4.5,5.5,5.5,5,6.5,4.5,4.5,6]
["IL199316","IL","1993-06-11",{"$f":"COUNTIF(Calculations!$E$56:$E$98,\"<=\"&DATE(2006,MONTH(C3002),DAY(C3002)))","v":16},2.25,2,2,3.5,2.5,1,2,3,2,3]
["IL199317","IL","1993-06-18",{"$f":"COUNTIF(Calculations!$E$56:$E$98,\"<=\"&DATE(2006,MONTH(C3003),DAY(C3003)))","v":17},5,4,4,6,6,5,5.5,4.5,5.5,5.5]
["IL199318","IL","1993-06-25",{"$f":"COUNTIF(Calculations!$E$56:$E$98,\"<=\"&DATE(2006,MONTH(C3004),DAY(C3004)))","v":18},4.25,4,3,4,4.5,4,4,5.5,5,5.5]
["IL199319","IL","1993-07-02",{"$f":"COUNTIF(Calculations!$E$56:$E$98,\"<=\"&DATE(2006,MONTH(C3005),DAY(C3005)))","v":19},2.25,2,1,1.5,2,1,3,3.5,3.5,2.5]
["IL199320","IL","1993-07-09",{"$f":"COUNTIF(Calculations!$E$56:$E$98,\"<=\"&DATE(2006,MONTH(C3006),DAY(C3006)))","v":20},3.25,1.5,3.5,1.5,3.5,4,3.5,5,4,5]
["IL199321","IL","1993-07-16",{"$f":"COUNTIF(Calculations!$E$56:$E$98,\"<=\"&DATE(2006,MONTH(C3007),DAY(C3007)))","v":21},3,4,5.5,1,2,2,2.5,2,4,5]
["IL199322","IL","1993-07-23",{"$f":"COUNTIF(Calculations!$E$56:$E$98,\"<=\"&DATE(2006,MONTH(C3008),DAY(C3008)))","v":22},2.5,4,3.5,1.5,2,2.5,1.5,2,2,3.5]
["IL199323","IL","1993-07-30",{"$f":"COUNTIF(Calculations!$E$56:$E$98,\"<=\"&DATE(2006,MONTH(C3009),DAY(C3009)))","v":23},4.5,4.5,5,3.5,3,4.5,4,5.5,5.5,4.5]
["IL199324","IL","1993-08-06",{"$f":"COUNTIF(Calculations!$E$56:$E$98,\"<=\"&DATE(2006,MONTH(C3010),DAY(C3010)))","v":24},4.75,5.5,6,5,3.5,5,4,4.5,5,5.5]
["IL199325","IL","1993-08-13",{"$f":"COUNTIF(Calculations!$E$56:$E$98,\"<=\"&DATE(2006,MONTH(C3011),DAY(C3011)))","v":25},3.75,4,4.5,3.5,3,3,3.5,5,4,5]
["IL199326","IL","1993-08-20",{"$f":"COUNTIF(Calculations!$E$56:$E$98,\"<=\"&DATE(2006,MONTH(C3012),DAY(C3012)))","v":26},3.75,2.5,3.5,3.5,2.5,3,3.5,5,5.5,6]
["IL199327","IL","1993-08-27",{"$f":"COUNTIF(Calculations!$E$56:$E$98,\"<=\"&DATE(2006,MONTH(C3013),DAY(C3013)))","v":27},5,5,5.5,5,4,4,4.5,5.5,5.5,6]
["IL199328","IL","1993-09-03",{"$f":"COUNTIF(Calculations!$E$56:$E$98,\"<=\"&DATE(2006,MONTH(C3014),DAY(C3014)))","v":28},4,3,3.5,3,2.5,3,4,5,5.5,6]
["IL199329","IL","1993-09-10",{"$f":"COUNTIF(Calculations!$E$56:$E$98,\"<=\"&DATE(2006,MONTH(C3015),DAY(C3015)))","v":29},4.75,5.5,6,3.5,3,3,5,5.5,5,6]
["IL199330","IL","1993-09-17",{"$f":"COUNTIF(Calculations!$E$56:$E$98,\"<=\"&DATE(2006,MONTH(C3016),DAY(C3016)))","v":30},2.75,2.5,2.5,2,1.5,1.5,2.5,3.5,4,5]
["IL199331","IL","1993-09-24",{"$f":"COUNTIF(Calculations!$E$56:$E$98,\"<=\"&DATE(2006,MONTH(C3017),DAY(C3017)))","v":31},3,4,3.5,2,3.5,3,1.5,3.5,3,3.5]
["IL199332","IL","1993-10-01",{"$f":"COUNTIF(Calculations!$E$56:$E$98,\"<=\"&DATE(2006,MONTH(C3018),DAY(C3018)))","v":32},3.5,4.5,3.5,3.5,4.5,3.5,2.5,2.5,3,3.5]
["IL199333","IL","1993-10-08",{"$f":"COUNTIF(Calculations!$E$56:$E$98,\"<=\"&DATE(2006,MONTH(C3019),DAY(C3019)))","v":33},6.5,6.5,6.5,6.5,7,6.5,6.5,6.5,6,5.5]
["IL199334","IL","1993-10-15",{"$f":"COUNTIF(Calculations!$E$56:$E$98,\"<=\"&DATE(2006,MONTH(C3020),DAY(C3020)))","v":34},5.5,6,5.5,5.5,6,5,5,5.5,5.5,5]
["IL199335","IL","1993-10-22",{"$f":"COUNTIF(Calculations!$E$56:$E$98,\"<=\"&DATE(2006,MONTH(C3021),DAY(C3021)))","v":35},2.75,5.5,4.5,2.5,3,1,2,2.5,1.5,2.5]
["IL199336","IL","1993-10-29",{"$f":"COUNTIF(Calculations!$E$56:$E$98,\"<=\"&DATE(2006,MONTH(C3022),DAY(C3022)))","v":36},6.75,6.5,7,7,6.5,6.5,6.5,6.5,6.5,6.5]
["IL199337","IL","1993-11-05",{"$f":"COUNTIF(Calculations!$E$56:$E$98,\"<=\"&DATE(2006,MONTH(C3023),DAY(C3023)))","v":37},6.25,6.5,6.5,6.5,6.5,6.5,6.5,6,5.5,4]
["IL199338","IL","1993-11-12",{"$f":"COUNTIF(Calculations!$E$56:$E$98,\"<=\"&DATE(2006,MONTH(C3024),DAY(C3024)))","v":38},6.5,6.5,7,6,6.5,6.5,6.5,6.5,6,6]
["IL19947","IL","1994-04-08",{"$f":"COUNTIF(Calculations!$E$56:$E$98,\"<=\"&DATE(2006,MONTH(C3025),DAY(C3025)))","v":7},3.75,6.5,6,4.5,4,3.5,2,2.5,1.5,1.5]
["IL19948","IL","1994-04-15",{"$f":"COUNTIF(Calculations!$E$56:$E$98,\"<=\"&DATE(2006,MONTH(C3026),DAY(C3026)))","v":8},1.75,3.5,3.5,0.5,1,0.5,0,0,0.5,0]
[{"$f":"B3027&YEAR(C3027)&D3027","v":"IL19949"},"IL","1994-04-22",{"$f":"COUNTIF(Calculations!$E$56:$E$98,\"<=\"&DATE(2006,MONTH(C3027),DAY(C3027)))","v":9},3.5,6,6.5,3.5,3.5,2.5,2,2,3,2.5]
["IL199410","IL","1994-04-29",{"$f":"COUNTIF(Calculations!$E$56:$E$98,\"<=\"&DATE(2006,MONTH(C3028),DAY(C3028)))","v":10},4,5,4.5,3,4,4,4,3.5,3,4]
["IL199411","IL","1994-05-06",{"$f":"COUNTIF(Calculations!$E$56:$E$98,\"<=\"&DATE(2006,MONTH(C3029),DAY(C3029)))","v":11},2.5,5,5,2,3,2,1,1,1,1]
["IL199412","IL","1994-05-13",{"$f":"COUNTIF(Calculations!$E$56:$E$98,\"<=\"&DATE(2006,MONTH(C3030),DAY(C3030)))","v":12},3.75,6,6,3,4,4,2.5,2,3,1.5]
["IL199413","IL","1994-05-20",{"$f":"COUNTIF(Calculations!$E$56:$E$98,\"<=\"&DATE(2006,MONTH(C3031),DAY(C3031)))","v":13},5.5,6.5,6.5,5.5,5.5,6,5.5,5,5.5,3.5]
["IL199414","IL","1994-05-27",{"$f":"COUNTIF(Calculations!$E$56:$E$98,\"<=\"&DATE(2006,MONTH(C3032),DAY(C3032)))","v":14},6,6,6,5,5.5,6.5,6,6.5,6.5,6]
["IL199415","IL","1994-06-03",{"$f":"COUNTIF(Calculations!$E$56:$E$98,\"<=\"&DATE(2006,MONTH(C3033),DAY(C3033)))","v":15},6,6.5,7,5,5.5,6.5,5.5,5.5,5.5,5]
["IL199416","IL","1994-06-10",{"$f":"COUNTIF(Calculations!$E$56:$E$98,\"<=\"&DATE(2006,MONTH(C3034),DAY(C3034)))","v":16},5.5,6,6.5,5,5,5,5,6,4.5,5.5]
["IL199417","IL","1994-06-17",{"$f":"COUNTIF(Calculations!$E$56:$E$98,\"<=\"&DATE(2006,MONTH(C3035),DAY(C3035)))","v":17},6.25,6,6.5,6.5,6,6.5,6,5.5,7,6.5]
["IL199418","IL","1994-06-24",{"$f":"COUNTIF(Calculations!$E$56:$E$98,\"<=\"&DATE(2006,MONTH(C3036),DAY(C3036)))","v":18},5.25,3.5,4.5,5,5.5,5.5,5,6,6,6]
["IL199419","IL","1994-07-01",{"$f":"COUNTIF(Calculations!$E$56:$E$98,\"<=\"&DATE(2006,MONTH(C3037),DAY(C3037)))","v":19},5.25,5,4.5,6,5.5,6,5,5.5,4,4.5]
["IL199420","IL","1994-07-08",{"$f":"COUNTIF(Calculations!$E$56:$E$98,\"<=\"&DATE(2006,MONTH(C3038),DAY(C3038)))","v":20},5,4,4,5,5,4.5,5.5,5,6,6]
["IL199421","IL","1994-07-15",{"$f":"COUNTIF(Calculations!$E$56:$E$98,\"<=\"&DATE(2006,MONTH(C3039),DAY(C3039)))","v":21},6,4.5,5,6.5,6.5,6,6.5,6,6,6]
["IL199422","IL","1994-07-22",{"$f":"COUNTIF(Calculations!$E$56:$E$98,\"<=\"&DATE(2006,MONTH(C3040),DAY(C3040)))","v":22},5,3.5,4,5.5,5,4,5.5,5,6,6]
["IL199423","IL","1994-07-29",{"$f":"COUNTIF(Calculations!$E$56:$E$98,\"<=\"&DATE(2006,MONTH(C3041),DAY(C3041)))","v":23},6.75,7,6.5,6.5,6.5,6.5,6.5,6.5,7,6.5]
["IL199424","IL","1994-08-05",{"$f":"COUNTIF(Calculations!$E$56:$E$98,\"<=\"&DATE(2006,MONTH(C3042),DAY(C3042)))","v":24},5.5,5.5,5,5,5,5,5,6.5,6,6]
["IL199425","IL","1994-08-12",{"$f":"COUNTIF(Calculations!$E$56:$E$98,\"<=\"&DATE(2006,MONTH(C3043),DAY(C3043)))","v":25},5.75,4.5,4.5,6,6,5,6,6.5,6.5,6]
["IL199426","IL","1994-08-19",{"$f":"COUNTIF(Calculations!$E$56:$E$98,\"<=\"&DATE(2006,MONTH(C3044),DAY(C3044)))","v":26},6,4,4,6.5,6,6,6.5,6.5,6.5,6.5]
["IL199427","IL","1994-08-26",{"$f":"COUNTIF(Calculations!$E$56:$E$98,\"<=\"&DATE(2006,MONTH(C3045),DAY(C3045)))","v":27},6,5,5.5,6.5,6,6,6.5,6.5,6,6.5]
["IL199428","IL","1994-09-02",{"$f":"COUNTIF(Calculations!$E$56:$E$98,\"<=\"&DATE(2006,MONTH(C3046),DAY(C3046)))","v":28},5.25,4,5,4.5,4.5,5.5,5.5,6,6,6]
["IL199429","IL","1994-09-09",{"$f":"COUNTIF(Calculations!$E$56:$E$98,\"<=\"&DATE(2006,MONTH(C3047),DAY(C3047)))","v":29},5.25,4,5,4.5,4.5,5.5,5.5,6,6,6]
["IL199430","IL","1994-09-16",{"$f":"COUNTIF(Calculations!$E$56:$E$98,\"<=\"&DATE(2006,MONTH(C3048),DAY(C3048)))","v":30},6.75,6.5,6.5,6.5,6.5,6.5,6.5,6.5,7,6.5]
["IL199431","IL","1994-09-23",{"$f":"COUNTIF(Calculations!$E$56:$E$98,\"<=\"&DATE(2006,MONTH(C3049),DAY(C3049)))","v":31},5.5,5,5,5.5,5,5.5,5,6,5.5,6]
["IL199432","IL","1994-09-30",{"$f":"COUNTIF(Calculations!$E$56:$E$98,\"<=\"&DATE(2006,MONTH(C3050),DAY(C3050)))","v":32},3.75,3.5,3,5,3.5,3.5,3,3.5,4,3.5]
["IL199433","IL","1994-10-07",{"$f":"COUNTIF(Calculations!$E$56:$E$98,\"<=\"&DATE(2006,MONTH(C3051),DAY(C3051)))","v":33},6.5,6,6.5,6.5,6.5,6.5,6.5,6.5,7,6.5]
["IL199434","IL","1994-10-14",{"$f":"COUNTIF(Calculations!$E$56:$E$98,\"<=\"&DATE(2006,MONTH(C3052),DAY(C3052)))","v":34},5,5.5,5,5.5,5,5.5,5,5,3.5,4]
["IL199435","IL","1994-10-21",{"$f":"COUNTIF(Calculations!$E$56:$E$98,\"<=\"&DATE(2006,MONTH(C3053),DAY(C3053)))","v":35},5.75,6.5,6,6.5,6,6,5.5,5.5,4,5]
["IL199437","IL","1994-11-04",{"$f":"COUNTIF(Calculations!$E$56:$E$98,\"<=\"&DATE(2006,MONTH(C3054),DAY(C3054)))","v":37},4.5,4,4,3.5,4,3.5,4,5,5.5,6]
["IL199438","IL","1994-11-11",{"$f":"COUNTIF(Calculations!$E$56:$E$98,\"<=\"&DATE(2006,MONTH(C3055),DAY(C3055)))","v":38},2.75,2.5,3,2.5,2,2.5,2,3,2,3]
["IL199439","IL","1994-11-18",{"$f":"COUNTIF(Calculations!$E$56:$E$98,\"<=\"&DATE(2006,MONTH(C3056),DAY(C3056)))","v":39},4.25,5,5,5,4.5,3.5,5,4.5,2,2]
["IL19955","IL","1995-03-31",{"$f":"COUNTIF(Calculations!$E$56:$E$98,\"<=\"&DATE(2006,MONTH(C3057),DAY(C3057)))","v":5},2.1,0.5,0.5,2,1.5,1.5,3.5,2.5,3,3.5]
["IL19956","IL","1995-04-07",{"$f":"COUNTIF(Calculations!$E$56:$E$98,\"<=\"&DATE(2006,MONTH(C3058),DAY(C3058)))","v":6},4.5,4,4,5,4,4,4.5,5.5,5.5,4.5]
["IL19957","IL","1995-04-14",{"$f":"COUNTIF(Calculations!$E$56:$E$98,\"<=\"&DATE(2006,MONTH(C3059),DAY(C3059)))","v":7},2.8,0.5,1.5,0.5,1.5,1,3,5,6.5,5]
["IL19958","IL","1995-04-21",{"$f":"COUNTIF(Calculations!$E$56:$E$98,\"<=\"&DATE(2006,MONTH(C3060),DAY(C3060)))","v":8},1.6,1,1.5,0.5,1,1,1.5,2,3,3]
["IL19959","IL","1995-04-28",{"$f":"COUNTIF(Calculations!$E$56:$E$98,\"<=\"&DATE(2006,MONTH(C3061),DAY(C3061)))","v":9},1.6,2.5,2.5,1,1.5,1.5,2,1,1.5,0.5]
["IL199510","IL","1995-05-05",{"$f":"COUNTIF(Calculations!$E$56:$E$98,\"<=\"&DATE(2006,MONTH(C3062),DAY(C3062)))","v":10},1.6,2,2.5,2.5,3,2.5,0.5,1,0.5,0.5]
["IL199511","IL","1995-05-12",{"$f":"COUNTIF(Calculations!$E$56:$E$98,\"<=\"&DATE(2006,MONTH(C3063),DAY(C3063)))","v":11},1.4,2,2.5,1.5,2,2.5,1,1,0.5,1]
["IL199512","IL","1995-05-19",{"$f":"COUNTIF(Calculations!$E$56:$E$98,\"<=\"&DATE(2006,MONTH(C3064),DAY(C3064)))","v":12},0.8,2,2,0.5,0.5,0.5,1,0.5,0,0]
["IL199513","IL","1995-05-26",{"$f":"COUNTIF(Calculations!$E$56:$E$98,\"<=\"&DATE(2006,MONTH(C3065),DAY(C3065)))","v":13},1.3,2.5,3,1,1,1.5,1,0.5,1,1]
["IL199514","IL","1995-06-02",{"$f":"COUNTIF(Calculations!$E$56:$E$98,\"<=\"&DATE(2006,MONTH(C3066),DAY(C3066)))","v":14},2.2000000000000002,3,3,1.5,2,2,1.5,2,2,2.5]
["IL199515","IL","1995-06-09",{"$f":"COUNTIF(Calculations!$E$56:$E$98,\"<=\"&DATE(2006,MONTH(C3067),DAY(C3067)))","v":15},4,5,5,3.5,5,5,3.5,4.5,2.5,2.5]
["IL199516","IL","1995-06-16",{"$f":"COUNTIF(Calculations!$E$56:$E$98,\"<=\"&DATE(2006,MONTH(C3068),DAY(C3068)))","v":16},6.1,6.5,6.5,6.5,6.5,6.5,6,6.5,4,5]
["IL199517","IL","1995-06-23",{"$f":"COUNTIF(Calculations!$E$56:$E$98,\"<=\"&DATE(2006,MONTH(C3069),DAY(C3069)))","v":17},6,6.5,7,6.5,5.5,6,6,6.5,4.5,4.5]
["IL199518","IL","1995-06-30",{"$f":"COUNTIF(Calculations!$E$56:$E$98,\"<=\"&DATE(2006,MONTH(C3070),DAY(C3070)))","v":18},2.8,3,4,3,3,2.5,2.5,2.5,2,2.5]
["IL199519","IL","1995-07-07",{"$f":"COUNTIF(Calculations!$E$56:$E$98,\"<=\"&DATE(2006,MONTH(C3071),DAY(C3071)))","v":19},4.5,4,4.5,5,5,6,6,5,3,3.5]
["IL199520","IL","1995-07-14",{"$f":"COUNTIF(Calculations!$E$56:$E$98,\"<=\"&DATE(2006,MONTH(C3072),DAY(C3072)))","v":20},6.5,6.5,7,7,7,7,6.5,6.5,6.5,6.5]
["IL199521","IL","1995-07-21",{"$f":"COUNTIF(Calculations!$E$56:$E$98,\"<=\"&DATE(2006,MONTH(C3073),DAY(C3073)))","v":21},6.2,6.5,6,6.5,6,6,5.5,6,6.5,6.5]
["IL199522","IL","1995-07-28",{"$f":"COUNTIF(Calculations!$E$56:$E$98,\"<=\"&DATE(2006,MONTH(C3074),DAY(C3074)))","v":22},5,5.5,5,5,6,6.5,4,4,4,6.5]
["IL199523","IL","1995-08-04",{"$f":"COUNTIF(Calculations!$E$56:$E$98,\"<=\"&DATE(2006,MONTH(C3075),DAY(C3075)))","v":23},4.3,3.5,4,3,3.5,4.5,3.5,5,5.5,6.5]
["IL199524","IL","1995-08-11",{"$f":"COUNTIF(Calculations!$E$56:$E$98,\"<=\"&DATE(2006,MONTH(C3076),DAY(C3076)))","v":24},3.7,4,5.5,4,3,3.5,3,3.5,4.5,3.5]
["IL199525","IL","1995-08-18",{"$f":"COUNTIF(Calculations!$E$56:$E$98,\"<=\"&DATE(2006,MONTH(C3077),DAY(C3077)))","v":25},5.0999999999999996,3.5,4,4,5,5,5.5,6.5,6.5,6.5]
["IL199526","IL","1995-08-25",{"$f":"COUNTIF(Calculations!$E$56:$E$98,\"<=\"&DATE(2006,MONTH(C3078),DAY(C3078)))","v":26},6.7,6.5,6.5,7,6.5,6.5,6.5,6.5,7,7]
["IL199527","IL","1995-09-01",{"$f":"COUNTIF(Calculations!$E$56:$E$98,\"<=\"&DATE(2006,MONTH(C3079),DAY(C3079)))","v":27},6.9,6.5,6.5,6.5,6.5,6.5,6.5,7,7,6.5]
["IL199528","IL","1995-09-08",{"$f":"COUNTIF(Calculations!$E$56:$E$98,\"<=\"&DATE(2006,MONTH(C3080),DAY(C3080)))","v":28},5.9,5.5,5.5,5,5.5,6,6,6.5,6.5,6.5]
["IL199529","IL","1995-09-15",{"$f":"COUNTIF(Calculations!$E$56:$E$98,\"<=\"&DATE(2006,MONTH(C3081),DAY(C3081)))","v":29},6.7,6.5,6.5,6,6.5,6.5,6.5,6.5,7,6.5]
["IL199530","IL","1995-09-22",{"$f":"COUNTIF(Calculations!$E$56:$E$98,\"<=\"&DATE(2006,MONTH(C3082),DAY(C3082)))","v":30},5.0999999999999996,4,5,4,5,5.5,4.5,6,6,6]
["IL199531","IL","1995-09-29",{"$f":"COUNTIF(Calculations!$E$56:$E$98,\"<=\"&DATE(2006,MONTH(C3083),DAY(C3083)))","v":31},6.8,6.5,6.5,6.5,6.5,6.5,6.5,7,7,6.5]
["IL199532","IL","1995-10-06",{"$f":"COUNTIF(Calculations!$E$56:$E$98,\"<=\"&DATE(2006,MONTH(C3084),DAY(C3084)))","v":32},5.8,5,5.5,5,6,5.5,6,6,6,6.5]
["IL199533","IL","1995-10-13",{"$f":"COUNTIF(Calculations!$E$56:$E$98,\"<=\"&DATE(2006,MONTH(C3085),DAY(C3085)))","v":33},6.7,6.5,6,6.5,6.5,6.5,6.5,7,6.5,6.5]
["IL199534","IL","1995-10-20",{"$f":"COUNTIF(Calculations!$E$56:$E$98,\"<=\"&DATE(2006,MONTH(C3086),DAY(C3086)))","v":34},6.3,6,6,6.5,6.5,6,6.5,6.5,6.5,6.5]
["IL199535","IL","1995-10-27",{"$f":"COUNTIF(Calculations!$E$56:$E$98,\"<=\"&DATE(2006,MONTH(C3087),DAY(C3087)))","v":35},5.8,5.5,5,6.5,5.5,5,6,6,6.5,6.5]
["IL199536","IL","1995-11-03",{"$f":"COUNTIF(Calculations!$E$56:$E$98,\"<=\"&DATE(2006,MONTH(C3088),DAY(C3088)))","v":36},3.4,2.5,2,2.5,2,1.5,4,5,5,5.5]
["IL199537","IL","1995-11-10",{"$f":"COUNTIF(Calculations!$E$56:$E$98,\"<=\"&DATE(2006,MONTH(C3089),DAY(C3089)))","v":37},4.5999999999999996,4,5,4.5,3.5,2,5.5,5,6,6]
["IL19967","IL","1996-04-12",{"$f":"COUNTIF(Calculations!$E$56:$E$98,\"<=\"&DATE(2006,MONTH(C3090),DAY(C3090)))","v":7},5.4,6.2,6,6.5,6.3,6.1,6,3.8,3.8,4.3]
[{"$f":"B3091&YEAR(C3091)&D3091","v":"IL19968"},"IL","1996-04-19",{"$f":"COUNTIF(Calculations!$E$56:$E$98,\"<=\"&DATE(2006,MONTH(C3091),DAY(C3091)))","v":8},2.8,3.3,3.3,5.2,5.5,4.4000000000000004,5.7,4.7,4,5]
["IL19969","IL","1996-04-26",{"$f":"COUNTIF(Calculations!$E$56:$E$98,\"<=\"&DATE(2006,MONTH(C3092),DAY(C3092)))","v":9},2.7,5.5,2.9,5.4,3.1,1.7,2.9,0.9,0.4,0.5]
["IL199610","IL","1996-05-03",{"$f":"COUNTIF(Calculations!$E$56:$E$98,\"<=\"&DATE(2006,MONTH(C3093),DAY(C3093)))","v":10},2,3.5,3.7,3.6,2.8,2.5,1.1000000000000001,0.3,0.1,0.1]
["IL199611","IL","1996-05-10",{"$f":"COUNTIF(Calculations!$E$56:$E$98,\"<=\"&DATE(2006,MONTH(C3094),DAY(C3094)))","v":11},0.6,1.7,2.7,0.4,0.5,0.2,0.4,0.1,0.2,0.1]
["IL199612","IL","1996-05-17",{"$f":"COUNTIF(Calculations!$E$56:$E$98,\"<=\"&DATE(2006,MONTH(C3095),DAY(C3095)))","v":12},0.6,1.2,1.6,0.3,0.6,0.5,0.1,0.1,0.1,0.4]
["IL199613","IL","1996-05-24",{"$f":"COUNTIF(Calculations!$E$56:$E$98,\"<=\"&DATE(2006,MONTH(C3096),DAY(C3096)))","v":13},4.0999999999999996,1.9,2.9,3.4,3.7,3.5,4.5,5.0999999999999996,5.8,5.7]
["IL199614","IL","1996-05-31",{"$f":"COUNTIF(Calculations!$E$56:$E$98,\"<=\"&DATE(2006,MONTH(C3097),DAY(C3097)))","v":14},1.2,0.5,0.3,0.6,1.2,0.3,1.1000000000000001,0.9,3.8,2.5]
["IL199615","IL","1996-06-07",{"$f":"COUNTIF(Calculations!$E$56:$E$98,\"<=\"&DATE(2006,MONTH(C3098),DAY(C3098)))","v":15},1.9,1.2,0.9,1,1.4,1,1.5,2,4.0999999999999996,4.2]
["IL199616","IL","1996-06-14",{"$f":"COUNTIF(Calculations!$E$56:$E$98,\"<=\"&DATE(2006,MONTH(C3099),DAY(C3099)))","v":16},1.9,2.5,2.2999999999999998,2.9,3.1,1.6,2.1,0.8,0.5,0.6]
["IL199617","IL","1996-06-21",{"$f":"COUNTIF(Calculations!$E$56:$E$98,\"<=\"&DATE(2006,MONTH(C3100),DAY(C3100)))","v":17},4.0999999999999996,3.1,2.4,4.8,5.0999999999999996,3.6,5.3,3.1,4.7,4.8]
["IL199618","IL","1996-06-28",{"$f":"COUNTIF(Calculations!$E$56:$E$98,\"<=\"&DATE(2006,MONTH(C3101),DAY(C3101)))","v":18},6.2,6,5.7,5.8,5.9,5.6,6.8,6.4,7,7]
["IL199619","IL","1996-07-05",{"$f":"COUNTIF(Calculations!$E$56:$E$98,\"<=\"&DATE(2006,MONTH(C3102),DAY(C3102)))","v":19},6.8,6.9,7,6.8,6.9,6.7,6,6.9,6.9,6.8]
["IL199620","IL","1996-07-12",{"$f":"COUNTIF(Calculations!$E$56:$E$98,\"<=\"&DATE(2006,MONTH(C3103),DAY(C3103)))","v":20},6.7,6.5,6.9,6.9,6.8,7,6.8,6.8,6.5,6.1]
["IL199621","IL","1996-07-19",{"$f":"COUNTIF(Calculations!$E$56:$E$98,\"<=\"&DATE(2006,MONTH(C3104),DAY(C3104)))","v":21},5.5,4.7,4.4000000000000004,5.2,5.4,5.2,5.2,6.9,6.7,6.3]
["IL199622","IL","1996-07-26",{"$f":"COUNTIF(Calculations!$E$56:$E$98,\"<=\"&DATE(2006,MONTH(C3105),DAY(C3105)))","v":22},4.7,5,3.1,3.7,4.0999999999999996,3.9,5.0999999999999996,6.3,5.7,5.2]
["IL199623","IL","1996-08-02",{"$f":"COUNTIF(Calculations!$E$56:$E$98,\"<=\"&DATE(2006,MONTH(C3106),DAY(C3106)))","v":23},5.7,5.7,4.3,6.2,4.8,3.5,6.8,6.8,6.2,5.9]
["IL199624","IL","1996-08-09",{"$f":"COUNTIF(Calculations!$E$56:$E$98,\"<=\"&DATE(2006,MONTH(C3107),DAY(C3107)))","v":24},6.4,5.5,5.7,6.4,6.4,6.1,6.6,6.9,6.4,6.9]
["IL199625","IL","1996-08-16",{"$f":"COUNTIF(Calculations!$E$56:$E$98,\"<=\"&DATE(2006,MONTH(C3108),DAY(C3108)))","v":25},6.9,7,7,6.9,7,6.9,7,6.7,6.9,6.8]
["IL199626","IL","1996-08-23",{"$f":"COUNTIF(Calculations!$E$56:$E$98,\"<=\"&DATE(2006,MONTH(C3109),DAY(C3109)))","v":26},5.7,4.9000000000000004,5.7,4.7,5.0999999999999996,5,5.6,6.4,6.4,6.8]
["IL199627","IL","1996-08-30",{"$f":"COUNTIF(Calculations!$E$56:$E$98,\"<=\"&DATE(2006,MONTH(C3110),DAY(C3110)))","v":27},6.4,6.5,6.8,6.7,6.6,6.5,5.7,6.5,6.3,5.9]
["IL199628","IL","1996-09-06",{"$f":"COUNTIF(Calculations!$E$56:$E$98,\"<=\"&DATE(2006,MONTH(C3111),DAY(C3111)))","v":28},6.8,6.8,7,6.9,6.9,6.8,6.9,6.8,6.9,6.3]
["IL199629","IL","1996-09-13",{"$f":"COUNTIF(Calculations!$E$56:$E$98,\"<=\"&DATE(2006,MONTH(C3112),DAY(C3112)))","v":29},6.4,6.2,5.6,6.2,6.5,6.2,6.7,6.2,7,6.3]
["IL199630","IL","1996-09-20",{"$f":"COUNTIF(Calculations!$E$56:$E$98,\"<=\"&DATE(2006,MONTH(C3113),DAY(C3113)))","v":30},6.2,6.4,6.6,6.8,6.9,6.7,6.7,5.5,5,5.0999999999999996]
["IL199631","IL","1996-09-27",{"$f":"COUNTIF(Calculations!$E$56:$E$98,\"<=\"&DATE(2006,MONTH(C3114),DAY(C3114)))","v":31},4.5,4.5999999999999996,5,3.8,4.7,5.2,4.5,5,3.2,3.7]
["IL199632","IL","1996-10-04",{"$f":"COUNTIF(Calculations!$E$56:$E$98,\"<=\"&DATE(2006,MONTH(C3115),DAY(C3115)))","v":32},6.2,6.2,6,6.1,5.9,6.3,6.6,6.5,6.2,6]
["IL199633","IL","1996-10-11",{"$f":"COUNTIF(Calculations!$E$56:$E$98,\"<=\"&DATE(2006,MONTH(C3116),DAY(C3116)))","v":33},5.8,6,5.7,6.4,5.7,4.7,5.4,5.7,6.1,6.1]
["IL199634","IL","1996-10-18",{"$f":"COUNTIF(Calculations!$E$56:$E$98,\"<=\"&DATE(2006,MONTH(C3117),DAY(C3117)))","v":34},5.7,4.5999999999999996,4.7,5.9,5.7,5.8,6.2,6.4,6.3,6.4]
["IL199635","IL","1996-10-25",{"$f":"COUNTIF(Calculations!$E$56:$E$98,\"<=\"&DATE(2006,MONTH(C3118),DAY(C3118)))","v":35},4.3,4,4.5999999999999996,4.9000000000000004,4.3,4.5,3.4,4.3,4.3,4.7]
["IL199636","IL","1996-11-01",{"$f":"COUNTIF(Calculations!$E$56:$E$98,\"<=\"&DATE(2006,MONTH(C3119),DAY(C3119)))","v":36},5.2,4.4000000000000004,4.5999999999999996,6,5.6,5.4,5.8,5.4,5,4.5]
["IL199637","IL","1996-11-08",{"$f":"COUNTIF(Calculations!$E$56:$E$98,\"<=\"&DATE(2006,MONTH(C3120),DAY(C3120)))","v":37},4.8,5.3,4.2,5.2,4.2,4.0999999999999996,4.9000000000000004,4.8,4.7,5.6]
["IL199638","IL","1996-11-15",{"$f":"COUNTIF(Calculations!$E$56:$E$98,\"<=\"&DATE(2006,MONTH(C3121),DAY(C3121)))","v":38},5.3,5.7,6.3,5.5,5.6,5.2,5,5.3,4.4000000000000004,4.9000000000000004]
["IL19976","IL","1997-04-04",{"$f":"COUNTIF(Calculations!$E$56:$E$98,\"<=\"&DATE(2006,MONTH(C3122),DAY(C3122)))","v":6},4.0999999999999996,5.8,4.3,5.8,4.8,4,4.7,3.4,2.1,1.6]
["IL19977","IL","1997-04-11",{"$f":"COUNTIF(Calculations!$E$56:$E$98,\"<=\"&DATE(2006,MONTH(C3123),DAY(C3123)))","v":7},3.1,3.4,4,3.6,3.6,4.2,3.2,3.5,1.1000000000000001,1.6]
["IL19978","IL","1997-04-18",{"$f":"COUNTIF(Calculations!$E$56:$E$98,\"<=\"&DATE(2006,MONTH(C3124),DAY(C3124)))","v":8},3.7,2.9,5,1.1000000000000001,4.2,4.5999999999999996,5.4,4.8,2.4,1.6]
["IL19979","IL","1997-04-25",{"$f":"COUNTIF(Calculations!$E$56:$E$98,\"<=\"&DATE(2006,MONTH(C3125),DAY(C3125)))","v":9},4.3,5.9,3.1,3.7,6.1,5.4,4,4.5,1.9,1.8]
["IL199710","IL","1997-05-02",{"$f":"COUNTIF(Calculations!$E$56:$E$98,\"<=\"&DATE(2006,MONTH(C3126),DAY(C3126)))","v":10},4.9000000000000004,4.9000000000000004,4.9000000000000004,5.0999999999999996,5.2,4.5999999999999996,5.4,5.6,3.9,3.7]
["IL199711","IL","1997-05-09",{"$f":"COUNTIF(Calculations!$E$56:$E$98,\"<=\"&DATE(2006,MONTH(C3127),DAY(C3127)))","v":11},4.0999999999999996,3.7,4.4000000000000004,4.7,4.5999999999999996,3,5.0999999999999996,3.8,4.5999999999999996,2.4]
["IL199712","IL","1997-05-16",{"$f":"COUNTIF(Calculations!$E$56:$E$98,\"<=\"&DATE(2006,MONTH(C3128),DAY(C3128)))","v":12},6,5.6,5,6.2,6.2,5.8,6.5,6.2,6,6.4]
["IL199713","IL","1997-05-23",{"$f":"COUNTIF(Calculations!$E$56:$E$98,\"<=\"&DATE(2006,MONTH(C3129),DAY(C3129)))","v":13},5.9,5.7,4.4000000000000004,5.4,5.8,5.2,5.4,6.8,6.7,7]
["IL199714","IL","1997-05-30",{"$f":"COUNTIF(Calculations!$E$56:$E$98,\"<=\"&DATE(2006,MONTH(C3130),DAY(C3130)))","v":14},2.7,4,4.3,2.4,2,2.2999999999999998,2.6,3.2,1,2]
["IL199715","IL","1997-06-06",{"$f":"COUNTIF(Calculations!$E$56:$E$98,\"<=\"&DATE(2006,MONTH(C3131),DAY(C3131)))","v":15},3.3,5.8,6.3,4.9000000000000004,3.8,1.6,3.2,2.2999999999999998,0.6,0.6]
["IL199716","IL","1997-06-13",{"$f":"COUNTIF(Calculations!$E$56:$E$98,\"<=\"&DATE(2006,MONTH(C3132),DAY(C3132)))","v":16},3,4.5999999999999996,4.4000000000000004,4.3,3.3,2.1,3.2,1.9,2.6,1.4]
["IL199717","IL","1997-06-20",{"$f":"COUNTIF(Calculations!$E$56:$E$98,\"<=\"&DATE(2006,MONTH(C3133),DAY(C3133)))","v":17},3.9,5.7,4.9000000000000004,4.7,5.6,4.3,5.4,2.4,1.3,0.7]
["IL199718","IL","1997-06-27",{"$f":"COUNTIF(Calculations!$E$56:$E$98,\"<=\"&DATE(2006,MONTH(C3134),DAY(C3134)))","v":18},5.2,5.3,6.1,6.1,6.3,5.4,5.5,4.4000000000000004,4.3,4.2]
["IL199719","IL","1997-07-04",{"$f":"COUNTIF(Calculations!$E$56:$E$98,\"<=\"&DATE(2006,MONTH(C3135),DAY(C3135)))","v":19},5.4,5.9,5.7,6.1,5,5.2,5.7,4.5999999999999996,4.9000000000000004,5.2]
["IL199720","IL","1997-07-11",{"$f":"COUNTIF(Calculations!$E$56:$E$98,\"<=\"&DATE(2006,MONTH(C3136),DAY(C3136)))","v":20},6.4,6.9,6.6,6.8,6.8,4.5999999999999996,6.7,6.6,5.6,6.3]
["IL199721","IL","1997-07-18",{"$f":"COUNTIF(Calculations!$E$56:$E$98,\"<=\"&DATE(2006,MONTH(C3137),DAY(C3137)))","v":21},6.6,6.8,6.9,6.9,6.8,6.1,7,6.4,6.2,5.8]
["IL199722","IL","1997-07-25",{"$f":"COUNTIF(Calculations!$E$56:$E$98,\"<=\"&DATE(2006,MONTH(C3138),DAY(C3138)))","v":22},5.2,4.3,4.9000000000000004,4.7,4.4000000000000004,4.2,5.8,5.9,6.2,5.8]
["IL199723","IL","1997-08-01",{"$f":"COUNTIF(Calculations!$E$56:$E$98,\"<=\"&DATE(2006,MONTH(C3139),DAY(C3139)))","v":23},6.8,6.8,6.4,6.6,6.9,6.6,6.9,6.8,6.9,7]
["IL199724","IL","1997-08-08",{"$f":"COUNTIF(Calculations!$E$56:$E$98,\"<=\"&DATE(2006,MONTH(C3140),DAY(C3140)))","v":24},6.5,6.5,6.7,5.8,6.4,6.1,6.7,6.6,7,7]
["IL199725","IL","1997-08-15",{"$f":"COUNTIF(Calculations!$E$56:$E$98,\"<=\"&DATE(2006,MONTH(C3141),DAY(C3141)))","v":25},4.7,3.3,3.8,4.3,5,4.4000000000000004,5.5,5.5,5.0999999999999996,5.8]
["IL199726","IL","1997-08-22",{"$f":"COUNTIF(Calculations!$E$56:$E$98,\"<=\"&DATE(2006,MONTH(C3142),DAY(C3142)))","v":26},3.5,3.4,3.3,3.6,2.9,2.2999999999999998,3.7,3.8,4.7,2.9]
["IL199727","IL","1997-08-29",{"$f":"COUNTIF(Calculations!$E$56:$E$98,\"<=\"&DATE(2006,MONTH(C3143),DAY(C3143)))","v":27},5.4,5.0999999999999996,6.4,4.8,4.3,5,5.2,5.8,5.9,6.1]
["IL199728","IL","1997-09-05",{"$f":"COUNTIF(Calculations!$E$56:$E$98,\"<=\"&DATE(2006,MONTH(C3144),DAY(C3144)))","v":28},5.3,5.2,6.7,2.5,3.8,4.9000000000000004,4.9000000000000004,6.2,6.4,6.2]
["IL199729","IL","1997-09-12",{"$f":"COUNTIF(Calculations!$E$56:$E$98,\"<=\"&DATE(2006,MONTH(C3145),DAY(C3145)))","v":29},5.5,5.0999999999999996,6.3,5.0999999999999996,3.4,5,5.8,5.9,6.2,6.1]
["IL199730","IL","1997-09-19",{"$f":"COUNTIF(Calculations!$E$56:$E$98,\"<=\"&DATE(2006,MONTH(C3146),DAY(C3146)))","v":30},5.5,5.0999999999999996,5.5,5.3,5.4,5.0999999999999996,5.0999999999999996,5.5,6.4,6.2]
["IL199731","IL","1997-09-26",{"$f":"COUNTIF(Calculations!$E$56:$E$98,\"<=\"&DATE(2006,MONTH(C3147),DAY(C3147)))","v":31},5.0999999999999996,5,4.5,5.3,5.5,5,4.9000000000000004,5.7,4.8,5.3]
["IL199732","IL","1997-10-03",{"$f":"COUNTIF(Calculations!$E$56:$E$98,\"<=\"&DATE(2006,MONTH(C3148),DAY(C3148)))","v":32},6.8,6.8,6.5,7,6.9,6.9,7,6.6,6.9,6.6]
["IL199733","IL","1997-10-10",{"$f":"COUNTIF(Calculations!$E$56:$E$98,\"<=\"&DATE(2006,MONTH(C3149),DAY(C3149)))","v":33},6.3,6.7,6.4,6.6,6.2,6.1,6,6,6.3,6.1]
["IL199734","IL","1997-10-17",{"$f":"COUNTIF(Calculations!$E$56:$E$98,\"<=\"&DATE(2006,MONTH(C3150),DAY(C3150)))","v":34},6,6.1,6,6.6,6.1,5.8,6,6,5.3,6.3]
["IL199735","IL","1997-10-24",{"$f":"COUNTIF(Calculations!$E$56:$E$98,\"<=\"&DATE(2006,MONTH(C3151),DAY(C3151)))","v":35},6.2,6.1,5.9,6.5,6.4,6.3,5.9,6.4,6.1,6.4]
["IL199736","IL","1997-10-31",{"$f":"COUNTIF(Calculations!$E$56:$E$98,\"<=\"&DATE(2006,MONTH(C3152),DAY(C3152)))","v":36},5,4.2,4.0999999999999996,5,5.5,5.3,5.4,6.1,4.4000000000000004,5.4]
["IL199737","IL","1997-11-07",{"$f":"COUNTIF(Calculations!$E$56:$E$98,\"<=\"&DATE(2006,MONTH(C3153),DAY(C3153)))","v":37},3,2.7,3.2,2.6,2.6,2.9,3.5,3.3,2.7,2.9]
["IL199738","IL","1997-11-14",{"$f":"COUNTIF(Calculations!$E$56:$E$98,\"<=\"&DATE(2006,MONTH(C3154),DAY(C3154)))","v":38},4.0999999999999996,5.2,6.2,4.9000000000000004,4.5999999999999996,3.6,2.6,3.8,2.5,3.9]
[{"$f":"B3155&YEAR(C3155)&D3155","v":"IL199739"},"IL","1997-11-21",{"$f":"COUNTIF(Calculations!$E$56:$E$98,\"<=\"&DATE(2006,MONTH(C3155),DAY(C3155)))","v":39},4.5,4.7,3.7,6.2,5,2.8,3.8,4.8,2.8,5.2]
["IL199740","IL","1997-11-28",{"$f":"COUNTIF(Calculations!$E$56:$E$98,\"<=\"&DATE(2006,MONTH(C3156),DAY(C3156)))","v":40},4.9000000000000004,4.9000000000000004,4.5999999999999996,5.0999999999999996,5.0999999999999996,4.5,4.5999999999999996,5.5,5.5,5.3]
["IL19986","IL","1998-04-03",{"$f":"COUNTIF(Calculations!$E$56:$E$98,\"<=\"&DATE(2006,MONTH(C3157),DAY(C3157)))","v":6},1.3,2,1.9,0.3,1.4,0.3,0.1,0.8,2.5,2.1]
["IL19987","IL","1998-04-10",{"$f":"COUNTIF(Calculations!$E$56:$E$98,\"<=\"&DATE(2006,MONTH(C3158),DAY(C3158)))","v":7},1,1.2,0.9,0.2,1,0.8,0.5,0.3,2.7,2.1]
["IL19988","IL","1998-04-17",{"$f":"COUNTIF(Calculations!$E$56:$E$98,\"<=\"&DATE(2006,MONTH(C3159),DAY(C3159)))","v":8},1.1000000000000001,0.8,1.7,0,0.9,0.9,0.9,0.9,2.1,1.4]
["IL19989","IL","1998-04-24",{"$f":"COUNTIF(Calculations!$E$56:$E$98,\"<=\"&DATE(2006,MONTH(C3160),DAY(C3160)))","v":9},2.2000000000000002,1.7,2.2000000000000002,2,2.5,2.6,3.1,1.8,2.1,1.4]
["IL199810","IL","1998-05-01",{"$f":"COUNTIF(Calculations!$E$56:$E$98,\"<=\"&DATE(2006,MONTH(C3161),DAY(C3161)))","v":10},2,2,1.1000000000000001,2.4,2.9,3.3,2.8,2,1.2,1]
["IL199811","IL","1998-05-08",{"$f":"COUNTIF(Calculations!$E$56:$E$98,\"<=\"&DATE(2006,MONTH(C3162),DAY(C3162)))","v":11},1,2.5,1.3,1.3,1,0.7,0.6,0.1,0.1,1]
["IL199812","IL","1998-05-15",{"$f":"COUNTIF(Calculations!$E$56:$E$98,\"<=\"&DATE(2006,MONTH(C3163),DAY(C3163)))","v":12},3.9,4.5999999999999996,3.7,3.8,3.7,3.2,4.3,3.1,4.2,4.0999999999999996]
["IL199813","IL","1998-05-22",{"$f":"COUNTIF(Calculations!$E$56:$E$98,\"<=\"&DATE(2006,MONTH(C3164),DAY(C3164)))","v":13},5.3,5.7,6.3,3.9,4.7,4.9000000000000004,5.3,5.8,5.5,6]
["IL199814","IL","1998-05-29",{"$f":"COUNTIF(Calculations!$E$56:$E$98,\"<=\"&DATE(2006,MONTH(C3165),DAY(C3165)))","v":14},3.2,4.9000000000000004,6,1.4,3.7,4.5999999999999996,2,2.5,2.7,1.6]
["IL199815","IL","1998-06-05",{"$f":"COUNTIF(Calculations!$E$56:$E$98,\"<=\"&DATE(2006,MONTH(C3166),DAY(C3166)))","v":15},4.8,4.3,5.8,4.2,4.5999999999999996,5.5,4.2,5.2,4.8,4.2]
["IL199816","IL","1998-06-12",{"$f":"COUNTIF(Calculations!$E$56:$E$98,\"<=\"&DATE(2006,MONTH(C3167),DAY(C3167)))","v":16},1.9,1.8,2.9,1.5,2.6,2.8,1.4,0.3,2.2000000000000002,3.1]
["IL199817","IL","1998-06-19",{"$f":"COUNTIF(Calculations!$E$56:$E$98,\"<=\"&DATE(2006,MONTH(C3168),DAY(C3168)))","v":17},1.5,2.2999999999999998,2.9,0.7,1.3,0.9,0.9,1.3,2.1,2.1]
["IL199818","IL","1998-06-26",{"$f":"COUNTIF(Calculations!$E$56:$E$98,\"<=\"&DATE(2006,MONTH(C3169),DAY(C3169)))","v":18},3.9,4.5999999999999996,5.9,2.2999999999999998,4.3,4,3.8,1.4,4.5999999999999996,3.9]
["IL199819","IL","1998-07-03",{"$f":"COUNTIF(Calculations!$E$56:$E$98,\"<=\"&DATE(2006,MONTH(C3170),DAY(C3170)))","v":19},3.5,3.2,5.3,3.3,3.1,4.3,3.3,3,3.8,3.1]
["IL199820","IL","1998-07-10",{"$f":"COUNTIF(Calculations!$E$56:$E$98,\"<=\"&DATE(2006,MONTH(C3171),DAY(C3171)))","v":20},3.2,5,4.3,1.8,4.0999999999999996,2.2999999999999998,3.9,1.7,2.8,3]
["IL199821","IL","1998-07-17",{"$f":"COUNTIF(Calculations!$E$56:$E$98,\"<=\"&DATE(2006,MONTH(C3172),DAY(C3172)))","v":21},5.8,6.8,7,5.9,6.7,6.4,5.4,5.9,4.3,3.8]
["IL199822","IL","1998-07-24",{"$f":"COUNTIF(Calculations!$E$56:$E$98,\"<=\"&DATE(2006,MONTH(C3173),DAY(C3173)))","v":22},5.3,5.5,4.9000000000000004,5.7,5.0999999999999996,3.6,6.3,4.7,5,5.3]
["IL199823","IL","1998-07-31",{"$f":"COUNTIF(Calculations!$E$56:$E$98,\"<=\"&DATE(2006,MONTH(C3174),DAY(C3174)))","v":23},5.6,6.9,7,6.5,6.3,6,4.5999999999999996,5.0999999999999996,3.8,3.6]
["IL199824","IL","1998-08-07",{"$f":"COUNTIF(Calculations!$E$56:$E$98,\"<=\"&DATE(2006,MONTH(C3175),DAY(C3175)))","v":24},3.2,2.7,3.3,3.8,4.8,3.3,3.8,1.5,1.6,2.4]
["IL199825","IL","1998-08-14",{"$f":"COUNTIF(Calculations!$E$56:$E$98,\"<=\"&DATE(2006,MONTH(C3176),DAY(C3176)))","v":25},5.5,6.1,6.8,6.1,6.4,5.8,5.6,5.2,3.5,3.6]
["IL199826","IL","1998-08-21",{"$f":"COUNTIF(Calculations!$E$56:$E$98,\"<=\"&DATE(2006,MONTH(C3177),DAY(C3177)))","v":26},6,5.2,6.8,6.3,4.9000000000000004,6.8,5.0999999999999996,5.9,6.7,6.8]
["IL199827","IL","1998-08-28",{"$f":"COUNTIF(Calculations!$E$56:$E$98,\"<=\"&DATE(2006,MONTH(C3178),DAY(C3178)))","v":27},6.1,4.4000000000000004,5.2,6.2,6.1,6.6,6.4,6.7,7,7]
["IL199828","IL","1998-09-04",{"$f":"COUNTIF(Calculations!$E$56:$E$98,\"<=\"&DATE(2006,MONTH(C3179),DAY(C3179)))","v":28},6.4,6,6.4,6.3,6.9,7,5.8,6.6,6.3,7]
["IL199829","IL","1998-09-11",{"$f":"COUNTIF(Calculations!$E$56:$E$98,\"<=\"&DATE(2006,MONTH(C3180),DAY(C3180)))","v":29},6.9,6.8,6.6,6.9,7,6.5,6.9,7,7,7]
["IL199830","IL","1998-09-18",{"$f":"COUNTIF(Calculations!$E$56:$E$98,\"<=\"&DATE(2006,MONTH(C3181),DAY(C3181)))","v":30},5.0999999999999996,3.9,4.4000000000000004,4.7,5.6,6.7,4.9000000000000004,6.6,4.5,6.2]
["IL199831","IL","1998-09-25",{"$f":"COUNTIF(Calculations!$E$56:$E$98,\"<=\"&DATE(2006,MONTH(C3182),DAY(C3182)))","v":31},5.4,5.3,5.2,4.2,5.5,5.9,5,6.3,5.8,6.2]
["IL199832","IL","1998-10-02",{"$f":"COUNTIF(Calculations!$E$56:$E$98,\"<=\"&DATE(2006,MONTH(C3183),DAY(C3183)))","v":32},5.6,4.7,4.2,4.8,5.8,6.3,5.5,6.2,6.6,6.9]
["IL199833","IL","1998-10-09",{"$f":"COUNTIF(Calculations!$E$56:$E$98,\"<=\"&DATE(2006,MONTH(C3184),DAY(C3184)))","v":33},3.3,2,3.2,2.6,2,4.9000000000000004,3.4,4.3,3.3,4]
["IL199834","IL","1998-10-16",{"$f":"COUNTIF(Calculations!$E$56:$E$98,\"<=\"&DATE(2006,MONTH(C3185),DAY(C3185)))","v":34},6.2,5.3,6.4,5.6,5.8,6,6.6,6.6,6.5,6.8]
["IL199835","IL","1998-10-23",{"$f":"COUNTIF(Calculations!$E$56:$E$98,\"<=\"&DATE(2006,MONTH(C3186),DAY(C3186)))","v":35},5.3,3.6,4.0999999999999996,4.8,6.3,6.8,5.0999999999999996,5.9,5.6,5.3]
["IL199836","IL","1998-10-30",{"$f":"COUNTIF(Calculations!$E$56:$E$98,\"<=\"&DATE(2006,MONTH(C3187),DAY(C3187)))","v":36},5.2,3.8,4.8,4.2,3.8,6.5,5.3,6.7,5.8,6.9]
["IL199837","IL","1998-11-06",{"$f":"COUNTIF(Calculations!$E$56:$E$98,\"<=\"&DATE(2006,MONTH(C3188),DAY(C3188)))","v":37},3.8,4.9000000000000004,5.6,2.1,3.3,4.3,3,3.5,4.7,3.7]
["IL199838","IL","1998-11-13",{"$f":"COUNTIF(Calculations!$E$56:$E$98,\"<=\"&DATE(2006,MONTH(C3189),DAY(C3189)))","v":38},3.7,3.8,3.6,1.8,3.1,4.3,3.8,3.5,5.5,5.6]
["IL199839","IL","1998-11-20",{"$f":"COUNTIF(Calculations!$E$56:$E$98,\"<=\"&DATE(2006,MONTH(C3190),DAY(C3190)))","v":39},6.2,6.4,6.9,5.7,7,6.5,6.5,5.8,5.8,5.6]
["IL199840","IL","1998-11-27",{"$f":"COUNTIF(Calculations!$E$56:$E$98,\"<=\"&DATE(2006,MONTH(C3191),DAY(C3191)))","v":40},6.3,6.6,7,6.9,6.3,6,6.4,5.5,6,5]
["IL19996","IL","1999-04-02",{"$f":"COUNTIF(Calculations!$E$56:$E$98,\"<=\"&DATE(2006,MONTH(C3192),DAY(C3192)))","v":6},5.7,6.7,6.3,6.4,6.6,7,5.4,4.4000000000000004,2.2999999999999998,2]
["IL19997","IL","1999-04-09",{"$f":"COUNTIF(Calculations!$E$56:$E$98,\"<=\"&DATE(2006,MONTH(C3193),DAY(C3193)))","v":7},3.2,3.3,5,3.8,4.2,3.9,3.2,2.2000000000000002,0.6,0.3]
["IL19998","IL","1999-04-16",{"$f":"COUNTIF(Calculations!$E$56:$E$98,\"<=\"&DATE(2006,MONTH(C3194),DAY(C3194)))","v":8},2.6,1.9,3,2.1,3.6,3.3,3.2,2.1,1.8,2]
["IL19999","IL","1999-04-23",{"$f":"COUNTIF(Calculations!$E$56:$E$98,\"<=\"&DATE(2006,MONTH(C3195),DAY(C3195)))","v":9},0.7,0.8,0.4,0.1,0.6,0.1,0.4,0.7,2.9,3.7]
["IL199910","IL","1999-04-30",{"$f":"COUNTIF(Calculations!$E$56:$E$98,\"<=\"&DATE(2006,MONTH(C3196),DAY(C3196)))","v":10},0.9,1.9,1,0.1,0.8,0.6,0.3,1,2.2999999999999998,1.5]
["IL199911","IL","1999-05-07",{"$f":"COUNTIF(Calculations!$E$56:$E$98,\"<=\"&DATE(2006,MONTH(C3197),DAY(C3197)))","v":11},3.2,3.3,5,3.8,4.2,3.9,3.2,2.2000000000000002,0.6,0.3]
["IL199912","IL","1999-05-14",{"$f":"COUNTIF(Calculations!$E$56:$E$98,\"<=\"&DATE(2006,MONTH(C3198),DAY(C3198)))","v":12},3.7,2.4,3,3.2,3.6,4.3,3.9,3.9,3.9,3.9]
["IL199913","IL","1999-05-21",{"$f":"COUNTIF(Calculations!$E$56:$E$98,\"<=\"&DATE(2006,MONTH(C3199),DAY(C3199)))","v":13},3.2,2.6,2.2000000000000002,2.7,2.7,3.8,2.8,4.7,3.7,4.5999999999999996]
["IL199914","IL","1999-05-28",{"$f":"COUNTIF(Calculations!$E$56:$E$98,\"<=\"&DATE(2006,MONTH(C3200),DAY(C3200)))","v":14},5.5,5.9,5.3,5.9,5.4,4.5,5.9,4.5999999999999996,6.2,5.9]
["IL199915","IL","1999-06-04",{"$f":"COUNTIF(Calculations!$E$56:$E$98,\"<=\"&DATE(2006,MONTH(C3201),DAY(C3201)))","v":15},3.7,4,3.1,4.0999999999999996,4.2,3.9,3.7,2.9,3.7,3.2]
["IL199916","IL","1999-06-11",{"$f":"COUNTIF(Calculations!$E$56:$E$98,\"<=\"&DATE(2006,MONTH(C3202),DAY(C3202)))","v":16},4.4000000000000004,3.2,5,3.5,5.0999999999999996,4.5,4.9000000000000004,3.7,5.4,5]
["IL199917","IL","1999-06-18",{"$f":"COUNTIF(Calculations!$E$56:$E$98,\"<=\"&DATE(2006,MONTH(C3203),DAY(C3203)))","v":17},4,3.9,2.4,5.2,4.3,3.3,4.0999999999999996,3.5,5.6,5.4]
["IL199918","IL","1999-06-25",{"$f":"COUNTIF(Calculations!$E$56:$E$98,\"<=\"&DATE(2006,MONTH(C3204),DAY(C3204)))","v":18},5.0999999999999996,4.5999999999999996,4.7,6.2,6.2,4.9000000000000004,5.3,4.5,4.9000000000000004,5.6]
["IL199919","IL","1999-07-02",{"$f":"COUNTIF(Calculations!$E$56:$E$98,\"<=\"&DATE(2006,MONTH(C3205),DAY(C3205)))","v":19},4.7,6.2,5.6,4.7,4.5999999999999996,5.6,4.5999999999999996,2.7,3.3,3.5]
["IL199920","IL","1999-07-09",{"$f":"COUNTIF(Calculations!$E$56:$E$98,\"<=\"&DATE(2006,MONTH(C3206),DAY(C3206)))","v":20},6.2,6.4,6,6.5,6.5,6.8,5.7,5.4,5.8,6.4]
["IL199921","IL","1999-07-16",{"$f":"COUNTIF(Calculations!$E$56:$E$98,\"<=\"&DATE(2006,MONTH(C3207),DAY(C3207)))","v":21},6.7,6.8,7,6.8,6.9,6.8,6.7,6.2,6.8,5.6]
["IL199922","IL","1999-07-23",{"$f":"COUNTIF(Calculations!$E$56:$E$98,\"<=\"&DATE(2006,MONTH(C3208),DAY(C3208)))","v":22},6.1,5.2,6.5,5.7,5.7,4.9000000000000004,7,6.8,7,6.1]
["IL199923","IL","1999-07-30",{"$f":"COUNTIF(Calculations!$E$56:$E$98,\"<=\"&DATE(2006,MONTH(C3209),DAY(C3209)))","v":23},6,5.9,7,6.2,4.8,5.4,6.4,6.5,7,6.1]
["IL199924","IL","1999-08-06",{"$f":"COUNTIF(Calculations!$E$56:$E$98,\"<=\"&DATE(2006,MONTH(C3210),DAY(C3210)))","v":24},6.8,6.6,7,7,6.7,6.7,7,7,6.7,6.8]
["IL199925","IL","1999-08-13",{"$f":"COUNTIF(Calculations!$E$56:$E$98,\"<=\"&DATE(2006,MONTH(C3211),DAY(C3211)))","v":25},5.5,4.8,5.3,5.6,5.3,5.5,5.8,6.3,6.1,6.3]
["IL199926","IL","1999-08-20",{"$f":"COUNTIF(Calculations!$E$56:$E$98,\"<=\"&DATE(2006,MONTH(C3212),DAY(C3212)))","v":26},5.8,5.5,4.8,5.5,4.5,5.3,6.2,6.8,7,7]
["IL199927","IL","1999-08-27",{"$f":"COUNTIF(Calculations!$E$56:$E$98,\"<=\"&DATE(2006,MONTH(C3213),DAY(C3213)))","v":27},5.4,5,4.4000000000000004,5.0999999999999996,4.8,4.8,5.2,6.6,6.7,7]
["IL199928","IL","1999-09-03",{"$f":"COUNTIF(Calculations!$E$56:$E$98,\"<=\"&DATE(2006,MONTH(C3214),DAY(C3214)))","v":28},6.8,6.4,6.9,6.8,7,7,6.7,6.8,7,7]
["IL199929","IL","1999-09-10",{"$f":"COUNTIF(Calculations!$E$56:$E$98,\"<=\"&DATE(2006,MONTH(C3215),DAY(C3215)))","v":29},6.9,6.8,7,7,6.9,7,7,6.8,7,7]
["IL199930","IL","1999-09-17",{"$f":"COUNTIF(Calculations!$E$56:$E$98,\"<=\"&DATE(2006,MONTH(C3216),DAY(C3216)))","v":30},6.7,6.8,5.9,6.9,6.5,7,6.8,7,6.6,7]
["IL199931","IL","1999-09-24",{"$f":"COUNTIF(Calculations!$E$56:$E$98,\"<=\"&DATE(2006,MONTH(C3217),DAY(C3217)))","v":31},6.7,6.9,6.9,6.3,6.9,7,5.9,6.9,7,7]
["IL199932","IL","1999-10-01",{"$f":"COUNTIF(Calculations!$E$56:$E$98,\"<=\"&DATE(2006,MONTH(C3218),DAY(C3218)))","v":32},5,2.8,4.2,4.5,5,5.8,4.7,6.4,6.1,6.3]
[{"$f":"B3219&YEAR(C3219)&D3219","v":"IL199933"},"IL","1999-10-08",{"$f":"COUNTIF(Calculations!$E$56:$E$98,\"<=\"&DATE(2006,MONTH(C3219),DAY(C3219)))","v":33},5.0999999999999996,4.9000000000000004,5.0999999999999996,4.5,5.5,4.5999999999999996,4.5999999999999996,5.4,5.6,6.5]
["IL199934","IL","1999-10-15",{"$f":"COUNTIF(Calculations!$E$56:$E$98,\"<=\"&DATE(2006,MONTH(C3220),DAY(C3220)))","v":34},5.8,6.1,5.2,6.8,5.7,5,5.7,6.3,5.7,5.0999999999999996]
["IL199935","IL","1999-10-22",{"$f":"COUNTIF(Calculations!$E$56:$E$98,\"<=\"&DATE(2006,MONTH(C3221),DAY(C3221)))","v":35},6.6,6.5,6.5,6.9,6.6,6.7,6.8,6.4,6.3,6.1]
["IL199936","IL","1999-10-29",{"$f":"COUNTIF(Calculations!$E$56:$E$98,\"<=\"&DATE(2006,MONTH(C3222),DAY(C3222)))","v":36},6.9,6.9,7,7,7,7,6.8,7,7,7]
["IL199937","IL","1999-11-05",{"$f":"COUNTIF(Calculations!$E$56:$E$98,\"<=\"&DATE(2006,MONTH(C3223),DAY(C3223)))","v":37},6.8,6.9,7,7,6.9,7,6.5,6.1,6.6,7]
["IL199938","IL","1999-11-12",{"$f":"COUNTIF(Calculations!$E$56:$E$98,\"<=\"&DATE(2006,MONTH(C3224),DAY(C3224)))","v":38},6.9,6.9,7,7,7,7,6.9,7,6.6,7]
["IL20005","IL","2000-03-31",{"$f":"COUNTIF(Calculations!$E$56:$E$98,\"<=\"&DATE(2006,MONTH(C3225),DAY(C3225)))","v":5},5.0999999999999996,6.6,5.5,5.5,5.5,5,4.5999999999999996,4.9000000000000004,5.2,1.1000000000000001]
["IL20006","IL","2000-04-07",{"$f":"COUNTIF(Calculations!$E$56:$E$98,\"<=\"&DATE(2006,MONTH(C3226),DAY(C3226)))","v":6},6,5.4,5.6,6.4,6.3,6.3,5.9,5.9,6.1,5.8]
["IL20007","IL","2000-04-14",{"$f":"COUNTIF(Calculations!$E$56:$E$98,\"<=\"&DATE(2006,MONTH(C3227),DAY(C3227)))","v":7},5.5,5.2,5.2,6.4,5.7,5.5,6.6,4.7,5.6,4.8]
["IL20008","IL","2000-04-21",{"$f":"COUNTIF(Calculations!$E$56:$E$98,\"<=\"&DATE(2006,MONTH(C3228),DAY(C3228)))","v":8},2.6,2.7,1.8,3.1,2.1,1.4,3.6,2.2000000000000002,3.9,3.8]
["IL20009","IL","2000-04-28",{"$f":"COUNTIF(Calculations!$E$56:$E$98,\"<=\"&DATE(2006,MONTH(C3229),DAY(C3229)))","v":9},3.5,3.6,2.7,4.4000000000000004,4,3.8,3.6,3.5,3.4,2.2999999999999998]
["IL200010","IL","2000-05-05",{"$f":"COUNTIF(Calculations!$E$56:$E$98,\"<=\"&DATE(2006,MONTH(C3230),DAY(C3230)))","v":10},5.8,6.5,5.6,6.1,5.5,4.7,6.5,6.5,5.4,4.0999999999999996]
["IL200011","IL","2000-05-12",{"$f":"COUNTIF(Calculations!$E$56:$E$98,\"<=\"&DATE(2006,MONTH(C3231),DAY(C3231)))","v":11},3.4,2.9,2.2999999999999998,3.5,4.5,3.6,3.9,2.7,2.9,4]
["IL200012","IL","2000-05-19",{"$f":"COUNTIF(Calculations!$E$56:$E$98,\"<=\"&DATE(2006,MONTH(C3232),DAY(C3232)))","v":12},4.3,3,2.4,5.5,4.5,3.6,5.7,4.8,5.7,4.7]
["IL200013","IL","2000-05-26",{"$f":"COUNTIF(Calculations!$E$56:$E$98,\"<=\"&DATE(2006,MONTH(C3233),DAY(C3233)))","v":13},5,5.2,5.0999999999999996,5.3,5.4,4.8,5.6,4.9000000000000004,3.9,2.9]
["IL200014","IL","2000-06-02",{"$f":"COUNTIF(Calculations!$E$56:$E$98,\"<=\"&DATE(2006,MONTH(C3234),DAY(C3234)))","v":14},3.2,2,1.6,4.3,3.3,2.7,3.2,4.4000000000000004,4,3.6]
["IL200015","IL","2000-06-09",{"$f":"COUNTIF(Calculations!$E$56:$E$98,\"<=\"&DATE(2006,MONTH(C3235),DAY(C3235)))","v":15},5.7,4.9000000000000004,4.3,6.2,6.3,5.2,5.9,6.3,6.1,6.3]
["IL200016","IL","2000-06-16",{"$f":"COUNTIF(Calculations!$E$56:$E$98,\"<=\"&DATE(2006,MONTH(C3236),DAY(C3236)))","v":16},3.3,1.2,1.5,2.5,3.8,4,3.9,4.3,4.4000000000000004,5.8]
["IL200017","IL","2000-06-23",{"$f":"COUNTIF(Calculations!$E$56:$E$98,\"<=\"&DATE(2006,MONTH(C3237),DAY(C3237)))","v":17},3.1,4.3,3.2,3.2,3.6,3.5,2.2999999999999998,2.4,2.2000000000000002,1.2]
["IL200018","IL","2000-06-30",{"$f":"COUNTIF(Calculations!$E$56:$E$98,\"<=\"&DATE(2006,MONTH(C3238),DAY(C3238)))","v":18},3.2,3.4,3.2,2.8,4,4.3,2.6,2,3,2.4]
["IL200019","IL","2000-07-07",{"$f":"COUNTIF(Calculations!$E$56:$E$98,\"<=\"&DATE(2006,MONTH(C3239),DAY(C3239)))","v":19},2.9,3.4,3.1,1.9,3.5,3.5,2.6,1.4,5.0999999999999996,3.1]
["IL200020","IL","2000-07-14",{"$f":"COUNTIF(Calculations!$E$56:$E$98,\"<=\"&DATE(2006,MONTH(C3240),DAY(C3240)))","v":20},3.6,4.3,4.0999999999999996,3.3,4.3,4.0999999999999996,3.9,2.2000000000000002,3.1,2.5]
["IL200021","IL","2000-07-21",{"$f":"COUNTIF(Calculations!$E$56:$E$98,\"<=\"&DATE(2006,MONTH(C3241),DAY(C3241)))","v":21},5.4,6.4,6.6,4.9000000000000004,5.7,6,5.2,5.4,3.6,2.1]
["IL200022","IL","2000-07-28",{"$f":"COUNTIF(Calculations!$E$56:$E$98,\"<=\"&DATE(2006,MONTH(C3242),DAY(C3242)))","v":22},6.4,6.4,6.7,6.5,6.8,6.8,5.8,6.4,5.0999999999999996,6.1]
["IL200023","IL","2000-08-04",{"$f":"COUNTIF(Calculations!$E$56:$E$98,\"<=\"&DATE(2006,MONTH(C3243),DAY(C3243)))","v":23},5.0999999999999996,5.0999999999999996,4,5.4,5.6,6,5.8,4.9000000000000004,4,3.2]
["IL200024","IL","2000-08-11",{"$f":"COUNTIF(Calculations!$E$56:$E$98,\"<=\"&DATE(2006,MONTH(C3244),DAY(C3244)))","v":24},4.7,5.0999999999999996,4.5,5,5.6,6.3,4.2,3.1,4.7,3.1]
["IL200025","IL","2000-08-18",{"$f":"COUNTIF(Calculations!$E$56:$E$98,\"<=\"&DATE(2006,MONTH(C3245),DAY(C3245)))","v":25},6,5.3,5.4,6.4,6.3,6.3,6.1,6.1,6.1,6.4]
["IL200026","IL","2000-08-25",{"$f":"COUNTIF(Calculations!$E$56:$E$98,\"<=\"&DATE(2006,MONTH(C3246),DAY(C3246)))","v":26},5.0999999999999996,6.3,6.4,5.8,4.8,6.1,4.0999999999999996,2.5,4.5999999999999996,4.0999999999999996]
["IL200027","IL","2000-09-01",{"$f":"COUNTIF(Calculations!$E$56:$E$98,\"<=\"&DATE(2006,MONTH(C3247),DAY(C3247)))","v":27},6,6.5,6.9,6.6,5.9,6,5.4,4.7,6.1,6.5]
["IL200028","IL","2000-09-08",{"$f":"COUNTIF(Calculations!$E$56:$E$98,\"<=\"&DATE(2006,MONTH(C3248),DAY(C3248)))","v":28},6.7,6.7,6.5,7,6.5,6.7,6.9,6.7,6.6,6.8]
["IL200029","IL","2000-09-15",{"$f":"COUNTIF(Calculations!$E$56:$E$98,\"<=\"&DATE(2006,MONTH(C3249),DAY(C3249)))","v":29},5.2,4.9000000000000004,4.5,5.8,5.8,5.0999999999999996,5.0999999999999996,4,5.8,6.5]
["IL200030","IL","2000-09-22",{"$f":"COUNTIF(Calculations!$E$56:$E$98,\"<=\"&DATE(2006,MONTH(C3250),DAY(C3250)))","v":30},5.2,4,4.5999999999999996,5.0999999999999996,5.6,5.7,5.0999999999999996,5.8,6.1,5.9]
["IL200031","IL","2000-09-29",{"$f":"COUNTIF(Calculations!$E$56:$E$98,\"<=\"&DATE(2006,MONTH(C3251),DAY(C3251)))","v":31},4.5999999999999996,4.8,5,4.5,4.9000000000000004,5,3.6,3.9,4.5999999999999996,4.7]
["IL200032","IL","2000-10-06",{"$f":"COUNTIF(Calculations!$E$56:$E$98,\"<=\"&DATE(2006,MONTH(C3252),DAY(C3252)))","v":32},4.4000000000000004,4.3,4.5999999999999996,3.6,4.4000000000000004,4.3,4.0999999999999996,3.9,5.6,6.8]
["IL200033","IL","2000-10-13",{"$f":"COUNTIF(Calculations!$E$56:$E$98,\"<=\"&DATE(2006,MONTH(C3253),DAY(C3253)))","v":33},6.1,6.3,6.7,5.8,6.2,6.3,5.3,5.8,6.5,6.5]
["IL200034","IL","2000-10-20",{"$f":"COUNTIF(Calculations!$E$56:$E$98,\"<=\"&DATE(2006,MONTH(C3254),DAY(C3254)))","v":34},5.6,6.8,6.7,5.4,5.8,6.1,3.9,5.2,4.2,5.0999999999999996]
["IL200035","IL","2000-10-27",{"$f":"COUNTIF(Calculations!$E$56:$E$98,\"<=\"&DATE(2006,MONTH(C3255),DAY(C3255)))","v":35},5.6,5.4,6,4.7,5.9,6.1,4.8,6.3,6.6,7]
["IL200036","IL","2000-11-03",{"$f":"COUNTIF(Calculations!$E$56:$E$98,\"<=\"&DATE(2006,MONTH(C3256),DAY(C3256)))","v":36},6.2,6.8,6.5,5.9,6.1,6.3,5.8,6.6,5.4,6]
["IL200037","IL","2000-11-10",{"$f":"COUNTIF(Calculations!$E$56:$E$98,\"<=\"&DATE(2006,MONTH(C3257),DAY(C3257)))","v":37},3,3.5,2.9,2.9,3.7,3.3,2,2.2000000000000002,2,3.2]
["IL200038","IL","2000-11-17",{"$f":"COUNTIF(Calculations!$E$56:$E$98,\"<=\"&DATE(2006,MONTH(C3258),DAY(C3258)))","v":38},3.6,4.2,4.5,4.2,3.9,3.7,1.7,2.2999999999999998,3.9,2.4]
["IL20015","IL","2001-03-30",{"$f":"COUNTIF(Calculations!$E$56:$E$98,\"<=\"&DATE(2006,MONTH(C3259),DAY(C3259)))","v":5},3.1,1,2.8,1.4,4.0999999999999996,3.6,3.2,4.8,5.6,4.8]
["IL20016","IL","2001-04-06",{"$f":"COUNTIF(Calculations!$E$56:$E$98,\"<=\"&DATE(2006,MONTH(C3260),DAY(C3260)))","v":6},4.3,3.5,4.0999999999999996,4.2,4.9000000000000004,5.0999999999999996,4.9000000000000004,5.7,1.9,1.6]
["IL20017","IL","2001-04-13",{"$f":"COUNTIF(Calculations!$E$56:$E$98,\"<=\"&DATE(2006,MONTH(C3261),DAY(C3261)))","v":7},2.7,2,2.5,2.2000000000000002,3,1.6,3.2,2.8,3.7,5.5]
["IL20018","IL","2001-04-20",{"$f":"COUNTIF(Calculations!$E$56:$E$98,\"<=\"&DATE(2006,MONTH(C3262),DAY(C3262)))","v":8},4.2,3.4,3.2,3.4,3.9,4.2,5.0999999999999996,4.9000000000000004,5.6,5.6]
["IL20019","IL","2001-04-27",{"$f":"COUNTIF(Calculations!$E$56:$E$98,\"<=\"&DATE(2006,MONTH(C3263),DAY(C3263)))","v":9},5,4.3,3.6,4.3,4.0999999999999996,4.8,5.9,6.3,6.4,6.4]
["IL200110","IL","2001-05-04",{"$f":"COUNTIF(Calculations!$E$56:$E$98,\"<=\"&DATE(2006,MONTH(C3264),DAY(C3264)))","v":10},6.6,6.2,6.9,6.3,6.9,6.4,6.8,6.6,6.9,6.8]
["IL200111","IL","2001-05-11",{"$f":"COUNTIF(Calculations!$E$56:$E$98,\"<=\"&DATE(2006,MONTH(C3265),DAY(C3265)))","v":11},5.2,3.8,5.4,3.1,5.3,6,6.1,6.1,6.1,6.4]
["IL200112","IL","2001-05-18",{"$f":"COUNTIF(Calculations!$E$56:$E$98,\"<=\"&DATE(2006,MONTH(C3266),DAY(C3266)))","v":12},4.7,4.2,5.4,2.2000000000000002,3.9,4.9000000000000004,5.5,5.7,6.2,6.6]
["IL200113","IL","2001-05-25",{"$f":"COUNTIF(Calculations!$E$56:$E$98,\"<=\"&DATE(2006,MONTH(C3267),DAY(C3267)))","v":13},2.1,2.2000000000000002,2.7,1.1000000000000001,3.1,2.7,1,1.9,2.4,1.5]
["IL200114","IL","2001-06-01",{"$f":"COUNTIF(Calculations!$E$56:$E$98,\"<=\"&DATE(2006,MONTH(C3268),DAY(C3268)))","v":14},2.2000000000000002,2.5,2.4,1.2,2.1,3.1,2,1.7,2.8,2.1]
["IL200115","IL","2001-06-08",{"$f":"COUNTIF(Calculations!$E$56:$E$98,\"<=\"&DATE(2006,MONTH(C3269),DAY(C3269)))","v":15},0.9,1,0.7,0.2,0.9,0.7,0.9,0.3,3,3.6]
["IL200116","IL","2001-06-15",{"$f":"COUNTIF(Calculations!$E$56:$E$98,\"<=\"&DATE(2006,MONTH(C3270),DAY(C3270)))","v":16},4.7,4.4000000000000004,4.8,3.9,5.6,4.8,3.9,4.8,6,5.6]
["IL200117","IL","2001-06-22",{"$f":"COUNTIF(Calculations!$E$56:$E$98,\"<=\"&DATE(2006,MONTH(C3271),DAY(C3271)))","v":17},4.5,4.9000000000000004,4.8,3.4,4.5,4.8,4.9000000000000004,4.2,4.2,4.8]
["IL200118","IL","2001-06-29",{"$f":"COUNTIF(Calculations!$E$56:$E$98,\"<=\"&DATE(2006,MONTH(C3272),DAY(C3272)))","v":18},6.7,7,6.5,6.5,6.3,6.7,6.9,6.1,6.8,5.2]
["IL200119","IL","2001-07-06",{"$f":"COUNTIF(Calculations!$E$56:$E$98,\"<=\"&DATE(2006,MONTH(C3273),DAY(C3273)))","v":19},5.3,5.4,5.3,6.2,5.4,3.5,6.3,4.4000000000000004,6.7,5.0999999999999996]
["IL200120","IL","2001-07-13",{"$f":"COUNTIF(Calculations!$E$56:$E$98,\"<=\"&DATE(2006,MONTH(C3274),DAY(C3274)))","v":20},6,6.5,5.9,6.9,6.7,4.9000000000000004,6.7,4.8,6,4.8]
["IL200121","IL","2001-07-20",{"$f":"COUNTIF(Calculations!$E$56:$E$98,\"<=\"&DATE(2006,MONTH(C3275),DAY(C3275)))","v":21},5.0999999999999996,5.5,5.5,4.4000000000000004,5.8,6.3,3.8,5.5,4.2,4.7]
["IL200122","IL","2001-07-27",{"$f":"COUNTIF(Calculations!$E$56:$E$98,\"<=\"&DATE(2006,MONTH(C3276),DAY(C3276)))","v":22},5.2,5.3,4.5999999999999996,5.2,5.8,4.8,6.2,5.2,4.2,4.9000000000000004]
["IL200123","IL","2001-08-03",{"$f":"COUNTIF(Calculations!$E$56:$E$98,\"<=\"&DATE(2006,MONTH(C3277),DAY(C3277)))","v":23},5.7,5.3,5.7,5.7,6.3,5.2,6.3,5.7,6.7,5.3]
["IL200124","IL","2001-08-10",{"$f":"COUNTIF(Calculations!$E$56:$E$98,\"<=\"&DATE(2006,MONTH(C3278),DAY(C3278)))","v":24},6.5,6.4,6.9,6.4,6.9,6.5,6.7,6.7,6,5.8]
["IL200125","IL","2001-08-17",{"$f":"COUNTIF(Calculations!$E$56:$E$98,\"<=\"&DATE(2006,MONTH(C3279),DAY(C3279)))","v":25},6.3,5.7,6.4,6.1,6.5,6.2,6.5,6.7,6.9,6.7]
["IL200126","IL","2001-08-24",{"$f":"COUNTIF(Calculations!$E$56:$E$98,\"<=\"&DATE(2006,MONTH(C3280),DAY(C3280)))","v":26},4.8,5,4.5,5,4.3,4.3,4.8,5,5.9,5.6]
["IL200127","IL","2001-08-31",{"$f":"COUNTIF(Calculations!$E$56:$E$98,\"<=\"&DATE(2006,MONTH(C3281),DAY(C3281)))","v":27},5.3,6.2,5.7,4.7,4.7,4.9000000000000004,5.0999999999999996,5.4,5.3,5.7]
["IL200128","IL","2001-09-07",{"$f":"COUNTIF(Calculations!$E$56:$E$98,\"<=\"&DATE(2006,MONTH(C3282),DAY(C3282)))","v":28},5.9,5.5,5.4,6,5.6,6.4,5.9,6.5,6.7,6.4]
[{"$f":"B3283&YEAR(C3283)&D3283","v":"IL200129"},"IL","2001-09-14",{"$f":"COUNTIF(Calculations!$E$56:$E$98,\"<=\"&DATE(2006,MONTH(C3283),DAY(C3283)))","v":29},5.7,5.4,4.8,5.9,6,5.5,5.8,6.3,6.4,6.5]
["IL200130","IL","2001-09-21",{"$f":"COUNTIF(Calculations!$E$56:$E$98,\"<=\"&DATE(2006,MONTH(C3284),DAY(C3284)))","v":30},4.7,4.4000000000000004,3.5,4.8,4.5,4.9000000000000004,3.9,5.7,5.5,5.7]
["IL200131","IL","2001-09-28",{"$f":"COUNTIF(Calculations!$E$56:$E$98,\"<=\"&DATE(2006,MONTH(C3285),DAY(C3285)))","v":31},6.1,5.3,5.0999999999999996,5.8,6.7,6.1,6.4,6.8,6.5,7]
["IL200132","IL","2001-10-05",{"$f":"COUNTIF(Calculations!$E$56:$E$98,\"<=\"&DATE(2006,MONTH(C3286),DAY(C3286)))","v":32},5.6,5.2,5.7,5.5,5.4,5.2,6,6.1,6.3,6.4]
["IL200133","IL","2001-10-12",{"$f":"COUNTIF(Calculations!$E$56:$E$98,\"<=\"&DATE(2006,MONTH(C3287),DAY(C3287)))","v":33},3.8,4.0999999999999996,4.0999999999999996,3.7,4,3.5,3.5,3.9,3.6,4.0999999999999996]
["IL200134","IL","2001-10-19",{"$f":"COUNTIF(Calculations!$E$56:$E$98,\"<=\"&DATE(2006,MONTH(C3288),DAY(C3288)))","v":34},3.6,5,3.3,3.6,4.2,2.5,3.1,3,2.9,2.4]
["IL200135","IL","2001-10-26",{"$f":"COUNTIF(Calculations!$E$56:$E$98,\"<=\"&DATE(2006,MONTH(C3289),DAY(C3289)))","v":35},2.8,2.9,2.6,3.6,3,1.8,3.6,2.5,3,2.5]
["IL200136","IL","2001-11-02",{"$f":"COUNTIF(Calculations!$E$56:$E$98,\"<=\"&DATE(2006,MONTH(C3290),DAY(C3290)))","v":36},5.5,5.6,5.3,6.2,5.7,4.5,6.4,5.6,6,4.4000000000000004]
["IL200137","IL","2001-11-09",{"$f":"COUNTIF(Calculations!$E$56:$E$98,\"<=\"&DATE(2006,MONTH(C3291),DAY(C3291)))","v":37},6.5,6.7,6.7,6.7,6.5,6.1,6.7,6.1,6.7,7]
["IL200138","IL","2001-11-16",{"$f":"COUNTIF(Calculations!$E$56:$E$98,\"<=\"&DATE(2006,MONTH(C3292),DAY(C3292)))","v":38},6.5,5.8,5.4,6.9,7,6.9,7,6.7,6.9,6.3]
["IL20025","IL","2002-03-29",{"$f":"COUNTIF(Calculations!$E$56:$E$98,\"<=\"&DATE(2006,MONTH(C3293),DAY(C3293)))","v":5},1.3,3.9,1.7,2.1,0.7,0.4,0.3,0.4,0,0]
["IL20026","IL","2002-04-05",{"$f":"COUNTIF(Calculations!$E$56:$E$98,\"<=\"&DATE(2006,MONTH(C3294),DAY(C3294)))","v":6},1.7,1.2,0.5,4.5,1.6,1.3,3.4,0.6,1,0.4]
["IL20027","IL","2002-04-12",{"$f":"COUNTIF(Calculations!$E$56:$E$98,\"<=\"&DATE(2006,MONTH(C3295),DAY(C3295)))","v":7},1.5,1.1000000000000001,1.3,1.5,1.4,1.1000000000000001,2.9,1.5,2.2000000000000002,1.2]
["IL20028","IL","2002-04-19",{"$f":"COUNTIF(Calculations!$E$56:$E$98,\"<=\"&DATE(2006,MONTH(C3296),DAY(C3296)))","v":8},4.8,5.3,5.6,6.3,5.7,4.3,4.8,3.6,2.7,2.4]
["IL20029","IL","2002-04-26",{"$f":"COUNTIF(Calculations!$E$56:$E$98,\"<=\"&DATE(2006,MONTH(C3297),DAY(C3297)))","v":9},1.5,2.1,1.8,1.1000000000000001,1.2,1.3,1,1,2.1,1.4]
["IL200210","IL","2002-05-03",{"$f":"COUNTIF(Calculations!$E$56:$E$98,\"<=\"&DATE(2006,MONTH(C3298),DAY(C3298)))","v":10},0.8,2.4,1.5,0.6,0.6,0.3,0.1,0.1,1.3,0.4]
["IL200211","IL","2002-05-10",{"$f":"COUNTIF(Calculations!$E$56:$E$98,\"<=\"&DATE(2006,MONTH(C3299),DAY(C3299)))","v":11},2.2000000000000002,5.4,4.4000000000000004,2,1.7,0.7,0.2,0.2,1,0.9]
["IL200212","IL","2002-05-17",{"$f":"COUNTIF(Calculations!$E$56:$E$98,\"<=\"&DATE(2006,MONTH(C3300),DAY(C3300)))","v":12},0.4,1.8,1.1000000000000001,0.1,0.2,0,0,0.1,0.2,0.2]
["IL200213","IL","2002-05-24",{"$f":"COUNTIF(Calculations!$E$56:$E$98,\"<=\"&DATE(2006,MONTH(C3301),DAY(C3301)))","v":13},3.3,3.8,3.5,2.7,2.7,3.3,2.8,4.5999999999999996,3.8,3]
["IL200214","IL","2002-05-31",{"$f":"COUNTIF(Calculations!$E$56:$E$98,\"<=\"&DATE(2006,MONTH(C3302),DAY(C3302)))","v":14},5.0999999999999996,4.3,5.4,3.4,5.3,5.8,5.3,5.8,5.0999999999999996,5.9]
["IL200215","IL","2002-06-09",{"$f":"COUNTIF(Calculations!$E$56:$E$98,\"<=\"&DATE(2006,MONTH(C3303),DAY(C3303)))","v":15},4.5999999999999996,2.6,3.4,4.8,4.9000000000000004,4.9000000000000004,6.2,5.9,6.4,5.2]
["IL200216","IL","2002-06-16",{"$f":"COUNTIF(Calculations!$E$56:$E$98,\"<=\"&DATE(2006,MONTH(C3304),DAY(C3304)))","v":16},3.2,3.2,4.7,1.4,3.2,3.9,2.4,3.8,4.4000000000000004,4.9000000000000004]
["IL200217","IL","2002-06-23",{"$f":"COUNTIF(Calculations!$E$56:$E$98,\"<=\"&DATE(2006,MONTH(C3305),DAY(C3305)))","v":17},6.5,6.5,6.6,6.2,6.7,6.7,6.2,6.5,6.7,7]
["IL200218","IL","2002-06-30",{"$f":"COUNTIF(Calculations!$E$56:$E$98,\"<=\"&DATE(2006,MONTH(C3306),DAY(C3306)))","v":18},5.9,5.9,5.9,6.8,6.3,5,6.3,6.3,5.7,4.8]
["IL200219","IL","2002-07-07",{"$f":"COUNTIF(Calculations!$E$56:$E$98,\"<=\"&DATE(2006,MONTH(C3307),DAY(C3307)))","v":19},6.7,6.3,6.8,6,6.7,6.8,7,7,7,6.8]
["IL200220","IL","2002-07-14",{"$f":"COUNTIF(Calculations!$E$56:$E$98,\"<=\"&DATE(2006,MONTH(C3308),DAY(C3308)))","v":20},6.4,6.1,6,6.7,6.8,5.8,5.5,6.5,6.7,6.1]
["IL200221","IL","2002-07-21",{"$f":"COUNTIF(Calculations!$E$56:$E$98,\"<=\"&DATE(2006,MONTH(C3309),DAY(C3309)))","v":21},6.4,6.7,6.8,5.5,6.7,5.9,6.9,6.6,6.3,6.3]
["IL200222","IL","2002-07-28",{"$f":"COUNTIF(Calculations!$E$56:$E$98,\"<=\"&DATE(2006,MONTH(C3310),DAY(C3310)))","v":22},5.5,6.2,6.1,5.9,4.5,4.9000000000000004,4.9000000000000004,5.7,6.8,5.8]
["IL200223","IL","2002-08-04",{"$f":"COUNTIF(Calculations!$E$56:$E$98,\"<=\"&DATE(2006,MONTH(C3311),DAY(C3311)))","v":23},6.3,6.4,6.5,6.2,6,5.5,6.6,6.3,6.8,7]
["IL200224","IL","2002-08-11",{"$f":"COUNTIF(Calculations!$E$56:$E$98,\"<=\"&DATE(2006,MONTH(C3312),DAY(C3312)))","v":24},6.6,6.4,6.7,6.7,6.9,6.5,6.2,6.7,6.8,6.8]
["IL200225","IL","2002-08-18",{"$f":"COUNTIF(Calculations!$E$56:$E$98,\"<=\"&DATE(2006,MONTH(C3313),DAY(C3313)))","v":25},5.3,5.3,5.5,5.3,4.2,5.0999999999999996,5.2,6,6.1,6.3]
["IL200226","IL","2002-08-25",{"$f":"COUNTIF(Calculations!$E$56:$E$98,\"<=\"&DATE(2006,MONTH(C3314),DAY(C3314)))","v":26},4,3.4,4.7,2.6,3.1,3.5,4.3,6.1,5.3,6.9]
["IL200227","IL","2002-09-01",{"$f":"COUNTIF(Calculations!$E$56:$E$98,\"<=\"&DATE(2006,MONTH(C3315),DAY(C3315)))","v":27},6.4,6.2,6.4,6.2,6.2,6.2,6.4,6.8,6.7,7]
["IL200228","IL","2002-09-08",{"$f":"COUNTIF(Calculations!$E$56:$E$98,\"<=\"&DATE(2006,MONTH(C3316),DAY(C3316)))","v":28},6.9,6.8,6.8,7,7,6.8,7,6.8,6.9,6.9]
["IL200229","IL","2002-09-15",{"$f":"COUNTIF(Calculations!$E$56:$E$98,\"<=\"&DATE(2006,MONTH(C3317),DAY(C3317)))","v":29},6.7,6.7,6.8,6.9,6.7,6.6,6.4,6.7,6.8,6.8]
["IL200230","IL","2002-09-22",{"$f":"COUNTIF(Calculations!$E$56:$E$98,\"<=\"&DATE(2006,MONTH(C3318),DAY(C3318)))","v":30},4.9000000000000004,5.8,4.5,6,5,5,4.2,4.9000000000000004,3.1,4.5]
["IL200231","IL","2002-09-29",{"$f":"COUNTIF(Calculations!$E$56:$E$98,\"<=\"&DATE(2006,MONTH(C3319),DAY(C3319)))","v":31},6.4,6.7,6.5,7,6.3,6.2,6.5,6.3,6.1,4.9000000000000004]
["IL200232","IL","2002-10-06",{"$f":"COUNTIF(Calculations!$E$56:$E$98,\"<=\"&DATE(2006,MONTH(C3320),DAY(C3320)))","v":32},5,3.7,3.2,5.3,5.6,5.6,4.7,6.1,5.3,4.8]
["IL200233","IL","2002-10-13",{"$f":"COUNTIF(Calculations!$E$56:$E$98,\"<=\"&DATE(2006,MONTH(C3321),DAY(C3321)))","v":33},6.1,5.5,6.3,6.6,6.2,6.4,5.9,6.4,6,4.5]
["IL200234","IL","2002-10-20",{"$f":"COUNTIF(Calculations!$E$56:$E$98,\"<=\"&DATE(2006,MONTH(C3322),DAY(C3322)))","v":34},6,5.9,5.4,6,6,6.4,5.9,6,6.4,4.9000000000000004]
["IL200235","IL","2002-10-27",{"$f":"COUNTIF(Calculations!$E$56:$E$98,\"<=\"&DATE(2006,MONTH(C3323),DAY(C3323)))","v":35},4.8,3.8,4.4000000000000004,4.7,5.0999999999999996,5.4,5.4,5.3,5,4.5999999999999996]
["IL200236","IL","2002-11-03",{"$f":"COUNTIF(Calculations!$E$56:$E$98,\"<=\"&DATE(2006,MONTH(C3324),DAY(C3324)))","v":36},4.0999999999999996,5.3,5.2,3,3.9,5,3.2,3.8,2.8,2.2000000000000002]
["IL200237","IL","2002-11-10",{"$f":"COUNTIF(Calculations!$E$56:$E$98,\"<=\"&DATE(2006,MONTH(C3325),DAY(C3325)))","v":37},4.5,5.5,5.2,4.9000000000000004,4.9000000000000004,4,3.8,3.6,3.7,2.4]
["IL200238","IL","2002-11-17",{"$f":"COUNTIF(Calculations!$E$56:$E$98,\"<=\"&DATE(2006,MONTH(C3326),DAY(C3326)))","v":38},5.2,6,6.3,5.2,5.5,4.9000000000000004,3.7,5.5,3.4,2.8]
["IL20036","IL","2003-04-06",{"$f":"COUNTIF(Calculations!$E$56:$E$98,\"<=\"&DATE(2006,MONTH(C3327),DAY(C3327)))","v":6},3.7,3.7,3.5,3.5,3.4,4.5,3.5,3.7,3.8,2]
["IL20037","IL","2003-04-13",{"$f":"COUNTIF(Calculations!$E$56:$E$98,\"<=\"&DATE(2006,MONTH(C3328),DAY(C3328)))","v":7},4,3.5,4.5999999999999996,3.7,3.2,4.5999999999999996,5,4.5999999999999996,2.7,3.7]
["IL20038","IL","2003-04-20",{"$f":"COUNTIF(Calculations!$E$56:$E$98,\"<=\"&DATE(2006,MONTH(C3329),DAY(C3329)))","v":8},4.4000000000000004,5.0999999999999996,5.6,3.2,3.9,4.5999999999999996,4,4.5999999999999996,4,4.5999999999999996]
["IL20039","IL","2003-04-27",{"$f":"COUNTIF(Calculations!$E$56:$E$98,\"<=\"&DATE(2006,MONTH(C3330),DAY(C3330)))","v":9},4.2,6.4,6.9,2.2999999999999998,4.3,5.7,2.2000000000000002,4.0999999999999996,2,1.3]
["IL200310","IL","2003-05-04",{"$f":"COUNTIF(Calculations!$E$56:$E$98,\"<=\"&DATE(2006,MONTH(C3331),DAY(C3331)))","v":10},3,3.5,3.5,2.2999999999999998,3.8,4.4000000000000004,1.6,3.8,0.6,0.8]
["IL200311","IL","2003-05-11",{"$f":"COUNTIF(Calculations!$E$56:$E$98,\"<=\"&DATE(2006,MONTH(C3332),DAY(C3332)))","v":11},1,1.3,1.4,1.6,1.5,1.1000000000000001,0.5,0,0,0.3]
["IL200312","IL","2003-05-18",{"$f":"COUNTIF(Calculations!$E$56:$E$98,\"<=\"&DATE(2006,MONTH(C3333),DAY(C3333)))","v":12},2.5,3.8,3.1,3.6,2.8,1.6,2.2999999999999998,1.1000000000000001,1.4,2.1]
["IL200313","IL","2003-05-25",{"$f":"COUNTIF(Calculations!$E$56:$E$98,\"<=\"&DATE(2006,MONTH(C3334),DAY(C3334)))","v":13},4.7,4.8,5.3,6.9,5.6,4.8,3.9,3.6,2.4,3.5]
["IL200314","IL","2003-06-01",{"$f":"COUNTIF(Calculations!$E$56:$E$98,\"<=\"&DATE(2006,MONTH(C3335),DAY(C3335)))","v":14},4.9000000000000004,5.6,4.5999999999999996,6.2,5.3,4.2,5.0999999999999996,4.5,3,3.8]
["IL200315","IL","2003-06-08",{"$f":"COUNTIF(Calculations!$E$56:$E$98,\"<=\"&DATE(2006,MONTH(C3336),DAY(C3336)))","v":15},4.3,4.3,4.5,4.0999999999999996,4.5999999999999996,4.0999999999999996,3.4,5,4.2,3.6]
["IL200316","IL","2003-06-15",{"$f":"COUNTIF(Calculations!$E$56:$E$98,\"<=\"&DATE(2006,MONTH(C3337),DAY(C3337)))","v":16},3.7,5.4,6.3,5,3.8,3.1,2.8,2,1.5,0.2]
["IL200317","IL","2003-06-22",{"$f":"COUNTIF(Calculations!$E$56:$E$98,\"<=\"&DATE(2006,MONTH(C3338),DAY(C3338)))","v":17},5.6,6.1,5.9,6.9,6.7,5.5,5,5.2,4.8,2.9]
["IL200318","IL","2003-06-29",{"$f":"COUNTIF(Calculations!$E$56:$E$98,\"<=\"&DATE(2006,MONTH(C3339),DAY(C3339)))","v":18},5.3,5.3,6.2,4.7,4.5999999999999996,5.8,3.7,6.1,5.0999999999999996,6.5]
["IL200319","IL","2003-07-06",{"$f":"COUNTIF(Calculations!$E$56:$E$98,\"<=\"&DATE(2006,MONTH(C3340),DAY(C3340)))","v":19},5.9,5.0999999999999996,5.6,6.8,6.5,4.8,6.3,6.7,5.4,6.8]
["IL200320","IL","2003-07-13",{"$f":"COUNTIF(Calculations!$E$56:$E$98,\"<=\"&DATE(2006,MONTH(C3341),DAY(C3341)))","v":20},3.7,2.9,2.6,4,3.5,1.9,4.5,4.5999999999999996,5.8,6.7]
["IL200321","IL","2003-07-20",{"$f":"COUNTIF(Calculations!$E$56:$E$98,\"<=\"&DATE(2006,MONTH(C3342),DAY(C3342)))","v":21},4.8,5.6,4.7,5.6,4.8,3.1,5,4.7,5.3,5.0999999999999996]
["IL200322","IL","2003-07-27",{"$f":"COUNTIF(Calculations!$E$56:$E$98,\"<=\"&DATE(2006,MONTH(C3343),DAY(C3343)))","v":22},5.5,5.0999999999999996,6.1,6.1,5.6,3.7,6,6.4,5.7,6.9]
["IL200323","IL","2003-08-03",{"$f":"COUNTIF(Calculations!$E$56:$E$98,\"<=\"&DATE(2006,MONTH(C3344),DAY(C3344)))","v":23},5.4,5.5,4.7,5.6,5.3,5.0999999999999996,4.9000000000000004,5.2,6.6,6.2]
["IL200324","IL","2003-08-10",{"$f":"COUNTIF(Calculations!$E$56:$E$98,\"<=\"&DATE(2006,MONTH(C3345),DAY(C3345)))","v":24},6.1,6.2,6.1,6.9,5.6,5.7,5.6,6.7,6,6.8]
["IL200325","IL","2003-08-17",{"$f":"COUNTIF(Calculations!$E$56:$E$98,\"<=\"&DATE(2006,MONTH(C3346),DAY(C3346)))","v":25},6.6,6.4,6.4,6.9,6.7,5.6,6.9,6.8,7,7]
[{"$f":"B3347&YEAR(C3347)&D3347","v":"IL200326"},"IL","2003-08-24",{"$f":"COUNTIF(Calculations!$E$56:$E$98,\"<=\"&DATE(2006,MONTH(C3347),DAY(C3347)))","v":26},6.9,6.7,7,7,7,7,7,6.9,7,7]
["IL200327","IL","2003-08-31",{"$f":"COUNTIF(Calculations!$E$56:$E$98,\"<=\"&DATE(2006,MONTH(C3348),DAY(C3348)))","v":27},5.6,6.5,6.1,5,4.8,5.2,6.3,4.8,6.3,5.7]
["IL200328","IL","2003-09-07",{"$f":"COUNTIF(Calculations!$E$56:$E$98,\"<=\"&DATE(2006,MONTH(C3349),DAY(C3349)))","v":28},4.5999999999999996,6.4,4.8,4.7,4.8,3.4,3.7,4.0999999999999996,4.4000000000000004,4.9000000000000004]
["IL200329","IL","2003-09-14",{"$f":"COUNTIF(Calculations!$E$56:$E$98,\"<=\"&DATE(2006,MONTH(C3350),DAY(C3350)))","v":29},5.6,5.2,5.4,5.0999999999999996,6,5.7,4.8,6,6.6,6.6]
["IL200330","IL","2003-09-21",{"$f":"COUNTIF(Calculations!$E$56:$E$98,\"<=\"&DATE(2006,MONTH(C3351),DAY(C3351)))","v":30},6.4,5.7,6.5,5.9,6.7,6.7,6.6,6.6,6.6,6.8]
["IL200331","IL","2003-09-28",{"$f":"COUNTIF(Calculations!$E$56:$E$98,\"<=\"&DATE(2006,MONTH(C3352),DAY(C3352)))","v":31},5.0999999999999996,5.2,5,5.4,5.8,4.3,5.0999999999999996,4.7,6.1,5.4]
["IL200332","IL","2003-10-05",{"$f":"COUNTIF(Calculations!$E$56:$E$98,\"<=\"&DATE(2006,MONTH(C3353),DAY(C3353)))","v":32},5.9,5.8,5.7,6.3,6.4,6.1,5.6,5.8,5.3,4.5]
["IL200333","IL","2003-10-12",{"$f":"COUNTIF(Calculations!$E$56:$E$98,\"<=\"&DATE(2006,MONTH(C3354),DAY(C3354)))","v":33},6,6.4,6.6,5.3,6.2,6.4,5.3,6.1,5.2,5.9]
["IL200334","IL","2003-10-19",{"$f":"COUNTIF(Calculations!$E$56:$E$98,\"<=\"&DATE(2006,MONTH(C3355),DAY(C3355)))","v":34},5.9,6,5.0999999999999996,6.1,6.4,6.5,5.4,5.6,5.4,5.5]
["IL200335","IL","2003-10-26",{"$f":"COUNTIF(Calculations!$E$56:$E$98,\"<=\"&DATE(2006,MONTH(C3356),DAY(C3356)))","v":35},5.9,6.1,6,5.6,5.4,5.9,5.9,6.3,6.5,5.6]
["IL200336","IL","2003-11-02",{"$f":"COUNTIF(Calculations!$E$56:$E$98,\"<=\"&DATE(2006,MONTH(C3357),DAY(C3357)))","v":36},5.5,5.3,5.5,5.6,5.3,5.0999999999999996,5.6,6.3,5.7,6]
["IL200337","IL","2003-11-09",{"$f":"COUNTIF(Calculations!$E$56:$E$98,\"<=\"&DATE(2006,MONTH(C3358),DAY(C3358)))","v":37},4.5,3.9,3.5,3.3,4.7,4.5999999999999996,5,5.7,5,5]
["IL200338","IL","2003-11-16",{"$f":"COUNTIF(Calculations!$E$56:$E$98,\"<=\"&DATE(2006,MONTH(C3359),DAY(C3359)))","v":38},4.5,4.7,4.2,4.5,4.5,4.3,5.5,4.2,4.3,4.0999999999999996]
["IL200339","IL","2003-11-23",{"$f":"COUNTIF(Calculations!$E$56:$E$98,\"<=\"&DATE(2006,MONTH(C3360),DAY(C3360)))","v":39},3.2,4.7,2.8,2.2999999999999998,2.5,2.5,3.1,3.8,3.4,3.1]
["IL20046","IL","2004-04-04",{"$f":"COUNTIF(Calculations!$E$56:$E$98,\"<=\"&DATE(2006,MONTH(C3361),DAY(C3361)))","v":6},2.1,3.3,2.2000000000000002,3.4,2.1,1.3,1.4,1.6,0.7,2.4]
["IL20047","IL","2004-04-11",{"$f":"COUNTIF(Calculations!$E$56:$E$98,\"<=\"&DATE(2006,MONTH(C3362),DAY(C3362)))","v":7},5.9,6,6.6,6.7,6,4.5999999999999996,5.8,4.8,5.6,6.6]
["IL20048","IL","2004-04-18",{"$f":"COUNTIF(Calculations!$E$56:$E$98,\"<=\"&DATE(2006,MONTH(C3363),DAY(C3363)))","v":8},6.8,6.9,6.8,7,6.7,6.4,6.8,6.8,6.9,7]
["IL20049","IL","2004-04-25",{"$f":"COUNTIF(Calculations!$E$56:$E$98,\"<=\"&DATE(2006,MONTH(C3364),DAY(C3364)))","v":9},3.6,3.3,3.5,3,4,3.5,4,4.2,4.3,2.7]
["IL200410","IL","2004-05-02",{"$f":"COUNTIF(Calculations!$E$56:$E$98,\"<=\"&DATE(2006,MONTH(C3365),DAY(C3365)))","v":10},3.6,4.0999999999999996,3.3,3,3.9,5.0999999999999996,2.2000000000000002,3.6,4.4000000000000004,3.1]
["IL200411","IL","2004-05-09",{"$f":"COUNTIF(Calculations!$E$56:$E$98,\"<=\"&DATE(2006,MONTH(C3366),DAY(C3366)))","v":11},5,4.9000000000000004,5.5,5,5.6,4.8,5.2,5.0999999999999996,5.2,3.2]
["IL200412","IL","2004-05-16",{"$f":"COUNTIF(Calculations!$E$56:$E$98,\"<=\"&DATE(2006,MONTH(C3367),DAY(C3367)))","v":12},3,2.7,2.2000000000000002,3.6,2.9,2.8,2.8,3.5,3.5,3]
["IL200413","IL","2004-05-23",{"$f":"COUNTIF(Calculations!$E$56:$E$98,\"<=\"&DATE(2006,MONTH(C3368),DAY(C3368)))","v":13},2.9,1.5,1.7,4.4000000000000004,2.6,3.2,3.2,3.7,3.2,3.1]
["IL200414","IL","2004-05-30",{"$f":"COUNTIF(Calculations!$E$56:$E$98,\"<=\"&DATE(2006,MONTH(C3369),DAY(C3369)))","v":14},2.1,2.5,2.5,3.2,1.9,3.7,0.7,1.2,0.7,1.3]
["IL200415","IL","2004-06-06",{"$f":"COUNTIF(Calculations!$E$56:$E$98,\"<=\"&DATE(2006,MONTH(C3370),DAY(C3370)))","v":15},3.5,3.8,3.6,4.7,3.2,3,3.8,3.8,2.2999999999999998,1.5]
["IL200416","IL","2004-06-13",{"$f":"COUNTIF(Calculations!$E$56:$E$98,\"<=\"&DATE(2006,MONTH(C3371),DAY(C3371)))","v":16},3.8,3.8,4,3.6,3.5,2.6,4.5,4.5999999999999996,5.2,4.5999999999999996]
["IL200417","IL","2004-06-20",{"$f":"COUNTIF(Calculations!$E$56:$E$98,\"<=\"&DATE(2006,MONTH(C3372),DAY(C3372)))","v":17},4.3,4.9000000000000004,4.5999999999999996,4.9000000000000004,4.8,3.9,3.7,4,3.5,3.2]
["IL200418","IL","2004-06-27",{"$f":"COUNTIF(Calculations!$E$56:$E$98,\"<=\"&DATE(2006,MONTH(C3373),DAY(C3373)))","v":18},5.8,5.2,5.2,5.8,5.8,5.3,6.1,6.1,6.7,6.3]
["IL200419","IL","2004-07-04",{"$f":"COUNTIF(Calculations!$E$56:$E$98,\"<=\"&DATE(2006,MONTH(C3374),DAY(C3374)))","v":19},5.5,5.5,6.1,5.7,5.9,5.4,4.8,6,5.2,4.2]
["IL200420","IL","2004-07-11",{"$f":"COUNTIF(Calculations!$E$56:$E$98,\"<=\"&DATE(2006,MONTH(C3375),DAY(C3375)))","v":20},4.0999999999999996,4.0999999999999996,5.2,3.6,4.2,4.5,3.9,4.3,3.2,3.5]
["IL200421","IL","2004-07-18",{"$f":"COUNTIF(Calculations!$E$56:$E$98,\"<=\"&DATE(2006,MONTH(C3376),DAY(C3376)))","v":21},4.7,5.5,5.6,5.5,5,2.7,5.5,4,5,3.5]
["IL200422","IL","2004-07-25",{"$f":"COUNTIF(Calculations!$E$56:$E$98,\"<=\"&DATE(2006,MONTH(C3377),DAY(C3377)))","v":22},5.7,5.0999999999999996,6.2,5.5,5.5,5.8,5.0999999999999996,6.5,5,6]
["IL200423","IL","2004-08-01",{"$f":"COUNTIF(Calculations!$E$56:$E$98,\"<=\"&DATE(2006,MONTH(C3378),DAY(C3378)))","v":23},5.6,6.5,7,6.5,5.6,5.3,4.9000000000000004,5.0999999999999996,4.5999999999999996,3.5]
["IL200424","IL","2004-08-08",{"$f":"COUNTIF(Calculations!$E$56:$E$98,\"<=\"&DATE(2006,MONTH(C3379),DAY(C3379)))","v":24},6,5.7,5.5,6.1,6.7,5.8,5.6,6.3,6.1,5.2]
["IL200425","IL","2004-08-15",{"$f":"COUNTIF(Calculations!$E$56:$E$98,\"<=\"&DATE(2006,MONTH(C3380),DAY(C3380)))","v":25},6.8,6.7,7,6.9,6.8,6.3,6.8,6.8,6.9,6.9]
["IL200426","IL","2004-08-22",{"$f":"COUNTIF(Calculations!$E$56:$E$98,\"<=\"&DATE(2006,MONTH(C3381),DAY(C3381)))","v":26},5.4,5.9,4.4000000000000004,5,5.6,5.3,5.6,5.7,5.3,5.8]
["IL200427","IL","2004-08-29",{"$f":"COUNTIF(Calculations!$E$56:$E$98,\"<=\"&DATE(2006,MONTH(C3382),DAY(C3382)))","v":27},2.7,2.9,3.1,2.5,2.2999999999999998,2.6,2.6,3.8,1.9,3]
["IL200428","IL","2004-09-05",{"$f":"COUNTIF(Calculations!$E$56:$E$98,\"<=\"&DATE(2006,MONTH(C3383),DAY(C3383)))","v":28},5.6,6.2,6.1,6,6,4.9000000000000004,5.7,5,5.2,4.7]
["IL200429","IL","2004-09-12",{"$f":"COUNTIF(Calculations!$E$56:$E$98,\"<=\"&DATE(2006,MONTH(C3384),DAY(C3384)))","v":29},6.9,6.8,7,6.9,6.9,6.9,7,6.7,7,6.7]
["IL200430","IL","2004-09-19",{"$f":"COUNTIF(Calculations!$E$56:$E$98,\"<=\"&DATE(2006,MONTH(C3385),DAY(C3385)))","v":30},6.2,6.1,6.1,5,6.3,6.2,6.7,6.6,6.9,6.9]
["IL200431","IL","2004-09-26",{"$f":"COUNTIF(Calculations!$E$56:$E$98,\"<=\"&DATE(2006,MONTH(C3386),DAY(C3386)))","v":31},7,7,7,7,7,7,6.9,6.9,7,6.8]
["IL200432","IL","2004-10-03",{"$f":"COUNTIF(Calculations!$E$56:$E$98,\"<=\"&DATE(2006,MONTH(C3387),DAY(C3387)))","v":32},6.5,6,6.6,6.3,6.5,6.7,6.9,6.7,7,6.7]
["IL200433","IL","2004-10-10",{"$f":"COUNTIF(Calculations!$E$56:$E$98,\"<=\"&DATE(2006,MONTH(C3388),DAY(C3388)))","v":33},5.9,5.6,5.8,4.8,6.1,6.5,5.4,6.4,5.8,7]
["IL200434","IL","2004-10-17",{"$f":"COUNTIF(Calculations!$E$56:$E$98,\"<=\"&DATE(2006,MONTH(C3389),DAY(C3389)))","v":34},4,5.4,4.8,3.6,3.3,4,2.5,4.4000000000000004,2.7,3.2]
["IL200435","IL","2004-10-24",{"$f":"COUNTIF(Calculations!$E$56:$E$98,\"<=\"&DATE(2006,MONTH(C3390),DAY(C3390)))","v":35},3,4.8,5.4,2.1,2.2999999999999998,3.5,2.1,2.4,2.2000000000000002,1.2]
["IL200436","IL","2004-10-31",{"$f":"COUNTIF(Calculations!$E$56:$E$98,\"<=\"&DATE(2006,MONTH(C3391),DAY(C3391)))","v":36},2.6,3.6,4.5999999999999996,1.3,1.7,3.5,1.8,2.4,2.2999999999999998,1.6]
["IL200437","IL","2004-11-07",{"$f":"COUNTIF(Calculations!$E$56:$E$98,\"<=\"&DATE(2006,MONTH(C3392),DAY(C3392)))","v":37},2.2999999999999998,3.9,4.0999999999999996,2,2,1.3,1.6,2.7,2,1.6]
["IL200438","IL","2004-11-14",{"$f":"COUNTIF(Calculations!$E$56:$E$98,\"<=\"&DATE(2006,MONTH(C3393),DAY(C3393)))","v":38},4.7,6.2,6.3,5.2,5.7,4.8,3.4,2.6,3.4,2.4]
["IL20056","IL","2005-04-03",{"$f":"COUNTIF(Calculations!$E$56:$E$98,\"<=\"&DATE(2006,MONTH(C3394),DAY(C3394)))","v":6},3.9,4.3,3.4,6.3,4.8,2.6,4.5,4.5,1.7,0]
["IL20057","IL","2005-04-10",{"$f":"COUNTIF(Calculations!$E$56:$E$98,\"<=\"&DATE(2006,MONTH(C3395),DAY(C3395)))","v":7},5.8,6.1,5.2,6.4,6.8,5.7,6.1,6,4.9000000000000004,2]
["IL20058","IL","2005-04-17",{"$f":"COUNTIF(Calculations!$E$56:$E$98,\"<=\"&DATE(2006,MONTH(C3396),DAY(C3396)))","v":8},4.8,5.9,5.4,3.3,5.5,4.7,4.0999999999999996,4.5999999999999996,5.6,3.3]
["IL20059","IL","2005-04-24",{"$f":"COUNTIF(Calculations!$E$56:$E$98,\"<=\"&DATE(2006,MONTH(C3397),DAY(C3397)))","v":9},4.0999999999999996,4.7,4.5,3.7,4.2,3.2,3.9,4.3,4.2,4.2]
["IL200510","IL","2005-05-01",{"$f":"COUNTIF(Calculations!$E$56:$E$98,\"<=\"&DATE(2006,MONTH(C3398),DAY(C3398)))","v":10},3.9,6,6.4,2.7,4.2,3,3.9,3,1.1000000000000001,2.1]
["IL200511","IL","2005-05-08",{"$f":"COUNTIF(Calculations!$E$56:$E$98,\"<=\"&DATE(2006,MONTH(C3399),DAY(C3399)))","v":11},6.5,6.9,6.9,6.3,6.8,6.5,6.8,6.2,5.5,5.5]
["IL200512","IL","2005-05-15",{"$f":"COUNTIF(Calculations!$E$56:$E$98,\"<=\"&DATE(2006,MONTH(C3400),DAY(C3400)))","v":12},4.9000000000000004,3.5,3.5,4.7,6,6.2,5.2,4.5999999999999996,5.5,5]
["IL200513","IL","2005-05-22",{"$f":"COUNTIF(Calculations!$E$56:$E$98,\"<=\"&DATE(2006,MONTH(C3401),DAY(C3401)))","v":13},5.2,4.8,4.7,5.0999999999999996,5.6,5,5.8,5.0999999999999996,5.7,5.5]
["IL200514","IL","2005-05-29",{"$f":"COUNTIF(Calculations!$E$56:$E$98,\"<=\"&DATE(2006,MONTH(C3402),DAY(C3402)))","v":14},6.6,6.2,6.7,6.3,6.9,7,6.8,6.3,6.8,6.8]
["IL200515","IL","2005-06-05",{"$f":"COUNTIF(Calculations!$E$56:$E$98,\"<=\"&DATE(2006,MONTH(C3403),DAY(C3403)))","v":15},6.6,6.3,6.5,6.6,6.8,6.5,7,6.3,6.8,6.2]
["IL200516","IL","2005-06-12",{"$f":"COUNTIF(Calculations!$E$56:$E$98,\"<=\"&DATE(2006,MONTH(C3404),DAY(C3404)))","v":16},5.6,5.7,6.3,4.9000000000000004,6.1,5.5,5.0999999999999996,5.7,6,5.0999999999999996]
["IL200517","IL","2005-06-19",{"$f":"COUNTIF(Calculations!$E$56:$E$98,\"<=\"&DATE(2006,MONTH(C3405),DAY(C3405)))","v":17},6.4,6.9,6.9,6.9,6.1,6.1,5.8,6.3,6.1,7]
["IL200518","IL","2005-06-26",{"$f":"COUNTIF(Calculations!$E$56:$E$98,\"<=\"&DATE(2006,MONTH(C3406),DAY(C3406)))","v":18},6.9,6.8,6.9,7,6.9,7,6.9,6.5,6.9,7]
["IL200519","IL","2005-07-03",{"$f":"COUNTIF(Calculations!$E$56:$E$98,\"<=\"&DATE(2006,MONTH(C3407),DAY(C3407)))","v":19},6.7,6.6,6.8,7,7,6.5,6.7,6.7,6.7,7]
["IL200520","IL","2005-07-10",{"$f":"COUNTIF(Calculations!$E$56:$E$98,\"<=\"&DATE(2006,MONTH(C3408),DAY(C3408)))","v":20},6.8,6.9,6.8,6.9,6.8,7,6.3,6.7,6.5,6.8]
["IL200521","IL","2005-07-17",{"$f":"COUNTIF(Calculations!$E$56:$E$98,\"<=\"&DATE(2006,MONTH(C3409),DAY(C3409)))","v":21},5.7,6.9,6.4,6.7,5.6,5.8,5.3,4.9000000000000004,3.6,3.1]
["IL200522","IL","2005-07-24",{"$f":"COUNTIF(Calculations!$E$56:$E$98,\"<=\"&DATE(2006,MONTH(C3410),DAY(C3410)))","v":22},6.1,6.2,5.3,7,6.6,4.9000000000000004,7,6.4,6.1,6]
[{"$f":"B3411&YEAR(C3411)&D3411","v":"IL200523"},"IL","2005-07-31",{"$f":"COUNTIF(Calculations!$E$56:$E$98,\"<=\"&DATE(2006,MONTH(C3411),DAY(C3411)))","v":23},5.9,5.8,5.4,5.6,5.7,5.4,6.4,6.7,5.9,6.6]
["IL200524","IL","2005-08-07",{"$f":"COUNTIF(Calculations!$E$56:$E$98,\"<=\"&DATE(2006,MONTH(C3412),DAY(C3412)))","v":24},6.7,6.8,6.9,6.8,6.6,6.9,6.6,6.6,6.6,7]
["IL200525","IL","2005-08-14",{"$f":"COUNTIF(Calculations!$E$56:$E$98,\"<=\"&DATE(2006,MONTH(C3413),DAY(C3413)))","v":25},5.6,4.5,5,5.4,5.7,5.5,5.8,6,6.8,7]
["IL200526","IL","2005-08-21",{"$f":"COUNTIF(Calculations!$E$56:$E$98,\"<=\"&DATE(2006,MONTH(C3414),DAY(C3414)))","v":26},5,4.8,5.0999999999999996,4.9000000000000004,4.9000000000000004,5,5.2,5.6,4.8,3.6]
["IL200527","IL","2005-08-28",{"$f":"COUNTIF(Calculations!$E$56:$E$98,\"<=\"&DATE(2006,MONTH(C3415),DAY(C3415)))","v":27},6,6.3,6.7,5.6,6.4,6.5,5.3,6.3,5,4.5999999999999996]
["IL200528","IL","2005-09-04",{"$f":"COUNTIF(Calculations!$E$56:$E$98,\"<=\"&DATE(2006,MONTH(C3416),DAY(C3416)))","v":28},6.7,6.6,7,7,7,7,6.8,6.6,6.5,4.7]
["IL200529","IL","2005-09-11",{"$f":"COUNTIF(Calculations!$E$56:$E$98,\"<=\"&DATE(2006,MONTH(C3417),DAY(C3417)))","v":29},6.7,6.6,7,6.2,6.6,7,6.8,6.8,6.7,7]
["IL200530","IL","2005-09-18",{"$f":"COUNTIF(Calculations!$E$56:$E$98,\"<=\"&DATE(2006,MONTH(C3418),DAY(C3418)))","v":30},5.3,5.0999999999999996,5.6,5.0999999999999996,5.4,5.3,5.0999999999999996,6.3,3.9,5.8]
["IL200531","IL","2005-09-25",{"$f":"COUNTIF(Calculations!$E$56:$E$98,\"<=\"&DATE(2006,MONTH(C3419),DAY(C3419)))","v":31},4.9000000000000004,5,5,5.0999999999999996,4.7,4.8,5.0999999999999996,5,4.7,5.6]
["IL200532","IL","2005-10-02",{"$f":"COUNTIF(Calculations!$E$56:$E$98,\"<=\"&DATE(2006,MONTH(C3420),DAY(C3420)))","v":32},5,4.8,5.4,5,4.9000000000000004,4.8,5,5.2,4.5,5.3]
["IL200533","IL","2005-10-09",{"$f":"COUNTIF(Calculations!$E$56:$E$98,\"<=\"&DATE(2006,MONTH(C3421),DAY(C3421)))","v":33},6.6,6.5,6.7,5.8,6.8,6.9,6.9,6.8,6.8,6.6]
["IL200534","IL","2005-10-16",{"$f":"COUNTIF(Calculations!$E$56:$E$98,\"<=\"&DATE(2006,MONTH(C3422),DAY(C3422)))","v":34},6.9,6.8,7,6.9,6.7,7,7,6.9,6.9,7]
["IL200535","IL","2005-10-23",{"$f":"COUNTIF(Calculations!$E$56:$E$98,\"<=\"&DATE(2006,MONTH(C3423),DAY(C3423)))","v":35},5.2,5.9,6.2,5.5,4.7,4.9000000000000004,4.5999999999999996,4.9000000000000004,5,5]
["IL200536","IL","2005-10-30",{"$f":"COUNTIF(Calculations!$E$56:$E$98,\"<=\"&DATE(2006,MONTH(C3424),DAY(C3424)))","v":36},6.2,6.4,6.7,6.5,6.4,5.8,5.7,5.7,6.2,6.2]
["IL200537","IL","2005-11-06",{"$f":"COUNTIF(Calculations!$E$56:$E$98,\"<=\"&DATE(2006,MONTH(C3425),DAY(C3425)))","v":37},5.6,6.4,5.8,6,5,5,5.3,5.8,5.0999999999999996,6.5]
["IL200538","IL","2005-11-13",{"$f":"COUNTIF(Calculations!$E$56:$E$98,\"<=\"&DATE(2006,MONTH(C3426),DAY(C3426)))","v":38},5.9,6.1,6.1,6,5.5,5.6,5.7,6.5,5.8,6.1]
["IL20066","IL","2006-04-02",{"$f":"COUNTIF(Calculations!$E$56:$E$98,\"<=\"&DATE(2006,MONTH(C3427),DAY(C3427)))","v":6},1.7,2.7,3,0.9,2.2999999999999998,2,0.6,1.3,1.5,0.7]
["IL20067","IL","2006-04-09",{"$f":"COUNTIF(Calculations!$E$56:$E$98,\"<=\"&DATE(2006,MONTH(C3428),DAY(C3428)))","v":7},1.8,3.6,4.9000000000000004,0.8,1.9,2,0.7,0.3,0.7,0.5]
["IL20068","IL","2006-04-16",{"$f":"COUNTIF(Calculations!$E$56:$E$98,\"<=\"&DATE(2006,MONTH(C3429),DAY(C3429)))","v":8},4.4000000000000004,4.5999999999999996,5.2,5.8,3.1,3.7,4.7,3.9,4.5999999999999996,4]
["IL20069","IL","2006-04-23",{"$f":"COUNTIF(Calculations!$E$56:$E$98,\"<=\"&DATE(2006,MONTH(C3430),DAY(C3430)))","v":9},5,5,5.0999999999999996,6.4,4.2,2.2000000000000002,6.7,4.5,6.5,6.8]
["IL200610","IL","2006-04-30",{"$f":"COUNTIF(Calculations!$E$56:$E$98,\"<=\"&DATE(2006,MONTH(C3431),DAY(C3431)))","v":10},4.9000000000000004,5,4.5,5,4.5,4.0999999999999996,5.4,5.0999999999999996,5.7,5.8]
["IL200611","IL","2006-05-07",{"$f":"COUNTIF(Calculations!$E$56:$E$98,\"<=\"&DATE(2006,MONTH(C3432),DAY(C3432)))","v":11},3.1,3.8,3.9,2.8,3,3.4,3.3,3,1.8,1.7]
["IL200612","IL","2006-05-14",{"$f":"COUNTIF(Calculations!$E$56:$E$98,\"<=\"&DATE(2006,MONTH(C3433),DAY(C3433)))","v":12},2.6,2.5,2.7,4.0999999999999996,3,3.1,3.3,1.1000000000000001,0.5,1]
["IL200613","IL","2006-05-21",{"$f":"COUNTIF(Calculations!$E$56:$E$98,\"<=\"&DATE(2006,MONTH(C3434),DAY(C3434)))","v":13},2.8,3.4,2.2000000000000002,5.3,3.1,1.3,4.2,0.6,2.8,0.9]
["IL200614","IL","2006-05-28",{"$f":"COUNTIF(Calculations!$E$56:$E$98,\"<=\"&DATE(2006,MONTH(C3435),DAY(C3435)))","v":14},2.8,4.8,4.5999999999999996,4.2,6.3,5.4,3.8,5,4.5,5.0999999999999996]
["IL200615","IL","2006-06-04",{"$f":"COUNTIF(Calculations!$E$56:$E$98,\"<=\"&DATE(2006,MONTH(C3436),DAY(C3436)))","v":15},0,4.7,6.2,5.6,5,4.9000000000000004,3.3,4.4000000000000004,3.9,5.2]
["IL200616","IL","2006-06-11",{"$f":"COUNTIF(Calculations!$E$56:$E$98,\"<=\"&DATE(2006,MONTH(C3437),DAY(C3437)))","v":16},0,5.4,5.2,5.2,5.7,5.6,4.8,5.3,5.3,6.4]
["IL200617","IL","2006-06-18",{"$f":"COUNTIF(Calculations!$E$56:$E$98,\"<=\"&DATE(2006,MONTH(C3438),DAY(C3438)))","v":17},5.5,5.8,6.1,7,6.4,6.7,6.1,6.3,6.8,5.4]
["IL200618","IL","2006-06-25",{"$f":"COUNTIF(Calculations!$E$56:$E$98,\"<=\"&DATE(2006,MONTH(C3439),DAY(C3439)))","v":18},6.5,4.4000000000000004,4.7,5.7,6.4,6.9,6.3,4.5,5.9,4.8]
["IL200619","IL","2006-07-02",{"$f":"COUNTIF(Calculations!$E$56:$E$98,\"<=\"&DATE(2006,MONTH(C3440),DAY(C3440)))","v":19},5.8,5.2,5.2,5.7,5.8,6,6.6,5.3,6.3,5.7]
["IL200620","IL","2006-07-09",{"$f":"COUNTIF(Calculations!$E$56:$E$98,\"<=\"&DATE(2006,MONTH(C3441),DAY(C3441)))","v":20},6.3,6,5.6,6.5,6.4,6.2,6.6,6.5,6.6,7]
["IL200621","IL","2006-07-16",{"$f":"COUNTIF(Calculations!$E$56:$E$98,\"<=\"&DATE(2006,MONTH(C3442),DAY(C3442)))","v":21},5.2,5.5,5.2,6.1,4.5,4.5,5.7,5.2,6,2.2000000000000002]
["IL200622","IL","2006-07-23",{"$f":"COUNTIF(Calculations!$E$56:$E$98,\"<=\"&DATE(2006,MONTH(C3443),DAY(C3443)))","v":22},4.8,4.5,4,5.6,4.5999999999999996,5,4.7,5,6.4,2.9]
["IL200623","IL","2006-07-30",{"$f":"COUNTIF(Calculations!$E$56:$E$98,\"<=\"&DATE(2006,MONTH(C3444),DAY(C3444)))","v":23},5.4,5,5.3,5.6,5.2,3.8,5.8,6.6,6.4,6.5]
["IL200624","IL","2006-08-06",{"$f":"COUNTIF(Calculations!$E$56:$E$98,\"<=\"&DATE(2006,MONTH(C3445),DAY(C3445)))","v":24},6,5,5.2,6.3,6,6,6.9,6.5,6.9,6.7]
["IL200625","IL","2006-08-13",{"$f":"COUNTIF(Calculations!$E$56:$E$98,\"<=\"&DATE(2006,MONTH(C3446),DAY(C3446)))","v":25},4.5999999999999996,4.7,5,5.2,4.0999999999999996,4.3,4,4,6.8,4.8]
["IL200626","IL","2006-08-20",{"$f":"COUNTIF(Calculations!$E$56:$E$98,\"<=\"&DATE(2006,MONTH(C3447),DAY(C3447)))","v":26},5.4,5.5,5.6,6.4,5.2,4.9000000000000004,5.4,5,6.5,4.8]
["IL200627","IL","2006-08-27",{"$f":"COUNTIF(Calculations!$E$56:$E$98,\"<=\"&DATE(2006,MONTH(C3448),DAY(C3448)))","v":27},5.5,4.8,5.8,5.3,4.5999999999999996,5.3,5.8,6.5,6.2,6.3]
["IL200628","IL","2006-09-03",{"$f":"COUNTIF(Calculations!$E$56:$E$98,\"<=\"&DATE(2006,MONTH(C3449),DAY(C3449)))","v":28},5,4.2,5.0999999999999996,5.6,4,3.9,4.4000000000000004,6.2,5.8,6.4]
["IL200629","IL","2006-09-10",{"$f":"COUNTIF(Calculations!$E$56:$E$98,\"<=\"&DATE(2006,MONTH(C3450),DAY(C3450)))","v":29},5.7,4.9000000000000004,3.8,6.7,5.2,5.0999999999999996,6.6,6.8,6.7,6.5]
["IL200630","IL","2006-09-17",{"$f":"COUNTIF(Calculations!$E$56:$E$98,\"<=\"&DATE(2006,MONTH(C3451),DAY(C3451)))","v":30},4.4000000000000004,4.5,2.2999999999999998,5,3.8,3.8,4.5,5.5,6.7,6.2]
["IL200631","IL","2006-09-24",{"$f":"COUNTIF(Calculations!$E$56:$E$98,\"<=\"&DATE(2006,MONTH(C3452),DAY(C3452)))","v":31},4.8,5.0999999999999996,3.9,6.5,5.3,3.8,5.0999999999999996,4.5,4.9000000000000004,4.2]
["IL200632","IL","2006-10-01",{"$f":"COUNTIF(Calculations!$E$56:$E$98,\"<=\"&DATE(2006,MONTH(C3453),DAY(C3453)))","v":32},6.1,6.5,6,6.8,6.5,5.6,6.3,5.7,5.9,5.4]
["IL200633","IL","2006-10-08",{"$f":"COUNTIF(Calculations!$E$56:$E$98,\"<=\"&DATE(2006,MONTH(C3454),DAY(C3454)))","v":33},6.4,6.2,4.9000000000000004,7,6.7,5.7,6.7,6.9,6.7,6.8]
["IL200634","IL","2006-10-15",{"$f":"COUNTIF(Calculations!$E$56:$E$98,\"<=\"&DATE(2006,MONTH(C3455),DAY(C3455)))","v":34},5.8,5.9,4.8,5.8,5.4,5.6,6.3,6.6,6.7,6.6]
["IL200635","IL","2006-10-22",{"$f":"COUNTIF(Calculations!$E$56:$E$98,\"<=\"&DATE(2006,MONTH(C3456),DAY(C3456)))","v":35},3.7,3.8,4.3,4.3,4.4000000000000004,3.3,3.6,4.0999999999999996,2.2000000000000002,2]
["IL200636","IL","2006-10-29",{"$f":"COUNTIF(Calculations!$E$56:$E$98,\"<=\"&DATE(2006,MONTH(C3457),DAY(C3457)))","v":36},3.5,3.6,3.8,4,4.0999999999999996,3.5,3,3.5,2.4,2.5]
["IL200637","IL","2006-11-05",{"$f":"COUNTIF(Calculations!$E$56:$E$98,\"<=\"&DATE(2006,MONTH(C3458),DAY(C3458)))","v":37},5.8,5.9,4.8,5.8,5.4,5.6,6.3,6.6,6.7,6.6]
["IL200638","IL","2006-11-12",{"$f":"COUNTIF(Calculations!$E$56:$E$98,\"<=\"&DATE(2006,MONTH(C3459),DAY(C3459)))","v":38},5.8,5.9,4.8,5.8,5.4,5.6,6.3,6.6,6.7,6.6]
["IL20076","IL","2007-04-01",{"$f":"COUNTIF(Calculations!$E$56:$E$98,\"<=\"&DATE(2006,MONTH(C3460),DAY(C3460)))","v":6},1.1000000000000001,1.2,0.1,1.2,0.5,0.7,2.9,0.2,4.8,1.6]
["IL20077","IL","2007-04-08",{"$f":"COUNTIF(Calculations!$E$56:$E$98,\"<=\"&DATE(2006,MONTH(C3461),DAY(C3461)))","v":7},1.4,1.2,0.8,1.2,1.5,1.8,2.1,0.9,1.9,0.7]
["IL20078","IL","2007-04-15",{"$f":"COUNTIF(Calculations!$E$56:$E$98,\"<=\"&DATE(2006,MONTH(C3462),DAY(C3462)))","v":8},1.1000000000000001,1.2,0.8,0.9,0.7,2.2000000000000002,1.4,0.2,1.2,0.1]
["IL20079","IL","2007-04-22",{"$f":"COUNTIF(Calculations!$E$56:$E$98,\"<=\"&DATE(2006,MONTH(C3463),DAY(C3463)))","v":9},4.4000000000000004,5.3,5.6,4.8,5,4.4000000000000004,4.5999999999999996,2.2999999999999998,4.7,2]
["IL200710","IL","2007-04-29",{"$f":"COUNTIF(Calculations!$E$56:$E$98,\"<=\"&DATE(2006,MONTH(C3464),DAY(C3464)))","v":10},3.3,2.5,3,2.6,2.7,2.4,4,4.8,6.2,5.3]
["IL200711","IL","2007-05-06",{"$f":"COUNTIF(Calculations!$E$56:$E$98,\"<=\"&DATE(2006,MONTH(C3465),DAY(C3465)))","v":11},4.2,5.8,5.2,3.3,4.3,5,3.4,3.5,2.7,3]
["IL200712","IL","2007-05-13",{"$f":"COUNTIF(Calculations!$E$56:$E$98,\"<=\"&DATE(2006,MONTH(C3466),DAY(C3466)))","v":12},6.1,6.5,7,6.3,6.4,7,5,5.0999999999999996,3.8,5.0999999999999996]
["IL200713","IL","2007-05-20",{"$f":"COUNTIF(Calculations!$E$56:$E$98,\"<=\"&DATE(2006,MONTH(C3467),DAY(C3467)))","v":13},6.1,6.8,6.5,5.8,6.3,5.7,5.8,6.7,5,5.5]
["IL200714","IL","2007-05-27",{"$f":"COUNTIF(Calculations!$E$56:$E$98,\"<=\"&DATE(2006,MONTH(C3468),DAY(C3468)))","v":14},5.6,5.7,5.9,5.7,4.9000000000000004,5.0999999999999996,5,6,6.3,6.4]
["IL200715","IL","2007-06-03",{"$f":"COUNTIF(Calculations!$E$56:$E$98,\"<=\"&DATE(2006,MONTH(C3469),DAY(C3469)))","v":15},5.0999999999999996,4.4000000000000004,5.0999999999999996,4.8,5,5.6,4.3,6,5.2,6.3]
["IL200716","IL","2007-06-10",{"$f":"COUNTIF(Calculations!$E$56:$E$98,\"<=\"&DATE(2006,MONTH(C3470),DAY(C3470)))","v":16},6,5.6,5.7,6.4,6.9,5.9,5.9,7,6.3,5.4]
["IL200717","IL","2007-06-17",{"$f":"COUNTIF(Calculations!$E$56:$E$98,\"<=\"&DATE(2006,MONTH(C3471),DAY(C3471)))","v":17},6.9,6.8,7,7,6.9,7,6.9,7,7,7]
["IL200718","IL","2007-06-24",{"$f":"COUNTIF(Calculations!$E$56:$E$98,\"<=\"&DATE(2006,MONTH(C3472),DAY(C3472)))","v":18},4.7,3.8,4.5,4.7,4,4.4000000000000004,5.3,5.2,5.9,6.6]
["IL200719","IL","2007-07-01",{"$f":"COUNTIF(Calculations!$E$56:$E$98,\"<=\"&DATE(2006,MONTH(C3473),DAY(C3473)))","v":19},4.4000000000000004,5.4,5.5,5,4.2,5.0999999999999996,3.5,2.4,4.5999999999999996,5]
["IL200720","IL","2007-07-08",{"$f":"COUNTIF(Calculations!$E$56:$E$98,\"<=\"&DATE(2006,MONTH(C3474),DAY(C3474)))","v":20},5.7,5.2,6.1,6.3,6,6.1,5.9,5.3,4.8,3.6]
[{"$f":"B3475&YEAR(C3475)&D3475","v":"IL200721"},"IL","2007-07-15",{"$f":"COUNTIF(Calculations!$E$56:$E$98,\"<=\"&DATE(2006,MONTH(C3475),DAY(C3475)))","v":21},6.4,5.8,5.7,6.8,6.3,6.7,6.5,6.4,5.9,6.8]
["IL200722","IL","2007-07-22",{"$f":"COUNTIF(Calculations!$E$56:$E$98,\"<=\"&DATE(2006,MONTH(C3476),DAY(C3476)))","v":22},4.5999999999999996,3.7,3.8,4.5,4.4000000000000004,3.9,6,5.3,6.3,5.4]
["IL200723","IL","2007-07-29",{"$f":"COUNTIF(Calculations!$E$56:$E$98,\"<=\"&DATE(2006,MONTH(C3477),DAY(C3477)))","v":23},6.1,5.9,4.9000000000000004,6.4,5.9,5.3,6.9,6.6,6.6,7]
["IL200724","IL","2007-08-05",{"$f":"COUNTIF(Calculations!$E$56:$E$98,\"<=\"&DATE(2006,MONTH(C3478),DAY(C3478)))","v":24},6.7,6.3,6,6.9,6.7,6.6,6.7,7,7,7]
["IL200725","IL","2007-08-12",{"$f":"COUNTIF(Calculations!$E$56:$E$98,\"<=\"&DATE(2006,MONTH(C3479),DAY(C3479)))","v":25},5.9,4.5,2.4,5.4,6.6,5.9,7,6.7,6.8,7]
["IL200726","IL","2007-08-19",{"$f":"COUNTIF(Calculations!$E$56:$E$98,\"<=\"&DATE(2006,MONTH(C3480),DAY(C3480)))","v":26},5.3,3.7,2.5,5.6,5.6,5,6.4,6.1,7,7]
["IL200727","IL","2007-08-26",{"$f":"COUNTIF(Calculations!$E$56:$E$98,\"<=\"&DATE(2006,MONTH(C3481),DAY(C3481)))","v":27},3.9,1,0.1,3.9,3.5,3.1,6.4,6,6.7,7]
["IL200728","IL","2007-09-02",{"$f":"COUNTIF(Calculations!$E$56:$E$98,\"<=\"&DATE(2006,MONTH(C3482),DAY(C3482)))","v":28},6.3,5.4,4.8,6.8,6.8,5.9,6.9,6.8,7,6.8]
["IL200729","IL","2007-09-09",{"$f":"COUNTIF(Calculations!$E$56:$E$98,\"<=\"&DATE(2006,MONTH(C3483),DAY(C3483)))","v":29},5.8,5.8,6.1,6,6.4,5.9,5.3,5.9,4.5999999999999996,5.5]
["IL200730","IL","2007-09-16",{"$f":"COUNTIF(Calculations!$E$56:$E$98,\"<=\"&DATE(2006,MONTH(C3484),DAY(C3484)))","v":30},6.6,6.5,6.9,6.5,6.9,6.2,6.7,6.4,6.5,7]
["IL200731","IL","2007-09-23",{"$f":"COUNTIF(Calculations!$E$56:$E$98,\"<=\"&DATE(2006,MONTH(C3485),DAY(C3485)))","v":31},6.9,6.9,7,7,6.9,7,6.7,7,7,7]
["IL200732","IL","2007-09-30",{"$f":"COUNTIF(Calculations!$E$56:$E$98,\"<=\"&DATE(2006,MONTH(C3486),DAY(C3486)))","v":32},6.5,6.1,6.7,6.6,6.9,6.4,6.6,6.3,6.8,5.8]
["IL200733","IL","2007-10-07",{"$f":"COUNTIF(Calculations!$E$56:$E$98,\"<=\"&DATE(2006,MONTH(C3487),DAY(C3487)))","v":33},6.5,6.3,6.5,6.4,6.1,6.7,6.1,6.9,7,7]
["IL200734","IL","2007-10-14",{"$f":"COUNTIF(Calculations!$E$56:$E$98,\"<=\"&DATE(2006,MONTH(C3488),DAY(C3488)))","v":34},6.9,6.8,7,7,7,6.8,7,7,6,7]
["IL200735","IL","2007-10-21",{"$f":"COUNTIF(Calculations!$E$56:$E$98,\"<=\"&DATE(2006,MONTH(C3489),DAY(C3489)))","v":35},5.0999999999999996,5.4,4.7,5.6,5,4.5999999999999996,5.5,5.2,4.3,4.2]
["IL200736","IL","2007-10-28",{"$f":"COUNTIF(Calculations!$E$56:$E$98,\"<=\"&DATE(2006,MONTH(C3490),DAY(C3490)))","v":36},4.5999999999999996,5.7,4.7,5.6,4.7,4.8,4.7,3.4,2.9,2.7]
["IL200737","IL","2007-11-04",{"$f":"COUNTIF(Calculations!$E$56:$E$98,\"<=\"&DATE(2006,MONTH(C3491),DAY(C3491)))","v":37},6.7,6.7,6.9,6.8,6.7,6.5,6.6,6.9,6.7,6.2]
["IL200738","IL","2007-11-11",{"$f":"COUNTIF(Calculations!$E$56:$E$98,\"<=\"&DATE(2006,MONTH(C3492),DAY(C3492)))","v":38},6.4,6.5,6.7,7,6.4,5.7,6.7,6.8,6.9,6.8]
["IL20086","IL","2008-04-06",{"$f":"COUNTIF(Calculations!$E$56:$E$98,\"<=\"&DATE(2006,MONTH(C3493),DAY(C3493)))","v":6},0.5,0.7,1.3,1,0.3,0.8,0.1,0,0,0]
["IL20087","IL","2008-04-13",{"$f":"COUNTIF(Calculations!$E$56:$E$98,\"<=\"&DATE(2006,MONTH(C3494),DAY(C3494)))","v":7},0.2,0.1,0.5,0.5,0.2,0.3,0.2,0,0,0]
["IL20088","IL","2008-04-20",{"$f":"COUNTIF(Calculations!$E$56:$E$98,\"<=\"&DATE(2006,MONTH(C3495),DAY(C3495)))","v":8},1.3,2.1,2,1.1000000000000001,1.5,1.9,0.6,0.4,1.1000000000000001,1]
["IL20089","IL","2008-04-27",{"$f":"COUNTIF(Calculations!$E$56:$E$98,\"<=\"&DATE(2006,MONTH(C3496),DAY(C3496)))","v":9},2.7,2.4,3.5,1.3,3,4,1.5,3.6,0.6,3.6]
["IL200810","IL","2008-05-04",{"$f":"COUNTIF(Calculations!$E$56:$E$98,\"<=\"&DATE(2006,MONTH(C3497),DAY(C3497)))","v":10},3.9,3.2,3.5,3.2,4,4.4000000000000004,3.6,5.0999999999999996,3.1,4.3]
["IL200811","IL","2008-05-11",{"$f":"COUNTIF(Calculations!$E$56:$E$98,\"<=\"&DATE(2006,MONTH(C3498),DAY(C3498)))","v":11},3.9,4.2,4,5,4.5999999999999996,4.0999999999999996,3.6,2.5,2.6,2.2000000000000002]
["IL200812","IL","2008-05-18",{"$f":"COUNTIF(Calculations!$E$56:$E$98,\"<=\"&DATE(2006,MONTH(C3499),DAY(C3499)))","v":12},2.5,4.3,2.7,3.6,3.7,2.2999999999999998,1.9,0.8,0.7,0.8]
["IL200813","IL","2008-05-25",{"$f":"COUNTIF(Calculations!$E$56:$E$98,\"<=\"&DATE(2006,MONTH(C3500),DAY(C3500)))","v":13},3.5,5,4.9000000000000004,3.4,3.5,2.6,3,2.6,4.2,4]
["IL200814","IL","2008-06-01",{"$f":"COUNTIF(Calculations!$E$56:$E$98,\"<=\"&DATE(2006,MONTH(C3501),DAY(C3501)))","v":14},3.1,2.6,4.2,2.5,3.2,3.8,2.6,3.9,1.8,2.1]
["IL200815","IL","2008-06-08",{"$f":"COUNTIF(Calculations!$E$56:$E$98,\"<=\"&DATE(2006,MONTH(C3502),DAY(C3502)))","v":15},2.1,2.4,3,2.1,0.9,1.8,1.8,1.6,3.2,4.4000000000000004]
["IL200816","IL","2008-06-15",{"$f":"COUNTIF(Calculations!$E$56:$E$98,\"<=\"&DATE(2006,MONTH(C3503),DAY(C3503)))","v":16},3,1.8,3.2,1.6,3.6,3.5,3.6,2.5,5.5,3.3]
["IL200817","IL","2008-06-22",{"$f":"COUNTIF(Calculations!$E$56:$E$98,\"<=\"&DATE(2006,MONTH(C3504),DAY(C3504)))","v":17},5.7,6,5.9,5.4,5.9,6.5,5.7,4.7,6.4,5.3]
["IL200818","IL","2008-06-29",{"$f":"COUNTIF(Calculations!$E$56:$E$98,\"<=\"&DATE(2006,MONTH(C3505),DAY(C3505)))","v":18},4.5999999999999996,4.7,5.0999999999999996,2.2999999999999998,5,5.2,4.5999999999999996,5.0999999999999996,5.3,5.9]
["IL200819","IL","2008-07-06",{"$f":"COUNTIF(Calculations!$E$56:$E$98,\"<=\"&DATE(2006,MONTH(C3506),DAY(C3506)))","v":19},5.5,5.9,6.5,5.0999999999999996,5.6,6.4,4.4000000000000004,5.5,5.5,5]
["IL200820","IL","2008-07-13",{"$f":"COUNTIF(Calculations!$E$56:$E$98,\"<=\"&DATE(2006,MONTH(C3507),DAY(C3507)))","v":20},4.2,3.8,4.0999999999999996,4.7,3.7,3.9,4,4.2,5.3,5.0999999999999996]
["IL200821","IL","2008-07-20",{"$f":"COUNTIF(Calculations!$E$56:$E$98,\"<=\"&DATE(2006,MONTH(C3508),DAY(C3508)))","v":21},5.6,4.7,4.5999999999999996,5.8,5.3,5.5,6,6.5,6.3,6.9]
["IL200822","IL","2008-07-27",{"$f":"COUNTIF(Calculations!$E$56:$E$98,\"<=\"&DATE(2006,MONTH(C3509),DAY(C3509)))","v":22},5.3,5.0999999999999996,5.6,5.2,4.7,6.3,4.3,6,4.5999999999999996,6]
["IL200823","IL","2008-08-03",{"$f":"COUNTIF(Calculations!$E$56:$E$98,\"<=\"&DATE(2006,MONTH(C3510),DAY(C3510)))","v":23},4.8,5.4,6,4.4000000000000004,4.3,5.8,3.8,5.0999999999999996,2.4,4]
["IL200824","IL","2008-08-10",{"$f":"COUNTIF(Calculations!$E$56:$E$98,\"<=\"&DATE(2006,MONTH(C3511),DAY(C3511)))","v":24},5.7,5.8,5.4,5.8,5.7,5.8,5.3,5.9,5.6,6.2]
["IL200825","IL","2008-08-17",{"$f":"COUNTIF(Calculations!$E$56:$E$98,\"<=\"&DATE(2006,MONTH(C3512),DAY(C3512)))","v":25},6.7,6.5,6.6,6.5,6.8,7,6.3,6.9,7,7]
["IL200826","IL","2008-08-24",{"$f":"COUNTIF(Calculations!$E$56:$E$98,\"<=\"&DATE(2006,MONTH(C3513),DAY(C3513)))","v":26},5.9,6.5,5.2,5.6,5.7,6.3,6.2,5.7,5.0999999999999996,6.3]
["IL200827","IL","2008-08-31",{"$f":"COUNTIF(Calculations!$E$56:$E$98,\"<=\"&DATE(2006,MONTH(C3514),DAY(C3514)))","v":27},6.2,6.3,6.5,5.3,5.9,6.6,5.9,7,5,7]
["IL200828","IL","2008-09-07",{"$f":"COUNTIF(Calculations!$E$56:$E$98,\"<=\"&DATE(2006,MONTH(C3515),DAY(C3515)))","v":28},4.5,4.5,4.5,3.2,3.6,4.9000000000000004,3.7,5.6,5.0999999999999996,6.4]
["IL200829","IL","2008-09-14",{"$f":"COUNTIF(Calculations!$E$56:$E$98,\"<=\"&DATE(2006,MONTH(C3516),DAY(C3516)))","v":29},3.1,3.5,3.4,1,1.2,3.1,2.9,4,5.7,6.1]
["IL200830","IL","2008-09-21",{"$f":"COUNTIF(Calculations!$E$56:$E$98,\"<=\"&DATE(2006,MONTH(C3517),DAY(C3517)))","v":30},3.8,4,2.8,3.5,3.8,3,3,4.8,5.5,5.7]
["IL200831","IL","2008-09-28",{"$f":"COUNTIF(Calculations!$E$56:$E$98,\"<=\"&DATE(2006,MONTH(C3518),DAY(C3518)))","v":31},6.3,6.2,6.1,6.9,5.5,6.2,6.4,6.6,6.1,7]
["IL200832","IL","2008-10-05",{"$f":"COUNTIF(Calculations!$E$56:$E$98,\"<=\"&DATE(2006,MONTH(C3519),DAY(C3519)))","v":32},6.1,5.7,5.4,5.6,6.4,6.3,5.9,6.6,6.5,6.8]
["IL200833","IL","2008-10-12",{"$f":"COUNTIF(Calculations!$E$56:$E$98,\"<=\"&DATE(2006,MONTH(C3520),DAY(C3520)))","v":33},5.8,6.1,5.6,5.4,6.3,5.5,5.8,5.7,6.4,5.7]
["IL200834","IL","2008-10-19",{"$f":"COUNTIF(Calculations!$E$56:$E$98,\"<=\"&DATE(2006,MONTH(C3521),DAY(C3521)))","v":34},5.3,5.5,5.6,4.5,4.7,5.2,5.6,5.9,5.4,5.6]
["IL200835","IL","2008-10-26",{"$f":"COUNTIF(Calculations!$E$56:$E$98,\"<=\"&DATE(2006,MONTH(C3522),DAY(C3522)))","v":35},4.3,4,3.9,4.0999999999999996,4.2,4.5,4.5,4.8,4.0999999999999996,4.3]
["IL200836","IL","2008-11-02",{"$f":"COUNTIF(Calculations!$E$56:$E$98,\"<=\"&DATE(2006,MONTH(C3523),DAY(C3523)))","v":36},6.6,6.3,6.2,6.9,6.7,6.9,6.7,6.5,7,6.4]
["IL200837","IL","2008-11-09",{"$f":"COUNTIF(Calculations!$E$56:$E$98,\"<=\"&DATE(2006,MONTH(C3524),DAY(C3524)))","v":37},5.5,4.5999999999999996,4.9000000000000004,6,5.7,5.7,6.1,5.4,6.2,5.5]
["IL200838","IL","2008-11-16",{"$f":"COUNTIF(Calculations!$E$56:$E$98,\"<=\"&DATE(2006,MONTH(C3525),DAY(C3525)))","v":38},3.7,3.8,4.0999999999999996,4,3.9,3.9,4.0999999999999996,2.7,3.7,2.2999999999999998]
["IL200839","IL","2008-11-23",{"$f":"COUNTIF(Calculations!$E$56:$E$98,\"<=\"&DATE(2006,MONTH(C3526),DAY(C3526)))","v":39},5.8,5.8,5.7,6.7,6,5.7,6.1,4.8,6.4,5.5]
["IL20096","IL","2009-04-05",{"$f":"COUNTIF(Calculations!$E$56:$E$98,\"<=\"&DATE(2006,MONTH(C3527),DAY(C3527)))","v":6},0.6,0.1,0.4,0.1,0.3,1.3,0.3,0.9,1.9,0.5]
["IL20097","IL","2009-04-12",{"$f":"COUNTIF(Calculations!$E$56:$E$98,\"<=\"&DATE(2006,MONTH(C3528),DAY(C3528)))","v":7},1.3,3.9,1.4,1,0.6,0.6,0.7,0,1.7,0]
["IL20098","IL","2009-04-19",{"$f":"COUNTIF(Calculations!$E$56:$E$98,\"<=\"&DATE(2006,MONTH(C3529),DAY(C3529)))","v":8},1.2,3.6,2.5,1.1000000000000001,0.7,0.9,0.3,0.1,2.1,0]
["IL20099","IL","2009-04-26",{"$f":"COUNTIF(Calculations!$E$56:$E$98,\"<=\"&DATE(2006,MONTH(C3530),DAY(C3530)))","v":9},1.9,2.1,1.5,1.3,2.5,1,2.8,1.1000000000000001,2.2000000000000002,2]
["IL200910","IL","2009-05-03",{"$f":"COUNTIF(Calculations!$E$56:$E$98,\"<=\"&DATE(2006,MONTH(C3531),DAY(C3531)))","v":10},0.5,0.6,0.3,0.1,0.2,0.8,0.6,0.4,1.2,0.9]
["IL200911","IL","2009-05-10",{"$f":"COUNTIF(Calculations!$E$56:$E$98,\"<=\"&DATE(2006,MONTH(C3532),DAY(C3532)))","v":11},1.5,2.2999999999999998,1.7,1.7,1.8,1.6,1.1000000000000001,0.3,0.8,0.5]
["IL200912","IL","2009-05-17",{"$f":"COUNTIF(Calculations!$E$56:$E$98,\"<=\"&DATE(2006,MONTH(C3533),DAY(C3533)))","v":12},1.7,2,2.5,2.5,2.4,1.9,1.1000000000000001,0.8,0,0.3]
["IL200913","IL","2009-05-24",{"$f":"COUNTIF(Calculations!$E$56:$E$98,\"<=\"&DATE(2006,MONTH(C3534),DAY(C3534)))","v":13},4.7,6,4.9000000000000004,4.2,4.4000000000000004,4.7,4.5999999999999996,4.4000000000000004,4.0999999999999996,4.0999999999999996]
["IL200914","IL","2009-05-31",{"$f":"COUNTIF(Calculations!$E$56:$E$98,\"<=\"&DATE(2006,MONTH(C3535),DAY(C3535)))","v":14},3.5,4.8,4.2,3.5,4.5,5.7,1.5,1.3,2,0.8]
["IL200915","IL","2009-06-07",{"$f":"COUNTIF(Calculations!$E$56:$E$98,\"<=\"&DATE(2006,MONTH(C3536),DAY(C3536)))","v":15},4,4.4000000000000004,5.0999999999999996,3.5,4,4.9000000000000004,3.2,3.8,3.7,3.5]
["IL200916","IL","2009-06-14",{"$f":"COUNTIF(Calculations!$E$56:$E$98,\"<=\"&DATE(2006,MONTH(C3537),DAY(C3537)))","v":16},3.1,3.8,3.6,2.2000000000000002,3.5,3.9,2,2.8,2.1,2.6]
["IL200917","IL","2009-06-21",{"$f":"COUNTIF(Calculations!$E$56:$E$98,\"<=\"&DATE(2006,MONTH(C3538),DAY(C3538)))","v":17},2.2999999999999998,3.8,3.2,1.7,2,3.1,1.4,1.2,2.4,2.4]
[{"$f":"B3539&YEAR(C3539)&D3539","v":"IL200918"},"IL","2009-06-28",{"$f":"COUNTIF(Calculations!$E$56:$E$98,\"<=\"&DATE(2006,MONTH(C3539),DAY(C3539)))","v":18},5.0999999999999996,5.3,5.3,4.8,5.9,5,4.8,4.4000000000000004,5.3,5.5]
["IL200919","IL","2009-07-05",{"$f":"COUNTIF(Calculations!$E$56:$E$98,\"<=\"&DATE(2006,MONTH(C3540),DAY(C3540)))","v":19},5.3,5,5.4,5.3,4.2,5.6,5.6,5.7,5.3,6.6]
["IL200920","IL","2009-07-12",{"$f":"COUNTIF(Calculations!$E$56:$E$98,\"<=\"&DATE(2006,MONTH(C3541),DAY(C3541)))","v":20},4.5,4,4.2,4.8,3.8,4.7,5.6,4.8,2.6,3.3]
["IL200921","IL","2009-07-19",{"$f":"COUNTIF(Calculations!$E$56:$E$98,\"<=\"&DATE(2006,MONTH(C3542),DAY(C3542)))","v":21},5,5.5,5,5.4,5,5.7,4.3,5.5,5,1.7]
["IL200922","IL","2009-07-26",{"$f":"COUNTIF(Calculations!$E$56:$E$98,\"<=\"&DATE(2006,MONTH(C3543),DAY(C3543)))","v":22},5.4,4.4000000000000004,4.8,5,5,6,6.8,5.9,5.8,4]
["IL200923","IL","2009-08-02",{"$f":"COUNTIF(Calculations!$E$56:$E$98,\"<=\"&DATE(2006,MONTH(C3544),DAY(C3544)))","v":23},5.5,5.0999999999999996,5.5,6.3,4.5,6.3,6,5.9,5.9,2.9]
["IL200924","IL","2009-08-09",{"$f":"COUNTIF(Calculations!$E$56:$E$98,\"<=\"&DATE(2006,MONTH(C3545),DAY(C3545)))","v":24},5.2,4.4000000000000004,4.9000000000000004,3.6,4.0999999999999996,5.8,6,6.1,6.2,6.2]
["IL200925","IL","2009-08-16",{"$f":"COUNTIF(Calculations!$E$56:$E$98,\"<=\"&DATE(2006,MONTH(C3546),DAY(C3546)))","v":25},6.1,5.4,5.8,6.1,4.7,6.5,6.4,6.8,5,6.8]
["IL200926","IL","2009-08-23",{"$f":"COUNTIF(Calculations!$E$56:$E$98,\"<=\"&DATE(2006,MONTH(C3547),DAY(C3547)))","v":26},4,4.7,3.4,1.2,3.9,5.0999999999999996,2.8,5.5,5.5,5.5]
["IL200927","IL","2009-08-30",{"$f":"COUNTIF(Calculations!$E$56:$E$98,\"<=\"&DATE(2006,MONTH(C3548),DAY(C3548)))","v":27},4.5,2,2.8,4.2,4,4.9000000000000004,6.2,5.8,6,5.7]
["IL200928","IL","2009-09-06",{"$f":"COUNTIF(Calculations!$E$56:$E$98,\"<=\"&DATE(2006,MONTH(C3549),DAY(C3549)))","v":28},5.9,6.3,6.3,6.3,4.8,6.4,5.2,5.7,6,6]
["IL200929","IL","2009-09-13",{"$f":"COUNTIF(Calculations!$E$56:$E$98,\"<=\"&DATE(2006,MONTH(C3550),DAY(C3550)))","v":29},6.5,6.7,6.9,6.4,5.9,7,6.4,6.5,6.5,4.9000000000000004]
["IL200930","IL","2009-09-20",{"$f":"COUNTIF(Calculations!$E$56:$E$98,\"<=\"&DATE(2006,MONTH(C3551),DAY(C3551)))","v":30},6.6,6.5,6.8,6.6,6.2,6.9,6.4,6.7,7,6.1]
["IL200931","IL","2009-09-27",{"$f":"COUNTIF(Calculations!$E$56:$E$98,\"<=\"&DATE(2006,MONTH(C3552),DAY(C3552)))","v":31},4.0999999999999996,5.0999999999999996,3.3,2.6,4,5.0999999999999996,4,4.4000000000000004,4.4000000000000004,4.4000000000000004]
["IL200932","IL","2009-10-04",{"$f":"COUNTIF(Calculations!$E$56:$E$98,\"<=\"&DATE(2006,MONTH(C3553),DAY(C3553)))","v":32},3.9,2.7,3.4,3.3,2.9,4.3,4.5999999999999996,5.2,6.4,4]
["IL200933","IL","2009-10-11",{"$f":"COUNTIF(Calculations!$E$56:$E$98,\"<=\"&DATE(2006,MONTH(C3554),DAY(C3554)))","v":33},2.4,2.7,2.5,2,1.5,2.5,2.9,2.4,2.9,2.5]
["IL200934","IL","2009-10-18",{"$f":"COUNTIF(Calculations!$E$56:$E$98,\"<=\"&DATE(2006,MONTH(C3555),DAY(C3555)))","v":34},1.9,2.6,2.2999999999999998,1.6,1.9,2.1,1.5,1.1000000000000001,2.6,2.2000000000000002]
["IL200935","IL","2009-10-25",{"$f":"COUNTIF(Calculations!$E$56:$E$98,\"<=\"&DATE(2006,MONTH(C3556),DAY(C3556)))","v":35},3.1,2.2999999999999998,3,3.3,2.7,3.8,3,3.7,3,3]
["IL200936","IL","2009-11-01",{"$f":"COUNTIF(Calculations!$E$56:$E$98,\"<=\"&DATE(2006,MONTH(C3557),DAY(C3557)))","v":36},1.3,2.1,1.2,1.1000000000000001,1,1.8,0,1.6,0,1]
["IL200937","IL","2009-11-08",{"$f":"COUNTIF(Calculations!$E$56:$E$98,\"<=\"&DATE(2006,MONTH(C3558),DAY(C3558)))","v":37},6.2,6.3,6,6.9,6.2,6.1,5.9,6.7,4.5,5.3]
["IL200938","IL","2009-11-15",{"$f":"COUNTIF(Calculations!$E$56:$E$98,\"<=\"&DATE(2006,MONTH(C3559),DAY(C3559)))","v":38},6.4,6.5,6.7,5.5,6.2,6.5,6.5,6.8,7,6.7]
["IL200939","IL","2009-11-22",{"$f":"COUNTIF(Calculations!$E$56:$E$98,\"<=\"&DATE(2006,MONTH(C3560),DAY(C3560)))","v":39},2.4,4.8,4.4000000000000004,1.1000000000000001,2.2000000000000002,1.8,0.4,2.6,2,2.6]
["IL200940","IL","2009-11-29",{"$f":"COUNTIF(Calculations!$E$56:$E$98,\"<=\"&DATE(2006,MONTH(C3561),DAY(C3561)))","v":40},3.3,3.7,4.0999999999999996,2.7,3.5,3.1,2.7,3.6,3.9,5.5]
["IL200941","IL","2009-12-06",{"$f":"COUNTIF(Calculations!$E$56:$E$98,\"<=\"&DATE(2006,MONTH(C3562),DAY(C3562)))","v":41},5.3,5.9,5.5,6.3,5.9,5.2,4.8,4.2,4.5,4]
["IL200942","IL","2009-12-13",{"$f":"COUNTIF(Calculations!$E$56:$E$98,\"<=\"&DATE(2006,MONTH(C3563),DAY(C3563)))","v":42},2.9,1.1000000000000001,2.1,3.4,3.6,4,4.2,3,2.1,1.4]
["IL200943","IL","2009-12-20",{"$f":"COUNTIF(Calculations!$E$56:$E$98,\"<=\"&DATE(2006,MONTH(C3564),DAY(C3564)))","v":43},3.7,3.6,4.4000000000000004,3.9,4.3,4.0999999999999996,3.4,2.9,1.7,1.1000000000000001]
["IL20106","IL","2010-04-04",{"$f":"COUNTIF(Calculations!$E$56:$E$98,\"<=\"&DATE(2006,MONTH(C3565),DAY(C3565)))","v":6},2.7,4.8,4.5999999999999996,1.7,3.3,2.8,1.5,1.6,2.2999999999999998,0.4]
["IL20107","IL","2010-04-11",{"$f":"COUNTIF(Calculations!$E$56:$E$98,\"<=\"&DATE(2006,MONTH(C3566),DAY(C3566)))","v":7},2.7,3.1,3.2,1.5,3,2.1,2.2999999999999998,3,4.3,2.5]
["IL20108","IL","2010-04-18",{"$f":"COUNTIF(Calculations!$E$56:$E$98,\"<=\"&DATE(2006,MONTH(C3567),DAY(C3567)))","v":8},6.4,6.6,6.8,6.6,6.6,6.3,6.2,5.7,6.8,6]
["IL20109","IL","2010-04-25",{"$f":"COUNTIF(Calculations!$E$56:$E$98,\"<=\"&DATE(2006,MONTH(C3568),DAY(C3568)))","v":9},4.9000000000000004,5.3,5.5,4.9000000000000004,4.7,5,4.8,4.5,4.7,5.5]
["IL201010","IL","2010-05-02",{"$f":"COUNTIF(Calculations!$E$56:$E$98,\"<=\"&DATE(2006,MONTH(C3569),DAY(C3569)))","v":10},2.9,4.4000000000000004,5.0999999999999996,1.2,3.5,4.2,1.5,1.7,3.2,0.4]
["IL201011","IL","2010-05-09",{"$f":"COUNTIF(Calculations!$E$56:$E$98,\"<=\"&DATE(2006,MONTH(C3570),DAY(C3570)))","v":11},4.4000000000000004,3.9,4.7,4,5.8,5.0999999999999996,4.8,3.4,2.2000000000000002,2.2999999999999998]
["IL201012","IL","2010-05-16",{"$f":"COUNTIF(Calculations!$E$56:$E$98,\"<=\"&DATE(2006,MONTH(C3571),DAY(C3571)))","v":12},1.5,2.2999999999999998,1.6,0.5,1.5,1.7,1.3,1.2,2,1]
["IL201013","IL","2010-05-23",{"$f":"COUNTIF(Calculations!$E$56:$E$98,\"<=\"&DATE(2006,MONTH(C3572),DAY(C3572)))","v":13},1.5,3.7,2.4,0.1,0.8,0.5,0.8,0.5,2.9,2.2000000000000002]
["IL201014","IL","2010-05-30",{"$f":"COUNTIF(Calculations!$E$56:$E$98,\"<=\"&DATE(2006,MONTH(C3573),DAY(C3573)))","v":14},4.2,5.0999999999999996,4.4000000000000004,4,3.7,4.5,3.4,4.3,4.4000000000000004,3.7]
["IL201015","IL","2010-06-06",{"$f":"COUNTIF(Calculations!$E$56:$E$98,\"<=\"&DATE(2006,MONTH(C3574),DAY(C3574)))","v":15},3.2,3.3,2.2999999999999998,1.9,2.2999999999999998,3.6,3.2,3.6,5.0999999999999996,4.8]
["IL201016","IL","2010-06-13",{"$f":"COUNTIF(Calculations!$E$56:$E$98,\"<=\"&DATE(2006,MONTH(C3575),DAY(C3575)))","v":16},2.8,3,2.2999999999999998,1.3,2.2999999999999998,1.8,2.5,4,5.4,5.0999999999999996]
["IL201017","IL","2010-06-20",{"$f":"COUNTIF(Calculations!$E$56:$E$98,\"<=\"&DATE(2006,MONTH(C3576),DAY(C3576)))","v":17},1.6,2,1.6,1,2,0.9,1.3,1.3,4.5999999999999996,2.8]
["IL201018","IL","2010-06-27",{"$f":"COUNTIF(Calculations!$E$56:$E$98,\"<=\"&DATE(2006,MONTH(C3577),DAY(C3577)))","v":18},2.5,2.2000000000000002,1.3,1,1.4,1.4,2.6,2.8,6.2,6.3]
["IL201019","IL","2010-07-04",{"$f":"COUNTIF(Calculations!$E$56:$E$98,\"<=\"&DATE(2006,MONTH(C3578),DAY(C3578)))","v":19},5.5,5.4,5.0999999999999996,6.1,5.7,5.7,5.2,4.8,6.6,6]
["IL201020","IL","2010-07-11",{"$f":"COUNTIF(Calculations!$E$56:$E$98,\"<=\"&DATE(2006,MONTH(C3579),DAY(C3579)))","v":20},4.9000000000000004,4.8,5.0999999999999996,3.8,5.3,5.8,4.5,4.5,5.7,6.7]
["IL201021","IL","2010-07-18",{"$f":"COUNTIF(Calculations!$E$56:$E$98,\"<=\"&DATE(2006,MONTH(C3580),DAY(C3580)))","v":21},5.7,5.9,5.4,6.2,6.2,5.9,5.4,4.9000000000000004,5.8,7]
["IL201022","IL","2010-07-25",{"$f":"COUNTIF(Calculations!$E$56:$E$98,\"<=\"&DATE(2006,MONTH(C3581),DAY(C3581)))","v":22},4.2,4,5.6,3.5,3.9,5.2,2.9,3.3,5.3,5]
["IL201023","IL","2010-08-01",{"$f":"COUNTIF(Calculations!$E$56:$E$98,\"<=\"&DATE(2006,MONTH(C3582),DAY(C3582)))","v":23},5.3,4.8,5.2,4.5999999999999996,6.3,6.3,4.4000000000000004,5.5,5.8,5.9]
["IL201024","IL","2010-08-08",{"$f":"COUNTIF(Calculations!$E$56:$E$98,\"<=\"&DATE(2006,MONTH(C3583),DAY(C3583)))","v":24},6,4.2,4.2,6.4,6.9,6.4,6.6,6.7,5.8,6.3]
["IL201025","IL","2010-08-15",{"$f":"COUNTIF(Calculations!$E$56:$E$98,\"<=\"&DATE(2006,MONTH(C3584),DAY(C3584)))","v":25},5.5,4,5.3,4.9000000000000004,6.1,6.2,5.3,6.3,6.5,7]
["IL201026","IL","2010-08-22",{"$f":"COUNTIF(Calculations!$E$56:$E$98,\"<=\"&DATE(2006,MONTH(C3585),DAY(C3585)))","v":26},5.8,5.4,6.4,4.7,5.9,6.2,5.2,6.3,6.5,6.3]
["IL201027","IL","2010-08-29",{"$f":"COUNTIF(Calculations!$E$56:$E$98,\"<=\"&DATE(2006,MONTH(C3586),DAY(C3586)))","v":27},6.8,6.8,7,6.5,6.9,7,6.6,6.7,6.7,7]
["IL201029","IL","2010-09-12",{"$f":"COUNTIF(Calculations!$E$56:$E$98,\"<=\"&DATE(2006,MONTH(C3587),DAY(C3587)))","v":29},5.8,6.3,6.2,5.7,6.2,6.3,4.3,5.8,5.2,6.1]
["IL201030","IL","2010-09-19",{"$f":"COUNTIF(Calculations!$E$56:$E$98,\"<=\"&DATE(2006,MONTH(C3588),DAY(C3588)))","v":30},6.1,5.7,6,5.6,5.9,6.3,6,6.4,6.3,6.7]
["IL201031","IL","2010-09-26",{"$f":"COUNTIF(Calculations!$E$56:$E$98,\"<=\"&DATE(2006,MONTH(C3589),DAY(C3589)))","v":31},5.0999999999999996,4.9000000000000004,5.3,3.2,5.3,5.5,4.5999999999999996,6.2,6.3,6.7]
["IL201032","IL","2010-10-03",{"$f":"COUNTIF(Calculations!$E$56:$E$98,\"<=\"&DATE(2006,MONTH(C3590),DAY(C3590)))","v":32},6.3,6.6,6.8,6.3,6.3,6,6,6.2,6.8,6.5]
["IL201033","IL","2010-10-10",{"$f":"COUNTIF(Calculations!$E$56:$E$98,\"<=\"&DATE(2006,MONTH(C3591),DAY(C3591)))","v":33},6.9,6.8,7,7,6.9,7,7,6.9,7,7]
["IL201034","IL","2010-10-17",{"$f":"COUNTIF(Calculations!$E$56:$E$98,\"<=\"&DATE(2006,MONTH(C3592),DAY(C3592)))","v":34},6.9,7,7,7,7,6.8,7,6.7,7,6.5]
["IL201035","IL","2010-10-24",{"$f":"COUNTIF(Calculations!$E$56:$E$98,\"<=\"&DATE(2006,MONTH(C3593),DAY(C3593)))","v":35},6.1,5.7,6,5.3,5.7,6.3,6.5,6.8,6.8,7]
["IL201036","IL","2010-10-31",{"$f":"COUNTIF(Calculations!$E$56:$E$98,\"<=\"&DATE(2006,MONTH(C3594),DAY(C3594)))","v":36},5.9,5.3,6,4.8,5.6,6.4,6,6.5,6.6,6.7]
["IL20116","IL","2011-04-03",{"$f":"COUNTIF(Calculations!$E$56:$E$98,\"<=\"&DATE(2006,MONTH(C3595),DAY(C3595)))","v":6},3.7,3.4,2,5.2,4.4000000000000004,3.3,4.5999999999999996,2.9,3.5,2.4]
["IL20118","IL","2011-04-17",{"$f":"COUNTIF(Calculations!$E$56:$E$98,\"<=\"&DATE(2006,MONTH(C3596),DAY(C3596)))","v":8},2.9,3.1,3.7,4.4000000000000004,2.8,3.5,2.6,1.4,3,1]
["IL20119","IL","2011-04-24",{"$f":"COUNTIF(Calculations!$E$56:$E$98,\"<=\"&DATE(2006,MONTH(C3597),DAY(C3597)))","v":9},0.5,0.8,1.1000000000000001,0.1,0.4,0.1,0.3,0,1,0]
["IL201110","IL","2011-05-01",{"$f":"COUNTIF(Calculations!$E$56:$E$98,\"<=\"&DATE(2006,MONTH(C3598),DAY(C3598)))","v":10},0.4,1.2,0.5,0.3,0.3,0,0.3,0,0,0]
["IL201111","IL","2011-05-08",{"$f":"COUNTIF(Calculations!$E$56:$E$98,\"<=\"&DATE(2006,MONTH(C3599),DAY(C3599)))","v":11},3.2,5.9,4.5999999999999996,5.9,3.5,1.5,2.8,0.1,0.6,0]
["IL201112","IL","2011-05-15",{"$f":"COUNTIF(Calculations!$E$56:$E$98,\"<=\"&DATE(2006,MONTH(C3600),DAY(C3600)))","v":12},4.7,5.2,4.9000000000000004,4.8,5,4.5999999999999996,5.0999999999999996,4.4000000000000004,3.1,3]
["IL201113","IL","2011-05-22",{"$f":"COUNTIF(Calculations!$E$56:$E$98,\"<=\"&DATE(2006,MONTH(C3601),DAY(C3601)))","v":13},5,5.5,5.5,4.9000000000000004,4.7,4.2,4.4000000000000004,0.4,4.8,5.9]
["IL201114","IL","2011-05-29",{"$f":"COUNTIF(Calculations!$E$56:$E$98,\"<=\"&DATE(2006,MONTH(C3602),DAY(C3602)))","v":14},2.2999999999999998,3,2.4,1.7,2.2999999999999998,1.8,2.2999999999999998,2.6,3,2]
[{"$f":"B3603&YEAR(C3603)&D3603","v":"IL201115"},"IL","2011-06-05",{"$f":"COUNTIF(Calculations!$E$56:$E$98,\"<=\"&DATE(2006,MONTH(C3603),DAY(C3603)))","v":15},4,4.0999999999999996,3.7,1.6,3,3.5,4.3,5.3,6.2,6.7]
["IL201116","IL","2011-06-12",{"$f":"COUNTIF(Calculations!$E$56:$E$98,\"<=\"&DATE(2006,MONTH(C3604),DAY(C3604)))","v":16},4.5,3,3.1,3.4,4.7,4.7,4.8,5.4,6.7,5.9]
["IL201117","IL","2011-06-19",{"$f":"COUNTIF(Calculations!$E$56:$E$98,\"<=\"&DATE(2006,MONTH(C3605),DAY(C3605)))","v":17},3,3.8,3.4,3.4,2.2999999999999998,4.0999999999999996,1,3.4,5.5,1.6]
["IL201118","IL","2011-06-26",{"$f":"COUNTIF(Calculations!$E$56:$E$98,\"<=\"&DATE(2006,MONTH(C3606),DAY(C3606)))","v":18},2.5,3.3,2.2000000000000002,1.1000000000000001,2.6,3.2,1.4,2.9,3.8,2.6]
["IL201119","IL","2011-07-03",{"$f":"COUNTIF(Calculations!$E$56:$E$98,\"<=\"&DATE(2006,MONTH(C3607),DAY(C3607)))","v":19},4.8,6.3,6.3,3.6,5.8,5.6,3.5,3.9,4.9000000000000004,3.2]
["IL201120","IL","2011-07-10",{"$f":"COUNTIF(Calculations!$E$56:$E$98,\"<=\"&DATE(2006,MONTH(C3608),DAY(C3608)))","v":20},5.4,6.1,6.9,6.5,6.5,6.5,4,5.4,3.6,2.6]
["IL201121","IL","2011-07-17",{"$f":"COUNTIF(Calculations!$E$56:$E$98,\"<=\"&DATE(2006,MONTH(C3609),DAY(C3609)))","v":21},6.2,6.4,7,6.7,6.6,6.9,5.4,6,5.7,3.1]
["IL201122","IL","2011-07-24",{"$f":"COUNTIF(Calculations!$E$56:$E$98,\"<=\"&DATE(2006,MONTH(C3610),DAY(C3610)))","v":22},6,4.5999999999999996,6.1,6.4,5.7,6.4,6.7,6.3,6,5.7]
["IL201123","IL","2011-07-31",{"$f":"COUNTIF(Calculations!$E$56:$E$98,\"<=\"&DATE(2006,MONTH(C3611),DAY(C3611)))","v":23},5.4,4,4.0999999999999996,5.6,4.8,6.1,6.2,5.6,6.3,6.5]
["IL201125","IL","2011-08-14",{"$f":"COUNTIF(Calculations!$E$56:$E$98,\"<=\"&DATE(2006,MONTH(C3612),DAY(C3612)))","v":25},6.2,5.3,5.4,7,6.8,6.2,6.6,6.4,5.9,7]
["IL201126","IL","2011-08-21",{"$f":"COUNTIF(Calculations!$E$56:$E$98,\"<=\"&DATE(2006,MONTH(C3613),DAY(C3613)))","v":26},6.5,6,6,7,6.9,6.5,6.8,6.7,6.2,6.4]
["IL201127","IL","2011-08-28",{"$f":"COUNTIF(Calculations!$E$56:$E$98,\"<=\"&DATE(2006,MONTH(C3614),DAY(C3614)))","v":27},6.4,5.9,5.6,7,6.3,5.9,7,6.5,6.8,7]
["IL201128","IL","2011-09-04",{"$f":"COUNTIF(Calculations!$E$56:$E$98,\"<=\"&DATE(2006,MONTH(C3615),DAY(C3615)))","v":28},6.4,5.5,6.3,6.7,6.1,6,6.9,6.6,7,7]
["IL201129","IL","2011-09-11",{"$f":"COUNTIF(Calculations!$E$56:$E$98,\"<=\"&DATE(2006,MONTH(C3616),DAY(C3616)))","v":29},6.3,6.4,6.3,6.9,6.1,5.8,5.9,6.5,6.8,7]
["IL201130","IL","2011-09-18",{"$f":"COUNTIF(Calculations!$E$56:$E$98,\"<=\"&DATE(2006,MONTH(C3617),DAY(C3617)))","v":30},5.7,5.9,6.1,6.3,5.5,5.8,4.8,5.9,5.4,5.8]
["IL201131","IL","2011-09-25",{"$f":"COUNTIF(Calculations!$E$56:$E$98,\"<=\"&DATE(2006,MONTH(C3618),DAY(C3618)))","v":31},5.7,6,6.2,6.6,5.5,5.8,6,4.8,3.8,4.4000000000000004]
["IL201132","IL","2011-10-02",{"$f":"COUNTIF(Calculations!$E$56:$E$98,\"<=\"&DATE(2006,MONTH(C3619),DAY(C3619)))","v":32},5.4,4.0999999999999996,3.9,5.8,5.6,4.4000000000000004,6.4,6.1,6.5,5.8]
["IL201133","IL","2011-10-09",{"$f":"COUNTIF(Calculations!$E$56:$E$98,\"<=\"&DATE(2006,MONTH(C3620),DAY(C3620)))","v":33},6.9,6.9,7,6.9,7,7,6.5,6.9,6.8,7]
["IL201134","IL","2011-10-16",{"$f":"COUNTIF(Calculations!$E$56:$E$98,\"<=\"&DATE(2006,MONTH(C3621),DAY(C3621)))","v":34},5.6,5.0999999999999996,5.7,5.3,4.9000000000000004,5.6,6.5,5.3,6,6.5]
["IL201135","IL","2011-10-23",{"$f":"COUNTIF(Calculations!$E$56:$E$98,\"<=\"&DATE(2006,MONTH(C3622),DAY(C3622)))","v":35},5.2,6.1,5.4,6.5,5.4,4.5,4.9000000000000004,4.8,5,4.7]
["IL201136","IL","2011-10-30",{"$f":"COUNTIF(Calculations!$E$56:$E$98,\"<=\"&DATE(2006,MONTH(C3623),DAY(C3623)))","v":36},5.7,5.9,5.6,6.2,4.7,5.6,6.4,5.5,5.8,5]
["IL201137","IL","2011-11-06",{"$f":"COUNTIF(Calculations!$E$56:$E$98,\"<=\"&DATE(2006,MONTH(C3624),DAY(C3624)))","v":37},4.7,5.2,5,4,4.3,5.4,3.9,5,5.7,4.5999999999999996]
["IL201138","IL","2011-11-13",{"$f":"COUNTIF(Calculations!$E$56:$E$98,\"<=\"&DATE(2006,MONTH(C3625),DAY(C3625)))","v":38},3.8,3.8,3.1,2.6,3.4,3.9,3.9,4.3,5.5,5.5]
["IL20126","IL","2012-04-01",{"$f":"COUNTIF(Calculations!$E$56:$E$98,\"<=\"&DATE(2006,MONTH(C3626),DAY(C3626)))","v":6},5.6,4.9000000000000004,5.9,6.5,6,5.6,5.5,5.2,6.4,5.5]
["IL20127","IL","2012-04-08",{"$f":"COUNTIF(Calculations!$E$56:$E$98,\"<=\"&DATE(2006,MONTH(C3627),DAY(C3627)))","v":7},6,6.7,7,6.1,6.3,6.8,5.2,5.4,4.2,5.2]
["IL20128","IL","2012-04-15",{"$f":"COUNTIF(Calculations!$E$56:$E$98,\"<=\"&DATE(2006,MONTH(C3628),DAY(C3628)))","v":8},5.0999999999999996,5.7,6.1,5.0999999999999996,4.5,5.5,5.0999999999999996,4.5999999999999996,4.0999999999999996,4.5999999999999996]
["IL20129","IL","2012-04-22",{"$f":"COUNTIF(Calculations!$E$56:$E$98,\"<=\"&DATE(2006,MONTH(C3629),DAY(C3629)))","v":9},3.9,3.8,5.3,4.7,5.4,4.9000000000000004,3.2,1.8,3.1,3.5]
["IL201210","IL","2012-04-29",{"$f":"COUNTIF(Calculations!$E$56:$E$98,\"<=\"&DATE(2006,MONTH(C3630),DAY(C3630)))","v":10},4.8,5.0999999999999996,4.8,5.6,4.7,5,3.5,4,5.3,5.9]
["IL201211","IL","2012-05-06",{"$f":"COUNTIF(Calculations!$E$56:$E$98,\"<=\"&DATE(2006,MONTH(C3631),DAY(C3631)))","v":11},1.5,1.5,1.2,0.5,1.3,1.7,0.7,2.2000000000000002,3.4,5]
["IL201212","IL","2012-05-13",{"$f":"COUNTIF(Calculations!$E$56:$E$98,\"<=\"&DATE(2006,MONTH(C3632),DAY(C3632)))","v":12},4.4000000000000004,4.0999999999999996,2.9,3.8,5.5,3.9,3.8,5.5,6.3,5]
["IL201213","IL","2012-05-20",{"$f":"COUNTIF(Calculations!$E$56:$E$98,\"<=\"&DATE(2006,MONTH(C3633),DAY(C3633)))","v":13},6.7,6.7,6.4,6.7,6.8,6.7,6.3,6.8,6.8,7]
["IL201214","IL","2012-05-27",{"$f":"COUNTIF(Calculations!$E$56:$E$98,\"<=\"&DATE(2006,MONTH(C3634),DAY(C3634)))","v":14},6.6,6.3,6.9,6.8,6.7,6.5,6.2,6.7,7,7]
["IL201215","IL","2012-06-03",{"$f":"COUNTIF(Calculations!$E$56:$E$98,\"<=\"&DATE(2006,MONTH(C3635),DAY(C3635)))","v":15},5,3.9,4.5999999999999996,5.2,5,4.4000000000000004,5.9,5.7,6.3,7]
["IL201216","IL","2012-06-10",{"$f":"COUNTIF(Calculations!$E$56:$E$98,\"<=\"&DATE(2006,MONTH(C3636),DAY(C3636)))","v":16},6.7,6.7,7,6.8,6.5,6.7,6.8,6.5,7,7]
["IL201217","IL","2012-06-17",{"$f":"COUNTIF(Calculations!$E$56:$E$98,\"<=\"&DATE(2006,MONTH(C3637),DAY(C3637)))","v":17},6.2,6.1,6.6,6,6.1,6.2,5.6,6.5,6.3,7]
["IL201218","IL","2012-06-24",{"$f":"COUNTIF(Calculations!$E$56:$E$98,\"<=\"&DATE(2006,MONTH(C3638),DAY(C3638)))","v":18},6.6,6.9,6.3,6.2,6.5,6.3,6.7,6.7,7,7]
["IL201219","IL","2012-07-01",{"$f":"COUNTIF(Calculations!$E$56:$E$98,\"<=\"&DATE(2006,MONTH(C3639),DAY(C3639)))","v":19},6.6,6.9,6.3,6.2,6.5,6.3,6.7,6.7,7,7]
["IL201220","IL","2012-07-08",{"$f":"COUNTIF(Calculations!$E$56:$E$98,\"<=\"&DATE(2006,MONTH(C3640),DAY(C3640)))","v":20},6.9,6.9,6.9,7,7,6.8,7,6.6,7,6.8]
["IL201221","IL","2012-07-15",{"$f":"COUNTIF(Calculations!$E$56:$E$98,\"<=\"&DATE(2006,MONTH(C3641),DAY(C3641)))","v":21},6.8,6.7,6.6,7,6.7,6.8,6.9,6.7,6.5,7]
["IL201222","IL","2012-07-22",{"$f":"COUNTIF(Calculations!$E$56:$E$98,\"<=\"&DATE(2006,MONTH(C3642),DAY(C3642)))","v":22},6.7,6.6,6.3,7,7,6.4,7,6.9,7,6.3]
["IL201223","IL","2012-07-29",{"$f":"COUNTIF(Calculations!$E$56:$E$98,\"<=\"&DATE(2006,MONTH(C3643),DAY(C3643)))","v":23},6.8,6.4,6.6,6.7,6.9,6.9,7,6.7,6.3,6.9]
["IL201224","IL","2012-08-05",{"$f":"COUNTIF(Calculations!$E$56:$E$98,\"<=\"&DATE(2006,MONTH(C3644),DAY(C3644)))","v":24},6.3,6.1,6.3,6.8,6.5,6.6,5.6,6.5,6.2,6.9]
["IL201225","IL","2012-08-12",{"$f":"COUNTIF(Calculations!$E$56:$E$98,\"<=\"&DATE(2006,MONTH(C3645),DAY(C3645)))","v":25},6.3,5.7,6.1,6.8,6.8,6.3,6.3,6.3,6.7,7]
["IL201226","IL","2012-08-19",{"$f":"COUNTIF(Calculations!$E$56:$E$98,\"<=\"&DATE(2006,MONTH(C3646),DAY(C3646)))","v":26},5.8,5.9,5.5,6.7,5.2,5.3,6.5,5.5,5.8,5.3]
["IL201227","IL","2012-08-26",{"$f":"COUNTIF(Calculations!$E$56:$E$98,\"<=\"&DATE(2006,MONTH(C3647),DAY(C3647)))","v":27},6.2,6.2,6.5,6.2,6.3,5.7,6.2,6.3,6.4,7]
["IL201228","IL","2012-09-02",{"$f":"COUNTIF(Calculations!$E$56:$E$98,\"<=\"&DATE(2006,MONTH(C3648),DAY(C3648)))","v":28},4.8,6.1,5.4,4.7,4.9000000000000004,3.9,4.2,4.9000000000000004,5,5]
["IL201229","IL","2012-09-09",{"$f":"COUNTIF(Calculations!$E$56:$E$98,\"<=\"&DATE(2006,MONTH(C3649),DAY(C3649)))","v":29},4.4000000000000004,5.6,4.7,4.5999999999999996,4.5,4,3.5,3.7,4.8,3.7]
["IL201230","IL","2012-09-16",{"$f":"COUNTIF(Calculations!$E$56:$E$98,\"<=\"&DATE(2006,MONTH(C3650),DAY(C3650)))","v":30},6,6.2,5.9,6.3,6.2,5.7,6.1,5.5,5.7,6.4]
["IL201231","IL","2012-09-23",{"$f":"COUNTIF(Calculations!$E$56:$E$98,\"<=\"&DATE(2006,MONTH(C3651),DAY(C3651)))","v":31},6.1,6,5.9,6.5,6.4,5.5,6.7,5.4,5.9,6.6]
["IL201232","IL","2012-09-30",{"$f":"COUNTIF(Calculations!$E$56:$E$98,\"<=\"&DATE(2006,MONTH(C3652),DAY(C3652)))","v":32},5.4,6.7,7,5.6,6.6,6,4.3,3.6,3.5,3.4]
["IL201233","IL","2012-10-07",{"$f":"COUNTIF(Calculations!$E$56:$E$98,\"<=\"&DATE(2006,MONTH(C3653),DAY(C3653)))","v":33},5.0999999999999996,6.5,6.4,5.2,5.0999999999999996,4.5,5.0999999999999996,3.2,3.5,2.2000000000000002]
["IL201234","IL","2012-10-14",{"$f":"COUNTIF(Calculations!$E$56:$E$98,\"<=\"&DATE(2006,MONTH(C3654),DAY(C3654)))","v":34},5.0999999999999996,5.5,4.8,5.3,4.9000000000000004,4.8,5,5.2,4.7,6]
["IL201235","IL","2012-10-21",{"$f":"COUNTIF(Calculations!$E$56:$E$98,\"<=\"&DATE(2006,MONTH(C3655),DAY(C3655)))","v":35},3.4,3.3,3,3.3,1.8,4,3.1,3.8,4.5,5.2]
["IL201236","IL","2012-10-28",{"$f":"COUNTIF(Calculations!$E$56:$E$98,\"<=\"&DATE(2006,MONTH(C3656),DAY(C3656)))","v":36},3.7,4.5999999999999996,4.8,3.3,2.9,3.1,3.8,3.2,4.5,6.3]
["IL201237","IL","2012-11-04",{"$f":"COUNTIF(Calculations!$E$56:$E$98,\"<=\"&DATE(2006,MONTH(C3657),DAY(C3657)))","v":37},5.6,6.7,6.4,5.3,4.7,5.8,5,5.2,6,6.2]
["IL201238","IL","2012-11-11",{"$f":"COUNTIF(Calculations!$E$56:$E$98,\"<=\"&DATE(2006,MONTH(C3658),DAY(C3658)))","v":38},5,5.8,4.9000000000000004,4,5.2,5.0999999999999996,4.2,5.5,4.5999999999999996,5]
["IA197411","IA","1974-05-06",{"$f":"COUNTIF(Calculations!$E$56:$E$98,\"<=\"&DATE(2006,MONTH(C3659),DAY(C3659)))","v":11},5.3,6.8,6.6,6.3,6.2,5.4,3.7,3.6,4.0999999999999996,3.6]
["IA197413","IA","1974-05-20",{"$f":"COUNTIF(Calculations!$E$56:$E$98,\"<=\"&DATE(2006,MONTH(C3660),DAY(C3660)))","v":13},1.4,2.7,1.1000000000000001,0.4,2.5,1,0.1,2.2999999999999998,1.5,0.4]
["IA197414","IA","1974-05-27",{"$f":"COUNTIF(Calculations!$E$56:$E$98,\"<=\"&DATE(2006,MONTH(C3661),DAY(C3661)))","v":14},2.4,3.7,2.4,2.7,2.6,2,1.3,3.8,1.6,0.9]
["IA197415","IA","1974-06-03",{"$f":"COUNTIF(Calculations!$E$56:$E$98,\"<=\"&DATE(2006,MONTH(C3662),DAY(C3662)))","v":15},2.5,5.8,3.9,3.6,2.2999999999999998,1.6,0.8,2.8,0.3,0.3]
["IA197416","IA","1974-06-10",{"$f":"COUNTIF(Calculations!$E$56:$E$98,\"<=\"&DATE(2006,MONTH(C3663),DAY(C3663)))","v":16},4.9000000000000004,5.5,4.4000000000000004,5.2,5.5,5.9,4.7,4.5999999999999996,3.7,3]
["IA197417","IA","1974-06-17",{"$f":"COUNTIF(Calculations!$E$56:$E$98,\"<=\"&DATE(2006,MONTH(C3664),DAY(C3664)))","v":17},3.9,4.5,4.3,4.3,4.5999999999999996,3.3,3.9,4.0999999999999996,2.1,2.6]
["IA197418","IA","1974-06-24",{"$f":"COUNTIF(Calculations!$E$56:$E$98,\"<=\"&DATE(2006,MONTH(C3665),DAY(C3665)))","v":18},5.5,6.4,5.4,5,6.9,4.5,4.5,6.7,5,4.0999999999999996]
["IA197421","IA","1974-07-15",{"$f":"COUNTIF(Calculations!$E$56:$E$98,\"<=\"&DATE(2006,MONTH(C3666),DAY(C3666)))","v":21},5.6,5.4,4.5999999999999996,5.4,6.1,5.3,5.0999999999999996,6.9,6.2,5.5]
[{"$f":"B3667&YEAR(C3667)&D3667","v":"IA197422"},"IA","1974-07-22",{"$f":"COUNTIF(Calculations!$E$56:$E$98,\"<=\"&DATE(2006,MONTH(C3667),DAY(C3667)))","v":22},6.9,6.9,6.9,6.7,7,6.9,6.9,6.9,7,6.8]
["IA197423","IA","1974-07-29",{"$f":"COUNTIF(Calculations!$E$56:$E$98,\"<=\"&DATE(2006,MONTH(C3668),DAY(C3668)))","v":23},6.5,6.9,6,5.3,6.9,6.7,5.9,6.9,7,6.4]
["IA197424","IA","1974-08-05",{"$f":"COUNTIF(Calculations!$E$56:$E$98,\"<=\"&DATE(2006,MONTH(C3669),DAY(C3669)))","v":24},5.8,6.1,6.3,6.1,5.3,4.5,5.0999999999999996,6.6,6.6,5.4]
["IA197425","IA","1974-08-12",{"$f":"COUNTIF(Calculations!$E$56:$E$98,\"<=\"&DATE(2006,MONTH(C3670),DAY(C3670)))","v":25},6,6.3,5.9,6.3,6.1,5.7,5.6,6.4,6.2,5]
["IA197426","IA","1974-08-19",{"$f":"COUNTIF(Calculations!$E$56:$E$98,\"<=\"&DATE(2006,MONTH(C3671),DAY(C3671)))","v":26},4.2,5.5,5,5.4,3.4,3.6,3.8,3,3.9,3.4]
["IA197427","IA","1974-08-26",{"$f":"COUNTIF(Calculations!$E$56:$E$98,\"<=\"&DATE(2006,MONTH(C3672),DAY(C3672)))","v":27},5,3.8,5.3,5.8,4.3,5.5,4.5,5.3,5.9,4.4000000000000004]
["IA197428","IA","1974-09-02",{"$f":"COUNTIF(Calculations!$E$56:$E$98,\"<=\"&DATE(2006,MONTH(C3673),DAY(C3673)))","v":28},6.2,6.3,6.5,6,5.9,6.3,6.3,6.8,6.5,5.5]
["IA197429","IA","1974-09-09",{"$f":"COUNTIF(Calculations!$E$56:$E$98,\"<=\"&DATE(2006,MONTH(C3674),DAY(C3674)))","v":29},5.8,6.1,6.3,6.7,5.5,5.8,5.5,5.7,4.8,4.5]
["IA197430","IA","1974-09-16",{"$f":"COUNTIF(Calculations!$E$56:$E$98,\"<=\"&DATE(2006,MONTH(C3675),DAY(C3675)))","v":30},5.0999999999999996,4.7,5.4,5.4,5,4.9000000000000004,5.0999999999999996,5.2,5.0999999999999996,5.0999999999999996]
["IA197431","IA","1974-09-23",{"$f":"COUNTIF(Calculations!$E$56:$E$98,\"<=\"&DATE(2006,MONTH(C3676),DAY(C3676)))","v":31},6.8,7,7,6.8,6.9,6.8,6.5,6.8,7,6.7]
["IA197511","IA","1975-05-12",{"$f":"COUNTIF(Calculations!$E$56:$E$98,\"<=\"&DATE(2006,MONTH(C3677),DAY(C3677)))","v":11},4.7,3.9,3.8,5.5,4,4.5999999999999996,6.4,4.5999999999999996,4.4000000000000004,5.2]
["IA197517","IA","1975-06-23",{"$f":"COUNTIF(Calculations!$E$56:$E$98,\"<=\"&DATE(2006,MONTH(C3678),DAY(C3678)))","v":17},1.9,1.4,1.7,1.8,1.7,0.9,2.8,2.4,2.6,2.8]
["IA197520","IA","1975-07-14",{"$f":"COUNTIF(Calculations!$E$56:$E$98,\"<=\"&DATE(2006,MONTH(C3679),DAY(C3679)))","v":20},6.7,6.9,6.6,6,7,6.4,6.3,6.9,7,7]
["IA197522","IA","1975-07-28",{"$f":"COUNTIF(Calculations!$E$56:$E$98,\"<=\"&DATE(2006,MONTH(C3680),DAY(C3680)))","v":22},6.4,6.7,6.9,6.1,6,6.6,5.8,6.4,6.9,6.4]
["IA197531","IA","1975-09-29",{"$f":"COUNTIF(Calculations!$E$56:$E$98,\"<=\"&DATE(2006,MONTH(C3681),DAY(C3681)))","v":31},6.9,6.9,6.9,6.7,7,7,6.9,7,7,6.6]
["IA197532","IA","1975-10-06",{"$f":"COUNTIF(Calculations!$E$56:$E$98,\"<=\"&DATE(2006,MONTH(C3682),DAY(C3682)))","v":32},6.1,6.8,6.1,6.3,6.3,5.9,5.6,5.3,6.2,5.8]
["IA197534","IA","1975-10-20",{"$f":"COUNTIF(Calculations!$E$56:$E$98,\"<=\"&DATE(2006,MONTH(C3683),DAY(C3683)))","v":34},6.9,7,7,6.9,7,6.9,6.9,7,7,6.7]
["IA197535","IA","1975-10-27",{"$f":"COUNTIF(Calculations!$E$56:$E$98,\"<=\"&DATE(2006,MONTH(C3684),DAY(C3684)))","v":35},6.6,6.5,6.5,6.7,6.8,6.6,6.7,6.8,6.6,6.6]
["IA197536","IA","1975-11-03",{"$f":"COUNTIF(Calculations!$E$56:$E$98,\"<=\"&DATE(2006,MONTH(C3685),DAY(C3685)))","v":36},7,7,6.9,7,7,6.9,7,7,7,6.9]
["IA197538","IA","1975-11-17",{"$f":"COUNTIF(Calculations!$E$56:$E$98,\"<=\"&DATE(2006,MONTH(C3686),DAY(C3686)))","v":38},4.7,4.7,4.9000000000000004,5,4.0999999999999996,4.5,4.7,4.8,5,5.3]
["IA19765","IA","1976-03-29",{"$f":"COUNTIF(Calculations!$E$56:$E$98,\"<=\"&DATE(2006,MONTH(C3687),DAY(C3687)))","v":5},4.8,2.2999999999999998,2.2999999999999998,2.2000000000000002,5.4,4.9000000000000004,6.5,5.9,6.1,6.5]
["IA19767","IA","1976-04-12",{"$f":"COUNTIF(Calculations!$E$56:$E$98,\"<=\"&DATE(2006,MONTH(C3688),DAY(C3688)))","v":7},6.6,6.9,6,6.4,6.4,6.9,7,6.4,6.7,6.9]
["IA19768","IA","1976-04-19",{"$f":"COUNTIF(Calculations!$E$56:$E$98,\"<=\"&DATE(2006,MONTH(C3689),DAY(C3689)))","v":8},6,6.4,5.6,4.9000000000000004,6,5.7,6.1,5.6,6.9,6.8]
["IA19769","IA","1976-04-26",{"$f":"COUNTIF(Calculations!$E$56:$E$98,\"<=\"&DATE(2006,MONTH(C3690),DAY(C3690)))","v":9},1.8,5.6,1.7,0.5,3,0.1,1.5,0.9,0.2,1]
["IA197610","IA","1976-05-03",{"$f":"COUNTIF(Calculations!$E$56:$E$98,\"<=\"&DATE(2006,MONTH(C3691),DAY(C3691)))","v":10},2.7,4.8,3.6,3.3,3.5,2.2999999999999998,2.6,1.3,0.4,0.5]
["IA197611","IA","1976-05-10",{"$f":"COUNTIF(Calculations!$E$56:$E$98,\"<=\"&DATE(2006,MONTH(C3692),DAY(C3692)))","v":11},5.6,6.4,6.7,6,6.5,5.9,4.5,6.3,3.4,3]
["IA197612","IA","1976-05-17",{"$f":"COUNTIF(Calculations!$E$56:$E$98,\"<=\"&DATE(2006,MONTH(C3693),DAY(C3693)))","v":12},5.2,5.9,5.0999999999999996,5.3,5.3,5.0999999999999996,4.8,5.6,5,3.7]
["IA197613","IA","1976-05-24",{"$f":"COUNTIF(Calculations!$E$56:$E$98,\"<=\"&DATE(2006,MONTH(C3694),DAY(C3694)))","v":13},4.4000000000000004,6.5,4.2,4.3,4.9000000000000004,4.4000000000000004,4.2,4.0999999999999996,3,3.7]
["IA197614","IA","1976-05-31",{"$f":"COUNTIF(Calculations!$E$56:$E$98,\"<=\"&DATE(2006,MONTH(C3695),DAY(C3695)))","v":14},4.8,4.3,5,5.9,3.4,4.0999999999999996,6.3,4.2,5.2,6.2]
["IA197615","IA","1976-06-07",{"$f":"COUNTIF(Calculations!$E$56:$E$98,\"<=\"&DATE(2006,MONTH(C3696),DAY(C3696)))","v":15},6,7,6.3,5.8,6.9,6,4.8,5.6,5.5,4.4000000000000004]
["IA197616","IA","1976-06-14",{"$f":"COUNTIF(Calculations!$E$56:$E$98,\"<=\"&DATE(2006,MONTH(C3697),DAY(C3697)))","v":16},6.2,6.2,6,6.5,6.7,5.5,6.3,6.8,5.6,5.6]
["IA197617","IA","1976-06-21",{"$f":"COUNTIF(Calculations!$E$56:$E$98,\"<=\"&DATE(2006,MONTH(C3698),DAY(C3698)))","v":17},4.5,6.5,4.5999999999999996,5.3,4.4000000000000004,3.2,4.8,4.3,2.9,4.3]
["IA197618","IA","1976-06-28",{"$f":"COUNTIF(Calculations!$E$56:$E$98,\"<=\"&DATE(2006,MONTH(C3699),DAY(C3699)))","v":18},5.9,5.8,5.9,5.9,6.4,5.7,5.0999999999999996,6,6.2,6.3]
["IA197619","IA","1976-07-05",{"$f":"COUNTIF(Calculations!$E$56:$E$98,\"<=\"&DATE(2006,MONTH(C3700),DAY(C3700)))","v":19},5.5,5.0999999999999996,5.9,6.1,5.8,5,5.5,5.7,5.3,4.3]
["IA197621","IA","1976-07-19",{"$f":"COUNTIF(Calculations!$E$56:$E$98,\"<=\"&DATE(2006,MONTH(C3701),DAY(C3701)))","v":21},6.6,6.4,6.9,6.9,6.8,6.8,5.7,6.4,6.4,6.1]
["IA197622","IA","1976-07-26",{"$f":"COUNTIF(Calculations!$E$56:$E$98,\"<=\"&DATE(2006,MONTH(C3702),DAY(C3702)))","v":22},5.6,7,6.6,6.4,6.5,5.2,3.7,4.5999999999999996,4.2,4]
["IA197623","IA","1976-08-02",{"$f":"COUNTIF(Calculations!$E$56:$E$98,\"<=\"&DATE(2006,MONTH(C3703),DAY(C3703)))","v":23},5,6.2,5.7,5.3,5.3,4.8,4.9000000000000004,4.4000000000000004,3.2,3.3]
["IA197624","IA","1976-08-09",{"$f":"COUNTIF(Calculations!$E$56:$E$98,\"<=\"&DATE(2006,MONTH(C3704),DAY(C3704)))","v":24},6.6,6.9,6.5,6.3,6.8,6.9,6.5,6.8,6.6,6.2]
["IA197626","IA","1976-08-23",{"$f":"COUNTIF(Calculations!$E$56:$E$98,\"<=\"&DATE(2006,MONTH(C3705),DAY(C3705)))","v":26},6.2,6,6.3,6.3,6.5,6.4,5.9,6.4,6.2,5.5]
["IA197627","IA","1976-08-30",{"$f":"COUNTIF(Calculations!$E$56:$E$98,\"<=\"&DATE(2006,MONTH(C3706),DAY(C3706)))","v":27},6.9,7,6.7,6.7,7,7,6.8,7,6.8,6.9]
["IA197628","IA","1976-09-06",{"$f":"COUNTIF(Calculations!$E$56:$E$98,\"<=\"&DATE(2006,MONTH(C3707),DAY(C3707)))","v":28},6.9,6.9,6.7,6.9,6.9,7,7,6.9,7,7]
["IA197629","IA","1976-09-13",{"$f":"COUNTIF(Calculations!$E$56:$E$98,\"<=\"&DATE(2006,MONTH(C3708),DAY(C3708)))","v":29},6.8,6.6,6.6,6.9,6.6,7,6.8,6.8,7,6.5]
["IA197630","IA","1976-09-20",{"$f":"COUNTIF(Calculations!$E$56:$E$98,\"<=\"&DATE(2006,MONTH(C3709),DAY(C3709)))","v":30},6.7,6.1,6.8,6.9,6.6,7,7,6.7,7,6.9]
["IA197631","IA","1976-09-27",{"$f":"COUNTIF(Calculations!$E$56:$E$98,\"<=\"&DATE(2006,MONTH(C3710),DAY(C3710)))","v":31},6.3,5.8,6.5,6.3,6.2,6.4,6.7,6,6.7,6.9]
["IA197632","IA","1976-10-04",{"$f":"COUNTIF(Calculations!$E$56:$E$98,\"<=\"&DATE(2006,MONTH(C3711),DAY(C3711)))","v":32},5.6,5.9,6.8,6.7,6.5,6.2,5.0999999999999996,4.2,3.4,3.9]
["IA197633","IA","1976-10-11",{"$f":"COUNTIF(Calculations!$E$56:$E$98,\"<=\"&DATE(2006,MONTH(C3712),DAY(C3712)))","v":33},5.5,6.8,6.2,5.9,6.1,5.0999999999999996,4.9000000000000004,5.2,4.5,4.3]
["IA197634","IA","1976-10-18",{"$f":"COUNTIF(Calculations!$E$56:$E$98,\"<=\"&DATE(2006,MONTH(C3713),DAY(C3713)))","v":34},7,7,7,7,7,7,7,7,6.9,6.9]
["IA197635","IA","1976-10-25",{"$f":"COUNTIF(Calculations!$E$56:$E$98,\"<=\"&DATE(2006,MONTH(C3714),DAY(C3714)))","v":35},5.7,5.4,6,5.9,5.5,5.9,5.5,5.8,5.8,5.2]
["IA197636","IA","1976-11-01",{"$f":"COUNTIF(Calculations!$E$56:$E$98,\"<=\"&DATE(2006,MONTH(C3715),DAY(C3715)))","v":36},6,5,5.2,6.5,6.2,6.5,6.6,5.6,6.5,6.2]
["IA19774","IA","1977-03-20",{"$f":"COUNTIF(Calculations!$E$56:$E$98,\"<=\"&DATE(2006,MONTH(C3716),DAY(C3716)))","v":4},2.8,1.4,1.9,2.5,3.5,3.3,2,3.8,3.7,2.7]
["IA19776","IA","1977-04-04",{"$f":"COUNTIF(Calculations!$E$56:$E$98,\"<=\"&DATE(2006,MONTH(C3717),DAY(C3717)))","v":6},2.2999999999999998,1.4,3,2.2999999999999998,3.2,2.5,1.9,2.6,2.5,1.6]
["IA19777","IA","1977-04-11",{"$f":"COUNTIF(Calculations!$E$56:$E$98,\"<=\"&DATE(2006,MONTH(C3718),DAY(C3718)))","v":7},2.4,2.6,2.6,1.7,2.8,2.2999999999999998,2.9,2.5,2.5,1.9]
["IA19779","IA","1977-04-25",{"$f":"COUNTIF(Calculations!$E$56:$E$98,\"<=\"&DATE(2006,MONTH(C3719),DAY(C3719)))","v":9},4,3.3,2.6,4.9000000000000004,3.6,4.3,4.2,4.2,4.5999999999999996,4.5]
["IA197710","IA","1977-05-02",{"$f":"COUNTIF(Calculations!$E$56:$E$98,\"<=\"&DATE(2006,MONTH(C3720),DAY(C3720)))","v":10},6.5,6.5,6.4,6.1,6.9,6.7,5.9,6.8,6.6,6.6]
["IA197711","IA","1977-05-09",{"$f":"COUNTIF(Calculations!$E$56:$E$98,\"<=\"&DATE(2006,MONTH(C3721),DAY(C3721)))","v":11},4.5,4.3,4.4000000000000004,4.2,5,4.5999999999999996,4.4000000000000004,4.9000000000000004,4.5999999999999996,3.5]
["IA197712","IA","1977-05-16",{"$f":"COUNTIF(Calculations!$E$56:$E$98,\"<=\"&DATE(2006,MONTH(C3722),DAY(C3722)))","v":12},6.5,6.9,6.8,7,6.6,6.8,6.8,5,6.4,5.2]
["IA197713","IA","1977-05-23",{"$f":"COUNTIF(Calculations!$E$56:$E$98,\"<=\"&DATE(2006,MONTH(C3723),DAY(C3723)))","v":13},5.9,5.6,5.9,5.8,5.5,5.9,6.3,6,6.1,6.5]
["IA197714","IA","1977-05-30",{"$f":"COUNTIF(Calculations!$E$56:$E$98,\"<=\"&DATE(2006,MONTH(C3724),DAY(C3724)))","v":14},5.8,4.4000000000000004,6.5,6.3,5.4,5.9,6.3,5.6,5.3,6.6]
["IA197715","IA","1977-06-06",{"$f":"COUNTIF(Calculations!$E$56:$E$98,\"<=\"&DATE(2006,MONTH(C3725),DAY(C3725)))","v":15},6.5,6.3,6.4,6.5,5.9,6.5,7,6.6,6.4,6.9]
["IA197716","IA","1977-06-13",{"$f":"COUNTIF(Calculations!$E$56:$E$98,\"<=\"&DATE(2006,MONTH(C3726),DAY(C3726)))","v":16},6.7,6.9,6.6,6.4,7,6.5,6.2,7,6.7,5.7]
["IA197717","IA","1977-06-20",{"$f":"COUNTIF(Calculations!$E$56:$E$98,\"<=\"&DATE(2006,MONTH(C3727),DAY(C3727)))","v":17},5.9,4.9000000000000004,5.6,6.7,5,6.5,6.4,6,6.8,5.7]
["IA197718","IA","1977-06-27",{"$f":"COUNTIF(Calculations!$E$56:$E$98,\"<=\"&DATE(2006,MONTH(C3728),DAY(C3728)))","v":18},5.9,5.5,6.5,6.6,5.0999999999999996,5.7,6.5,5.5,6.5,6.5]
["IA197719","IA","1977-07-04",{"$f":"COUNTIF(Calculations!$E$56:$E$98,\"<=\"&DATE(2006,MONTH(C3729),DAY(C3729)))","v":19},5.8,6.2,5.5,5.6,5.9,6.4,5.3,5.9,6.4,5.0999999999999996]
["IA197720","IA","1977-07-11",{"$f":"COUNTIF(Calculations!$E$56:$E$98,\"<=\"&DATE(2006,MONTH(C3730),DAY(C3730)))","v":20},6.1,5.4,5.6,5.4,6.4,6,6.3,6.7,6.6,6.8]
[{"$f":"B3731&YEAR(C3731)&D3731","v":"IA197721"},"IA","1977-07-18",{"$f":"COUNTIF(Calculations!$E$56:$E$98,\"<=\"&DATE(2006,MONTH(C3731),DAY(C3731)))","v":21},6.3,5.3,6.4,6.2,6,6.8,6.9,5.8,6.8,6.8]
["IA197722","IA","1977-07-25",{"$f":"COUNTIF(Calculations!$E$56:$E$98,\"<=\"&DATE(2006,MONTH(C3732),DAY(C3732)))","v":22},5.0999999999999996,5.4,5.0999999999999996,4.4000000000000004,4.7,5.3,4.4000000000000004,5,6.2,5.0999999999999996]
["IA197723","IA","1977-08-01",{"$f":"COUNTIF(Calculations!$E$56:$E$98,\"<=\"&DATE(2006,MONTH(C3733),DAY(C3733)))","v":23},6,5.4,6.1,5.9,5.8,6.3,5.4,6.1,6.7,6.4]
["IA197724","IA","1977-08-08",{"$f":"COUNTIF(Calculations!$E$56:$E$98,\"<=\"&DATE(2006,MONTH(C3734),DAY(C3734)))","v":24},5.9,6.1,6.1,6.1,6.1,6.1,4.7,6.3,5.9,5.2]
["IA197725","IA","1977-08-15",{"$f":"COUNTIF(Calculations!$E$56:$E$98,\"<=\"&DATE(2006,MONTH(C3735),DAY(C3735)))","v":25},3.8,5.7,5.5,4.7,4.0999999999999996,3.5,1.9,3.6,1.9,0.8]
["IA197726","IA","1977-08-22",{"$f":"COUNTIF(Calculations!$E$56:$E$98,\"<=\"&DATE(2006,MONTH(C3736),DAY(C3736)))","v":26},4.4000000000000004,4.5,3.8,4.0999999999999996,5.2,4.3,3.7,4.3,4.4000000000000004,5]
["IA197727","IA","1977-08-29",{"$f":"COUNTIF(Calculations!$E$56:$E$98,\"<=\"&DATE(2006,MONTH(C3737),DAY(C3737)))","v":27},4.9000000000000004,4.7,4.3,4,5.0999999999999996,5.6,4.5,5,5.4,5.8]
["IA197728","IA","1977-09-05",{"$f":"COUNTIF(Calculations!$E$56:$E$98,\"<=\"&DATE(2006,MONTH(C3738),DAY(C3738)))","v":28},3,4.8,3.9,3,4.3,3.1,2.8,0.8,0.7,2.1]
["IA197729","IA","1977-09-12",{"$f":"COUNTIF(Calculations!$E$56:$E$98,\"<=\"&DATE(2006,MONTH(C3739),DAY(C3739)))","v":29},4.0999999999999996,4.5,5.3,5.6,4.0999999999999996,3.2,5.3,2.9,2.7,3.9]
["IA197730","IA","1977-09-19",{"$f":"COUNTIF(Calculations!$E$56:$E$98,\"<=\"&DATE(2006,MONTH(C3740),DAY(C3740)))","v":30},4.5999999999999996,5.3,6.2,4.9000000000000004,5.7,4.9000000000000004,2.8,3.9,2.9,1.9]
["IA197731","IA","1977-09-26",{"$f":"COUNTIF(Calculations!$E$56:$E$98,\"<=\"&DATE(2006,MONTH(C3741),DAY(C3741)))","v":31},3.9,4.8,4.8,3.4,5.2,4,2.8,4.2,2.4,1.9]
["IA197732","IA","1977-10-03",{"$f":"COUNTIF(Calculations!$E$56:$E$98,\"<=\"&DATE(2006,MONTH(C3742),DAY(C3742)))","v":32},4.7,4.2,4.7,4.2,4.7,5.0999999999999996,5.8,4.5,4.5,5.2]
["IA197733","IA","1977-10-10",{"$f":"COUNTIF(Calculations!$E$56:$E$98,\"<=\"&DATE(2006,MONTH(C3743),DAY(C3743)))","v":33},4.4000000000000004,4.5,5.2,4.5999999999999996,4.3,4.7,4.4000000000000004,4,3.2,4.4000000000000004]
["IA197734","IA","1977-10-17",{"$f":"COUNTIF(Calculations!$E$56:$E$98,\"<=\"&DATE(2006,MONTH(C3744),DAY(C3744)))","v":34},3.9,3.9,3.7,4.3,4.4000000000000004,4.2,3.7,4.8,2,2.9]
["IA197735","IA","1977-10-24",{"$f":"COUNTIF(Calculations!$E$56:$E$98,\"<=\"&DATE(2006,MONTH(C3745),DAY(C3745)))","v":35},6.6,6.8,6.9,6.7,6.8,6.8,6.8,6.3,6.2,6.2]
["IA197736","IA","1977-10-31",{"$f":"COUNTIF(Calculations!$E$56:$E$98,\"<=\"&DATE(2006,MONTH(C3746),DAY(C3746)))","v":36},2.9,5.2,3.4,3.7,3.6,2.4,1.9,1.9,0.3,1.6]
["IA197737","IA","1977-11-07",{"$f":"COUNTIF(Calculations!$E$56:$E$98,\"<=\"&DATE(2006,MONTH(C3747),DAY(C3747)))","v":37},2.6,4,5.0999999999999996,2.5,3.3,2.2999999999999998,1.5,2.4,0,0.5]
["IA197739","IA","1977-11-21",{"$f":"COUNTIF(Calculations!$E$56:$E$98,\"<=\"&DATE(2006,MONTH(C3748),DAY(C3748)))","v":39},4.8,3.5,6.6,5.6,3.6,6,5.7,4.2,2.6,4.9000000000000004]
["IA197740","IA","1977-11-28",{"$f":"COUNTIF(Calculations!$E$56:$E$98,\"<=\"&DATE(2006,MONTH(C3749),DAY(C3749)))","v":40},4.2,3.5,4,3.9,4.5999999999999996,3.9,4.7,5.3,4,4.7]
["IA19787","IA","1978-04-08",{"$f":"COUNTIF(Calculations!$E$56:$E$98,\"<=\"&DATE(2006,MONTH(C3750),DAY(C3750)))","v":7},3.1,3,3.3,2.7,3.3,3.4,2.6,3.3,2.5,2.4]
["IA19789","IA","1978-04-23",{"$f":"COUNTIF(Calculations!$E$56:$E$98,\"<=\"&DATE(2006,MONTH(C3751),DAY(C3751)))","v":9},1.1000000000000001,1.2,1.8,1.6,0.9,1.3,1.8,0.1,0,0.8]
["IA197811","IA","1978-05-07",{"$f":"COUNTIF(Calculations!$E$56:$E$98,\"<=\"&DATE(2006,MONTH(C3752),DAY(C3752)))","v":11},5.7,6.3,6.7,6.8,6.1,6.3,5.9,5,3.1,3.6]
["IA197812","IA","1978-05-14",{"$f":"COUNTIF(Calculations!$E$56:$E$98,\"<=\"&DATE(2006,MONTH(C3753),DAY(C3753)))","v":12},3.2,4.2,4,4.4000000000000004,3.9,3.7,3.3,1.9,1.1000000000000001,1]
["IA197813","IA","1978-05-21",{"$f":"COUNTIF(Calculations!$E$56:$E$98,\"<=\"&DATE(2006,MONTH(C3754),DAY(C3754)))","v":13},4.9000000000000004,6.5,5.2,5,6.6,5.4,2.7,5.5,3.1,1.7]
["IA197814","IA","1978-05-28",{"$f":"COUNTIF(Calculations!$E$56:$E$98,\"<=\"&DATE(2006,MONTH(C3755),DAY(C3755)))","v":14},5.6,6.8,6.5,6.2,6.4,5.8,6.4,3.7,3.2,4.5999999999999996]
["IA197815","IA","1978-06-04",{"$f":"COUNTIF(Calculations!$E$56:$E$98,\"<=\"&DATE(2006,MONTH(C3756),DAY(C3756)))","v":15},3.9,2,4.0999999999999996,4.8,3.1,5.6,5.9,3.2,3.2,4.5]
["IA197816","IA","1978-06-11",{"$f":"COUNTIF(Calculations!$E$56:$E$98,\"<=\"&DATE(2006,MONTH(C3757),DAY(C3757)))","v":16},6.7,6.9,6.8,6.4,6.7,6.8,6.9,6.6,6.7,6.8]
["IA197817","IA","1978-06-18",{"$f":"COUNTIF(Calculations!$E$56:$E$98,\"<=\"&DATE(2006,MONTH(C3758),DAY(C3758)))","v":17},5.5,5.6,4.7,5.5,5.5,5.2,5.3,7,5.6,5.4]
["IA197818","IA","1978-06-25",{"$f":"COUNTIF(Calculations!$E$56:$E$98,\"<=\"&DATE(2006,MONTH(C3759),DAY(C3759)))","v":18},4.0999999999999996,3.7,2.2999999999999998,3.7,3.9,3.9,5.5,5.0999999999999996,5.5,4.9000000000000004]
["IA197819","IA","1978-07-02",{"$f":"COUNTIF(Calculations!$E$56:$E$98,\"<=\"&DATE(2006,MONTH(C3760),DAY(C3760)))","v":19},4,5.3,3.6,4.2,5.8,3.3,2.9,4.7,2.7,2.2999999999999998]
["IA197820","IA","1978-07-09",{"$f":"COUNTIF(Calculations!$E$56:$E$98,\"<=\"&DATE(2006,MONTH(C3761),DAY(C3761)))","v":20},3.8,3.7,3,3.3,3.8,3.6,4.3,5,4.3,3.6]
["IA197821","IA","1978-07-16",{"$f":"COUNTIF(Calculations!$E$56:$E$98,\"<=\"&DATE(2006,MONTH(C3762),DAY(C3762)))","v":21},4.8,5.7,5,4.7,5.5,5.3,4.4000000000000004,4,3.5,3.6]
["IA197822","IA","1978-07-23",{"$f":"COUNTIF(Calculations!$E$56:$E$98,\"<=\"&DATE(2006,MONTH(C3763),DAY(C3763)))","v":22},3.1,4.5,2.8,2.7,3.9,2.6,2.2000000000000002,3.7,2.6,2.9]
["IA197823","IA","1978-07-30",{"$f":"COUNTIF(Calculations!$E$56:$E$98,\"<=\"&DATE(2006,MONTH(C3764),DAY(C3764)))","v":23},5,4.8,5.0999999999999996,4,5.7,5.3,4.7,5.6,4.9000000000000004,5.0999999999999996]
["IA197824","IA","1978-08-06",{"$f":"COUNTIF(Calculations!$E$56:$E$98,\"<=\"&DATE(2006,MONTH(C3765),DAY(C3765)))","v":24},6.2,6,6.7,6.6,5.8,6.8,6.8,6,5.2,6.1]
["IA197825","IA","1978-08-13",{"$f":"COUNTIF(Calculations!$E$56:$E$98,\"<=\"&DATE(2006,MONTH(C3766),DAY(C3766)))","v":25},6.6,6.9,6.9,6.9,6.9,6.7,6.9,5.6,5.5,6.5]
["IA197826","IA","1978-08-20",{"$f":"COUNTIF(Calculations!$E$56:$E$98,\"<=\"&DATE(2006,MONTH(C3767),DAY(C3767)))","v":26},6,5.2,6.6,6.4,5.6,6.6,6.1,5.9,5.6,5.6]
["IA197827","IA","1978-08-27",{"$f":"COUNTIF(Calculations!$E$56:$E$98,\"<=\"&DATE(2006,MONTH(C3768),DAY(C3768)))","v":27},6,5.5,6.1,6.7,6.1,5.4,6.1,5.9,6.4,5.6]
["IA197828","IA","1978-09-03",{"$f":"COUNTIF(Calculations!$E$56:$E$98,\"<=\"&DATE(2006,MONTH(C3769),DAY(C3769)))","v":28},5.4,5.8,5.8,5.3,5.4,5,5.4,5.9,4.8,4.9000000000000004]
["IA197829","IA","1978-09-10",{"$f":"COUNTIF(Calculations!$E$56:$E$98,\"<=\"&DATE(2006,MONTH(C3770),DAY(C3770)))","v":29},7,7,7,6.9,7,7,7,7,6.9,6.9]
["IA197830","IA","1978-09-17",{"$f":"COUNTIF(Calculations!$E$56:$E$98,\"<=\"&DATE(2006,MONTH(C3771),DAY(C3771)))","v":30},4.5999999999999996,4.2,4.3,4.8,3.9,4,5.2,5,5.0999999999999996,6.1]
["IA197831","IA","1978-09-24",{"$f":"COUNTIF(Calculations!$E$56:$E$98,\"<=\"&DATE(2006,MONTH(C3772),DAY(C3772)))","v":31},2.5,4.2,3.7,3,2.1,1.9,2.2999999999999998,1.5,1.2,1.9]
["IA197832","IA","1978-10-01",{"$f":"COUNTIF(Calculations!$E$56:$E$98,\"<=\"&DATE(2006,MONTH(C3773),DAY(C3773)))","v":32},6.3,6.8,6.6,6.6,6.4,6.3,6.6,6,5.5,6.3]
["IA197833","IA","1978-10-08",{"$f":"COUNTIF(Calculations!$E$56:$E$98,\"<=\"&DATE(2006,MONTH(C3774),DAY(C3774)))","v":33},5,5.8,5.3,4.4000000000000004,6.3,5.3,3.7,5.4,3.7,4.4000000000000004]
["IA197834","IA","1978-10-15",{"$f":"COUNTIF(Calculations!$E$56:$E$98,\"<=\"&DATE(2006,MONTH(C3775),DAY(C3775)))","v":34},4.5999999999999996,5.4,5.3,3.7,5.0999999999999996,4.4000000000000004,2.8,6.7,3.9,3.4]
["IA197835","IA","1978-10-22",{"$f":"COUNTIF(Calculations!$E$56:$E$98,\"<=\"&DATE(2006,MONTH(C3776),DAY(C3776)))","v":35},6.7,6.9,6.9,6.6,6.8,6.7,6,6.9,6.7,6.1]
["IA197836","IA","1978-10-29",{"$f":"COUNTIF(Calculations!$E$56:$E$98,\"<=\"&DATE(2006,MONTH(C3777),DAY(C3777)))","v":36},5.9,6.3,6.3,6.1,5.7,6.2,5.7,6,5.5,5.2]
["IA197837","IA","1978-11-05",{"$f":"COUNTIF(Calculations!$E$56:$E$98,\"<=\"&DATE(2006,MONTH(C3778),DAY(C3778)))","v":37},6.8,7,7,7,6.9,6.8,7,6.1,6.3,6.9]
["IA197838","IA","1978-11-12",{"$f":"COUNTIF(Calculations!$E$56:$E$98,\"<=\"&DATE(2006,MONTH(C3779),DAY(C3779)))","v":38},6.7,6.9,6.9,6.8,7,7,6.7,6.8,6.1,5.9]
["IA19797","IA","1979-04-08",{"$f":"COUNTIF(Calculations!$E$56:$E$98,\"<=\"&DATE(2006,MONTH(C3780),DAY(C3780)))","v":7},0,0,0,0,0.1,0.1,0.1,0,0,0]
["IA19799","IA","1979-04-22",{"$f":"COUNTIF(Calculations!$E$56:$E$98,\"<=\"&DATE(2006,MONTH(C3781),DAY(C3781)))","v":9},3,1.4,2.2000000000000002,4.2,3.8,2.1,4.8,4.7,1.6,2.4]
["IA197910","IA","1979-04-29",{"$f":"COUNTIF(Calculations!$E$56:$E$98,\"<=\"&DATE(2006,MONTH(C3782),DAY(C3782)))","v":10},2,3,2.1,2.2999999999999998,3.1,1.4,1.7,2.2999999999999998,0.7,0.8]
["IA197911","IA","1979-05-06",{"$f":"COUNTIF(Calculations!$E$56:$E$98,\"<=\"&DATE(2006,MONTH(C3783),DAY(C3783)))","v":11},5,3.1,5.2,5.3,5,5.5,5.8,5,4.9000000000000004,5.2]
["IA197912","IA","1979-05-13",{"$f":"COUNTIF(Calculations!$E$56:$E$98,\"<=\"&DATE(2006,MONTH(C3784),DAY(C3784)))","v":12},5,3.1,5.2,5.3,5,5.5,5.8,5,4.9000000000000004,5.2]
["IA197913","IA","1979-05-20",{"$f":"COUNTIF(Calculations!$E$56:$E$98,\"<=\"&DATE(2006,MONTH(C3785),DAY(C3785)))","v":13},5.7,4.5,5.4,6.3,5.8,5.9,6.2,6,6.3,5.5]
["IA197914","IA","1979-05-27",{"$f":"COUNTIF(Calculations!$E$56:$E$98,\"<=\"&DATE(2006,MONTH(C3786),DAY(C3786)))","v":14},6.3,6.7,6,6,6.1,6.1,6.5,6.3,6.8,6.7]
["IA197915","IA","1979-06-03",{"$f":"COUNTIF(Calculations!$E$56:$E$98,\"<=\"&DATE(2006,MONTH(C3787),DAY(C3787)))","v":15},6.3,5.7,6,6,6.4,6.8,6.3,6.9,6.7,6.1]
["IA197916","IA","1979-06-10",{"$f":"COUNTIF(Calculations!$E$56:$E$98,\"<=\"&DATE(2006,MONTH(C3788),DAY(C3788)))","v":16},6.1,6.5,6.2,5.3,6.3,6.1,6.1,6.4,5.7,5.8]
["IA197917","IA","1979-06-17",{"$f":"COUNTIF(Calculations!$E$56:$E$98,\"<=\"&DATE(2006,MONTH(C3789),DAY(C3789)))","v":17},4.9000000000000004,5.6,5.9,4.9000000000000004,5.6,4.3,3.6,6.2,3.5,4.2]
["IA197918","IA","1979-06-24",{"$f":"COUNTIF(Calculations!$E$56:$E$98,\"<=\"&DATE(2006,MONTH(C3790),DAY(C3790)))","v":18},4.8,3.4,5.0999999999999996,4.7,4.7,4.5999999999999996,5,4.5999999999999996,5.3,6.4]
["IA197919","IA","1979-07-01",{"$f":"COUNTIF(Calculations!$E$56:$E$98,\"<=\"&DATE(2006,MONTH(C3791),DAY(C3791)))","v":19},4.5999999999999996,5.6,4.8,5.5,4.7,3.7,6.2,3.9,2.9,4.4000000000000004]
["IA197920","IA","1979-07-08",{"$f":"COUNTIF(Calculations!$E$56:$E$98,\"<=\"&DATE(2006,MONTH(C3792),DAY(C3792)))","v":20},5.6,6.8,5.7,6.1,6.3,4.8,5.7,5.8,3.6,4.3]
["IA197921","IA","1979-07-15",{"$f":"COUNTIF(Calculations!$E$56:$E$98,\"<=\"&DATE(2006,MONTH(C3793),DAY(C3793)))","v":21},6.2,6.7,6.4,6.4,6.7,5.2,6.4,5.6,5.7,6.7]
["IA197922","IA","1979-07-22",{"$f":"COUNTIF(Calculations!$E$56:$E$98,\"<=\"&DATE(2006,MONTH(C3794),DAY(C3794)))","v":22},6.2,6.4,5.6,6,6.9,6.6,5.5,5.2,6.5,6.3]
[{"$f":"B3795&YEAR(C3795)&D3795","v":"IA197923"},"IA","1979-07-29",{"$f":"COUNTIF(Calculations!$E$56:$E$98,\"<=\"&DATE(2006,MONTH(C3795),DAY(C3795)))","v":23},4.7,5,3.7,5.2,4.3,5.4,4.8,4.5999999999999996,4.4000000000000004,4.8]
["IA197924","IA","1979-08-05",{"$f":"COUNTIF(Calculations!$E$56:$E$98,\"<=\"&DATE(2006,MONTH(C3796),DAY(C3796)))","v":24},4.2,4,4.0999999999999996,5,4,4.0999999999999996,3.4,4.9000000000000004,4.0999999999999996,3.8]
["IA197925","IA","1979-08-12",{"$f":"COUNTIF(Calculations!$E$56:$E$98,\"<=\"&DATE(2006,MONTH(C3797),DAY(C3797)))","v":25},5.3,5.0999999999999996,3.6,3.4,6.8,5.8,4.3,6.8,6.3,6]
["IA197926","IA","1979-08-19",{"$f":"COUNTIF(Calculations!$E$56:$E$98,\"<=\"&DATE(2006,MONTH(C3798),DAY(C3798)))","v":26},5.7,4.7,4.0999999999999996,4.9000000000000004,6.2,6.1,5.8,6.3,6.3,6.8]
["IA197927","IA","1979-08-26",{"$f":"COUNTIF(Calculations!$E$56:$E$98,\"<=\"&DATE(2006,MONTH(C3799),DAY(C3799)))","v":27},2.2000000000000002,1.3,0.8,0.6,2.2999999999999998,1.7,2.1,5.0999999999999996,5.3,3.8]
["IA197928","IA","1979-09-02",{"$f":"COUNTIF(Calculations!$E$56:$E$98,\"<=\"&DATE(2006,MONTH(C3800),DAY(C3800)))","v":28},3.8,2.8,2.7,1.3,4.8,4.4000000000000004,3.1,4.8,5.2,4.5999999999999996]
["IA197929","IA","1979-09-09",{"$f":"COUNTIF(Calculations!$E$56:$E$98,\"<=\"&DATE(2006,MONTH(C3801),DAY(C3801)))","v":29},5.4,4.5,4.5,5.9,4.9000000000000004,5.6,6.7,4.4000000000000004,5.9,6.4]
["IA197930","IA","1979-09-16",{"$f":"COUNTIF(Calculations!$E$56:$E$98,\"<=\"&DATE(2006,MONTH(C3802),DAY(C3802)))","v":30},5.9,3.6,5.4,6.8,5.5,6.4,6.8,5.7,6.9,7]
["IA197931","IA","1979-09-23",{"$f":"COUNTIF(Calculations!$E$56:$E$98,\"<=\"&DATE(2006,MONTH(C3803),DAY(C3803)))","v":31},6.9,6.5,7,7,7,7,7,6.9,7,7]
["IA197932","IA","1979-09-30",{"$f":"COUNTIF(Calculations!$E$56:$E$98,\"<=\"&DATE(2006,MONTH(C3804),DAY(C3804)))","v":32},6.6,6.3,6.6,6.7,6.5,6.1,6.5,7,6.9,6.9]
["IA197933","IA","1979-10-07",{"$f":"COUNTIF(Calculations!$E$56:$E$98,\"<=\"&DATE(2006,MONTH(C3805),DAY(C3805)))","v":33},6.4,6.9,6.1,5.5,6.9,6.5,4.8,7,6.9,6.2]
["IA197934","IA","1979-10-14",{"$f":"COUNTIF(Calculations!$E$56:$E$98,\"<=\"&DATE(2006,MONTH(C3806),DAY(C3806)))","v":34},6.8,6.8,6.7,6.3,7,6.9,6.4,6.9,7,7]
["IA197935","IA","1979-10-21",{"$f":"COUNTIF(Calculations!$E$56:$E$98,\"<=\"&DATE(2006,MONTH(C3807),DAY(C3807)))","v":35},6.4,6.5,6.4,6.2,6.5,6.2,6.1,6.6,6.8,6.2]
["IA197936","IA","1979-10-28",{"$f":"COUNTIF(Calculations!$E$56:$E$98,\"<=\"&DATE(2006,MONTH(C3808),DAY(C3808)))","v":36},4.4000000000000004,4.8,3.8,5.0999999999999996,3.9,4.0999999999999996,4.7,4,4.5,4.5]
["IA197937","IA","1979-11-04",{"$f":"COUNTIF(Calculations!$E$56:$E$98,\"<=\"&DATE(2006,MONTH(C3809),DAY(C3809)))","v":37},4.5,3.3,5,5,3.6,4.8,5.3,4.5,5.7,4.9000000000000004]
["IA197938","IA","1979-11-11",{"$f":"COUNTIF(Calculations!$E$56:$E$98,\"<=\"&DATE(2006,MONTH(C3810),DAY(C3810)))","v":38},4.5999999999999996,3.5,4.3,5.4,3.6,4.8,5.9,4.2,5.2,5.6]
["IA197939","IA","1979-11-18",{"$f":"COUNTIF(Calculations!$E$56:$E$98,\"<=\"&DATE(2006,MONTH(C3811),DAY(C3811)))","v":39},5.3,4.8,4.2,4.7,5,5.0999999999999996,6.3,6.3,6,6.4]
["IA197940","IA","1979-11-25",{"$f":"COUNTIF(Calculations!$E$56:$E$98,\"<=\"&DATE(2006,MONTH(C3812),DAY(C3812)))","v":40},3.7,3.3,3.5,4.9000000000000004,3.3,3.6,3.8,4,3.8,3.6]
["IA197941","IA","1979-12-02",{"$f":"COUNTIF(Calculations!$E$56:$E$98,\"<=\"&DATE(2006,MONTH(C3813),DAY(C3813)))","v":41},5,3.7,4.7,6.3,5,5.0999999999999996,4.5,5.9,5.5,4.9000000000000004]
["IA197942","IA","1979-12-09",{"$f":"COUNTIF(Calculations!$E$56:$E$98,\"<=\"&DATE(2006,MONTH(C3814),DAY(C3814)))","v":42},6.2,5.8,6.1,6.5,6.4,5.9,5,6.6,6.9,6.1]
["IA19805","IA","1980-03-31",{"$f":"COUNTIF(Calculations!$E$56:$E$98,\"<=\"&DATE(2006,MONTH(C3815),DAY(C3815)))","v":5},1,0.3,0.6,1.4,0.8,2,0.6,1.3,1.6,0.7]
["IA19807","IA","1980-04-13",{"$f":"COUNTIF(Calculations!$E$56:$E$98,\"<=\"&DATE(2006,MONTH(C3816),DAY(C3816)))","v":7},1.8,0.7,0.4,0.8,3,2.2999999999999998,2.1,2.5,2.6,1.8]
["IA19808","IA","1980-04-20",{"$f":"COUNTIF(Calculations!$E$56:$E$98,\"<=\"&DATE(2006,MONTH(C3817),DAY(C3817)))","v":8},3.7,4.9000000000000004,3,2.8,6.3,5.6,2,4.0999999999999996,2.5,1.5]
["IA19809","IA","1980-04-27",{"$f":"COUNTIF(Calculations!$E$56:$E$98,\"<=\"&DATE(2006,MONTH(C3818),DAY(C3818)))","v":9},6.9,6.9,7,6.9,7,7,6.9,6.9,6.9,6.5]
["IA198010","IA","1980-05-04",{"$f":"COUNTIF(Calculations!$E$56:$E$98,\"<=\"&DATE(2006,MONTH(C3819),DAY(C3819)))","v":10},6.9,6.4,6.9,6.9,7,7,6.6,7,7,7]
["IA198011","IA","1980-05-11",{"$f":"COUNTIF(Calculations!$E$56:$E$98,\"<=\"&DATE(2006,MONTH(C3820),DAY(C3820)))","v":11},7,7,7,7,7,7,6.9,7,7,7]
["IA198012","IA","1980-05-18",{"$f":"COUNTIF(Calculations!$E$56:$E$98,\"<=\"&DATE(2006,MONTH(C3821),DAY(C3821)))","v":12},6,6.1,4.5999999999999996,4.7,6.4,6.4,6.6,6.5,6.8,6.5]
["IA198013","IA","1980-05-25",{"$f":"COUNTIF(Calculations!$E$56:$E$98,\"<=\"&DATE(2006,MONTH(C3822),DAY(C3822)))","v":13},4.8,4.7,5.6,6.2,4.2,4.8,4.5,4.3,5.2,4.5999999999999996]
["IA198014","IA","1980-06-01",{"$f":"COUNTIF(Calculations!$E$56:$E$98,\"<=\"&DATE(2006,MONTH(C3823),DAY(C3823)))","v":14},5.5,5.8,5,4.8,5.2,5.5,4.8,6.2,6.5,6.1]
["IA198015","IA","1980-06-08",{"$f":"COUNTIF(Calculations!$E$56:$E$98,\"<=\"&DATE(2006,MONTH(C3824),DAY(C3824)))","v":15},2.2000000000000002,2.5,3.8,2.6,2.9,1.9,1.9,1.6,1.1000000000000001,0.9]
["IA198016","IA","1980-06-15",{"$f":"COUNTIF(Calculations!$E$56:$E$98,\"<=\"&DATE(2006,MONTH(C3825),DAY(C3825)))","v":16},6,5.7,6.2,6.3,5.8,6.2,6.3,5.8,5.2,6]
["IA198017","IA","1980-06-22",{"$f":"COUNTIF(Calculations!$E$56:$E$98,\"<=\"&DATE(2006,MONTH(C3826),DAY(C3826)))","v":17},4.3,5.7,4.0999999999999996,5.2,4.5,3.6,4.9000000000000004,5.4,2.8,2.8]
["IA198018","IA","1980-06-29",{"$f":"COUNTIF(Calculations!$E$56:$E$98,\"<=\"&DATE(2006,MONTH(C3827),DAY(C3827)))","v":18},6.4,6.8,6.7,6.8,5.4,6.5,6.8,6.6,5.4,6.1]
["IA198019","IA","1980-07-06",{"$f":"COUNTIF(Calculations!$E$56:$E$98,\"<=\"&DATE(2006,MONTH(C3828),DAY(C3828)))","v":19},6.4,6.7,6.7,5.9,6.8,6.8,6.9,4.9000000000000004,5.9,3.8]
["IA198020","IA","1980-07-13",{"$f":"COUNTIF(Calculations!$E$56:$E$98,\"<=\"&DATE(2006,MONTH(C3829),DAY(C3829)))","v":20},6,6.2,5.8,5.5,6.6,6.5,5.7,6.5,6,4.5]
["IA198021","IA","1980-07-20",{"$f":"COUNTIF(Calculations!$E$56:$E$98,\"<=\"&DATE(2006,MONTH(C3830),DAY(C3830)))","v":21},6.3,6.4,6,6.5,6.4,6.4,6,6.5,6.7,5.6]
["IA198022","IA","1980-07-27",{"$f":"COUNTIF(Calculations!$E$56:$E$98,\"<=\"&DATE(2006,MONTH(C3831),DAY(C3831)))","v":22},6.6,6.4,6.1,6.7,7,7,6.6,6.9,6.7,5.8]
["IA198023","IA","1980-08-03",{"$f":"COUNTIF(Calculations!$E$56:$E$98,\"<=\"&DATE(2006,MONTH(C3832),DAY(C3832)))","v":23},6.7,7,6.9,6.9,6.8,6.9,6.4,6.8,6.7,5.4]
["IA198024","IA","1980-08-10",{"$f":"COUNTIF(Calculations!$E$56:$E$98,\"<=\"&DATE(2006,MONTH(C3833),DAY(C3833)))","v":24},5.7,5.7,4.9000000000000004,5.3,6.6,6.3,5.6,6.1,6.5,4.4000000000000004]
["IA198025","IA","1980-08-17",{"$f":"COUNTIF(Calculations!$E$56:$E$98,\"<=\"&DATE(2006,MONTH(C3834),DAY(C3834)))","v":25},3.8,3.3,2.5,2.1,4.7,4.4000000000000004,3.3,4.5,5,3.9]
["IA198026","IA","1980-08-24",{"$f":"COUNTIF(Calculations!$E$56:$E$98,\"<=\"&DATE(2006,MONTH(C3835),DAY(C3835)))","v":26}]
["IA198027","IA","1980-08-31",{"$f":"COUNTIF(Calculations!$E$56:$E$98,\"<=\"&DATE(2006,MONTH(C3836),DAY(C3836)))","v":27},5.5,2.5,4.8,4.5999999999999996,5.8,6.6,6.8,6.7,7,6.5]
["IA198028","IA","1980-09-07",{"$f":"COUNTIF(Calculations!$E$56:$E$98,\"<=\"&DATE(2006,MONTH(C3837),DAY(C3837)))","v":28},3.2,3.2,3.2,4.2,4.9000000000000004,4.5,3.1,4.4000000000000004,2.1,0.6]
["IA198029","IA","1980-09-14",{"$f":"COUNTIF(Calculations!$E$56:$E$98,\"<=\"&DATE(2006,MONTH(C3838),DAY(C3838)))","v":29},5.8,6.1,4.9000000000000004,5.6,6.8,6.4,4.5999999999999996,6.7,6.3,3.6]
["IA198030","IA","1980-09-21",{"$f":"COUNTIF(Calculations!$E$56:$E$98,\"<=\"&DATE(2006,MONTH(C3839),DAY(C3839)))","v":30},5.6,6.7,6,5.8,6.8,6,4,6.2,4.7,3]
["IA198031","IA","1980-09-28",{"$f":"COUNTIF(Calculations!$E$56:$E$98,\"<=\"&DATE(2006,MONTH(C3840),DAY(C3840)))","v":31},5.6,4.4000000000000004,4.0999999999999996,4.3,6,6.3,5.8,7,6.8,6]
["IA198032","IA","1980-10-05",{"$f":"COUNTIF(Calculations!$E$56:$E$98,\"<=\"&DATE(2006,MONTH(C3841),DAY(C3841)))","v":32},6.8,6.9,6.7,6,6.9,6.4,6.7,7,6.9,7]
["IA198033","IA","1980-10-12",{"$f":"COUNTIF(Calculations!$E$56:$E$98,\"<=\"&DATE(2006,MONTH(C3842),DAY(C3842)))","v":33},7,7,6.9,7,7,7,7,7,7,6.9]
["IA198034","IA","1980-10-19",{"$f":"COUNTIF(Calculations!$E$56:$E$98,\"<=\"&DATE(2006,MONTH(C3843),DAY(C3843)))","v":34},5.3,5.3,5.3,5.4,5.4,5.6,5.4,5.8,4.9000000000000004,4.7]
["IA198035","IA","1980-10-26",{"$f":"COUNTIF(Calculations!$E$56:$E$98,\"<=\"&DATE(2006,MONTH(C3844),DAY(C3844)))","v":35},5.6,5.4,5.2,6,5.2,5.4,6.1,5.5,6.2,6]
["IA198036","IA","1980-11-02",{"$f":"COUNTIF(Calculations!$E$56:$E$98,\"<=\"&DATE(2006,MONTH(C3845),DAY(C3845)))","v":36},4.9000000000000004,5.8,6.3,6.6,4.2,5.0999999999999996,4.8,3.4,2.9,3.5]
["IA198037","IA","1980-11-09",{"$f":"COUNTIF(Calculations!$E$56:$E$98,\"<=\"&DATE(2006,MONTH(C3846),DAY(C3846)))","v":37},6.8,7,6.9,7,6.6,6.9,6.6,6.8,6.9,6.5]
["IA19815","IA","1981-03-29",{"$f":"COUNTIF(Calculations!$E$56:$E$98,\"<=\"&DATE(2006,MONTH(C3847),DAY(C3847)))","v":5},6.4,6.4,6.6,5.8,6.3,6.9,7,5.8,6,6.9]
["IA19817","IA","1981-04-12",{"$f":"COUNTIF(Calculations!$E$56:$E$98,\"<=\"&DATE(2006,MONTH(C3848),DAY(C3848)))","v":7},4.8,5.7,4.2,3.2,6.1,4.5999999999999996,4.0999999999999996,5.7,5,5.0999999999999996]
["IA19818","IA","1981-04-19",{"$f":"COUNTIF(Calculations!$E$56:$E$98,\"<=\"&DATE(2006,MONTH(C3849),DAY(C3849)))","v":8},3,5.8,3.3,1.7,5.7,3.3,1.2,3.7,1.2,0.1]
["IA19819","IA","1981-04-26",{"$f":"COUNTIF(Calculations!$E$56:$E$98,\"<=\"&DATE(2006,MONTH(C3850),DAY(C3850)))","v":9},3.2,4.0999999999999996,2.9,1.9,5.0999999999999996,3.9,1.9,3.8,1.9,1]
["IA198110","IA","1981-05-03",{"$f":"COUNTIF(Calculations!$E$56:$E$98,\"<=\"&DATE(2006,MONTH(C3851),DAY(C3851)))","v":10},5.0999999999999996,6.7,4.8,1.9,6.9,6.4,3.3,6.7,6,2.6]
["IA198111","IA","1981-05-10",{"$f":"COUNTIF(Calculations!$E$56:$E$98,\"<=\"&DATE(2006,MONTH(C3852),DAY(C3852)))","v":11},5,4.7,3.7,4.3,4.5999999999999996,6.3,5.2,5.8,6.3,4.2]
["IA198112","IA","1981-05-17",{"$f":"COUNTIF(Calculations!$E$56:$E$98,\"<=\"&DATE(2006,MONTH(C3853),DAY(C3853)))","v":12},5.0999999999999996,4.3,4.9000000000000004,6.6,5.3,6.2,5,4.8,4.5,2.8]
["IA198113","IA","1981-05-24",{"$f":"COUNTIF(Calculations!$E$56:$E$98,\"<=\"&DATE(2006,MONTH(C3854),DAY(C3854)))","v":13},5.6,6.1,6.6,6.9,5.5,6.2,6,4.2,4.0999999999999996,3.6]
["IA198114","IA","1981-05-31",{"$f":"COUNTIF(Calculations!$E$56:$E$98,\"<=\"&DATE(2006,MONTH(C3855),DAY(C3855)))","v":14},4.9000000000000004,4.9000000000000004,2.6,3.9,5.5,5.9,5.8,6.3,5.5,4]
["IA198115","IA","1981-06-07",{"$f":"COUNTIF(Calculations!$E$56:$E$98,\"<=\"&DATE(2006,MONTH(C3856),DAY(C3856)))","v":15},6.2,5.6,5.7,6.1,6.3,6.5,6.7,5.6,6.8,6.3]
["IA198116","IA","1981-06-14",{"$f":"COUNTIF(Calculations!$E$56:$E$98,\"<=\"&DATE(2006,MONTH(C3857),DAY(C3857)))","v":16},5.7,4.5999999999999996,5.0999999999999996,5.2,6.6,6.1,6.1,6.4,4.5,6]
["IA198117","IA","1981-06-21",{"$f":"COUNTIF(Calculations!$E$56:$E$98,\"<=\"&DATE(2006,MONTH(C3858),DAY(C3858)))","v":17},4.5,4,4.0999999999999996,4.8,5.5,4.8,3.9,5.4,4.4000000000000004,3.4]
[{"$f":"B3859&YEAR(C3859)&D3859","v":"IA198118"},"IA","1981-06-28",{"$f":"COUNTIF(Calculations!$E$56:$E$98,\"<=\"&DATE(2006,MONTH(C3859),DAY(C3859)))","v":18},4.3,5,3.2,3.6,6.3,4.5,3.5,5.7,3.7,1.7]
["IA198119","IA","1981-07-05",{"$f":"COUNTIF(Calculations!$E$56:$E$98,\"<=\"&DATE(2006,MONTH(C3860),DAY(C3860)))","v":19},4.5,5,4.2,5.6,4.5,5,4.5,4.9000000000000004,3.8,2.5]
["IA198120","IA","1981-07-12",{"$f":"COUNTIF(Calculations!$E$56:$E$98,\"<=\"&DATE(2006,MONTH(C3861),DAY(C3861)))","v":20},5.5,5.9,7,6.7,5.4,5.8,6.3,5.2,3.4,4.0999999999999996]
["IA198121","IA","1981-07-19",{"$f":"COUNTIF(Calculations!$E$56:$E$98,\"<=\"&DATE(2006,MONTH(C3862),DAY(C3862)))","v":21},5.3,6.7,4.9000000000000004,4.7,6.5,6.1,5.0999999999999996,4.8,4.7,3.7]
["IA198122","IA","1981-07-26",{"$f":"COUNTIF(Calculations!$E$56:$E$98,\"<=\"&DATE(2006,MONTH(C3863),DAY(C3863)))","v":22},4.4000000000000004,4.5999999999999996,2.5,4.5,5.5,5.4,5.4,4.3,3.8,3.3]
["IA198123","IA","1981-08-02",{"$f":"COUNTIF(Calculations!$E$56:$E$98,\"<=\"&DATE(2006,MONTH(C3864),DAY(C3864)))","v":23},3.3,3.8,3.4,4.4000000000000004,3.5,3.6,2.9,2.5,2.1,2.1]
["IA198125","IA","1981-08-16",{"$f":"COUNTIF(Calculations!$E$56:$E$98,\"<=\"&DATE(2006,MONTH(C3865),DAY(C3865)))","v":25},5.4,5.0999999999999996,5.3,5.5,6,5.7,4.5999999999999996,5.6,5.5,5.0999999999999996]
["IA198126","IA","1981-08-23",{"$f":"COUNTIF(Calculations!$E$56:$E$98,\"<=\"&DATE(2006,MONTH(C3866),DAY(C3866)))","v":26},6.8,6.7,6.9,6.7,6.8,6.9,6.6,6.8,7,6.2]
["IA198127","IA","1981-08-30",{"$f":"COUNTIF(Calculations!$E$56:$E$98,\"<=\"&DATE(2006,MONTH(C3867),DAY(C3867)))","v":27},3.1,1.6,2.9,3.5,2.7,3.3,3.3,1.5,3.2,5.5]
["IA198128","IA","1981-09-06",{"$f":"COUNTIF(Calculations!$E$56:$E$98,\"<=\"&DATE(2006,MONTH(C3868),DAY(C3868)))","v":28},5,5.4,5.2,3.4,5.3,5,4.4000000000000004,5.9,5.0999999999999996,5.0999999999999996]
["IA198129","IA","1981-09-13",{"$f":"COUNTIF(Calculations!$E$56:$E$98,\"<=\"&DATE(2006,MONTH(C3869),DAY(C3869)))","v":29},5.8,6.4,6.1,5.6,6.1,5.8,5.3,5.4,5.4,5.2]
["IA198130","IA","1981-09-20",{"$f":"COUNTIF(Calculations!$E$56:$E$98,\"<=\"&DATE(2006,MONTH(C3870),DAY(C3870)))","v":30},6.7,6.6,6.8,6.7,6.4,6.9,6.3,7,7,6.6]
["IA198131","IA","1981-09-27",{"$f":"COUNTIF(Calculations!$E$56:$E$98,\"<=\"&DATE(2006,MONTH(C3871),DAY(C3871)))","v":31},5.7,5.6,5.7,5.8,5.5,5.7,5.4,6.1,5.7,5.9]
["IA198132","IA","1981-10-04",{"$f":"COUNTIF(Calculations!$E$56:$E$98,\"<=\"&DATE(2006,MONTH(C3872),DAY(C3872)))","v":32},5.6,5.4,4.9000000000000004,4.7,6.4,6.1,4,6.9,6.4,5.0999999999999996]
["IA198133","IA","1981-10-11",{"$f":"COUNTIF(Calculations!$E$56:$E$98,\"<=\"&DATE(2006,MONTH(C3873),DAY(C3873)))","v":33},4.5999999999999996,3,3.8,5.3,4.2,5.2,4.9000000000000004,4.9000000000000004,5.6,5.4]
["IA198134","IA","1981-10-18",{"$f":"COUNTIF(Calculations!$E$56:$E$98,\"<=\"&DATE(2006,MONTH(C3874),DAY(C3874)))","v":34},3.9,3.4,3.6,4.0999999999999996,4.3,4.5999999999999996,3.7,3,4.2,3.4]
["IA198135","IA","1981-10-25",{"$f":"COUNTIF(Calculations!$E$56:$E$98,\"<=\"&DATE(2006,MONTH(C3875),DAY(C3875)))","v":35},5,4.9000000000000004,4.7,4.9000000000000004,5.4,5.5,4.0999999999999996,5.5,5.2,4.4000000000000004]
["IA198136","IA","1981-11-01",{"$f":"COUNTIF(Calculations!$E$56:$E$98,\"<=\"&DATE(2006,MONTH(C3876),DAY(C3876)))","v":36},5.8,5.0999999999999996,5,5.7,5.5,6,6.7,6.5,6.4,6.1]
["IA198137","IA","1981-11-08",{"$f":"COUNTIF(Calculations!$E$56:$E$98,\"<=\"&DATE(2006,MONTH(C3877),DAY(C3877)))","v":37},2.5,5.4,5.3,3.8,2.6,1,1.2,1.5,0.4,0.2]
["IA198139","IA","1981-11-22",{"$f":"COUNTIF(Calculations!$E$56:$E$98,\"<=\"&DATE(2006,MONTH(C3878),DAY(C3878)))","v":39},4.8,5,4.9000000000000004,4.7,4.9000000000000004,5,4.3,5.3,5.2,3.4]
["IA19828","IA","1982-04-18",{"$f":"COUNTIF(Calculations!$E$56:$E$98,\"<=\"&DATE(2006,MONTH(C3879),DAY(C3879)))","v":8},1.6,1.7,0.4,0.4,2.7,1.4,0.9,3.5,1.7,1.3]
["IA198210","IA","1982-05-02",{"$f":"COUNTIF(Calculations!$E$56:$E$98,\"<=\"&DATE(2006,MONTH(C3880),DAY(C3880)))","v":10},6.3,6.8,6.5,6.8,6,6.5,6.9,4.9000000000000004,5.5,6.3]
["IA198211","IA","1982-05-09",{"$f":"COUNTIF(Calculations!$E$56:$E$98,\"<=\"&DATE(2006,MONTH(C3881),DAY(C3881)))","v":11},4.0999999999999996,4.7,3.9,3.8,4.0999999999999996,3.9,3.9,3.6,4,4.7]
["IA198212","IA","1982-05-16",{"$f":"COUNTIF(Calculations!$E$56:$E$98,\"<=\"&DATE(2006,MONTH(C3882),DAY(C3882)))","v":12},2.8,3.3,2.2000000000000002,1.9,2.1,2.7,3.7,2.1,2.7,5.5]
["IA198213","IA","1982-05-23",{"$f":"COUNTIF(Calculations!$E$56:$E$98,\"<=\"&DATE(2006,MONTH(C3883),DAY(C3883)))","v":13},1.4,1,0.6,2.2000000000000002,0.4,0.5,3.8,0.4,0.9,4.9000000000000004]
["IA198214","IA","1982-05-30",{"$f":"COUNTIF(Calculations!$E$56:$E$98,\"<=\"&DATE(2006,MONTH(C3884),DAY(C3884)))","v":14},0.3,0.4,0,0,0.4,0,1.2,0.1,0.1,0.5]
["IA198215","IA","1982-06-06",{"$f":"COUNTIF(Calculations!$E$56:$E$98,\"<=\"&DATE(2006,MONTH(C3885),DAY(C3885)))","v":15},3.2,3.7,4,4.5999999999999996,3.6,3.3,3.6,3.3,0.9,1.2]
["IA198216","IA","1982-06-13",{"$f":"COUNTIF(Calculations!$E$56:$E$98,\"<=\"&DATE(2006,MONTH(C3886),DAY(C3886)))","v":16},4.5999999999999996,5.5,3.7,4.8,5.4,4.5,5.9,4.3,3.5,4]
["IA198217","IA","1982-06-20",{"$f":"COUNTIF(Calculations!$E$56:$E$98,\"<=\"&DATE(2006,MONTH(C3887),DAY(C3887)))","v":17},3.7,5,4.2,4.3,4.4000000000000004,3.2,2.9,2.8,3.1,3.5]
["IA198218","IA","1982-06-27",{"$f":"COUNTIF(Calculations!$E$56:$E$98,\"<=\"&DATE(2006,MONTH(C3888),DAY(C3888)))","v":18},6.4,6.5,5.8,6.1,6.6,6.7,6.6,6.7,6.6,6.3]
["IA198219","IA","1982-07-04",{"$f":"COUNTIF(Calculations!$E$56:$E$98,\"<=\"&DATE(2006,MONTH(C3889),DAY(C3889)))","v":19},5.4,6.4,6.7,6.5,5,6.2,5.6,3.9,3.9,3.9]
["IA198220","IA","1982-07-11",{"$f":"COUNTIF(Calculations!$E$56:$E$98,\"<=\"&DATE(2006,MONTH(C3890),DAY(C3890)))","v":20},4.5,3.8,5,5.5,5.2,4.4000000000000004,4.7,5,3.3,2.6]
["IA198221","IA","1982-07-18",{"$f":"COUNTIF(Calculations!$E$56:$E$98,\"<=\"&DATE(2006,MONTH(C3891),DAY(C3891)))","v":21},4,4.0999999999999996,3.6,4.7,5.2,3.7,2.5,6.2,2.6,2]
["IA198222","IA","1982-07-25",{"$f":"COUNTIF(Calculations!$E$56:$E$98,\"<=\"&DATE(2006,MONTH(C3892),DAY(C3892)))","v":22},4.4000000000000004,5,5.7,5.3,4.9000000000000004,4.2,3.6,5.9,2.9,2.2000000000000002]
["IA198223","IA","1982-08-01",{"$f":"COUNTIF(Calculations!$E$56:$E$98,\"<=\"&DATE(2006,MONTH(C3893),DAY(C3893)))","v":23},6.4,6.8,6.2,6.2,6.8,6.8,5.9,6.3,5.7,6.5]
["IA198224","IA","1982-08-08",{"$f":"COUNTIF(Calculations!$E$56:$E$98,\"<=\"&DATE(2006,MONTH(C3894),DAY(C3894)))","v":24},5,5.7,4.5,4.0999999999999996,5.5,4.4000000000000004,4.5,5.6,5.0999999999999996,5]
["IA198225","IA","1982-08-15",{"$f":"COUNTIF(Calculations!$E$56:$E$98,\"<=\"&DATE(2006,MONTH(C3895),DAY(C3895)))","v":25},5.8,6.7,6.5,6.8,5.5,6.4,5.5,3.6,4.5999999999999996,5.5]
["IA198226","IA","1982-08-22",{"$f":"COUNTIF(Calculations!$E$56:$E$98,\"<=\"&DATE(2006,MONTH(C3896),DAY(C3896)))","v":26},6.2,6.9,6.9,7,6.3,6.6,6.9,4.2,4.5,6.2]
["IA198227","IA","1982-08-29",{"$f":"COUNTIF(Calculations!$E$56:$E$98,\"<=\"&DATE(2006,MONTH(C3897),DAY(C3897)))","v":27},5.9,6.2,5.6,6,6,6.6,6.5,4.7,5.6,5.4]
["IA198228","IA","1982-09-05",{"$f":"COUNTIF(Calculations!$E$56:$E$98,\"<=\"&DATE(2006,MONTH(C3898),DAY(C3898)))","v":28},3.9,4,3.3,3.9,3.9,3.9,4.7,4.3,3.2,4.4000000000000004]
["IA198229","IA","1982-09-12",{"$f":"COUNTIF(Calculations!$E$56:$E$98,\"<=\"&DATE(2006,MONTH(C3899),DAY(C3899)))","v":29},5.0999999999999996,5.2,5.3,4.7,6.1,5.8,4.8,5.3,4.2,3.6]
["IA198230","IA","1982-09-19",{"$f":"COUNTIF(Calculations!$E$56:$E$98,\"<=\"&DATE(2006,MONTH(C3900),DAY(C3900)))","v":30},2.7,1.7,2.2999999999999998,2.5,2,3.1,4.3,3.1,2.2999999999999998,3.2]
["IA198231","IA","1982-09-26",{"$f":"COUNTIF(Calculations!$E$56:$E$98,\"<=\"&DATE(2006,MONTH(C3901),DAY(C3901)))","v":31},5.7,6.2,6.7,5.3,5.9,6.3,6,4.7,4.5999999999999996,5.4]
["IA198232","IA","1982-10-03",{"$f":"COUNTIF(Calculations!$E$56:$E$98,\"<=\"&DATE(2006,MONTH(C3902),DAY(C3902)))","v":32},5.2,3.8,4,6,3.8,5.8,6.9,4.9000000000000004,6.3,6.7]
["IA198233","IA","1982-10-10",{"$f":"COUNTIF(Calculations!$E$56:$E$98,\"<=\"&DATE(2006,MONTH(C3903),DAY(C3903)))","v":33},4.0999999999999996,2.8,2.7,4.9000000000000004,3.4,3.9,5.8,4.3,3.9,5.6]
["IA198234","IA","1982-10-17",{"$f":"COUNTIF(Calculations!$E$56:$E$98,\"<=\"&DATE(2006,MONTH(C3904),DAY(C3904)))","v":34},4,1.9,2.7,5,3.2,5,4.5999999999999996,4.7,4,5.9]
["IA198235","IA","1982-10-24",{"$f":"COUNTIF(Calculations!$E$56:$E$98,\"<=\"&DATE(2006,MONTH(C3905),DAY(C3905)))","v":35},4.3,3.3,3.6,4.7,3.7,4.7,4.9000000000000004,5,4.9000000000000004,4.9000000000000004]
["IA198236","IA","1982-10-31",{"$f":"COUNTIF(Calculations!$E$56:$E$98,\"<=\"&DATE(2006,MONTH(C3906),DAY(C3906)))","v":36},5.3,5.8,4.9000000000000004,4.9000000000000004,5.7,5.3,5.5,5.4,4.8,5.6]
["IA198237","IA","1982-11-07",{"$f":"COUNTIF(Calculations!$E$56:$E$98,\"<=\"&DATE(2006,MONTH(C3907),DAY(C3907)))","v":37},5.4,6.7,6,4.5999999999999996,6.6,5,4.2,5.4,4.4000000000000004,4.4000000000000004]
["IA198238","IA","1982-11-14",{"$f":"COUNTIF(Calculations!$E$56:$E$98,\"<=\"&DATE(2006,MONTH(C3908),DAY(C3908)))","v":38},3.7,3.2,3,2.8,3.7,3.5,3.9,5.0999999999999996,4.7,4.5]
["IA198239","IA","1982-11-21",{"$f":"COUNTIF(Calculations!$E$56:$E$98,\"<=\"&DATE(2006,MONTH(C3909),DAY(C3909)))","v":39},4.8,4.0999999999999996,4.3,5.0999999999999996,4.9000000000000004,5.2,4.7,5.5,4.9000000000000004,4.9000000000000004]
["IA198240","IA","1982-11-28",{"$f":"COUNTIF(Calculations!$E$56:$E$98,\"<=\"&DATE(2006,MONTH(C3910),DAY(C3910)))","v":40},5.2,4.7,5.0999999999999996,5.4,5.5,5.3,5.8,6.2,4.3,4.2]
["IA19839","IA","1983-04-24",{"$f":"COUNTIF(Calculations!$E$56:$E$98,\"<=\"&DATE(2006,MONTH(C3911),DAY(C3911)))","v":9},1.6,0.4,0.9,3.1,0.9,1.6,3.6,2.2000000000000002,0.5,1.6]
["IA198310","IA","1983-05-01",{"$f":"COUNTIF(Calculations!$E$56:$E$98,\"<=\"&DATE(2006,MONTH(C3912),DAY(C3912)))","v":10},5.6,3.3,5,6.6,5.7,6,6.9,6,5.7,6]
["IA198311","IA","1983-05-08",{"$f":"COUNTIF(Calculations!$E$56:$E$98,\"<=\"&DATE(2006,MONTH(C3913),DAY(C3913)))","v":11},2.8,1.9,3.2,3.7,2.2000000000000002,2.6,2.7,2.7,3.8,2.9]
["IA198312","IA","1983-05-15",{"$f":"COUNTIF(Calculations!$E$56:$E$98,\"<=\"&DATE(2006,MONTH(C3914),DAY(C3914)))","v":12},4.3,4.5999999999999996,3.6,3.7,4.5,3.7,4.2,5.3,4,4.9000000000000004]
["IA198313","IA","1983-05-22",{"$f":"COUNTIF(Calculations!$E$56:$E$98,\"<=\"&DATE(2006,MONTH(C3915),DAY(C3915)))","v":13},2.4,3.4,2.4,2,2.2999999999999998,2.2999999999999998,2.4,1.8,2,2.8]
["IA198314","IA","1983-05-29",{"$f":"COUNTIF(Calculations!$E$56:$E$98,\"<=\"&DATE(2006,MONTH(C3916),DAY(C3916)))","v":14},4.5,6.2,4.5999999999999996,2.7,6,3.8,4.5999999999999996,4.8,3.4,4.8]
["IA198315","IA","1983-06-05",{"$f":"COUNTIF(Calculations!$E$56:$E$98,\"<=\"&DATE(2006,MONTH(C3917),DAY(C3917)))","v":15},4.7,6,4.5,3.1,6.1,4.5999999999999996,4.5,5.4,4.3,2.9]
["IA198316","IA","1983-06-12",{"$f":"COUNTIF(Calculations!$E$56:$E$98,\"<=\"&DATE(2006,MONTH(C3918),DAY(C3918)))","v":16},6.3,6.8,6.6,6.3,6.8,6.4,6.3,5.4,5.4,5.9]
["IA198317","IA","1983-06-19",{"$f":"COUNTIF(Calculations!$E$56:$E$98,\"<=\"&DATE(2006,MONTH(C3919),DAY(C3919)))","v":17},5,3.5,4.7,6.7,4.0999999999999996,5.4,7,3.2,4.9000000000000004,6.6]
["IA198318","IA","1983-06-26",{"$f":"COUNTIF(Calculations!$E$56:$E$98,\"<=\"&DATE(2006,MONTH(C3920),DAY(C3920)))","v":18},5.3,3,4.2,6.1,4.3,5.6,6.4,5.4,6.1,6.6]
["IA198319","IA","1983-07-03",{"$f":"COUNTIF(Calculations!$E$56:$E$98,\"<=\"&DATE(2006,MONTH(C3921),DAY(C3921)))","v":19},2.6,0.9,1.7,2.4,2.7,1.4,3.8,2.6,3.7,4.9000000000000004]
["IA198320","IA","1983-07-10",{"$f":"COUNTIF(Calculations!$E$56:$E$98,\"<=\"&DATE(2006,MONTH(C3922),DAY(C3922)))","v":20},5.5,5,4.8,5.0999999999999996,6.4,4.3,4.8,6.9,6.2,5.9]
[{"$f":"B3923&YEAR(C3923)&D3923","v":"IA198321"},"IA","1983-07-17",{"$f":"COUNTIF(Calculations!$E$56:$E$98,\"<=\"&DATE(2006,MONTH(C3923),DAY(C3923)))","v":21},7,6.9,7,7,7,6.8,7,7,7,7]
["IA198322","IA","1983-07-24",{"$f":"COUNTIF(Calculations!$E$56:$E$98,\"<=\"&DATE(2006,MONTH(C3924),DAY(C3924)))","v":22},6.6,5.3,6.2,6.5,6.7,6.6,7,7,7,7]
["IA198323","IA","1983-07-31",{"$f":"COUNTIF(Calculations!$E$56:$E$98,\"<=\"&DATE(2006,MONTH(C3925),DAY(C3925)))","v":23},6,4.0999999999999996,5.9,6.4,4.8,6.1,6.8,6.3,6.9,7]
["IA198324","IA","1983-08-07",{"$f":"COUNTIF(Calculations!$E$56:$E$98,\"<=\"&DATE(2006,MONTH(C3926),DAY(C3926)))","v":24},6.8,6.8,6.9,6.7,6.7,6.7,6.9,7,6.9,6.7]
["IA198325","IA","1983-08-14",{"$f":"COUNTIF(Calculations!$E$56:$E$98,\"<=\"&DATE(2006,MONTH(C3927),DAY(C3927)))","v":25},6.9,6.9,7,6.9,7,6.9,6.9,6.8,6.8,7]
["IA198326","IA","1983-08-21",{"$f":"COUNTIF(Calculations!$E$56:$E$98,\"<=\"&DATE(2006,MONTH(C3928),DAY(C3928)))","v":26},7,6.9,6.9,7,7,7,7,7,7,7]
["IA198327","IA","1983-08-28",{"$f":"COUNTIF(Calculations!$E$56:$E$98,\"<=\"&DATE(2006,MONTH(C3929),DAY(C3929)))","v":27},6,5.5,5.7,5.4,5.6,6,6.4,6,6.7,6.7]
["IA198328","IA","1983-09-04",{"$f":"COUNTIF(Calculations!$E$56:$E$98,\"<=\"&DATE(2006,MONTH(C3930),DAY(C3930)))","v":28},5.7,5.3,5.9,5.6,5.7,4.8,6.1,6.9,5.6,6.3]
["IA198329","IA","1983-09-11",{"$f":"COUNTIF(Calculations!$E$56:$E$98,\"<=\"&DATE(2006,MONTH(C3931),DAY(C3931)))","v":29},6.1,5.5,5.8,5.9,6.3,5.5,6.2,6.8,6.7,6.5]
["IA198330","IA","1983-09-18",{"$f":"COUNTIF(Calculations!$E$56:$E$98,\"<=\"&DATE(2006,MONTH(C3932),DAY(C3932)))","v":30},5,5,4.7,5,5.0999999999999996,4.5999999999999996,4.9000000000000004,5.7,5.0999999999999996,5.2]
["IA198331","IA","1983-09-25",{"$f":"COUNTIF(Calculations!$E$56:$E$98,\"<=\"&DATE(2006,MONTH(C3933),DAY(C3933)))","v":31},4.0999999999999996,4.2,2.8,3.5,4.8,3.8,3.9,5.3,4.5999999999999996,4.0999999999999996]
["IA198332","IA","1983-10-02",{"$f":"COUNTIF(Calculations!$E$56:$E$98,\"<=\"&DATE(2006,MONTH(C3934),DAY(C3934)))","v":32},6.1,4.8,6.2,6.7,5.7,6.9,6.3,6.5,6.7,5.7]
["IA198333","IA","1983-10-09",{"$f":"COUNTIF(Calculations!$E$56:$E$98,\"<=\"&DATE(2006,MONTH(C3935),DAY(C3935)))","v":33},5.9,5.5,5.8,5.7,5.0999999999999996,5.9,6.9,5.3,6.5,7]
["IA198334","IA","1983-10-16",{"$f":"COUNTIF(Calculations!$E$56:$E$98,\"<=\"&DATE(2006,MONTH(C3936),DAY(C3936)))","v":34},4,3.5,4,4.7,3.5,3.2,4.8,3.8,3.9,5.2]
["IA198335","IA","1983-10-23",{"$f":"COUNTIF(Calculations!$E$56:$E$98,\"<=\"&DATE(2006,MONTH(C3937),DAY(C3937)))","v":35},3,3,2.8,2.9,3,2.2999999999999998,3.7,3.3,2.5,3.5]
["IA198336","IA","1983-10-30",{"$f":"COUNTIF(Calculations!$E$56:$E$98,\"<=\"&DATE(2006,MONTH(C3938),DAY(C3938)))","v":36},4.5,4.5999999999999996,4.8,5.2,4.3,4.5999999999999996,5.0999999999999996,4.0999999999999996,3.7,4.3]
["IA198337","IA","1983-11-06",{"$f":"COUNTIF(Calculations!$E$56:$E$98,\"<=\"&DATE(2006,MONTH(C3939),DAY(C3939)))","v":37},3.7,4.0999999999999996,6.2,6.4,4.2,2.9,3.3,2.8,0.7,1.7]
["IA19847","IA","1984-04-08",{"$f":"COUNTIF(Calculations!$E$56:$E$98,\"<=\"&DATE(2006,MONTH(C3940),DAY(C3940)))","v":7},0.5,0.2,0.3,1.2,0.7,0.6,1.4,0.3,0,0.2]
["IA19848","IA","1984-04-15",{"$f":"COUNTIF(Calculations!$E$56:$E$98,\"<=\"&DATE(2006,MONTH(C3941),DAY(C3941)))","v":8},0.6,0,0.1,2.9,0.1,0.2,2.6,0.1,0.2,0.2]
["IA19849","IA","1984-04-22",{"$f":"COUNTIF(Calculations!$E$56:$E$98,\"<=\"&DATE(2006,MONTH(C3942),DAY(C3942)))","v":9},2.9,1.9,2.7,4.5999999999999996,3.3,3.4,3.7,2.9,1.3,1.9]
["IA198410","IA","1984-04-29",{"$f":"COUNTIF(Calculations!$E$56:$E$98,\"<=\"&DATE(2006,MONTH(C3943),DAY(C3943)))","v":10},2.4,1.6,3.1,3.6,2.2000000000000002,2.7,3.7,2,0.8,2]
["IA198411","IA","1984-05-06",{"$f":"COUNTIF(Calculations!$E$56:$E$98,\"<=\"&DATE(2006,MONTH(C3944),DAY(C3944)))","v":11},0.8,0.2,0.6,1.1000000000000001,0.7,1,1.6,0.4,0.4,1.2]
["IA198412","IA","1984-05-13",{"$f":"COUNTIF(Calculations!$E$56:$E$98,\"<=\"&DATE(2006,MONTH(C3945),DAY(C3945)))","v":12},3.4,2.5,3.3,4.5999999999999996,2.6,3.9,4.8,3,2.9,2.7]
["IA198413","IA","1984-05-20",{"$f":"COUNTIF(Calculations!$E$56:$E$98,\"<=\"&DATE(2006,MONTH(C3946),DAY(C3946)))","v":13},6.2,5.9,5.5,5.9,6.3,6.6,7,5.9,6.5,6.3]
["IA198414","IA","1984-05-27",{"$f":"COUNTIF(Calculations!$E$56:$E$98,\"<=\"&DATE(2006,MONTH(C3947),DAY(C3947)))","v":14},3.3,5.0999999999999996,4.5,4.8,3.3,3.6,3.3,1.7,0.9,2.2999999999999998]
["IA198415","IA","1984-06-03",{"$f":"COUNTIF(Calculations!$E$56:$E$98,\"<=\"&DATE(2006,MONTH(C3948),DAY(C3948)))","v":15},3.3,4.2,4.3,3.8,3.2,3.1,3.1,2.8,2,2.1]
["IA198416","IA","1984-06-10",{"$f":"COUNTIF(Calculations!$E$56:$E$98,\"<=\"&DATE(2006,MONTH(C3949),DAY(C3949)))","v":16},4.8,4.8,5.2,5.0999999999999996,3.9,5,4.5999999999999996,4,5.2,4.5999999999999996]
["IA198417","IA","1984-06-17",{"$f":"COUNTIF(Calculations!$E$56:$E$98,\"<=\"&DATE(2006,MONTH(C3950),DAY(C3950)))","v":17},1.6,1,1.2,3.4,0.9,1.5,2.9,0.4,0.6,2.5]
["IA198418","IA","1984-06-24",{"$f":"COUNTIF(Calculations!$E$56:$E$98,\"<=\"&DATE(2006,MONTH(C3951),DAY(C3951)))","v":18},2.9,1,2.2000000000000002,4,2.2999999999999998,3,3.2,3.2,3.7,5.5]
["IA198419","IA","1984-07-01",{"$f":"COUNTIF(Calculations!$E$56:$E$98,\"<=\"&DATE(2006,MONTH(C3952),DAY(C3952)))","v":19},5.7,5.5,5.0999999999999996,6.1,5.7,5.2,6.1,6.7,6.3,5.4]
["IA198420","IA","1984-07-08",{"$f":"COUNTIF(Calculations!$E$56:$E$98,\"<=\"&DATE(2006,MONTH(C3953),DAY(C3953)))","v":20},6.4,6.8,6.8,6.3,6.5,6.7,6.3,6,5.7,6.4]
["IA198421","IA","1984-07-15",{"$f":"COUNTIF(Calculations!$E$56:$E$98,\"<=\"&DATE(2006,MONTH(C3954),DAY(C3954)))","v":21},5.9,4.9000000000000004,5.0999999999999996,5.5,6.9,5.5,4.8,7,6.8,6.4]
["IA198422","IA","1984-07-22",{"$f":"COUNTIF(Calculations!$E$56:$E$98,\"<=\"&DATE(2006,MONTH(C3955),DAY(C3955)))","v":22},5.0999999999999996,5.8,4.9000000000000004,5.4,5.9,4,5.5,6,4.9000000000000004,4.3]
["IA198423","IA","1984-07-29",{"$f":"COUNTIF(Calculations!$E$56:$E$98,\"<=\"&DATE(2006,MONTH(C3956),DAY(C3956)))","v":23},5.2,5.9,5.9,6,5.7,4.7,4.4000000000000004,5.4,4.7,3.7]
["IA198424","IA","1984-08-05",{"$f":"COUNTIF(Calculations!$E$56:$E$98,\"<=\"&DATE(2006,MONTH(C3957),DAY(C3957)))","v":24},6.6,6.5,6.4,6.9,6.7,6.6,6.8,6.6,6,7]
["IA198425","IA","1984-08-12",{"$f":"COUNTIF(Calculations!$E$56:$E$98,\"<=\"&DATE(2006,MONTH(C3958),DAY(C3958)))","v":25},6.5,5.5,6.5,6.4,6.8,6.7,6.7,6.8,6.7,6.7]
["IA198426","IA","1984-08-19",{"$f":"COUNTIF(Calculations!$E$56:$E$98,\"<=\"&DATE(2006,MONTH(C3959),DAY(C3959)))","v":26},6.5,5.3,6.8,6.5,6.4,6.9,6.8,6.9,7,6.7]
["IA198427","IA","1984-08-26",{"$f":"COUNTIF(Calculations!$E$56:$E$98,\"<=\"&DATE(2006,MONTH(C3960),DAY(C3960)))","v":27},6.3,6.3,6.2,6.3,6.2,6.5,6.5,6.2,6.4,6.6]
["IA198428","IA","1984-09-02",{"$f":"COUNTIF(Calculations!$E$56:$E$98,\"<=\"&DATE(2006,MONTH(C3961),DAY(C3961)))","v":28},7,6.9,7,7,7,7,6.9,7,6.9,7]
["IA198429","IA","1984-09-09",{"$f":"COUNTIF(Calculations!$E$56:$E$98,\"<=\"&DATE(2006,MONTH(C3962),DAY(C3962)))","v":29},6.6,6.7,6.5,6.7,6.1,6.6,7,6.2,6.8,6.7]
["IA198430","IA","1984-09-16",{"$f":"COUNTIF(Calculations!$E$56:$E$98,\"<=\"&DATE(2006,MONTH(C3963),DAY(C3963)))","v":30},5.5,6.4,6.1,6.1,5.7,4.9000000000000004,5.2,5.6,4.5999999999999996,3.2]
["IA198431","IA","1984-09-23",{"$f":"COUNTIF(Calculations!$E$56:$E$98,\"<=\"&DATE(2006,MONTH(C3964),DAY(C3964)))","v":31},6.9,6.9,7,6.9,7,7,6.9,6.8,6.9,7]
["IA198432","IA","1984-09-30",{"$f":"COUNTIF(Calculations!$E$56:$E$98,\"<=\"&DATE(2006,MONTH(C3965),DAY(C3965)))","v":32},5.6,5.3,6.1,5.7,5,5.5,4.3,5.7,6.4,5.4]
["IA198433","IA","1984-10-07",{"$f":"COUNTIF(Calculations!$E$56:$E$98,\"<=\"&DATE(2006,MONTH(C3966),DAY(C3966)))","v":33},6.5,6.8,6.9,6.9,5.8,6.5,7,6.1,6.5,6.6]
["IA198434","IA","1984-10-14",{"$f":"COUNTIF(Calculations!$E$56:$E$98,\"<=\"&DATE(2006,MONTH(C3967),DAY(C3967)))","v":34},3.1,2.5,2.5,3.2,1.5,3.8,3.5,3.9,3.9,4]
["IA198435","IA","1984-10-21",{"$f":"COUNTIF(Calculations!$E$56:$E$98,\"<=\"&DATE(2006,MONTH(C3968),DAY(C3968)))","v":35},1.5,0.9,1.8,2.2000000000000002,0.8,1.8,2.2999999999999998,1.1000000000000001,1.4,2.1]
["IA198436","IA","1984-10-28",{"$f":"COUNTIF(Calculations!$E$56:$E$98,\"<=\"&DATE(2006,MONTH(C3969),DAY(C3969)))","v":36},4.5999999999999996,5.2,5.5,5.0999999999999996,5.0999999999999996,4.9000000000000004,3.8,4.5999999999999996,3.1,3.3]
["IA198437","IA","1984-11-04",{"$f":"COUNTIF(Calculations!$E$56:$E$98,\"<=\"&DATE(2006,MONTH(C3970),DAY(C3970)))","v":37},3.9,5.6,4.5999999999999996,3.9,5.3,4,2.5,3.7,2.6,1.4]
["IA198438","IA","1984-11-11",{"$f":"COUNTIF(Calculations!$E$56:$E$98,\"<=\"&DATE(2006,MONTH(C3971),DAY(C3971)))","v":38},5.9,6.3,6.1,5.8,6.1,6.1,5.0999999999999996,6.4,5.7,5.3]
["IA19855","IA","1985-03-31",{"$f":"COUNTIF(Calculations!$E$56:$E$98,\"<=\"&DATE(2006,MONTH(C3972),DAY(C3972)))","v":5},2.4,0.4,0,1.2,2.1,1.9,1.5,4.7,4.0999999999999996,4.4000000000000004]
["IA19856","IA","1985-04-07",{"$f":"COUNTIF(Calculations!$E$56:$E$98,\"<=\"&DATE(2006,MONTH(C3973),DAY(C3973)))","v":6},0.9,0.2,0.2,0.6,0.3,0.6,1.5,2.1,1.7,2.4]
["IA19857","IA","1985-04-14",{"$f":"COUNTIF(Calculations!$E$56:$E$98,\"<=\"&DATE(2006,MONTH(C3974),DAY(C3974)))","v":7},4.3,3.1,3.1,3,4.5,4.7,4.7,6,5.3,4.9000000000000004]
["IA19858","IA","1985-04-21",{"$f":"COUNTIF(Calculations!$E$56:$E$98,\"<=\"&DATE(2006,MONTH(C3975),DAY(C3975)))","v":8},6.6,6.4,6.6,6.8,6.5,7,6.8,6.2,6.8,6.5]
["IA19859","IA","1985-04-28",{"$f":"COUNTIF(Calculations!$E$56:$E$98,\"<=\"&DATE(2006,MONTH(C3976),DAY(C3976)))","v":9},4.0999999999999996,1.9,2.4,3.3,2.2999999999999998,4.2,5.4,4,6.6,6.6]
["IA198510","IA","1985-05-05",{"$f":"COUNTIF(Calculations!$E$56:$E$98,\"<=\"&DATE(2006,MONTH(C3977),DAY(C3977)))","v":10},4.9000000000000004,3.3,5.6,6.5,3.3,6.4,6.3,2.5,4.2,5.7]
["IA198511","IA","1985-05-12",{"$f":"COUNTIF(Calculations!$E$56:$E$98,\"<=\"&DATE(2006,MONTH(C3978),DAY(C3978)))","v":11},6.3,6.6,6.7,6.2,5.8,5.6,6.1,6.7,6.5,6.7]
["IA198512","IA","1985-05-19",{"$f":"COUNTIF(Calculations!$E$56:$E$98,\"<=\"&DATE(2006,MONTH(C3979),DAY(C3979)))","v":12},2.5,2.1,2.5,1.7,2.5,4,1.5,3,3.4,1.8]
["IA198513","IA","1985-05-26",{"$f":"COUNTIF(Calculations!$E$56:$E$98,\"<=\"&DATE(2006,MONTH(C3980),DAY(C3980)))","v":13},6,4.9000000000000004,6.3,6.7,5.6,6.3,6.5,5.2,5.9,6.4]
["IA198514","IA","1985-06-02",{"$f":"COUNTIF(Calculations!$E$56:$E$98,\"<=\"&DATE(2006,MONTH(C3981),DAY(C3981)))","v":14},5.8,5.2,6.6,6.2,5,6.7,6.1,5.8,6.4,5.0999999999999996]
["IA198515","IA","1985-06-09",{"$f":"COUNTIF(Calculations!$E$56:$E$98,\"<=\"&DATE(2006,MONTH(C3982),DAY(C3982)))","v":15},6.6,6.3,6.5,6.8,6.1,6.8,7,6.7,6.7,6.9]
["IA198516","IA","1985-06-16",{"$f":"COUNTIF(Calculations!$E$56:$E$98,\"<=\"&DATE(2006,MONTH(C3983),DAY(C3983)))","v":16},5,4.7,3.8,5.3,5.0999999999999996,4.0999999999999996,5.4,6.6,5.9,5.4]
["IA198517","IA","1985-06-23",{"$f":"COUNTIF(Calculations!$E$56:$E$98,\"<=\"&DATE(2006,MONTH(C3984),DAY(C3984)))","v":17},6.1,6,5.3,5.8,6.3,6.1,5.8,6.8,6.1,6.4]
["IA198518","IA","1985-06-30",{"$f":"COUNTIF(Calculations!$E$56:$E$98,\"<=\"&DATE(2006,MONTH(C3985),DAY(C3985)))","v":18},4.5,4.4000000000000004,4.7,5.8,4,4.9000000000000004,6.1,3.9,3,4.5999999999999996]
["IA198519","IA","1985-07-07",{"$f":"COUNTIF(Calculations!$E$56:$E$98,\"<=\"&DATE(2006,MONTH(C3986),DAY(C3986)))","v":19},6.8,6.5,6.7,6.9,6.7,6.8,6.7,6.9,7,7]
[{"$f":"B3987&YEAR(C3987)&D3987","v":"IA198520"},"IA","1985-07-14",{"$f":"COUNTIF(Calculations!$E$56:$E$98,\"<=\"&DATE(2006,MONTH(C3987),DAY(C3987)))","v":20},6.7,6.8,6.7,6.6,6.9,6.7,5.9,6.9,6.8,6.2]
["IA198521","IA","1985-07-21",{"$f":"COUNTIF(Calculations!$E$56:$E$98,\"<=\"&DATE(2006,MONTH(C3988),DAY(C3988)))","v":21},6.3,6.8,6.6,6.7,6.7,6.4,6,5.8,5.5,5.8]
["IA198522","IA","1985-07-28",{"$f":"COUNTIF(Calculations!$E$56:$E$98,\"<=\"&DATE(2006,MONTH(C3989),DAY(C3989)))","v":22},5.5,6,6,5.8,5.4,5.9,6.1,4.0999999999999996,5,5.7]
["IA198523","IA","1985-08-04",{"$f":"COUNTIF(Calculations!$E$56:$E$98,\"<=\"&DATE(2006,MONTH(C3990),DAY(C3990)))","v":23},4.8,5.6,5.6,5.2,4.8,5.3,5.4,3.4,4,3.8]
["IA198524","IA","1985-08-11",{"$f":"COUNTIF(Calculations!$E$56:$E$98,\"<=\"&DATE(2006,MONTH(C3991),DAY(C3991)))","v":24},6.5,6.7,6.8,6.9,6.7,6.8,6.8,4.0999999999999996,6.2,6.1]
["IA198525","IA","1985-08-18",{"$f":"COUNTIF(Calculations!$E$56:$E$98,\"<=\"&DATE(2006,MONTH(C3992),DAY(C3992)))","v":25},4.9000000000000004,4.5999999999999996,5.9,5.4,5.0999999999999996,5.2,4.2,4.2,4.2,4.5]
["IA198526","IA","1985-08-25",{"$f":"COUNTIF(Calculations!$E$56:$E$98,\"<=\"&DATE(2006,MONTH(C3993),DAY(C3993)))","v":26},4.7,4.9000000000000004,4.7,5.8,4.9000000000000004,4.9000000000000004,5.6,3,3.6,4.8]
["IA198527","IA","1985-09-01",{"$f":"COUNTIF(Calculations!$E$56:$E$98,\"<=\"&DATE(2006,MONTH(C3994),DAY(C3994)))","v":27},4.5,3.3,3.7,4.0999999999999996,4.3,4.8,5.7,5.0999999999999996,5.4,5.4]
["IA198528","IA","1985-09-08",{"$f":"COUNTIF(Calculations!$E$56:$E$98,\"<=\"&DATE(2006,MONTH(C3995),DAY(C3995)))","v":28},5.0999999999999996,1.6,3,4.4000000000000004,4.9000000000000004,5.5,6.4,6.8,6.8,6.9]
["IA198529","IA","1985-09-15",{"$f":"COUNTIF(Calculations!$E$56:$E$98,\"<=\"&DATE(2006,MONTH(C3996),DAY(C3996)))","v":29},5.7,3.4,5.2,5.7,4.3,5.8,7,6.6,6.8,6.8]
["IA198530","IA","1985-09-22",{"$f":"COUNTIF(Calculations!$E$56:$E$98,\"<=\"&DATE(2006,MONTH(C3997),DAY(C3997)))","v":30},6.1,5.0999999999999996,6.3,6.4,5.6,6.4,6.6,6.6,6.2,6.4]
["IA198531","IA","1985-09-29",{"$f":"COUNTIF(Calculations!$E$56:$E$98,\"<=\"&DATE(2006,MONTH(C3998),DAY(C3998)))","v":31},1.7,2,1,1.2,1.8,1.5,1.7,2.5,1.9,2.1]
["IA198532","IA","1985-10-06",{"$f":"COUNTIF(Calculations!$E$56:$E$98,\"<=\"&DATE(2006,MONTH(C3999),DAY(C3999)))","v":32},2.5,1.5,1.5,2.8,2.2000000000000002,2.9,3.3,2.9,2.7,3.9]
["IA198533","IA","1985-10-13",{"$f":"COUNTIF(Calculations!$E$56:$E$98,\"<=\"&DATE(2006,MONTH(C4000),DAY(C4000)))","v":33},3.1,2.6,3.2,3.2,3.4,3.4,2.4,3.8,2.9,2.9]
["IA198534","IA","1985-10-20",{"$f":"COUNTIF(Calculations!$E$56:$E$98,\"<=\"&DATE(2006,MONTH(C4001),DAY(C4001)))","v":34},3.4,2.6,2.7,3.6,3.6,3.7,4.3,3.7,3.2,4]
["IA198535","IA","1985-10-27",{"$f":"COUNTIF(Calculations!$E$56:$E$98,\"<=\"&DATE(2006,MONTH(C4002),DAY(C4002)))","v":35},3.4,4.3,4.7,3.2,3.9,3.5,2.9,3.3,2,2.1]
["IA198536","IA","1985-11-03",{"$f":"COUNTIF(Calculations!$E$56:$E$98,\"<=\"&DATE(2006,MONTH(C4003),DAY(C4003)))","v":36},6,6.8,6.6,5.9,6.9,6,5.4,6.7,5.0999999999999996,4.7]
["IA198538","IA","1985-11-17",{"$f":"COUNTIF(Calculations!$E$56:$E$98,\"<=\"&DATE(2006,MONTH(C4004),DAY(C4004)))","v":38},1.6,2.4,2.5,1.3,2.1,2.5,1.3,2.2999999999999998,0.2,0.1]
["IA198539","IA","1985-11-24",{"$f":"COUNTIF(Calculations!$E$56:$E$98,\"<=\"&DATE(2006,MONTH(C4005),DAY(C4005)))","v":39},3.3,3.6,3.6,3.1,3.7,4,2.9,4.0999999999999996,2.7,2.5]
["IA198540","IA","1985-12-01",{"$f":"COUNTIF(Calculations!$E$56:$E$98,\"<=\"&DATE(2006,MONTH(C4006),DAY(C4006)))","v":40},3.5,3.8,3.8,3.3,3.9,4.2,3.1,4.3,2.9,2.7]
["IA19866","IA","1986-04-06",{"$f":"COUNTIF(Calculations!$E$56:$E$98,\"<=\"&DATE(2006,MONTH(C4007),DAY(C4007)))","v":6},3.3,2,2,4,3,4,4,3,3,5]
["IA19867","IA","1986-04-13",{"$f":"COUNTIF(Calculations!$E$56:$E$98,\"<=\"&DATE(2006,MONTH(C4008),DAY(C4008)))","v":7},4.3,3.6,3.1,5.5,4.4000000000000004,4.7,5.8,3.5,3.7,5.4]
["IA19868","IA","1986-04-20",{"$f":"COUNTIF(Calculations!$E$56:$E$98,\"<=\"&DATE(2006,MONTH(C4009),DAY(C4009)))","v":8},2.4,2,2,3,2,3,4,2,3,3]
["IA19869","IA","1986-04-27",{"$f":"COUNTIF(Calculations!$E$56:$E$98,\"<=\"&DATE(2006,MONTH(C4010),DAY(C4010)))","v":9},4.7,4,4.5,6.2,4,5.2,7,2.9,3.3,6.2]
["IA198610","IA","1986-05-04",{"$f":"COUNTIF(Calculations!$E$56:$E$98,\"<=\"&DATE(2006,MONTH(C4011),DAY(C4011)))","v":10},2.5,2,1.4,3.4,1.7,2.2000000000000002,3.8,1.5,3,4.5999999999999996]
["IA198611","IA","1986-05-11",{"$f":"COUNTIF(Calculations!$E$56:$E$98,\"<=\"&DATE(2006,MONTH(C4012),DAY(C4012)))","v":11},5.4,5.7,5.9,6.3,5.4,5.8,5.9,4.9000000000000004,4,5.3]
["IA198612","IA","1986-05-18",{"$f":"COUNTIF(Calculations!$E$56:$E$98,\"<=\"&DATE(2006,MONTH(C4013),DAY(C4013)))","v":12},1.4,1.9,0.3,2,1.5,1.2,3,0.6,0.4,2.7]
["IA198613","IA","1986-05-25",{"$f":"COUNTIF(Calculations!$E$56:$E$98,\"<=\"&DATE(2006,MONTH(C4014),DAY(C4014)))","v":13},3.5,5,5.2,4.7,4.0999999999999996,3.7,2.8,3.1,1.9,0.8]
["IA198614","IA","1986-06-01",{"$f":"COUNTIF(Calculations!$E$56:$E$98,\"<=\"&DATE(2006,MONTH(C4015),DAY(C4015)))","v":14},1.9,1.5,1.1000000000000001,2,2.8,1.1000000000000001,0.5,4,2.2999999999999998,0.8]
["IA198615","IA","1986-06-08",{"$f":"COUNTIF(Calculations!$E$56:$E$98,\"<=\"&DATE(2006,MONTH(C4016),DAY(C4016)))","v":15},4.5999999999999996,4.5999999999999996,5,5.0999999999999996,5.2,4.3,3.8,5,4.7,3.1]
["IA198616","IA","1986-06-15",{"$f":"COUNTIF(Calculations!$E$56:$E$98,\"<=\"&DATE(2006,MONTH(C4017),DAY(C4017)))","v":16},4.5,4.7,5.0999999999999996,3.7,4.0999999999999996,4.5999999999999996,3.7,5.2,4.8,4.4000000000000004]
["IA198617","IA","1986-06-22",{"$f":"COUNTIF(Calculations!$E$56:$E$98,\"<=\"&DATE(2006,MONTH(C4018),DAY(C4018)))","v":17},5.9,6.6,6,5.0999999999999996,6,5.0999999999999996,5.3,5.9,6.3,6.4]
["IA198618","IA","1986-06-29",{"$f":"COUNTIF(Calculations!$E$56:$E$98,\"<=\"&DATE(2006,MONTH(C4019),DAY(C4019)))","v":18},5.7,5.5,5,5.0999999999999996,6.2,5,5.6,6.6,6.2,6.1]
["IA198619","IA","1986-07-06",{"$f":"COUNTIF(Calculations!$E$56:$E$98,\"<=\"&DATE(2006,MONTH(C4020),DAY(C4020)))","v":19},3.3,4.0999999999999996,4.2,3.9,2.8,1.3,2.8,3.8,3.9,3.2]
["IA198620","IA","1986-07-13",{"$f":"COUNTIF(Calculations!$E$56:$E$98,\"<=\"&DATE(2006,MONTH(C4021),DAY(C4021)))","v":20},1.5,3.1,1.5,2.5,1.7,0.7,0.9,1.2,0.7,1]
["IA198621","IA","1986-07-20",{"$f":"COUNTIF(Calculations!$E$56:$E$98,\"<=\"&DATE(2006,MONTH(C4022),DAY(C4022)))","v":21},4.9000000000000004,5.2,4.9000000000000004,5.9,5.0999999999999996,5.2,6,3.6,3.2,4.0999999999999996]
["IA198622","IA","1986-07-27",{"$f":"COUNTIF(Calculations!$E$56:$E$98,\"<=\"&DATE(2006,MONTH(C4023),DAY(C4023)))","v":22},6.2,5.2,5.7,6.3,6.6,6.3,6.4,6.5,6.4,6.5]
["IA198623","IA","1986-08-03",{"$f":"COUNTIF(Calculations!$E$56:$E$98,\"<=\"&DATE(2006,MONTH(C4024),DAY(C4024)))","v":23},5.8,4.7,5.5,6.1,6,5.2,6.7,6.6,6.1,6.2]
["IA198624","IA","1986-08-10",{"$f":"COUNTIF(Calculations!$E$56:$E$98,\"<=\"&DATE(2006,MONTH(C4025),DAY(C4025)))","v":24}]
["IA198625","IA","1986-08-17",{"$f":"COUNTIF(Calculations!$E$56:$E$98,\"<=\"&DATE(2006,MONTH(C4026),DAY(C4026)))","v":25},3.8,4.5999999999999996,4.9000000000000004,4.5999999999999996,3.7,3.7,3.7,2.2999999999999998,2.9,2.6]
["IA198626","IA","1986-08-24",{"$f":"COUNTIF(Calculations!$E$56:$E$98,\"<=\"&DATE(2006,MONTH(C4027),DAY(C4027)))","v":26},6,4.5999999999999996,6.4,6.7,4.8,6.7,6.6,5.4,6,6.5]
["IA198627","IA","1986-08-31",{"$f":"COUNTIF(Calculations!$E$56:$E$98,\"<=\"&DATE(2006,MONTH(C4028),DAY(C4028)))","v":27},5.7,4.9000000000000004,5,5.0999999999999996,5.6,5.9,5.7,6.9,6.9,5.6]
["IA198628","IA","1986-09-07",{"$f":"COUNTIF(Calculations!$E$56:$E$98,\"<=\"&DATE(2006,MONTH(C4029),DAY(C4029)))","v":28},6,6.6,5.6,5.5,5.8,6,6.2,5.9,6.8,6]
["IA198629","IA","1986-09-14",{"$f":"COUNTIF(Calculations!$E$56:$E$98,\"<=\"&DATE(2006,MONTH(C4030),DAY(C4030)))","v":29},4.4000000000000004,5.6,4.7,3,5.7,4.4000000000000004,3.4,3.6,4.2,4.4000000000000004]
["IA198630","IA","1986-09-21",{"$f":"COUNTIF(Calculations!$E$56:$E$98,\"<=\"&DATE(2006,MONTH(C4031),DAY(C4031)))","v":30},2.2000000000000002,1.3,1.4,2.1,1.2,2.2999999999999998,2.2000000000000002,3,4,4]
["IA198631","IA","1986-09-28",{"$f":"COUNTIF(Calculations!$E$56:$E$98,\"<=\"&DATE(2006,MONTH(C4032),DAY(C4032)))","v":31},0.8,0.7,1.1000000000000001,0.5,1,1,0.4,1.3,0.5,0.9]
["IA198632","IA","1986-10-05",{"$f":"COUNTIF(Calculations!$E$56:$E$98,\"<=\"&DATE(2006,MONTH(C4033),DAY(C4033)))","v":32},1.3,3.9,1.7,0.8,1.6,1,0.4,0.4,0.1,0.4]
["IA198633","IA","1986-10-12",{"$f":"COUNTIF(Calculations!$E$56:$E$98,\"<=\"&DATE(2006,MONTH(C4034),DAY(C4034)))","v":33},4.3,4.2,4.2,4.5,4.5,5.0999999999999996,5.0999999999999996,4.0999999999999996,2.9,3.8]
["IA198634","IA","1986-10-19",{"$f":"COUNTIF(Calculations!$E$56:$E$98,\"<=\"&DATE(2006,MONTH(C4035),DAY(C4035)))","v":34},3.8,3.6,2.8,4,3.6,4.2,4,4.3,3.1,4.3]
["IA198635","IA","1986-10-26",{"$f":"COUNTIF(Calculations!$E$56:$E$98,\"<=\"&DATE(2006,MONTH(C4036),DAY(C4036)))","v":35},4.9000000000000004,5.2,5.2,5.3,4.3,4.9000000000000004,5.4,4.0999999999999996,4.0999999999999996,5.9]
["IA198636","IA","1986-11-02",{"$f":"COUNTIF(Calculations!$E$56:$E$98,\"<=\"&DATE(2006,MONTH(C4037),DAY(C4037)))","v":36},4.5,5.3,5.8,4.9000000000000004,4.5999999999999996,4.4000000000000004,3.7,4,3.2,3.3]
["IA198637","IA","1986-11-09",{"$f":"COUNTIF(Calculations!$E$56:$E$98,\"<=\"&DATE(2006,MONTH(C4038),DAY(C4038)))","v":37},5.8,6,6.4,6.3,5.8,6,6.2,4.5999999999999996,4.5,5.9]
["IA198638","IA","1986-11-16",{"$f":"COUNTIF(Calculations!$E$56:$E$98,\"<=\"&DATE(2006,MONTH(C4039),DAY(C4039)))","v":38},5,4.4000000000000004,4.9000000000000004,6.4,4.0999999999999996,5.3,6.7,3.9,4.7,5.4]
["IA198639","IA","1986-11-23",{"$f":"COUNTIF(Calculations!$E$56:$E$98,\"<=\"&DATE(2006,MONTH(C4040),DAY(C4040)))","v":39},3.5,3.2,3.1,2.8,4.2,2,2.8,5.2,4.5999999999999996,4.5]
["IA198640","IA","1986-11-30",{"$f":"COUNTIF(Calculations!$E$56:$E$98,\"<=\"&DATE(2006,MONTH(C4041),DAY(C4041)))","v":40},5.6,4.9000000000000004,5.5,4.8,6.1,5.6,6.7,6.8,4.3,6]
["IA19875","IA","1987-03-29",{"$f":"COUNTIF(Calculations!$E$56:$E$98,\"<=\"&DATE(2006,MONTH(C4042),DAY(C4042)))","v":5},1.3,0.4,1.3,1.5,1.7,2,1.4,0.6,0.8,1.8]
["IA19876","IA","1987-04-05",{"$f":"COUNTIF(Calculations!$E$56:$E$98,\"<=\"&DATE(2006,MONTH(C4043),DAY(C4043)))","v":6},0.4,0.4,0.5,0.2,0,0.7,0.9,0.1,0.5,0.3]
["IA19877","IA","1987-04-12",{"$f":"COUNTIF(Calculations!$E$56:$E$98,\"<=\"&DATE(2006,MONTH(C4044),DAY(C4044)))","v":7},5.0999999999999996,4.5999999999999996,5.9,5.9,3.4,6,6.3,3.8,5.0999999999999996,6.3]
["IA19878","IA","1987-04-19",{"$f":"COUNTIF(Calculations!$E$56:$E$98,\"<=\"&DATE(2006,MONTH(C4045),DAY(C4045)))","v":8},2.6,3,3,4,2,2,2,2,2,2]
["IA19879","IA","1987-04-26",{"$f":"COUNTIF(Calculations!$E$56:$E$98,\"<=\"&DATE(2006,MONTH(C4046),DAY(C4046)))","v":9},3.7,5.5,3.9,3.1,4.3,2.9,3.3,4.5999999999999996,1.9,2.7]
["IA198710","IA","1987-05-03",{"$f":"COUNTIF(Calculations!$E$56:$E$98,\"<=\"&DATE(2006,MONTH(C4047),DAY(C4047)))","v":10},6.8,6.9,6.9,6.8,7,6.8,6.4,7,6.1,6.9]
["IA198711","IA","1987-05-10",{"$f":"COUNTIF(Calculations!$E$56:$E$98,\"<=\"&DATE(2006,MONTH(C4048),DAY(C4048)))","v":11},5.5,5.8,6.9,6.6,4.7,5.2,6.5,4.8,2.8,6.3]
["IA198712","IA","1987-05-17",{"$f":"COUNTIF(Calculations!$E$56:$E$98,\"<=\"&DATE(2006,MONTH(C4049),DAY(C4049)))","v":12},6.9,6.8,6.8,6.7,6.9,6.8,6.8,7,7,6.9]
["IA198713","IA","1987-05-24",{"$f":"COUNTIF(Calculations!$E$56:$E$98,\"<=\"&DATE(2006,MONTH(C4050),DAY(C4050)))","v":13},4,4.5,4.5,4.2,3.5,4.7,4.0999999999999996,2.5,2.5,6]
[{"$f":"B4051&YEAR(C4051)&D4051","v":"IA198714"},"IA","1987-05-31",{"$f":"COUNTIF(Calculations!$E$56:$E$98,\"<=\"&DATE(2006,MONTH(C4051),DAY(C4051)))","v":14},1.4,1.2,1.9,1.5,0.4,1.8,1.3,0.2,0.9,3.8]
["IA198715","IA","1987-06-07",{"$f":"COUNTIF(Calculations!$E$56:$E$98,\"<=\"&DATE(2006,MONTH(C4052),DAY(C4052)))","v":15},4.9000000000000004,6.1,5.9,6.2,5.0999999999999996,5,4.8,2.2999999999999998,2.8,5.3]
["IA198716","IA","1987-06-14",{"$f":"COUNTIF(Calculations!$E$56:$E$98,\"<=\"&DATE(2006,MONTH(C4053),DAY(C4053)))","v":16},6,5.9,6.6,5.8,6.3,6,5.6,5.8,5.2,6.6]
["IA198717","IA","1987-06-21",{"$f":"COUNTIF(Calculations!$E$56:$E$98,\"<=\"&DATE(2006,MONTH(C4054),DAY(C4054)))","v":17},6.3,6.6,6.5,5.9,6.7,6.7,6.2,5.5,5.5,7]
["IA198718","IA","1987-06-28",{"$f":"COUNTIF(Calculations!$E$56:$E$98,\"<=\"&DATE(2006,MONTH(C4055),DAY(C4055)))","v":18},4.7,5.7,5.6,4.0999999999999996,5.6,4.4000000000000004,4,4.9000000000000004,3,5.0999999999999996]
["IA19915","IA","1991-03-29",{"$f":"COUNTIF(Calculations!$E$56:$E$98,\"<=\"&DATE(2006,MONTH(C4056),DAY(C4056)))","v":5},0.8,0.3,0.3,0.6,0.8,0.8,0.7,2.2000000000000002,0.9,0.7]
["IA19916","IA","1991-04-05",{"$f":"COUNTIF(Calculations!$E$56:$E$98,\"<=\"&DATE(2006,MONTH(C4057),DAY(C4057)))","v":6},3.8,2.2000000000000002,3.3,1.8,5.0999999999999996,4.2,2.9,5.8,4.2,3.5]
["IA19917","IA","1991-04-12",{"$f":"COUNTIF(Calculations!$E$56:$E$98,\"<=\"&DATE(2006,MONTH(C4058),DAY(C4058)))","v":7},3,2.9,2.5,2.2999999999999998,2.9,3,5.8,4,3.9,3.9]
["IA19918","IA","1991-04-19",{"$f":"COUNTIF(Calculations!$E$56:$E$98,\"<=\"&DATE(2006,MONTH(C4059),DAY(C4059)))","v":8},0.6,0.8,0.3,0.4,0.5,0.3,1.9,0.5,0.4,1.3]
["IA19919","IA","1991-04-26",{"$f":"COUNTIF(Calculations!$E$56:$E$98,\"<=\"&DATE(2006,MONTH(C4060),DAY(C4060)))","v":9},1.7,3.1,1,1.3,2.4,0.8,3.3,1.6,0,2.4]
["IA199110","IA","1991-05-03",{"$f":"COUNTIF(Calculations!$E$56:$E$98,\"<=\"&DATE(2006,MONTH(C4061),DAY(C4061)))","v":10},2,1.5,0.4,1.4,1.9,0.9,4.8,3.2,0.4,4.3]
["IA199111","IA","1991-05-10",{"$f":"COUNTIF(Calculations!$E$56:$E$98,\"<=\"&DATE(2006,MONTH(C4062),DAY(C4062)))","v":11},1.8,0.8,0.3,2.4,2.2000000000000002,1.4,4.2,2.6,0.7,1.3]
["IA199112","IA","1991-05-17",{"$f":"COUNTIF(Calculations!$E$56:$E$98,\"<=\"&DATE(2006,MONTH(C4063),DAY(C4063)))","v":12},3.8,3,2.8,3.9,4.4000000000000004,3.6,4.2,5.8,3.5,3.8]
["IA199113","IA","1991-05-24",{"$f":"COUNTIF(Calculations!$E$56:$E$98,\"<=\"&DATE(2006,MONTH(C4064),DAY(C4064)))","v":13},1.8,2.8,0.6,1.8,2.4,0.8,2.5,1.1000000000000001,2.1,2.7]
["IA199114","IA","1991-05-31",{"$f":"COUNTIF(Calculations!$E$56:$E$98,\"<=\"&DATE(2006,MONTH(C4065),DAY(C4065)))","v":14},3.4,3.9,2.8,3.2,3.3,3.4,3.8,3.4,3.7,3.4]
["IA199115","IA","1991-06-07",{"$f":"COUNTIF(Calculations!$E$56:$E$98,\"<=\"&DATE(2006,MONTH(C4066),DAY(C4066)))","v":15},3.6,2.2999999999999998,3.4,5.0999999999999996,2.6,2.8,4.9000000000000004,2,3,4.3]
["IA199116","IA","1991-06-14",{"$f":"COUNTIF(Calculations!$E$56:$E$98,\"<=\"&DATE(2006,MONTH(C4067),DAY(C4067)))","v":16},5,4.2,5.3,5.4,4.7,5.3,5.0999999999999996,4.8,5,5.3]
["IA199117","IA","1991-06-21",{"$f":"COUNTIF(Calculations!$E$56:$E$98,\"<=\"&DATE(2006,MONTH(C4068),DAY(C4068)))","v":17},5.6,4.7,4.7,5.8,4.9000000000000004,5.9,6.5,5.9,5.8,6.6]
["IA199118","IA","1991-06-28",{"$f":"COUNTIF(Calculations!$E$56:$E$98,\"<=\"&DATE(2006,MONTH(C4069),DAY(C4069)))","v":18},6.6,5.7,6.3,6.9,6.1,6.9,7,5.8,7,7]
["IA199119","IA","1991-07-05",{"$f":"COUNTIF(Calculations!$E$56:$E$98,\"<=\"&DATE(2006,MONTH(C4070),DAY(C4070)))","v":19},6.9,6.7,7,6.9,6.7,7,6.7,7,7,7]
["IA199120","IA","1991-07-12",{"$f":"COUNTIF(Calculations!$E$56:$E$98,\"<=\"&DATE(2006,MONTH(C4071),DAY(C4071)))","v":20},5.6,5.2,5.8,6.4,5.8,6.8,6.5,3.7,3.6,6.3]
["IA199121","IA","1991-07-19",{"$f":"COUNTIF(Calculations!$E$56:$E$98,\"<=\"&DATE(2006,MONTH(C4072),DAY(C4072)))","v":21}]
["IA199122","IA","1991-07-26",{"$f":"COUNTIF(Calculations!$E$56:$E$98,\"<=\"&DATE(2006,MONTH(C4073),DAY(C4073)))","v":22}]
["IA199123","IA","1991-08-02",{"$f":"COUNTIF(Calculations!$E$56:$E$98,\"<=\"&DATE(2006,MONTH(C4074),DAY(C4074)))","v":23}]
["IA199124","IA","1991-08-09",{"$f":"COUNTIF(Calculations!$E$56:$E$98,\"<=\"&DATE(2006,MONTH(C4075),DAY(C4075)))","v":24}]
["IA199125","IA","1991-08-16",{"$f":"COUNTIF(Calculations!$E$56:$E$98,\"<=\"&DATE(2006,MONTH(C4076),DAY(C4076)))","v":25}]
["IA199126","IA","1991-08-23",{"$f":"COUNTIF(Calculations!$E$56:$E$98,\"<=\"&DATE(2006,MONTH(C4077),DAY(C4077)))","v":26}]
["IA199127","IA","1991-08-30",{"$f":"COUNTIF(Calculations!$E$56:$E$98,\"<=\"&DATE(2006,MONTH(C4078),DAY(C4078)))","v":27}]
["IA199128","IA","1991-09-06",{"$f":"COUNTIF(Calculations!$E$56:$E$98,\"<=\"&DATE(2006,MONTH(C4079),DAY(C4079)))","v":28}]
["IA199129","IA","1991-09-13",{"$f":"COUNTIF(Calculations!$E$56:$E$98,\"<=\"&DATE(2006,MONTH(C4080),DAY(C4080)))","v":29}]
["IA199130","IA","1991-09-20",{"$f":"COUNTIF(Calculations!$E$56:$E$98,\"<=\"&DATE(2006,MONTH(C4081),DAY(C4081)))","v":30}]
["IA199131","IA","1991-09-27",{"$f":"COUNTIF(Calculations!$E$56:$E$98,\"<=\"&DATE(2006,MONTH(C4082),DAY(C4082)))","v":31}]
["IA199132","IA","1991-10-04",{"$f":"COUNTIF(Calculations!$E$56:$E$98,\"<=\"&DATE(2006,MONTH(C4083),DAY(C4083)))","v":32}]
["IA199133","IA","1991-10-11",{"$f":"COUNTIF(Calculations!$E$56:$E$98,\"<=\"&DATE(2006,MONTH(C4084),DAY(C4084)))","v":33}]
["IA199134","IA","1991-10-18",{"$f":"COUNTIF(Calculations!$E$56:$E$98,\"<=\"&DATE(2006,MONTH(C4085),DAY(C4085)))","v":34}]
["IA199135","IA","1991-10-25",{"$f":"COUNTIF(Calculations!$E$56:$E$98,\"<=\"&DATE(2006,MONTH(C4086),DAY(C4086)))","v":35}]
["IA199136","IA","1991-11-01",{"$f":"COUNTIF(Calculations!$E$56:$E$98,\"<=\"&DATE(2006,MONTH(C4087),DAY(C4087)))","v":36}]
["IA199137","IA","1991-11-08",{"$f":"COUNTIF(Calculations!$E$56:$E$98,\"<=\"&DATE(2006,MONTH(C4088),DAY(C4088)))","v":37}]
["IA199138","IA","1991-11-15",{"$f":"COUNTIF(Calculations!$E$56:$E$98,\"<=\"&DATE(2006,MONTH(C4089),DAY(C4089)))","v":38}]
["IA19926","IA","1992-04-03",{"$f":"COUNTIF(Calculations!$E$56:$E$98,\"<=\"&DATE(2006,MONTH(C4090),DAY(C4090)))","v":6}]
["IA19927","IA","1992-04-10",{"$f":"COUNTIF(Calculations!$E$56:$E$98,\"<=\"&DATE(2006,MONTH(C4091),DAY(C4091)))","v":7}]
["IA19928","IA","1992-04-17",{"$f":"COUNTIF(Calculations!$E$56:$E$98,\"<=\"&DATE(2006,MONTH(C4092),DAY(C4092)))","v":8}]
["IA19929","IA","1992-04-24",{"$f":"COUNTIF(Calculations!$E$56:$E$98,\"<=\"&DATE(2006,MONTH(C4093),DAY(C4093)))","v":9}]
["IA199210","IA","1992-05-01",{"$f":"COUNTIF(Calculations!$E$56:$E$98,\"<=\"&DATE(2006,MONTH(C4094),DAY(C4094)))","v":10}]
["IA199211","IA","1992-05-08",{"$f":"COUNTIF(Calculations!$E$56:$E$98,\"<=\"&DATE(2006,MONTH(C4095),DAY(C4095)))","v":11}]
["IA199212","IA","1992-05-15",{"$f":"COUNTIF(Calculations!$E$56:$E$98,\"<=\"&DATE(2006,MONTH(C4096),DAY(C4096)))","v":12}]
["IA199213","IA","1992-05-22",{"$f":"COUNTIF(Calculations!$E$56:$E$98,\"<=\"&DATE(2006,MONTH(C4097),DAY(C4097)))","v":13}]
["IA199214","IA","1992-05-29",{"$f":"COUNTIF(Calculations!$E$56:$E$98,\"<=\"&DATE(2006,MONTH(C4098),DAY(C4098)))","v":14}]
["IA199215","IA","1992-06-05",{"$f":"COUNTIF(Calculations!$E$56:$E$98,\"<=\"&DATE(2006,MONTH(C4099),DAY(C4099)))","v":15}]
["IA199216","IA","1992-06-12",{"$f":"COUNTIF(Calculations!$E$56:$E$98,\"<=\"&DATE(2006,MONTH(C4100),DAY(C4100)))","v":16}]
["IA199217","IA","1992-06-19",{"$f":"COUNTIF(Calculations!$E$56:$E$98,\"<=\"&DATE(2006,MONTH(C4101),DAY(C4101)))","v":17}]
["IA199218","IA","1992-06-26",{"$f":"COUNTIF(Calculations!$E$56:$E$98,\"<=\"&DATE(2006,MONTH(C4102),DAY(C4102)))","v":18}]
["IA199219","IA","1992-07-03",{"$f":"COUNTIF(Calculations!$E$56:$E$98,\"<=\"&DATE(2006,MONTH(C4103),DAY(C4103)))","v":19}]
["IA199220","IA","1992-07-10",{"$f":"COUNTIF(Calculations!$E$56:$E$98,\"<=\"&DATE(2006,MONTH(C4104),DAY(C4104)))","v":20}]
["IA199221","IA","1992-07-17",{"$f":"COUNTIF(Calculations!$E$56:$E$98,\"<=\"&DATE(2006,MONTH(C4105),DAY(C4105)))","v":21}]
["IA199222","IA","1992-07-24",{"$f":"COUNTIF(Calculations!$E$56:$E$98,\"<=\"&DATE(2006,MONTH(C4106),DAY(C4106)))","v":22}]
["IA199223","IA","1992-07-31",{"$f":"COUNTIF(Calculations!$E$56:$E$98,\"<=\"&DATE(2006,MONTH(C4107),DAY(C4107)))","v":23}]
["IA199224","IA","1992-08-07",{"$f":"COUNTIF(Calculations!$E$56:$E$98,\"<=\"&DATE(2006,MONTH(C4108),DAY(C4108)))","v":24}]
["IA199225","IA","1992-08-14",{"$f":"COUNTIF(Calculations!$E$56:$E$98,\"<=\"&DATE(2006,MONTH(C4109),DAY(C4109)))","v":25}]
["IA199226","IA","1992-08-21",{"$f":"COUNTIF(Calculations!$E$56:$E$98,\"<=\"&DATE(2006,MONTH(C4110),DAY(C4110)))","v":26}]
["IA199227","IA","1992-08-28",{"$f":"COUNTIF(Calculations!$E$56:$E$98,\"<=\"&DATE(2006,MONTH(C4111),DAY(C4111)))","v":27}]
["IA199228","IA","1992-09-04",{"$f":"COUNTIF(Calculations!$E$56:$E$98,\"<=\"&DATE(2006,MONTH(C4112),DAY(C4112)))","v":28}]
["IA199229","IA","1992-09-11",{"$f":"COUNTIF(Calculations!$E$56:$E$98,\"<=\"&DATE(2006,MONTH(C4113),DAY(C4113)))","v":29}]
["IA199230","IA","1992-09-18",{"$f":"COUNTIF(Calculations!$E$56:$E$98,\"<=\"&DATE(2006,MONTH(C4114),DAY(C4114)))","v":30}]
[{"$f":"B4115&YEAR(C4115)&D4115","v":"IA199231"},"IA","1992-09-25",{"$f":"COUNTIF(Calculations!$E$56:$E$98,\"<=\"&DATE(2006,MONTH(C4115),DAY(C4115)))","v":31}]
["IA199232","IA","1992-10-02",{"$f":"COUNTIF(Calculations!$E$56:$E$98,\"<=\"&DATE(2006,MONTH(C4116),DAY(C4116)))","v":32}]
["IA199233","IA","1992-10-09",{"$f":"COUNTIF(Calculations!$E$56:$E$98,\"<=\"&DATE(2006,MONTH(C4117),DAY(C4117)))","v":33}]
["IA199234","IA","1992-10-16",{"$f":"COUNTIF(Calculations!$E$56:$E$98,\"<=\"&DATE(2006,MONTH(C4118),DAY(C4118)))","v":34}]
["IA199235","IA","1992-10-23",{"$f":"COUNTIF(Calculations!$E$56:$E$98,\"<=\"&DATE(2006,MONTH(C4119),DAY(C4119)))","v":35}]
["IA199236","IA","1992-10-30",{"$f":"COUNTIF(Calculations!$E$56:$E$98,\"<=\"&DATE(2006,MONTH(C4120),DAY(C4120)))","v":36}]
["IA199237","IA","1992-11-06",{"$f":"COUNTIF(Calculations!$E$56:$E$98,\"<=\"&DATE(2006,MONTH(C4121),DAY(C4121)))","v":37}]
["IA199238","IA","1992-11-13",{"$f":"COUNTIF(Calculations!$E$56:$E$98,\"<=\"&DATE(2006,MONTH(C4122),DAY(C4122)))","v":38}]
["IA199239","IA","1992-11-20",{"$f":"COUNTIF(Calculations!$E$56:$E$98,\"<=\"&DATE(2006,MONTH(C4123),DAY(C4123)))","v":39}]
["IA199240","IA","1992-11-27",{"$f":"COUNTIF(Calculations!$E$56:$E$98,\"<=\"&DATE(2006,MONTH(C4124),DAY(C4124)))","v":40}]
["IA199241","IA","1992-12-04",{"$f":"COUNTIF(Calculations!$E$56:$E$98,\"<=\"&DATE(2006,MONTH(C4125),DAY(C4125)))","v":41}]
["IA199242","IA","1992-12-11",{"$f":"COUNTIF(Calculations!$E$56:$E$98,\"<=\"&DATE(2006,MONTH(C4126),DAY(C4126)))","v":42}]
["IA19936","IA","1993-04-02",{"$f":"COUNTIF(Calculations!$E$56:$E$98,\"<=\"&DATE(2006,MONTH(C4127),DAY(C4127)))","v":6},0,0,0,0,0,0,0,0,0,0]
["IA19937","IA","1993-04-09",{"$f":"COUNTIF(Calculations!$E$56:$E$98,\"<=\"&DATE(2006,MONTH(C4128),DAY(C4128)))","v":7},0,0,0,0,0,0,0,0,0,0]
["IA19938","IA","1993-04-16",{"$f":"COUNTIF(Calculations!$E$56:$E$98,\"<=\"&DATE(2006,MONTH(C4129),DAY(C4129)))","v":8},0.1,0.1,0,0,0.2,0,0.3,0.1,0,0]
["IA19939","IA","1993-04-23",{"$f":"COUNTIF(Calculations!$E$56:$E$98,\"<=\"&DATE(2006,MONTH(C4130),DAY(C4130)))","v":9},0.6,1.2,0.2,0.2,1.2,0.5,0.6,1.6,0.2,0]
["IA199310","IA","1993-04-30",{"$f":"COUNTIF(Calculations!$E$56:$E$98,\"<=\"&DATE(2006,MONTH(C4131),DAY(C4131)))","v":10},3.1,2.2000000000000002,2.1,2.6,5.4,2.8,2.7,5.5,3.1,0.9]
["IA199311","IA","1993-05-07",{"$f":"COUNTIF(Calculations!$E$56:$E$98,\"<=\"&DATE(2006,MONTH(C4132),DAY(C4132)))","v":11},0.9,2.5,0.3,0.4,2.4,0.5,0.4,1.3,0.2,0]
["IA199312","IA","1993-05-14",{"$f":"COUNTIF(Calculations!$E$56:$E$98,\"<=\"&DATE(2006,MONTH(C4133),DAY(C4133)))","v":12},1.7,2.2000000000000002,1.6,3.7,1.3,1.9,3.4,0.6,0.3,1]
["IA199313","IA","1993-05-21",{"$f":"COUNTIF(Calculations!$E$56:$E$98,\"<=\"&DATE(2006,MONTH(C4134),DAY(C4134)))","v":13},5.6,4.2,5.2,5.6,6,6,6.3,6,5,6.1]
["IA199314","IA","1993-05-28",{"$f":"COUNTIF(Calculations!$E$56:$E$98,\"<=\"&DATE(2006,MONTH(C4135),DAY(C4135)))","v":14},3.5,4.7,4.5999999999999996,3.7,3.8,3.5,2.6,3.1,2.2000000000000002,3.5]
["IA199315","IA","1993-06-04",{"$f":"COUNTIF(Calculations!$E$56:$E$98,\"<=\"&DATE(2006,MONTH(C4136),DAY(C4136)))","v":15},1.2,0.5,0.7,1.7,1.2,0.9,1.6,2.6,1.4,1.3]
["IA199316","IA","1993-06-11",{"$f":"COUNTIF(Calculations!$E$56:$E$98,\"<=\"&DATE(2006,MONTH(C4137),DAY(C4137)))","v":16},2.6,3,1.5,2.9,3.8,2.8,2.4,3.4,1.9,1.1000000000000001]
["IA199317","IA","1993-06-18",{"$f":"COUNTIF(Calculations!$E$56:$E$98,\"<=\"&DATE(2006,MONTH(C4138),DAY(C4138)))","v":17},2.8,1.7,1.8,2.1,3.2,2.2999999999999998,3.1,3.8,3.4,4.5999999999999996]
["IA199318","IA","1993-06-25",{"$f":"COUNTIF(Calculations!$E$56:$E$98,\"<=\"&DATE(2006,MONTH(C4139),DAY(C4139)))","v":18},3,2.7,2.6,3.1,3.2,3.3,3.1,2.6,3,3.2]
["IA199319","IA","1993-07-02",{"$f":"COUNTIF(Calculations!$E$56:$E$98,\"<=\"&DATE(2006,MONTH(C4140),DAY(C4140)))","v":19},2.4,2.2999999999999998,3.1,2.8,2.4,2.6,1.6,1.8,2.7,2.2000000000000002]
["IA199321","IA","1993-07-16",{"$f":"COUNTIF(Calculations!$E$56:$E$98,\"<=\"&DATE(2006,MONTH(C4141),DAY(C4141)))","v":21},1,1.6,0.9,1.6,1.4,0.4,2.9,0.3,0.2,0.6]
["IA199322","IA","1993-07-23",{"$f":"COUNTIF(Calculations!$E$56:$E$98,\"<=\"&DATE(2006,MONTH(C4142),DAY(C4142)))","v":22},1.6,2.6,2,3.1,1.4,1.3,2.8,0.3,0.4,1.1000000000000001]
["IA199323","IA","1993-07-30",{"$f":"COUNTIF(Calculations!$E$56:$E$98,\"<=\"&DATE(2006,MONTH(C4143),DAY(C4143)))","v":23},3.6,4.8,4.0999999999999996,4.3,3.3,3.4,4,2.4,3.4,2.9]
["IA199324","IA","1993-08-06",{"$f":"COUNTIF(Calculations!$E$56:$E$98,\"<=\"&DATE(2006,MONTH(C4144),DAY(C4144)))","v":24},4.5,6.2,4.3,3.8,4.8,4.0999999999999996,3.6,5.7,4.9000000000000004,3.2]
["IA199325","IA","1993-08-13",{"$f":"COUNTIF(Calculations!$E$56:$E$98,\"<=\"&DATE(2006,MONTH(C4145),DAY(C4145)))","v":25},4.2,6.1,4.5,4.4000000000000004,4.9000000000000004,3.3,3.2,5.5,3.9,2.2999999999999998]
["IA199326","IA","1993-08-20",{"$f":"COUNTIF(Calculations!$E$56:$E$98,\"<=\"&DATE(2006,MONTH(C4146),DAY(C4146)))","v":26},2.1,2.4,0.8,2.2000000000000002,2.8,0.9,1.1000000000000001,4.2,3.6,1.1000000000000001]
["IA199327","IA","1993-08-27",{"$f":"COUNTIF(Calculations!$E$56:$E$98,\"<=\"&DATE(2006,MONTH(C4147),DAY(C4147)))","v":27},4.5,5.2,3.9,3.8,6.2,3.3,4.2,5.6,4.8,4.2]
[{"$f":"B4148&YEAR(C4148)&D4148","v":"IA199328"},"IA","1993-09-03",28,3,3.5,3.1,3.3,1.9,2.8,2.7,2.4,3.8,3.4]
["IA199329","IA","1993-09-10",{"$f":"COUNTIF(Calculations!$E$56:$E$98,\"<=\"&DATE(2006,MONTH(C4149),DAY(C4149)))","v":29},4.5999999999999996,5.4,5.2,5.9,4.5,3.8,4,3.7,4.7,5]
["IA199330","IA","1993-09-17",{"$f":"COUNTIF(Calculations!$E$56:$E$98,\"<=\"&DATE(2006,MONTH(C4150),DAY(C4150)))","v":30},4,4.3,4.0999999999999996,3.7,5.0999999999999996,3.8,2.8,5.2,3.7,2.6]
["IA199331","IA","1993-09-24",{"$f":"COUNTIF(Calculations!$E$56:$E$98,\"<=\"&DATE(2006,MONTH(C4151),DAY(C4151)))","v":31},2.8,2.5,3.1,3,2.7,3.4,3.9,1.3,1.4,3.5]
["IA199332","IA","1993-10-01",{"$f":"COUNTIF(Calculations!$E$56:$E$98,\"<=\"&DATE(2006,MONTH(C4152),DAY(C4152)))","v":32},4.7,6.8,5.0999999999999996,4,5.0999999999999996,4.5999999999999996,3.8,5.0999999999999996,2.9,3.5]
["IA199333","IA","1993-10-08",{"$f":"COUNTIF(Calculations!$E$56:$E$98,\"<=\"&DATE(2006,MONTH(C4153),DAY(C4153)))","v":33},6.4,6.4,6.3,6.5,6.5,6.2,6.5,6.4,6.4,6.5]
["IA199334","IA","1993-10-15",{"$f":"COUNTIF(Calculations!$E$56:$E$98,\"<=\"&DATE(2006,MONTH(C4154),DAY(C4154)))","v":34},5.0999999999999996,4.9000000000000004,5.3,5.7,4.2,5,5.5,4.9000000000000004,4.5,5.8]
["IA199335","IA","1993-10-22",{"$f":"COUNTIF(Calculations!$E$56:$E$98,\"<=\"&DATE(2006,MONTH(C4155),DAY(C4155)))","v":35},4,4.0999999999999996,4.8,4.5,3.6,4.4000000000000004,5.0999999999999996,2.2999999999999998,2.2999999999999998,4.5]
["IA199336","IA","1993-10-29",{"$f":"COUNTIF(Calculations!$E$56:$E$98,\"<=\"&DATE(2006,MONTH(C4156),DAY(C4156)))","v":36},6.9,6.8,6.9,6.6,6.9,6.9,7,6.9,7,6.9]
["IA199337","IA","1993-11-05",{"$f":"COUNTIF(Calculations!$E$56:$E$98,\"<=\"&DATE(2006,MONTH(C4157),DAY(C4157)))","v":37},6.8,6.8,6.7,6.7,6.9,6.7,6.8,7,6.9,6.9]
["IA199338","IA","1993-11-12",{"$f":"COUNTIF(Calculations!$E$56:$E$98,\"<=\"&DATE(2006,MONTH(C4158),DAY(C4158)))","v":38},6.3,6,6.7,6.7,6.1,6.1,6.7,6.1,6.1,6.5]
["IA199339","IA","1993-11-19",{"$f":"COUNTIF(Calculations!$E$56:$E$98,\"<=\"&DATE(2006,MONTH(C4159),DAY(C4159)))","v":39},4,4.2,4.4000000000000004,5.4,3.1,3.7,4.5999999999999996,3.6,4,3.3]
["IA19946","IA","1994-04-01",{"$f":"COUNTIF(Calculations!$E$56:$E$98,\"<=\"&DATE(2006,MONTH(C4160),DAY(C4160)))","v":6},5,5,2,4,6,6,5,6,7,7]
["IA19947","IA","1994-04-08",{"$f":"COUNTIF(Calculations!$E$56:$E$98,\"<=\"&DATE(2006,MONTH(C4161),DAY(C4161)))","v":7},5.7,4.5999999999999996,3.4,4.2,6.2,5.9,6.6,7,7,6.4]
["IA19948","IA","1994-04-15",{"$f":"COUNTIF(Calculations!$E$56:$E$98,\"<=\"&DATE(2006,MONTH(C4162),DAY(C4162)))","v":8},3.8,3.2,3.2,3.2,4,4.4000000000000004,4.5,3.8,3.9,3.4]
["IA19949","IA","1994-04-22",{"$f":"COUNTIF(Calculations!$E$56:$E$98,\"<=\"&DATE(2006,MONTH(C4163),DAY(C4163)))","v":9},5.6,5.9,5.5,6,6.1,5.6,6.4,5.5,5.0999999999999996,5.3]
["IA199410","IA","1994-04-29",{"$f":"COUNTIF(Calculations!$E$56:$E$98,\"<=\"&DATE(2006,MONTH(C4164),DAY(C4164)))","v":10},4.4000000000000004,4.0999999999999996,4.4000000000000004,4.2,4.5999999999999996,4.5999999999999996,4.8,4.5,4.3,4.2]
["IA199411","IA","1994-05-06",{"$f":"COUNTIF(Calculations!$E$56:$E$98,\"<=\"&DATE(2006,MONTH(C4165),DAY(C4165)))","v":11},3.7,2.8,3.5,4.5999999999999996,3.5,3.8,4.5,3.7,3.5,3.5]
["IA199412","IA","1994-05-13",{"$f":"COUNTIF(Calculations!$E$56:$E$98,\"<=\"&DATE(2006,MONTH(C4166),DAY(C4166)))","v":12},5.6,5.4,6.1,6,6,5.6,6.1,5.8,5.0999999999999996,4.7]
["IA199413","IA","1994-05-20",{"$f":"COUNTIF(Calculations!$E$56:$E$98,\"<=\"&DATE(2006,MONTH(C4167),DAY(C4167)))","v":13},6.3,6.6,6,6.6,6.8,6.3,6,6.5,6,6.2]
["IA199414","IA","1994-05-27",{"$f":"COUNTIF(Calculations!$E$56:$E$98,\"<=\"&DATE(2006,MONTH(C4168),DAY(C4168)))","v":14},4.9000000000000004,5.3,3.6,3.9,6.8,5.2,5,6.8,4.3,3.9]
["IA199415","IA","1994-06-03",{"$f":"COUNTIF(Calculations!$E$56:$E$98,\"<=\"&DATE(2006,MONTH(C4169),DAY(C4169)))","v":15},5.0999999999999996,7,6.5,6.9,5.0999999999999996,5.3,5.8,3.4,3.4,4.5999999999999996]
["IA199416","IA","1994-06-10",{"$f":"COUNTIF(Calculations!$E$56:$E$98,\"<=\"&DATE(2006,MONTH(C4170),DAY(C4170)))","v":16},4.2,3.8,4.5,5.9,4.4000000000000004,3.7,5.5,3.4,3.6,3.6]
["IA199417","IA","1994-06-17",{"$f":"COUNTIF(Calculations!$E$56:$E$98,\"<=\"&DATE(2006,MONTH(C4171),DAY(C4171)))","v":17},5,4.4000000000000004,5.3,5.7,5.0999999999999996,4.9000000000000004,5,4.7,4.3,5.5]
["IA199418","IA","1994-06-24",{"$f":"COUNTIF(Calculations!$E$56:$E$98,\"<=\"&DATE(2006,MONTH(C4172),DAY(C4172)))","v":18},2.9,1.6,3.2,4,2.2000000000000002,2.8,3.2,2.2000000000000002,3.3,3.7]
["IA199419","IA","1994-07-01",{"$f":"COUNTIF(Calculations!$E$56:$E$98,\"<=\"&DATE(2006,MONTH(C4173),DAY(C4173)))","v":19},5.5,4.8,4,5.8,6.3,5.4,5.4,6.1,6.3,5.8]
["IA199420","IA","1994-07-08",{"$f":"COUNTIF(Calculations!$E$56:$E$98,\"<=\"&DATE(2006,MONTH(C4174),DAY(C4174)))","v":20},3.6,1.6,2.2000000000000002,3.8,1.8,4.3,4.0999999999999996,3.7,5.4,5.5]
["IA199421","IA","1994-07-15",{"$f":"COUNTIF(Calculations!$E$56:$E$98,\"<=\"&DATE(2006,MONTH(C4175),DAY(C4175)))","v":21},4.3,2.2999999999999998,2.7,3.6,3.8,4.0999999999999996,4.3,5.8,5.4,5.7]
["IA199422","IA","1994-07-22",{"$f":"COUNTIF(Calculations!$E$56:$E$98,\"<=\"&DATE(2006,MONTH(C4176),DAY(C4176)))","v":22},4.8,4.5,1.9,3.7,6.5,5.7,3.4,6,5.7,5.3]
["IA199423","IA","1994-07-29",{"$f":"COUNTIF(Calculations!$E$56:$E$98,\"<=\"&DATE(2006,MONTH(C4177),DAY(C4177)))","v":23},6.5,6.7,6.2,6.1,6.8,6.7,6.7,6.2,6.3,6.6]
["IA199424","IA","1994-08-05",{"$f":"COUNTIF(Calculations!$E$56:$E$98,\"<=\"&DATE(2006,MONTH(C4178),DAY(C4178)))","v":24},5.0999999999999996,6,4.0999999999999996,5.8,3.8,5,5.3,4.8,5.5,5.4]
["IA199425","IA","1994-08-12",{"$f":"COUNTIF(Calculations!$E$56:$E$98,\"<=\"&DATE(2006,MONTH(C4179),DAY(C4179)))","v":25},4.5999999999999996,3.8,3.1,4,4.0999999999999996,4.9000000000000004,4.5,4.5999999999999996,6.1,6.1]
[{"$f":"B4180&YEAR(C4180)&D4180","v":"IA199426"},"IA","1994-08-19",{"$f":"COUNTIF(Calculations!$E$56:$E$98,\"<=\"&DATE(2006,MONTH(C4180),DAY(C4180)))","v":26},5.8,5.4,4.7,4.5,6.4,6.1,4.5999999999999996,6.9,6.5,6.4]
["IA199427","IA","1994-08-26",{"$f":"COUNTIF(Calculations!$E$56:$E$98,\"<=\"&DATE(2006,MONTH(C4181),DAY(C4181)))","v":27},6.2,6,5.8,5.8,6.1,6.3,6.1,6.5,6.7,6.7]
["IA199428","IA","1994-09-02",{"$f":"COUNTIF(Calculations!$E$56:$E$98,\"<=\"&DATE(2006,MONTH(C4182),DAY(C4182)))","v":28},5.4,5.8,5.9,5.2,4.8,4.9000000000000004,4.8,5.8,5.3,5.3]
["IA199429","IA","1994-09-09",{"$f":"COUNTIF(Calculations!$E$56:$E$98,\"<=\"&DATE(2006,MONTH(C4183),DAY(C4183)))","v":29},4.5999999999999996,4.0999999999999996,4.5999999999999996,4.0999999999999996,4.7,4.5,4.0999999999999996,5,5.0999999999999996,5.3]
["IA199430","IA","1994-09-16",{"$f":"COUNTIF(Calculations!$E$56:$E$98,\"<=\"&DATE(2006,MONTH(C4184),DAY(C4184)))","v":30},6.5,6.2,5.9,6.5,6.3,6.6,6.6,6.6,6.9,6.9]
["IA199431","IA","1994-09-23",{"$f":"COUNTIF(Calculations!$E$56:$E$98,\"<=\"&DATE(2006,MONTH(C4185),DAY(C4185)))","v":31},5,4.4000000000000004,4.8,4.7,4.8,4.9000000000000004,4.8,5,6,5.7]
["IA199432","IA","1994-09-30",{"$f":"COUNTIF(Calculations!$E$56:$E$98,\"<=\"&DATE(2006,MONTH(C4186),DAY(C4186)))","v":32},3.9,4.2,3.8,3,4,3.7,3.6,4.4000000000000004,4.2,4.8]
["IA199433","IA","1994-10-07",{"$f":"COUNTIF(Calculations!$E$56:$E$98,\"<=\"&DATE(2006,MONTH(C4187),DAY(C4187)))","v":33},4.4000000000000004,2.5,3.7,4.3,3.9,4.9000000000000004,5.9,3.4,4.5999999999999996,5.7]
["IA199434","IA","1994-10-14",{"$f":"COUNTIF(Calculations!$E$56:$E$98,\"<=\"&DATE(2006,MONTH(C4188),DAY(C4188)))","v":34},6.7,6.5,6.5,6.9,6.7,6.7,6.3,6.8,6.7,6.5]
["IA199435","IA","1994-10-21",{"$f":"COUNTIF(Calculations!$E$56:$E$98,\"<=\"&DATE(2006,MONTH(C4189),DAY(C4189)))","v":35},4.3,3.3,3.2,4.7,3.5,3.8,6.4,3,3.9,6.4]
["IA199436","IA","1994-10-28",{"$f":"COUNTIF(Calculations!$E$56:$E$98,\"<=\"&DATE(2006,MONTH(C4190),DAY(C4190)))","v":36},6.8,6.9,6.8,6.5,7,6.8,6.8,6.9,6.9,6.8]
["IA199437","IA","1994-11-04",{"$f":"COUNTIF(Calculations!$E$56:$E$98,\"<=\"&DATE(2006,MONTH(C4191),DAY(C4191)))","v":37},6.1,6.6,6.7,6.2,6.3,6.4,5.4,6.2,5.8,4.5]
["IA199438","IA","1994-11-11",{"$f":"COUNTIF(Calculations!$E$56:$E$98,\"<=\"&DATE(2006,MONTH(C4192),DAY(C4192)))","v":38},5.6,7,7,6.5,6.8,6.5,3.5,6.3,4.8,2.2000000000000002]
["IA19955","IA","1995-03-31",{"$f":"COUNTIF(Calculations!$E$56:$E$98,\"<=\"&DATE(2006,MONTH(C4193),DAY(C4193)))","v":5},0.5,0.2,0,0.5,0.4,0.2,0.9,0.5,1,1.1000000000000001]
["IA19956","IA","1995-04-07",{"$f":"COUNTIF(Calculations!$E$56:$E$98,\"<=\"&DATE(2006,MONTH(C4194),DAY(C4194)))","v":6},4.2,2.9,3.3,3.4,4.7,4.7,4.5999999999999996,4.8,5.2,5.0999999999999996]
["IA19957","IA","1995-04-14",{"$f":"COUNTIF(Calculations!$E$56:$E$98,\"<=\"&DATE(2006,MONTH(C4195),DAY(C4195)))","v":7},0.4,0,0.4,0.4,0.8,0.4,0.6,0.5,0.4,0.1]
["IA19958","IA","1995-04-21",{"$f":"COUNTIF(Calculations!$E$56:$E$98,\"<=\"&DATE(2006,MONTH(C4196),DAY(C4196)))","v":8},1,0,1,1,1,1,1,1,1,1]
["IA19959","IA","1995-04-28",{"$f":"COUNTIF(Calculations!$E$56:$E$98,\"<=\"&DATE(2006,MONTH(C4197),DAY(C4197)))","v":9},1.7,2,1.8,2,1.8,1.8,2,1.6,0.9,0.6]
["IA199510","IA","1995-05-05",{"$f":"COUNTIF(Calculations!$E$56:$E$98,\"<=\"&DATE(2006,MONTH(C4198),DAY(C4198)))","v":10},1.4,1.3,2.9,3.3,0.9,1.3,1.5,0.3,0.3,0.8]
["IA199511","IA","1995-05-12",{"$f":"COUNTIF(Calculations!$E$56:$E$98,\"<=\"&DATE(2006,MONTH(C4199),DAY(C4199)))","v":11},1.6,1.2,2.8,3.3,1.4,1.8,2,0,0,1]
["IA199512","IA","1995-05-19",{"$f":"COUNTIF(Calculations!$E$56:$E$98,\"<=\"&DATE(2006,MONTH(C4200),DAY(C4200)))","v":12},3.6,4.5,4.5999999999999996,5,5.2,3.9,2.8,2.2999999999999998,0.7,0.7]
["IA199513","IA","1995-05-26",{"$f":"COUNTIF(Calculations!$E$56:$E$98,\"<=\"&DATE(2006,MONTH(C4201),DAY(C4201)))","v":13},4.2,5.2,5.3,4.9000000000000004,4.5,4.8,3.4,2.8,2.1,2.2000000000000002]
["IA199514","IA","1995-06-02",{"$f":"COUNTIF(Calculations!$E$56:$E$98,\"<=\"&DATE(2006,MONTH(C4202),DAY(C4202)))","v":14},2.1,1.7,2.1,2.8,2.2000000000000002,2.8,2.2999999999999998,1.9,1.2,1.3]
["IA199515","IA","1995-06-09",{"$f":"COUNTIF(Calculations!$E$56:$E$98,\"<=\"&DATE(2006,MONTH(C4203),DAY(C4203)))","v":15},3,2.6,2.7,4.0999999999999996,3.9,2.8,3.9,3.2,1.4,2.1]
["IA199516","IA","1995-06-16",{"$f":"COUNTIF(Calculations!$E$56:$E$98,\"<=\"&DATE(2006,MONTH(C4204),DAY(C4204)))","v":16},6.1,4.5999999999999996,6.4,6.8,6.2,6.1,6.9,6.4,4.8,5.8]
["IA199517","IA","1995-06-23",{"$f":"COUNTIF(Calculations!$E$56:$E$98,\"<=\"&DATE(2006,MONTH(C4205),DAY(C4205)))","v":17},6.9,6.8,7,6.9,7,7,6.7,6.8,7,7]
["IA199518","IA","1995-06-30",{"$f":"COUNTIF(Calculations!$E$56:$E$98,\"<=\"&DATE(2006,MONTH(C4206),DAY(C4206)))","v":18},2.2000000000000002,1.9,1.7,3.1,1.6,1.9,3.7,3.1,1.5,1.3]
["IA199519","IA","1995-07-07",{"$f":"COUNTIF(Calculations!$E$56:$E$98,\"<=\"&DATE(2006,MONTH(C4207),DAY(C4207)))","v":19},4.3,4.5,4.8,4.9000000000000004,5,4.2,3.3,5.0999999999999996,3.4,2.7]
["IA199520","IA","1995-07-14",{"$f":"COUNTIF(Calculations!$E$56:$E$98,\"<=\"&DATE(2006,MONTH(C4208),DAY(C4208)))","v":20},6.8,6.8,6.8,6.7,6.9,6.8,7,6.8,6.4,6.5]
["IA199521","IA","1995-07-21",{"$f":"COUNTIF(Calculations!$E$56:$E$98,\"<=\"&DATE(2006,MONTH(C4209),DAY(C4209)))","v":21},5.4,5.0999999999999996,5,4.9000000000000004,5.5,4.4000000000000004,6.3,5.8,5.6,6.8]
["IA199522","IA","1995-07-28",{"$f":"COUNTIF(Calculations!$E$56:$E$98,\"<=\"&DATE(2006,MONTH(C4210),DAY(C4210)))","v":22},5.5,4.5999999999999996,5.4,5.4,5.9,5.8,6,6.1,5.0999999999999996,5.0999999999999996]
["IA199523","IA","1995-08-04",{"$f":"COUNTIF(Calculations!$E$56:$E$98,\"<=\"&DATE(2006,MONTH(C4211),DAY(C4211)))","v":23},5.6,6.3,6,4.7,6.4,5.0999999999999996,5.5,6.1,5.8,3.7]
["IA199524","IA","1995-08-11",{"$f":"COUNTIF(Calculations!$E$56:$E$98,\"<=\"&DATE(2006,MONTH(C4212),DAY(C4212)))","v":24},5.3,4.7,5.3,4.5999999999999996,6.3,4.7,5.4,6.9,5.9,4.0999999999999996]
["IA199525","IA","1995-08-18",{"$f":"COUNTIF(Calculations!$E$56:$E$98,\"<=\"&DATE(2006,MONTH(C4213),DAY(C4213)))","v":25},4.5,4,5.2,3.8,5.2,4.0999999999999996,4.2,5.2,5.3,4.0999999999999996]
["IA199526","IA","1995-08-25",{"$f":"COUNTIF(Calculations!$E$56:$E$98,\"<=\"&DATE(2006,MONTH(C4214),DAY(C4214)))","v":26},6.5,6.3,6.7,6.3,5.8,6.7,6.9,6.2,7,7]
["IA199527","IA","1995-09-01",{"$f":"COUNTIF(Calculations!$E$56:$E$98,\"<=\"&DATE(2006,MONTH(C4215),DAY(C4215)))","v":27},6,5.0999999999999996,4.7,5.3,6.7,6.5,7,6.8,7,7]
["IA199528","IA","1995-09-08",{"$f":"COUNTIF(Calculations!$E$56:$E$98,\"<=\"&DATE(2006,MONTH(C4216),DAY(C4216)))","v":28},5.8,5.5,5.3,5.3,6,6.3,5.7,6.7,6.8,5.2]
["IA199529","IA","1995-09-15",{"$f":"COUNTIF(Calculations!$E$56:$E$98,\"<=\"&DATE(2006,MONTH(C4217),DAY(C4217)))","v":29},6.4,6.4,6.3,6.7,6.2,6.5,6.4,6.4,6.1,6.1]
["IA199530","IA","1995-09-22",{"$f":"COUNTIF(Calculations!$E$56:$E$98,\"<=\"&DATE(2006,MONTH(C4218),DAY(C4218)))","v":30},4,3.5,3.8,4,3.2,3.9,4.5,4.3,4.8,4.7]
["IA199531","IA","1995-09-29",{"$f":"COUNTIF(Calculations!$E$56:$E$98,\"<=\"&DATE(2006,MONTH(C4219),DAY(C4219)))","v":31},6,6,5.3,6.1,6.4,5.6,6.3,6,6.3,6.1]
["IA199532","IA","1995-10-06",{"$f":"COUNTIF(Calculations!$E$56:$E$98,\"<=\"&DATE(2006,MONTH(C4220),DAY(C4220)))","v":32},4.0999999999999996,2.8,4.3,4.7,3.5,4.3,5,4.3,5,4.3]
["IA199533","IA","1995-10-13",{"$f":"COUNTIF(Calculations!$E$56:$E$98,\"<=\"&DATE(2006,MONTH(C4221),DAY(C4221)))","v":33},5.6,4.9000000000000004,5.4,5.8,5.3,5.6,6.5,5.7,5.7,6.6]
["IA199534","IA","1995-10-20",{"$f":"COUNTIF(Calculations!$E$56:$E$98,\"<=\"&DATE(2006,MONTH(C4222),DAY(C4222)))","v":34},6.6,6.9,6.6,5.6,7,6.8,6.4,6.8,6.8,6.7]
["IA199535","IA","1995-10-27",{"$f":"COUNTIF(Calculations!$E$56:$E$98,\"<=\"&DATE(2006,MONTH(C4223),DAY(C4223)))","v":35},5.7,4.5,4.9000000000000004,4.7,5.9,6.3,5.8,6.9,6.9,6.6]
["IA199536","IA","1995-11-03",{"$f":"COUNTIF(Calculations!$E$56:$E$98,\"<=\"&DATE(2006,MONTH(C4224),DAY(C4224)))","v":36},2.8,3.4,2.9,3,3,2.5,2.2000000000000002,2.9,2.5,2.2999999999999998]
["IA19965","IA","1996-03-29",{"$f":"COUNTIF(Calculations!$E$56:$E$98,\"<=\"&DATE(2006,MONTH(C4225),DAY(C4225)))","v":5},0.7,0.2,0.6,0.3,0.5,0.5,1.4,1.1000000000000001,2.1,0.9]
[{"$f":"B4226&YEAR(C4226)&D4226","v":"IA19966"},"IA","1996-04-05",6,2,1,1.2,1.2,0.2,2.4,3.9,2.7,4,3.8]
["IA19967","IA","1996-04-12",{"$f":"COUNTIF(Calculations!$E$56:$E$98,\"<=\"&DATE(2006,MONTH(C4227),DAY(C4227)))","v":7},4.4000000000000004,0.8,2.6,3,4.7,5.3,6.3,6.2,6.8,6.8]
[{"$f":"B4228&YEAR(C4228)&D4228","v":"IA19968"},"IA","1996-04-19",8,3.8,1.6,2.8,3.3,3.3,5.2,5.5,4.4000000000000004,5.7,4.7]
["IA19969","IA","1996-04-26",{"$f":"COUNTIF(Calculations!$E$56:$E$98,\"<=\"&DATE(2006,MONTH(C4229),DAY(C4229)))","v":9},5.6,4,4.3,4.7,6.5,6.5,6.5,5.7,6.9,5.8]
["IA199610","IA","1996-05-03",{"$f":"COUNTIF(Calculations!$E$56:$E$98,\"<=\"&DATE(2006,MONTH(C4230),DAY(C4230)))","v":10},3.8,5.5,4.4000000000000004,4.9000000000000004,3.7,3,3.4,2,1.9,2.9]
["IA199611","IA","1996-05-10",{"$f":"COUNTIF(Calculations!$E$56:$E$98,\"<=\"&DATE(2006,MONTH(C4231),DAY(C4231)))","v":11},2.8,3.4,3.5,3.9,3.3,3,2.1,1,0.5,1.2]
["IA199612","IA","1996-05-17",{"$f":"COUNTIF(Calculations!$E$56:$E$98,\"<=\"&DATE(2006,MONTH(C4232),DAY(C4232)))","v":12},1.5,2.9,2.5,2.6,1.1000000000000001,1.3,0.5,0.1,0,0.1]
["IA199613","IA","1996-05-24",{"$f":"COUNTIF(Calculations!$E$56:$E$98,\"<=\"&DATE(2006,MONTH(C4233),DAY(C4233)))","v":13},3.4,4.5999999999999996,4.0999999999999996,3.8,4.2,3.2,2.2999999999999998,3.2,1,1.1000000000000001]
["IA199614","IA","1996-05-31",{"$f":"COUNTIF(Calculations!$E$56:$E$98,\"<=\"&DATE(2006,MONTH(C4234),DAY(C4234)))","v":14},1.3,1.6,1.9,2.1,0.8,1.5,0.8,1,0.3,0.4]
["IA199615","IA","1996-06-07",{"$f":"COUNTIF(Calculations!$E$56:$E$98,\"<=\"&DATE(2006,MONTH(C4235),DAY(C4235)))","v":15},2.5,4.0999999999999996,2.2999999999999998,1.5,3.3,2.2000000000000002,1.6,2.6,0.5,1.1000000000000001]
["IA199616","IA","1996-06-14",{"$f":"COUNTIF(Calculations!$E$56:$E$98,\"<=\"&DATE(2006,MONTH(C4236),DAY(C4236)))","v":16},4.9000000000000004,6.5,5.7,3.2,6.3,4.3,3.1,5.4,3,2.9]
["IA199617","IA","1996-06-21",{"$f":"COUNTIF(Calculations!$E$56:$E$98,\"<=\"&DATE(2006,MONTH(C4237),DAY(C4237)))","v":17},2.7,2,1.6,2.5,1.9,2,4,4.3,2.9,6.1]
["IA199618","IA","1996-06-28",{"$f":"COUNTIF(Calculations!$E$56:$E$98,\"<=\"&DATE(2006,MONTH(C4238),DAY(C4238)))","v":18},4.9000000000000004,3.6,5,5.5,4.2,4.8,5.7,4.8,4.0999999999999996,6.3]
["IA199619","IA","1996-07-05",{"$f":"COUNTIF(Calculations!$E$56:$E$98,\"<=\"&DATE(2006,MONTH(C4239),DAY(C4239)))","v":19},6.1,5.4,7,5.7,6,6.9,6,4.7,6.6,6.9]
["IA199620","IA","1996-07-12",{"$f":"COUNTIF(Calculations!$E$56:$E$98,\"<=\"&DATE(2006,MONTH(C4240),DAY(C4240)))","v":20},6.6,6.5,6.3,6.5,6.6,6.7,6.5,6.8,7,7]
["IA199621","IA","1996-07-19",{"$f":"COUNTIF(Calculations!$E$56:$E$98,\"<=\"&DATE(2006,MONTH(C4241),DAY(C4241)))","v":21},5.4,5.8,5.8,5.6,4.3,4.3,4.7,6.4,6.8,6.9]
["IA199622","IA","1996-07-26",{"$f":"COUNTIF(Calculations!$E$56:$E$98,\"<=\"&DATE(2006,MONTH(C4242),DAY(C4242)))","v":22},6.1,6.8,7,6.7,5,6.2,6.1,4.9000000000000004,5.3,5.9]
["IA199623","IA","1996-08-02",{"$f":"COUNTIF(Calculations!$E$56:$E$98,\"<=\"&DATE(2006,MONTH(C4243),DAY(C4243)))","v":23},6.1,6.2,6.1,6,6.7,5.3,6.4,6.2,6.2,6.5]
["IA199624","IA","1996-08-09",{"$f":"COUNTIF(Calculations!$E$56:$E$98,\"<=\"&DATE(2006,MONTH(C4244),DAY(C4244)))","v":24},4.5999999999999996,4.0999999999999996,3.8,5.5,3.1,4.3,6.3,4.5,6,6.8]
["IA199625","IA","1996-08-16",{"$f":"COUNTIF(Calculations!$E$56:$E$98,\"<=\"&DATE(2006,MONTH(C4245),DAY(C4245)))","v":25},6.1,5.3,6.3,6.7,6,5.5,6.4,6.1,6.4,6.7]
[{"$f":"B4246&YEAR(C4246)&D4246","v":"IA199626"},"IA","1996-08-23",{"$f":"COUNTIF(Calculations!$E$56:$E$98,\"<=\"&DATE(2006,MONTH(C4246),DAY(C4246)))","v":26},4.7,5.4,4.0999999999999996,4.5999999999999996,4.8,4.7,4.5999999999999996,3.7,4.7,5.5]
["IA199627","IA","1996-08-30",{"$f":"COUNTIF(Calculations!$E$56:$E$98,\"<=\"&DATE(2006,MONTH(C4247),DAY(C4247)))","v":27},5.8,5.2,5.3,6.6,5.2,5.6,6.8,6.1,5.9,6.8]
["IA199628","IA","1996-09-06",{"$f":"COUNTIF(Calculations!$E$56:$E$98,\"<=\"&DATE(2006,MONTH(C4248),DAY(C4248)))","v":28},6.8,6.5,6.8,6.9,6.5,7,6.9,6.9,7,6.9]
["IA199629","IA","1996-09-13",{"$f":"COUNTIF(Calculations!$E$56:$E$98,\"<=\"&DATE(2006,MONTH(C4249),DAY(C4249)))","v":29},5.7,5.0999999999999996,6.3,5.9,5.5,6,5.3,5.7,6,5.2]
["IA199630","IA","1996-09-20",{"$f":"COUNTIF(Calculations!$E$56:$E$98,\"<=\"&DATE(2006,MONTH(C4250),DAY(C4250)))","v":30},6,5.7,6.1,6.2,5.7,6,6.4,5.3,6,6.8]
["IA199631","IA","1996-09-27",{"$f":"COUNTIF(Calculations!$E$56:$E$98,\"<=\"&DATE(2006,MONTH(C4251),DAY(C4251)))","v":31},3.8,3.8,4.2,4.5999999999999996,3.5,3.1,4.4000000000000004,3,3.9,4.4000000000000004]
["IA199632","IA","1996-10-04",{"$f":"COUNTIF(Calculations!$E$56:$E$98,\"<=\"&DATE(2006,MONTH(C4252),DAY(C4252)))","v":32},6.5,6.6,6.5,6.4,6.5,6.4,6.3,6.6,6.1,6.7]
["IA199633","IA","1996-10-11",{"$f":"COUNTIF(Calculations!$E$56:$E$98,\"<=\"&DATE(2006,MONTH(C4253),DAY(C4253)))","v":33},6.5,6.6,6.6,6.2,6.9,6.7,5.7,6.8,6.6,6.4]
["IA199634","IA","1996-10-18",{"$f":"COUNTIF(Calculations!$E$56:$E$98,\"<=\"&DATE(2006,MONTH(C4254),DAY(C4254)))","v":34},6.2,5.6,6.8,5.9,6.7,6.6,4.8,6.7,6,5.9]
["IA199635","IA","1996-10-25",{"$f":"COUNTIF(Calculations!$E$56:$E$98,\"<=\"&DATE(2006,MONTH(C4255),DAY(C4255)))","v":35},4.5,6.1,4.0999999999999996,3.7,5,4.3,3.9,4.7,3.9,3.9]
["IA199636","IA","1996-11-01",{"$f":"COUNTIF(Calculations!$E$56:$E$98,\"<=\"&DATE(2006,MONTH(C4256),DAY(C4256)))","v":36},5.0999999999999996,5.2,5.3,5.6,4.9000000000000004,4.8,4.5999999999999996,5.3,4.0999999999999996,5.5]
["IA199637","IA","1996-11-08",{"$f":"COUNTIF(Calculations!$E$56:$E$98,\"<=\"&DATE(2006,MONTH(C4257),DAY(C4257)))","v":37},4.4000000000000004,5.8,3.8,3.5,4.9000000000000004,3.2,4,4.5999999999999996,3.5,5.0999999999999996]
["IA199638","IA","1996-11-15",{"$f":"COUNTIF(Calculations!$E$56:$E$98,\"<=\"&DATE(2006,MONTH(C4258),DAY(C4258)))","v":38},5.2,5.2,4.7,5.0999999999999996,5.3,5.5,4.7,5,5.3,6.1]
["IA199639","IA","1996-11-22",{"$f":"COUNTIF(Calculations!$E$56:$E$98,\"<=\"&DATE(2006,MONTH(C4259),DAY(C4259)))","v":39},2.6,1.3,4.0999999999999996,3,1.2,3.2,3,2.1,2.2000000000000002,4.3]
["IA19976","IA","1997-04-04",{"$f":"COUNTIF(Calculations!$E$56:$E$98,\"<=\"&DATE(2006,MONTH(C4260),DAY(C4260)))","v":6},3.1,1.6,2.2000000000000002,1.3,2.7,3.2,4,4.9000000000000004,5.9,5.8]
["IA19977","IA","1997-04-11",{"$f":"COUNTIF(Calculations!$E$56:$E$98,\"<=\"&DATE(2006,MONTH(C4261),DAY(C4261)))","v":7},1.3,1,1.6,1.7,0.8,1.1000000000000001,1.5,0.8,0.8,3.4]
["IA19978","IA","1997-04-18",{"$f":"COUNTIF(Calculations!$E$56:$E$98,\"<=\"&DATE(2006,MONTH(C4262),DAY(C4262)))","v":8},1.5,0.9,2,2.2000000000000002,1.6,2,1.6,1.5,0.5,0.4]
["IA19979","IA","1997-04-25",{"$f":"COUNTIF(Calculations!$E$56:$E$98,\"<=\"&DATE(2006,MONTH(C4263),DAY(C4263)))","v":9},4,4.0999999999999996,5.6,5.7,2.5,4.5,5.9,1,0.9,4.3]
["IA199710","IA","1997-05-02",{"$f":"COUNTIF(Calculations!$E$56:$E$98,\"<=\"&DATE(2006,MONTH(C4264),DAY(C4264)))","v":10},3.9,4.2,4.0999999999999996,4,4,4.2,3.8,3.2,2.7,4.2]
["IA199711","IA","1997-05-09",{"$f":"COUNTIF(Calculations!$E$56:$E$98,\"<=\"&DATE(2006,MONTH(C4265),DAY(C4265)))","v":11},3.1,3.7,2.6,3.4,4.0999999999999996,2.8,2.8,3.8,1.3,2.6]
["IA199712","IA","1997-05-16",{"$f":"COUNTIF(Calculations!$E$56:$E$98,\"<=\"&DATE(2006,MONTH(C4266),DAY(C4266)))","v":12},6.3,6.4,6,6,6.9,6.6,6,6.7,5.7,5.9]
["IA199713","IA","1997-05-23",{"$f":"COUNTIF(Calculations!$E$56:$E$98,\"<=\"&DATE(2006,MONTH(C4267),DAY(C4267)))","v":13},6.1,6.2,6,5.9,6.6,6.1,5.3,6.1,6.5,6.3]
["IA199714","IA","1997-05-30",{"$f":"COUNTIF(Calculations!$E$56:$E$98,\"<=\"&DATE(2006,MONTH(C4268),DAY(C4268)))","v":14},1.5,0.5,1.6,3.1,1.2,1.7,1.7,1,2,0.8]
["IA199715","IA","1997-06-06",{"$f":"COUNTIF(Calculations!$E$56:$E$98,\"<=\"&DATE(2006,MONTH(C4269),DAY(C4269)))","v":15},6.4,6.8,6.3,6,6.8,6.3,5.9,6.9,6.5,5.4]
["IA199716","IA","1997-06-13",{"$f":"COUNTIF(Calculations!$E$56:$E$98,\"<=\"&DATE(2006,MONTH(C4270),DAY(C4270)))","v":16},5.9,5.7,6.4,7,6,6.1,7,6.3,5.0999999999999996,4.0999999999999996]
["IA199717","IA","1997-06-20",{"$f":"COUNTIF(Calculations!$E$56:$E$98,\"<=\"&DATE(2006,MONTH(C4271),DAY(C4271)))","v":17},5.9,5.9,5.5,5.3,6.3,6.5,5.3,6.7,6.2,5.0999999999999996]
["IA199718","IA","1997-06-27",{"$f":"COUNTIF(Calculations!$E$56:$E$98,\"<=\"&DATE(2006,MONTH(C4272),DAY(C4272)))","v":18},3.5,3.3,3.4,3.5,2.9,3.4,3.9,3.5,4.7,4.4000000000000004]
["IA199719","IA","1997-07-04",{"$f":"COUNTIF(Calculations!$E$56:$E$98,\"<=\"&DATE(2006,MONTH(C4273),DAY(C4273)))","v":19},4.5999999999999996,4.2,3.7,4.0999999999999996,4.8,4.8,5.0999999999999996,3.7,5.9,5.5]
["IA199720","IA","1997-07-11",{"$f":"COUNTIF(Calculations!$E$56:$E$98,\"<=\"&DATE(2006,MONTH(C4274),DAY(C4274)))","v":20},6.2,5.9,5.7,6.3,6.3,6.3,6.7,5.9,6.9,6.8]
["IA199721","IA","1997-07-18",{"$f":"COUNTIF(Calculations!$E$56:$E$98,\"<=\"&DATE(2006,MONTH(C4275),DAY(C4275)))","v":21},6,6.3,4.8,5.2,6.5,6.2,5.6,6.9,6.9,6.6]
["IA199722","IA","1997-07-25",{"$f":"COUNTIF(Calculations!$E$56:$E$98,\"<=\"&DATE(2006,MONTH(C4276),DAY(C4276)))","v":22},4.5999999999999996,3.1,4.4000000000000004,4.8,4.5,4.5999999999999996,5.9,5.8,4.4000000000000004,4.2]
["IA199723","IA","1997-08-01",{"$f":"COUNTIF(Calculations!$E$56:$E$98,\"<=\"&DATE(2006,MONTH(C4277),DAY(C4277)))","v":23},6,5.5,4.8,5.2,6.4,6.9,6.5,6.1,6.3,6.3]
["IA199724","IA","1997-08-08",{"$f":"COUNTIF(Calculations!$E$56:$E$98,\"<=\"&DATE(2006,MONTH(C4278),DAY(C4278)))","v":24},6.9,6.9,6.9,6.8,6.9,6.9,6.8,6.9,7,6.9]
[{"$f":"B4279&YEAR(C4279)&D4279","v":"IA199725"},"IA","1997-08-15",25,5.2,6.1,6,4.8,4.5999999999999996,5.0999999999999996,5,5.2,4.7,3.9]
[{"$f":"B4280&YEAR(C4280)&D4280","v":"IA199726"},"IA","1997-08-22",{"$f":"COUNTIF(Calculations!$E$56:$E$98,\"<=\"&DATE(2006,MONTH(C4280),DAY(C4280)))","v":26},5.6,6.6,5.6,5.2,6.1,5.6,5.4,5.2,4.4000000000000004,3.9]
["IA199727","IA","1997-08-29",{"$f":"COUNTIF(Calculations!$E$56:$E$98,\"<=\"&DATE(2006,MONTH(C4281),DAY(C4281)))","v":27},6.1,6,6.7,4,6.7,6.2,5.5,6.9,6.2,4.5]
["IA199728","IA","1997-09-05",{"$f":"COUNTIF(Calculations!$E$56:$E$98,\"<=\"&DATE(2006,MONTH(C4282),DAY(C4282)))","v":28},5.5,5,6.4,4.8,5.9,6.5,4.2,4.5999999999999996,6,5.2]
["IA199729","IA","1997-09-12",{"$f":"COUNTIF(Calculations!$E$56:$E$98,\"<=\"&DATE(2006,MONTH(C4283),DAY(C4283)))","v":29},6,6.3,5.3,5.0999999999999996,6.4,5.2,5.0999999999999996,6.9,6.8,5.6]
["IA199730","IA","1997-09-19",{"$f":"COUNTIF(Calculations!$E$56:$E$98,\"<=\"&DATE(2006,MONTH(C4284),DAY(C4284)))","v":30},5.5,5.8,5.0999999999999996,4.2,6.3,5.4,5.6,6.5,4.5,5.0999999999999996]
["IA199731","IA","1997-09-26",{"$f":"COUNTIF(Calculations!$E$56:$E$98,\"<=\"&DATE(2006,MONTH(C4285),DAY(C4285)))","v":31},4.5,4.9000000000000004,4.0999999999999996,4.5999999999999996,4.4000000000000004,4.5,4.3,4.0999999999999996,4.5999999999999996,4.9000000000000004]
["IA199732","IA","1997-10-03",{"$f":"COUNTIF(Calculations!$E$56:$E$98,\"<=\"&DATE(2006,MONTH(C4286),DAY(C4286)))","v":32},6.9,7,6.9,6.8,7,6.9,6.6,7,6.9,7]
["IA199733","IA","1997-10-10",{"$f":"COUNTIF(Calculations!$E$56:$E$98,\"<=\"&DATE(2006,MONTH(C4287),DAY(C4287)))","v":33},6.1,6.7,6,5.8,6.4,5.8,6.6,5.9,5.0999999999999996,6.4]
["IA199734","IA","1997-10-17",{"$f":"COUNTIF(Calculations!$E$56:$E$98,\"<=\"&DATE(2006,MONTH(C4288),DAY(C4288)))","v":34},4.8,5.2,4.7,4.5,4.5999999999999996,4.8,5.6,4.8,4.0999999999999996,5.0999999999999996]
["IA199735","IA","1997-10-24",{"$f":"COUNTIF(Calculations!$E$56:$E$98,\"<=\"&DATE(2006,MONTH(C4289),DAY(C4289)))","v":35},6.2,6.5,6.6,6.2,6.3,6.1,6,5.7,5.7,6]
["IA199736","IA","1997-10-31",{"$f":"COUNTIF(Calculations!$E$56:$E$98,\"<=\"&DATE(2006,MONTH(C4290),DAY(C4290)))","v":36},3.5,6.9,6.6,3.6,2.1,3.2,2.1,0.9,0.6,2.4]
["IA199737","IA","1997-11-07",{"$f":"COUNTIF(Calculations!$E$56:$E$98,\"<=\"&DATE(2006,MONTH(C4291),DAY(C4291)))","v":37},4,2.1,5.9,5.0999999999999996,3.5,4.0999999999999996,3.8,4,4.4000000000000004,1.5]
["IA199738","IA","1997-11-14",{"$f":"COUNTIF(Calculations!$E$56:$E$98,\"<=\"&DATE(2006,MONTH(C4292),DAY(C4292)))","v":38},5.0999999999999996,5,6.1,5.8,4.4000000000000004,5.3,4.5999999999999996,4.7,4.5999999999999996,4.9000000000000004]
["IA199739","IA","1997-11-21",{"$f":"COUNTIF(Calculations!$E$56:$E$98,\"<=\"&DATE(2006,MONTH(C4293),DAY(C4293)))","v":39},4,1.3,3.5,4.5999999999999996,3.9,4.0999999999999996,3.5,6,6.3,6.5]
["IA19986","IA","1998-04-05",{"$f":"COUNTIF(Calculations!$E$56:$E$98,\"<=\"&DATE(2006,MONTH(C4294),DAY(C4294)))","v":6},0.2,0,0.1,0.3,0.3,0.1,1.4,0,0,0.4]
["IA19987","IA","1998-04-12",{"$f":"COUNTIF(Calculations!$E$56:$E$98,\"<=\"&DATE(2006,MONTH(C4295),DAY(C4295)))","v":7},0.7,1.1000000000000001,0.6,0.9,0.9,0.9,0.4,0.5,0.2,0.4]
["IA19988","IA","1998-04-19",{"$f":"COUNTIF(Calculations!$E$56:$E$98,\"<=\"&DATE(2006,MONTH(C4296),DAY(C4296)))","v":8},1.3,2.2000000000000002,0.7,1,1.9,0.8,0.4,2.2000000000000002,0.7,0.1]
["IA19989","IA","1998-04-26",{"$f":"COUNTIF(Calculations!$E$56:$E$98,\"<=\"&DATE(2006,MONTH(C4297),DAY(C4297)))","v":9},2.6,3.4,2.2999999999999998,2.7,3.7,2.5,0.8,4.5999999999999996,1.6,1.1000000000000001]
["IA199810","IA","1998-05-03",{"$f":"COUNTIF(Calculations!$E$56:$E$98,\"<=\"&DATE(2006,MONTH(C4298),DAY(C4298)))","v":10},3.8,4.8,5.3,3.9,4.2,4,1.4,3.4,2.4,1.1000000000000001]
["IA199811","IA","1998-05-10",{"$f":"COUNTIF(Calculations!$E$56:$E$98,\"<=\"&DATE(2006,MONTH(C4299),DAY(C4299)))","v":11},4.5999999999999996,6.5,5,3.6,5.8,4.9000000000000004,3,4.9000000000000004,2.7,1.3]
["IA199812","IA","1998-05-17",{"$f":"COUNTIF(Calculations!$E$56:$E$98,\"<=\"&DATE(2006,MONTH(C4300),DAY(C4300)))","v":12},5.6,5.8,6.4,5.8,5.9,5.7,5.5,5.2,3.8,4.4000000000000004]
["IA199813","IA","1998-05-24",{"$f":"COUNTIF(Calculations!$E$56:$E$98,\"<=\"&DATE(2006,MONTH(C4301),DAY(C4301)))","v":13},4.8,5.7,5.5,6.5,3.5,3.8,5.6,3.3,3.8,4.4000000000000004]
["IA199814","IA","1998-05-31",{"$f":"COUNTIF(Calculations!$E$56:$E$98,\"<=\"&DATE(2006,MONTH(C4302),DAY(C4302)))","v":14},3.5,4.5,3.8,4.4000000000000004,3.7,3.3,3.8,2.7,1.7,1.5]
["IA199815","IA","1998-06-07",{"$f":"COUNTIF(Calculations!$E$56:$E$98,\"<=\"&DATE(2006,MONTH(C4303),DAY(C4303)))","v":15},3.7,3,3.6,4.4000000000000004,2.8,3.5,4.3,4.0999999999999996,4.3,5.6]
["IA199816","IA","1998-06-14",{"$f":"COUNTIF(Calculations!$E$56:$E$98,\"<=\"&DATE(2006,MONTH(C4304),DAY(C4304)))","v":16},1.5,2,1.5,2,0.6,1.5,1.4,1.2,1.6,2]
["IA199817","IA","1998-06-21",{"$f":"COUNTIF(Calculations!$E$56:$E$98,\"<=\"&DATE(2006,MONTH(C4305),DAY(C4305)))","v":17},1,2,1.8,1.4,1.1000000000000001,0.5,0.5,0.7,0.5,0.6]
["IA199818","IA","1998-06-28",{"$f":"COUNTIF(Calculations!$E$56:$E$98,\"<=\"&DATE(2006,MONTH(C4306),DAY(C4306)))","v":18},3.2,4.0999999999999996,1.6,2.6,4.0999999999999996,2,3.4,4.7,3.1,3.5]
["IA199819","IA","1998-07-05",{"$f":"COUNTIF(Calculations!$E$56:$E$98,\"<=\"&DATE(2006,MONTH(C4307),DAY(C4307)))","v":19},3.9,4.0999999999999996,3.8,3.8,4.4000000000000004,2.8,3.5,5.5,4.3,3.4]
["IA199820","IA","1998-07-12",{"$f":"COUNTIF(Calculations!$E$56:$E$98,\"<=\"&DATE(2006,MONTH(C4308),DAY(C4308)))","v":20},4.5,5.4,5.8,4.5999999999999996,3.3,4.2,5.3,3.4,2.9,4.4000000000000004]
["IA199821","IA","1998-07-19",{"$f":"COUNTIF(Calculations!$E$56:$E$98,\"<=\"&DATE(2006,MONTH(C4309),DAY(C4309)))","v":21},6.1,5.6,6.3,7,5.3,6.2,7,5.9,6,6.5]
["IA199822","IA","1998-07-26",{"$f":"COUNTIF(Calculations!$E$56:$E$98,\"<=\"&DATE(2006,MONTH(C4310),DAY(C4310)))","v":22},5.8,5.3,6.4,6,5.5,6,6.3,5,5.7,5.8]
[{"$f":"B4311&YEAR(C4311)&D4311","v":"IA199823"},"IA","1998-08-02",{"$f":"COUNTIF(Calculations!$E$56:$E$98,\"<=\"&DATE(2006,MONTH(C4311),DAY(C4311)))","v":23},6.9,6.8,6.8,6.9,7,6.9,7,6.5,6.9,7]
["IA199824","IA","1998-08-09",{"$f":"COUNTIF(Calculations!$E$56:$E$98,\"<=\"&DATE(2006,MONTH(C4312),DAY(C4312)))","v":24},2.8,2.1,1.8,2.6,3.5,2.7,3.6,3.9,3.3,3.5]
["IA199825","IA","1998-08-16",{"$f":"COUNTIF(Calculations!$E$56:$E$98,\"<=\"&DATE(2006,MONTH(C4313),DAY(C4313)))","v":25},5.9,5.6,6.2,5.4,5.8,5.7,6.1,6,6.7,5.8]
["IA199826","IA","1998-08-23",{"$f":"COUNTIF(Calculations!$E$56:$E$98,\"<=\"&DATE(2006,MONTH(C4314),DAY(C4314)))","v":26},5.4,5.7,4.9000000000000004,3.7,5.6,5.8,5,6.4,6.6,6.3]
["IA199827","IA","1998-08-30",{"$f":"COUNTIF(Calculations!$E$56:$E$98,\"<=\"&DATE(2006,MONTH(C4315),DAY(C4315)))","v":27},4.7,4.4000000000000004,4.3,4.3,4.5999999999999996,4.7,4.0999999999999996,5.3,6,5.6]
["IA199828","IA","1998-09-06",{"$f":"COUNTIF(Calculations!$E$56:$E$98,\"<=\"&DATE(2006,MONTH(C4316),DAY(C4316)))","v":28},6.2,6.7,6.3,6.1,6.2,6.7,5.2,6.7,5.4,5.4]
["IA199829","IA","1998-09-13",{"$f":"COUNTIF(Calculations!$E$56:$E$98,\"<=\"&DATE(2006,MONTH(C4317),DAY(C4317)))","v":29},7,7,7,7,7,6.9,7,7,6.9,7]
["IA199830","IA","1998-09-20",{"$f":"COUNTIF(Calculations!$E$56:$E$98,\"<=\"&DATE(2006,MONTH(C4318),DAY(C4318)))","v":30},6.2,7,6.9,5.6,7,6.1,4.5,7,5.6,4]
["IA199831","IA","1998-09-27",{"$f":"COUNTIF(Calculations!$E$56:$E$98,\"<=\"&DATE(2006,MONTH(C4319),DAY(C4319)))","v":31},5.5,5.3,5.5,5.8,5.6,6,5,5.4,5.5,5.4]
["IA199832","IA","1998-10-04",{"$f":"COUNTIF(Calculations!$E$56:$E$98,\"<=\"&DATE(2006,MONTH(C4320),DAY(C4320)))","v":32},5.9,6.6,5.4,5.2,6.7,6.1,5,6.1,5.9,6.1]
["IA199833","IA","1998-10-11",{"$f":"COUNTIF(Calculations!$E$56:$E$98,\"<=\"&DATE(2006,MONTH(C4321),DAY(C4321)))","v":33},3.2,4.5,2.8,2.5,3.5,3.4,2.5,3.6,2.2999999999999998,1.6]
["IA199834","IA","1998-10-18",{"$f":"COUNTIF(Calculations!$E$56:$E$98,\"<=\"&DATE(2006,MONTH(C4322),DAY(C4322)))","v":34},5.7,5.7,4.8,5.5,6.3,5.7,4.9000000000000004,6.6,6.8,5.5]
["IA199835","IA","1998-10-25",{"$f":"COUNTIF(Calculations!$E$56:$E$98,\"<=\"&DATE(2006,MONTH(C4323),DAY(C4323)))","v":35},4.9000000000000004,5.3,5.0999999999999996,4.8,5.7,5,3.9,5.4,3.9,3.7]
["IA199836","IA","1998-11-01",{"$f":"COUNTIF(Calculations!$E$56:$E$98,\"<=\"&DATE(2006,MONTH(C4324),DAY(C4324)))","v":36},4.3,3.8,3.8,3.4,5,4.5,3.1,6,6,4.9000000000000004]
["IA199837","IA","1998-11-08",{"$f":"COUNTIF(Calculations!$E$56:$E$98,\"<=\"&DATE(2006,MONTH(C4325),DAY(C4325)))","v":37},5.3,5.8,6.7,6.3,6.1,5.7,4.9000000000000004,3.2,2.2999999999999998,2.7]
["IA199838","IA","1998-11-15",{"$f":"COUNTIF(Calculations!$E$56:$E$98,\"<=\"&DATE(2006,MONTH(C4326),DAY(C4326)))","v":38},2.4,0.8,2.7,3.3,2.1,2.9,4.2,2.6,1.8,1.8]
["IA199839","IA","1998-11-22",{"$f":"COUNTIF(Calculations!$E$56:$E$98,\"<=\"&DATE(2006,MONTH(C4327),DAY(C4327)))","v":39},5.7,4.7,4.5,5.6,6.5,6.3,6.1,6.9,5.4,6.1]
["IA199840","IA","1998-11-29",{"$f":"COUNTIF(Calculations!$E$56:$E$98,\"<=\"&DATE(2006,MONTH(C4328),DAY(C4328)))","v":40},6.9,6.9,7,6.8,7,7,7,7,6.9,6.7]
[{"$f":"B4329&YEAR(C4329)&D4329","v":"IA19996"},"IA","1999-04-04",{"$f":"COUNTIF(Calculations!$E$56:$E$98,\"<=\"&DATE(2006,MONTH(C4329),DAY(C4329)))","v":6},6.3,5.8,5.3,6.3,6.9,6.6,6.8,6.8,6.8,6.6]
["IA19997","IA","1999-04-11",{"$f":"COUNTIF(Calculations!$E$56:$E$98,\"<=\"&DATE(2006,MONTH(C4330),DAY(C4330)))","v":7},1.7,2,1.4,1.4,1.1000000000000001,1.8,3,1.2,1.7,3.6]
["IA19998","IA","1999-04-18",{"$f":"COUNTIF(Calculations!$E$56:$E$98,\"<=\"&DATE(2006,MONTH(C4331),DAY(C4331)))","v":8},1.1000000000000001,0.6,0.5,1.8,0.7,1.1000000000000001,1.7,1.7,0.8,2.5]
["IA19999","IA","1999-04-25",{"$f":"COUNTIF(Calculations!$E$56:$E$98,\"<=\"&DATE(2006,MONTH(C4332),DAY(C4332)))","v":9},1.5,2.2000000000000002,1.2,2.4,1.4,1.5,0.7,1.4,0.6,1.1000000000000001]
["IA199910","IA","1999-05-02",{"$f":"COUNTIF(Calculations!$E$56:$E$98,\"<=\"&DATE(2006,MONTH(C4333),DAY(C4333)))","v":10},1.8,2.4,2.1,3.3,1.2,1.7,2.1,0.7,0.3,0.1]
["IA199911","IA","1999-05-09",{"$f":"COUNTIF(Calculations!$E$56:$E$98,\"<=\"&DATE(2006,MONTH(C4334),DAY(C4334)))","v":11},3.9,4,4.0999999999999996,4,4,4.3,4,3.2,3.1,3.3]
["IA199912","IA","1999-05-16",{"$f":"COUNTIF(Calculations!$E$56:$E$98,\"<=\"&DATE(2006,MONTH(C4335),DAY(C4335)))","v":12},2.9,4.3,2.1,2.6,3.9,1.6,3.3,3.8,1.5,2.5]
["IA199913","IA","1999-05-23",{"$f":"COUNTIF(Calculations!$E$56:$E$98,\"<=\"&DATE(2006,MONTH(C4336),DAY(C4336)))","v":13},1.8,3.4,1.1000000000000001,0.8,2.2999999999999998,1.3,2.2000000000000002,1.7,0.7,1.5]
["IA199914","IA","1999-05-30",{"$f":"COUNTIF(Calculations!$E$56:$E$98,\"<=\"&DATE(2006,MONTH(C4337),DAY(C4337)))","v":14},4.9000000000000004,5.6,5,4.3,5,4,5.6,4.4000000000000004,5,5.4]
["IA199915","IA","1999-06-06",{"$f":"COUNTIF(Calculations!$E$56:$E$98,\"<=\"&DATE(2006,MONTH(C4338),DAY(C4338)))","v":15},4.3,3.4,5.4,4.8,5,3.8,4.5,4.3,2.8,3.8]
["IA199916","IA","1999-06-13",{"$f":"COUNTIF(Calculations!$E$56:$E$98,\"<=\"&DATE(2006,MONTH(C4339),DAY(C4339)))","v":16},3.3,3.9,1.1000000000000001,1.8,3.8,2.9,3.3,4.5999999999999996,4.3,4.0999999999999996]
["IA199917","IA","1999-06-20",{"$f":"COUNTIF(Calculations!$E$56:$E$98,\"<=\"&DATE(2006,MONTH(C4340),DAY(C4340)))","v":17},3.9,3.2,4.8,5.2,2.8,4.3,4.5,3.7,3.2,3.9]
["IA199918","IA","1999-06-27",{"$f":"COUNTIF(Calculations!$E$56:$E$98,\"<=\"&DATE(2006,MONTH(C4341),DAY(C4341)))","v":18},5,5.4,4.8,5.7,5.2,4.9000000000000004,5.0999999999999996,4,4,4.9000000000000004]
["IA199919","IA","1999-07-04",{"$f":"COUNTIF(Calculations!$E$56:$E$98,\"<=\"&DATE(2006,MONTH(C4342),DAY(C4342)))","v":19},3.9,2.2000000000000002,5.8,5.6,2.6,4.8,5.4,1.1000000000000001,3.6,5.7]
["IA199920","IA","1999-07-11",{"$f":"COUNTIF(Calculations!$E$56:$E$98,\"<=\"&DATE(2006,MONTH(C4343),DAY(C4343)))","v":20},5.5,6.4,5.2,5.3,5,4.9000000000000004,6.3,4.8,6.1,6.6]
["IA199921","IA","1999-07-18",{"$f":"COUNTIF(Calculations!$E$56:$E$98,\"<=\"&DATE(2006,MONTH(C4344),DAY(C4344)))","v":21},6.6,6.6,6.8,6.8,6.1,6.6,7,6.4,7,7]
["IA199922","IA","1999-07-25",{"$f":"COUNTIF(Calculations!$E$56:$E$98,\"<=\"&DATE(2006,MONTH(C4345),DAY(C4345)))","v":22},3.6,1.6,1.5,2,4.2,4.2,5.7,6.3,6.4,6.6]
["IA199923","IA","1999-08-01",{"$f":"COUNTIF(Calculations!$E$56:$E$98,\"<=\"&DATE(2006,MONTH(C4346),DAY(C4346)))","v":23},6.1,6.7,4.5,4.4000000000000004,6.8,6.4,5.8,6.8,6.9,6.8]
["IA199924","IA","1999-08-08",{"$f":"COUNTIF(Calculations!$E$56:$E$98,\"<=\"&DATE(2006,MONTH(C4347),DAY(C4347)))","v":24},6.6,6.9,6.7,6.4,6.9,6.5,7,6,5.3,6.9]
["IA199925","IA","1999-08-15",{"$f":"COUNTIF(Calculations!$E$56:$E$98,\"<=\"&DATE(2006,MONTH(C4348),DAY(C4348)))","v":25},4.9000000000000004,6.6,6.3,4.5,4.2,4.9000000000000004,4.5999999999999996,3.1,3.5,4.5]
["IA199926","IA","1999-08-22",{"$f":"COUNTIF(Calculations!$E$56:$E$98,\"<=\"&DATE(2006,MONTH(C4349),DAY(C4349)))","v":26},5.5,7,6.5,4.8,5.0999999999999996,5.2,4.7,4.5999999999999996,5.5,4]
["IA199927","IA","1999-08-29",{"$f":"COUNTIF(Calculations!$E$56:$E$98,\"<=\"&DATE(2006,MONTH(C4350),DAY(C4350)))","v":27},5.7,6.6,5,3.3,6.9,5.3,4.9000000000000004,7,6.4,6.3]
["IA199928","IA","1999-09-05",{"$f":"COUNTIF(Calculations!$E$56:$E$98,\"<=\"&DATE(2006,MONTH(C4351),DAY(C4351)))","v":28},6.8,7,6.6,6.6,6.7,7,7,7,6.9,7]
["IA199929","IA","1999-09-12",{"$f":"COUNTIF(Calculations!$E$56:$E$98,\"<=\"&DATE(2006,MONTH(C4352),DAY(C4352)))","v":29},6.1,6.4,6.5,6.2,5.7,6.3,7,3.9,6.2,7]
["IA199930","IA","1999-09-19",{"$f":"COUNTIF(Calculations!$E$56:$E$98,\"<=\"&DATE(2006,MONTH(C4353),DAY(C4353)))","v":30},6.8,7,6.3,6.5,6.9,7,7,7,7,6.6]
["IA199931","IA","1999-09-26",{"$f":"COUNTIF(Calculations!$E$56:$E$98,\"<=\"&DATE(2006,MONTH(C4354),DAY(C4354)))","v":31},6.9,6.7,7,7,7,6.9,7,6.9,6.8,6.9]
["IA199932","IA","1999-10-03",{"$f":"COUNTIF(Calculations!$E$56:$E$98,\"<=\"&DATE(2006,MONTH(C4355),DAY(C4355)))","v":32},5.9,6.9,6.7,5.3,7,5.5,4.5,5.7,4.5999999999999996,4.3]
["IA199933","IA","1999-10-10",{"$f":"COUNTIF(Calculations!$E$56:$E$98,\"<=\"&DATE(2006,MONTH(C4356),DAY(C4356)))","v":33},6.1,6.5,6.3,6.3,6.5,6,5.4,6.9,4.8,4.8]
["IA199934","IA","1999-10-17",{"$f":"COUNTIF(Calculations!$E$56:$E$98,\"<=\"&DATE(2006,MONTH(C4357),DAY(C4357)))","v":34},7,7,6.8,6.8,7,7,7,7,7,7]
["IA199935","IA","1999-10-24",{"$f":"COUNTIF(Calculations!$E$56:$E$98,\"<=\"&DATE(2006,MONTH(C4358),DAY(C4358)))","v":35},6.9,7,7,6.8,7,7,6.6,7,6.8,6.4]
["IA199936","IA","1999-10-31",{"$f":"COUNTIF(Calculations!$E$56:$E$98,\"<=\"&DATE(2006,MONTH(C4359),DAY(C4359)))","v":36},7,7,7,6.9,7,7,7,7,6.9,6.9]
["IA199937","IA","1999-11-07",{"$f":"COUNTIF(Calculations!$E$56:$E$98,\"<=\"&DATE(2006,MONTH(C4360),DAY(C4360)))","v":37},6.8,7,6.3,7,6.8,6.8,7,7,7,7]
["IA199938","IA","1999-11-14",{"$f":"COUNTIF(Calculations!$E$56:$E$98,\"<=\"&DATE(2006,MONTH(C4361),DAY(C4361)))","v":38},7,7,7,7,7,7,7,7,7,6.9]
["IA199939","IA","1999-11-21",{"$f":"COUNTIF(Calculations!$E$56:$E$98,\"<=\"&DATE(2006,MONTH(C4362),DAY(C4362)))","v":39},6.8,6.7,6.7,6.7,6.9,6.7,7,7,7,7]
["IA199940","IA","1999-11-28",{"$f":"COUNTIF(Calculations!$E$56:$E$98,\"<=\"&DATE(2006,MONTH(C4363),DAY(C4363)))","v":40},4.9000000000000004,5.7,5.5,5.0999999999999996,4.4000000000000004,3.9,5.4,3.9,4.3,5.7]
["IA20007","IA","2000-04-09",{"$f":"COUNTIF(Calculations!$E$56:$E$98,\"<=\"&DATE(2006,MONTH(C4364),DAY(C4364)))","v":7},6.5,6.4,6.3,6.5,6.7,6.6,5.9,6.8,7,6.7]
["IA20008","IA","2000-04-16",{"$f":"COUNTIF(Calculations!$E$56:$E$98,\"<=\"&DATE(2006,MONTH(C4365),DAY(C4365)))","v":8},4.8,4.5999999999999996,3.5,4.5999999999999996,6,5.3,3.1,5.5,5.0999999999999996,5.5]
["IA20009","IA","2000-04-23",{"$f":"COUNTIF(Calculations!$E$56:$E$98,\"<=\"&DATE(2006,MONTH(C4366),DAY(C4366)))","v":9},3.6,2.4,2.7,3.3,5.6,4.5,2.2999999999999998,4.4000000000000004,4.0999999999999996,2.1]
["IA200010","IA","2000-04-30",{"$f":"COUNTIF(Calculations!$E$56:$E$98,\"<=\"&DATE(2006,MONTH(C4367),DAY(C4367)))","v":10},5.7,5.6,6.2,6,5.7,6.6,4.5,4.8,5.2,5.5]
["IA200011","IA","2000-05-07",{"$f":"COUNTIF(Calculations!$E$56:$E$98,\"<=\"&DATE(2006,MONTH(C4368),DAY(C4368)))","v":11},7,7,7,7,7,7,7,7,7,7]
["IA200012","IA","2000-05-14",{"$f":"COUNTIF(Calculations!$E$56:$E$98,\"<=\"&DATE(2006,MONTH(C4369),DAY(C4369)))","v":12},4.9000000000000004,5.0999999999999996,4.8,4.8,5.6,5,2.9,5.8,4.9000000000000004,3.6]
["IA200013","IA","2000-05-21",{"$f":"COUNTIF(Calculations!$E$56:$E$98,\"<=\"&DATE(2006,MONTH(C4370),DAY(C4370)))","v":13},4.7,3.8,3.5,3.2,6.2,5.8,3.7,6.1,6.7,5.3]
["IA200014","IA","2000-05-28",{"$f":"COUNTIF(Calculations!$E$56:$E$98,\"<=\"&DATE(2006,MONTH(C4371),DAY(C4371)))","v":14},5.9,6.5,6,5.0999999999999996,6.1,6,5.2,5.9,6.3,6]
["IA200015","IA","2000-06-04",{"$f":"COUNTIF(Calculations!$E$56:$E$98,\"<=\"&DATE(2006,MONTH(C4372),DAY(C4372)))","v":15},3,3,1,1,5,2,1,5,5,4]
["IA200016","IA","2000-06-11",{"$f":"COUNTIF(Calculations!$E$56:$E$98,\"<=\"&DATE(2006,MONTH(C4373),DAY(C4373)))","v":16},5.4,5.5,4.4000000000000004,4.5999999999999996,6.3,5.3,4.9000000000000004,5.9,5.5,6]
["IA200017","IA","2000-06-18",{"$f":"COUNTIF(Calculations!$E$56:$E$98,\"<=\"&DATE(2006,MONTH(C4374),DAY(C4374)))","v":17},2.7,3.4,1.9,1.5,5,2.6,1.2,4.2,2.4,1.6]
[{"$f":"B4375&YEAR(C4375)&D4375","v":"IA200018"},"IA","2000-06-25",{"$f":"COUNTIF(Calculations!$E$56:$E$98,\"<=\"&DATE(2006,MONTH(C4375),DAY(C4375)))","v":18},5.5,6.5,4.2,4,6.2,5.4,4.7,5.7,5.9,5.7]
["IA200019","IA","2000-07-02",{"$f":"COUNTIF(Calculations!$E$56:$E$98,\"<=\"&DATE(2006,MONTH(C4376),DAY(C4376)))","v":19},3.8,5.2,4.4000000000000004,3.2,3.7,3.2,3.3,3.8,2.9,3.1]
["IA200020","IA","2000-07-09",{"$f":"COUNTIF(Calculations!$E$56:$E$98,\"<=\"&DATE(2006,MONTH(C4377),DAY(C4377)))","v":20},3,6,2.2000000000000002,3.6,2,3.6,4.3,2.4,2,1.1000000000000001]
["IA200021","IA","2000-07-16",{"$f":"COUNTIF(Calculations!$E$56:$E$98,\"<=\"&DATE(2006,MONTH(C4378),DAY(C4378)))","v":21},4.2,3.6,3.1,4.3,5.4,3.7,4.0999999999999996,5.9,3.8,4.7]
["IA200022","IA","2000-07-23",{"$f":"COUNTIF(Calculations!$E$56:$E$98,\"<=\"&DATE(2006,MONTH(C4379),DAY(C4379)))","v":22},5.3,5.0999999999999996,5.2,6.6,4.2,6,6.4,4.2,4.0999999999999996,5.3]
["IA200023","IA","2000-07-30",{"$f":"COUNTIF(Calculations!$E$56:$E$98,\"<=\"&DATE(2006,MONTH(C4380),DAY(C4380)))","v":23},5.9,6,6.8,5.7,6.5,5.0999999999999996,5,4.8,6.3,6]
["IA200024","IA","2000-08-06",{"$f":"COUNTIF(Calculations!$E$56:$E$98,\"<=\"&DATE(2006,MONTH(C4381),DAY(C4381)))","v":24},6.3,6.9,6.8,5.9,6.4,6.8,6.8,4.5,5.6,6.9]
["IA200025","IA","2000-08-13",{"$f":"COUNTIF(Calculations!$E$56:$E$98,\"<=\"&DATE(2006,MONTH(C4382),DAY(C4382)))","v":25},5.2,4.2,5.4,4.9000000000000004,5.9,5.0999999999999996,4.0999999999999996,6.5,5.7,5.3]
["IA200026","IA","2000-08-20",{"$f":"COUNTIF(Calculations!$E$56:$E$98,\"<=\"&DATE(2006,MONTH(C4383),DAY(C4383)))","v":26},5.6,5.4,5,4.5999999999999996,6.6,5.3,5.3,6.3,5.0999999999999996,5.4]
["IA200027","IA","2000-08-27",{"$f":"COUNTIF(Calculations!$E$56:$E$98,\"<=\"&DATE(2006,MONTH(C4384),DAY(C4384)))","v":27},5.3,5.2,5.6,4.9000000000000004,5.0999999999999996,5.3,5.9,4.9000000000000004,4.8,6.5]
["IA200028","IA","2000-09-03",{"$f":"COUNTIF(Calculations!$E$56:$E$98,\"<=\"&DATE(2006,MONTH(C4385),DAY(C4385)))","v":28},6.6,6.6,6.6,5.6,6.8,6.7,7,6.8,7,6.9]
["IA200029","IA","2000-09-10",{"$f":"COUNTIF(Calculations!$E$56:$E$98,\"<=\"&DATE(2006,MONTH(C4386),DAY(C4386)))","v":29},6.7,6.6,6.4,6.2,7,6.8,6.8,7,7,7]
["IA200030","IA","2000-09-17",{"$f":"COUNTIF(Calculations!$E$56:$E$98,\"<=\"&DATE(2006,MONTH(C4387),DAY(C4387)))","v":30},6.5,7,6.5,5.7,6.9,6.8,4.5999999999999996,7,6.8,5.8]
["IA200031","IA","2000-09-24",{"$f":"COUNTIF(Calculations!$E$56:$E$98,\"<=\"&DATE(2006,MONTH(C4388),DAY(C4388)))","v":31},5.6,5.7,5.6,5.0999999999999996,6.2,5.5,4.5999999999999996,5.7,5.3,5.2]
["IA200032","IA","2000-10-01",{"$f":"COUNTIF(Calculations!$E$56:$E$98,\"<=\"&DATE(2006,MONTH(C4389),DAY(C4389)))","v":32},5.9,6.2,6,5.5,6.7,6.4,5.2,6.6,4.5,4]
["IA200033","IA","2000-10-08",{"$f":"COUNTIF(Calculations!$E$56:$E$98,\"<=\"&DATE(2006,MONTH(C4390),DAY(C4390)))","v":33},5.5,5.6,5.6,5.5,5.7,5.9,4.0999999999999996,5.3,5.5,4.3]
["IA200034","IA","2000-10-15",{"$f":"COUNTIF(Calculations!$E$56:$E$98,\"<=\"&DATE(2006,MONTH(C4391),DAY(C4391)))","v":34},6.8,7,6.9,6.8,6.9,6.9,6.5,7,6.5,6.1]
["IA200035","IA","2000-10-22",{"$f":"COUNTIF(Calculations!$E$56:$E$98,\"<=\"&DATE(2006,MONTH(C4392),DAY(C4392)))","v":35},6.5,5.4,6.2,7,6.9,6.7,7,6.9,6.8,6.9]
["IA200036","IA","2000-10-29",{"$f":"COUNTIF(Calculations!$E$56:$E$98,\"<=\"&DATE(2006,MONTH(C4393),DAY(C4393)))","v":36},4.3,3.1,2.9,4.8,4.8,4.9000000000000004,5.5,4.5,5.5,4.2]
["IA200037","IA","2000-11-05",{"$f":"COUNTIF(Calculations!$E$56:$E$98,\"<=\"&DATE(2006,MONTH(C4394),DAY(C4394)))","v":37},4.5,3.4,4.3,5.5,3.7,5,5,4.4000000000000004,5.0999999999999996,6.7]
["IA200038","IA","2000-11-12",{"$f":"COUNTIF(Calculations!$E$56:$E$98,\"<=\"&DATE(2006,MONTH(C4395),DAY(C4395)))","v":38},2.9,3,2.4,4.5,2.2000000000000002,3.2,4.5,2.2000000000000002,3.4,2.4]
["IA200039","IA","2000-11-19",{"$f":"COUNTIF(Calculations!$E$56:$E$98,\"<=\"&DATE(2006,MONTH(C4396),DAY(C4396)))","v":39},3.6,1,3,2.5,4.2,4.9000000000000004,3.7,3.9,5.4,5.9]
["IA20017","IA","2001-04-08",{"$f":"COUNTIF(Calculations!$E$56:$E$98,\"<=\"&DATE(2006,MONTH(C4397),DAY(C4397)))","v":7},0.5,0,0,0.1,0.9,0.1,0.7,0.7,0.6,2.5]
["IA20018","IA","2001-04-15",{"$f":"COUNTIF(Calculations!$E$56:$E$98,\"<=\"&DATE(2006,MONTH(C4398),DAY(C4398)))","v":8},0.6,0.4,0.2,0.5,1.5,0.5,0.3,1.3,0.4,0.6]
["IA20019","IA","2001-04-22",{"$f":"COUNTIF(Calculations!$E$56:$E$98,\"<=\"&DATE(2006,MONTH(C4399),DAY(C4399)))","v":9},3,3,2,3,5,4,3,5,3,3]
["IA200110","IA","2001-04-29",{"$f":"COUNTIF(Calculations!$E$56:$E$98,\"<=\"&DATE(2006,MONTH(C4400),DAY(C4400)))","v":10},4.0999999999999996,2,3.2,4.4000000000000004,4.8,5.0999999999999996,3.9,6.2,5,3.6]
["IA200111","IA","2001-05-06",{"$f":"COUNTIF(Calculations!$E$56:$E$98,\"<=\"&DATE(2006,MONTH(C4401),DAY(C4401)))","v":11},3.4,2.8,2.2000000000000002,3.1,3.6,3.8,4.9000000000000004,3.5,3.5,4.8]
["IA200112","IA","2001-05-13",{"$f":"COUNTIF(Calculations!$E$56:$E$98,\"<=\"&DATE(2006,MONTH(C4402),DAY(C4402)))","v":12},2,2.1,1.3,2.2000000000000002,3.5,2,1.8,2,1.4,1]
["IA200113","IA","2001-05-20",{"$f":"COUNTIF(Calculations!$E$56:$E$98,\"<=\"&DATE(2006,MONTH(C4403),DAY(C4403)))","v":13},5.0999999999999996,6.2,5.9,5.9,6.5,4.8,2,4.8,1.7,0.9]
["IA200114","IA","2001-05-27",{"$f":"COUNTIF(Calculations!$E$56:$E$98,\"<=\"&DATE(2006,MONTH(C4404),DAY(C4404)))","v":14},1.2,2,0.3,1.1000000000000001,1.2,0.9,0.4,2.7,1.8,0.4]
["IA200115","IA","2001-06-03",{"$f":"COUNTIF(Calculations!$E$56:$E$98,\"<=\"&DATE(2006,MONTH(C4405),DAY(C4405)))","v":15},2.2999999999999998,4.3,1.9,3.5,2.7,1.8,1.2,2.4,0.9,0.4]
["IA200116","IA","2001-06-10",{"$f":"COUNTIF(Calculations!$E$56:$E$98,\"<=\"&DATE(2006,MONTH(C4406),DAY(C4406)))","v":16},2.9,5.5,2.4,2.1,4.0999999999999996,3.1,1.9,2.6,1.1000000000000001,0.3]
["IA200117","IA","2001-06-17",{"$f":"COUNTIF(Calculations!$E$56:$E$98,\"<=\"&DATE(2006,MONTH(C4407),DAY(C4407)))","v":17},3,1.9,2.1,3.7,3.1,3.2,2.4,4.2,3.1,3.8]
["IA200118","IA","2001-06-24",{"$f":"COUNTIF(Calculations!$E$56:$E$98,\"<=\"&DATE(2006,MONTH(C4408),DAY(C4408)))","v":18},5.2,6.2,6.1,5.0999999999999996,6.1,5.4,5.7,3.8,2.1,3.1]
["IA200119","IA","2001-07-01",{"$f":"COUNTIF(Calculations!$E$56:$E$98,\"<=\"&DATE(2006,MONTH(C4409),DAY(C4409)))","v":19},6.7,6.4,6.7,6.4,6.9,6.6,6.9,6.9,7,6.7]
["IA200120","IA","2001-07-08",{"$f":"COUNTIF(Calculations!$E$56:$E$98,\"<=\"&DATE(2006,MONTH(C4410),DAY(C4410)))","v":20},6.4,6.6,6,6.6,6.5,6.5,5.7,5.9,5.9,6.8]
["IA200121","IA","2001-07-15",{"$f":"COUNTIF(Calculations!$E$56:$E$98,\"<=\"&DATE(2006,MONTH(C4411),DAY(C4411)))","v":21},6.8,6.9,7,6.9,6.8,6.9,6.5,6.4,6.9,6.8]
["IA200122","IA","2001-07-22",{"$f":"COUNTIF(Calculations!$E$56:$E$98,\"<=\"&DATE(2006,MONTH(C4412),DAY(C4412)))","v":22},5.4,5.7,4.5,5.2,6.1,5.3,5,5.0999999999999996,5.4,5.9]
["IA200123","IA","2001-07-29",{"$f":"COUNTIF(Calculations!$E$56:$E$98,\"<=\"&DATE(2006,MONTH(C4413),DAY(C4413)))","v":23},4.8,3.1,3.6,5.5,6.6,4.5999999999999996,4.7,6,5.2,4.8]
["IA200124","IA","2001-08-05",{"$f":"COUNTIF(Calculations!$E$56:$E$98,\"<=\"&DATE(2006,MONTH(C4414),DAY(C4414)))","v":24},5.5,4.2,5.4,5.7,5.7,5.3,5.8,7,6,6.1]
["IA200125","IA","2001-08-12",{"$f":"COUNTIF(Calculations!$E$56:$E$98,\"<=\"&DATE(2006,MONTH(C4415),DAY(C4415)))","v":25},6.8,6.5,6.6,6.9,7,6.7,7,7,6.8,6.2]
["IA200126","IA","2001-08-19",{"$f":"COUNTIF(Calculations!$E$56:$E$98,\"<=\"&DATE(2006,MONTH(C4416),DAY(C4416)))","v":26},5,5.0999999999999996,4.4000000000000004,4.7,5.3,4.9000000000000004,4.9000000000000004,5.4,6,5.2]
["IA200127","IA","2001-08-26",{"$f":"COUNTIF(Calculations!$E$56:$E$98,\"<=\"&DATE(2006,MONTH(C4417),DAY(C4417)))","v":27},5.4,5.8,4.8,4.5999999999999996,6.3,4.9000000000000004,3.5,6.6,6.5,5.3]
["IA200128","IA","2001-09-02",{"$f":"COUNTIF(Calculations!$E$56:$E$98,\"<=\"&DATE(2006,MONTH(C4418),DAY(C4418)))","v":28},6.5,6.8,6.5,6.6,6.7,6.4,5.6,6.8,6.6,6.5]
["IA200129","IA","2001-09-09",{"$f":"COUNTIF(Calculations!$E$56:$E$98,\"<=\"&DATE(2006,MONTH(C4419),DAY(C4419)))","v":29},4.5,5.3,4.3,3.8,4.5999999999999996,3.7,5,4.7,3.8,5.5]
["IA200130","IA","2001-09-16",{"$f":"COUNTIF(Calculations!$E$56:$E$98,\"<=\"&DATE(2006,MONTH(C4420),DAY(C4420)))","v":30},4.5999999999999996,4.0999999999999996,3.8,5.0999999999999996,4.2,4,5.7,5.4,4.8,6.2]
["IA200131","IA","2001-09-23",{"$f":"COUNTIF(Calculations!$E$56:$E$98,\"<=\"&DATE(2006,MONTH(C4421),DAY(C4421)))","v":31},4,4.5,4,3.2,3.4,4.0999999999999996,4,3.2,2.9,3.6]
["IA200132","IA","2001-09-30",{"$f":"COUNTIF(Calculations!$E$56:$E$98,\"<=\"&DATE(2006,MONTH(C4422),DAY(C4422)))","v":32},6.4,7,5.9,6.1,6.6,6.7,6,6.8,6.3,6]
["IA200133","IA","2001-10-07",{"$f":"COUNTIF(Calculations!$E$56:$E$98,\"<=\"&DATE(2006,MONTH(C4423),DAY(C4423)))","v":33},6,6.9,6.3,5.9,5.9,5.6,5.6,5.7,5.5,5.0999999999999996]
["IA200134","IA","2001-10-14",{"$f":"COUNTIF(Calculations!$E$56:$E$98,\"<=\"&DATE(2006,MONTH(C4424),DAY(C4424)))","v":34},4.7,4.0999999999999996,4.8,4.8,4.9000000000000004,5,4.3,5.0999999999999996,4.3,4.8]
["IA200135","IA","2001-10-21",{"$f":"COUNTIF(Calculations!$E$56:$E$98,\"<=\"&DATE(2006,MONTH(C4425),DAY(C4425)))","v":35},6.1,6.6,5.4,5.7,6.7,6.1,6.2,6.4,5.3,5.5]
["IA200136","IA","2001-10-28",{"$f":"COUNTIF(Calculations!$E$56:$E$98,\"<=\"&DATE(2006,MONTH(C4426),DAY(C4426)))","v":36},5,6.6,5.4,5.2,5.6,4.8,2.8,5.3,3.9,2.9]
["IA200137","IA","2001-11-04",{"$f":"COUNTIF(Calculations!$E$56:$E$98,\"<=\"&DATE(2006,MONTH(C4427),DAY(C4427)))","v":37},6.5,7,6.9,6.5,6.9,6.5,5.5,6.8,6.1,6.1]
["IA200138","IA","2001-11-11",{"$f":"COUNTIF(Calculations!$E$56:$E$98,\"<=\"&DATE(2006,MONTH(C4428),DAY(C4428)))","v":38},6.8,7,7,6.3,7,6.5,7,7,7,6.7]
["IA200139","IA","2001-11-18",{"$f":"COUNTIF(Calculations!$E$56:$E$98,\"<=\"&DATE(2006,MONTH(C4429),DAY(C4429)))","v":39},6.7,6.9,6.8,6.4,7,6.8,5.3,7,6.8,6.9]
["IA200140","IA","2001-11-25",{"$f":"COUNTIF(Calculations!$E$56:$E$98,\"<=\"&DATE(2006,MONTH(C4430),DAY(C4430)))","v":40}]
["IA20025","IA","2002-03-31",{"$f":"COUNTIF(Calculations!$E$56:$E$98,\"<=\"&DATE(2006,MONTH(C4431),DAY(C4431)))","v":5}]
["IA20026","IA","2002-04-07",{"$f":"COUNTIF(Calculations!$E$56:$E$98,\"<=\"&DATE(2006,MONTH(C4432),DAY(C4432)))","v":6},3.5,2.2999999999999998,2,3.1,4.0999999999999996,4.4000000000000004,1.5,6.2,5.3,4]
["IA20027","IA","2002-04-14",{"$f":"COUNTIF(Calculations!$E$56:$E$98,\"<=\"&DATE(2006,MONTH(C4433),DAY(C4433)))","v":7},3.6,4,3.9,3,4.5999999999999996,4.3,2.1,4.7,3.3,0.9]
["IA20028","IA","2002-04-21",{"$f":"COUNTIF(Calculations!$E$56:$E$98,\"<=\"&DATE(2006,MONTH(C4434),DAY(C4434)))","v":8},5.3,5.0999999999999996,5.4,4.5999999999999996,5.4,5.4,4.5999999999999996,6.4,5.2,5.8]
["IA20029","IA","2002-04-28",{"$f":"COUNTIF(Calculations!$E$56:$E$98,\"<=\"&DATE(2006,MONTH(C4435),DAY(C4435)))","v":9},3.4,4.4000000000000004,4.3,2.7,3.9,4,1,3.4,3,2]
["IA200210","IA","2002-05-05",{"$f":"COUNTIF(Calculations!$E$56:$E$98,\"<=\"&DATE(2006,MONTH(C4436),DAY(C4436)))","v":10},2.2999999999999998,3.3,1.9,3.2,1.5,2.7,2.8,2.1,2.2000000000000002,0.5]
["IA200211","IA","2002-05-12",{"$f":"COUNTIF(Calculations!$E$56:$E$98,\"<=\"&DATE(2006,MONTH(C4437),DAY(C4437)))","v":11},4.3,4.5999999999999996,4.0999999999999996,4,4.5,4.4000000000000004,4.3,4.0999999999999996,3.5,4.3]
["IA200212","IA","2002-05-19",{"$f":"COUNTIF(Calculations!$E$56:$E$98,\"<=\"&DATE(2006,MONTH(C4438),DAY(C4438)))","v":12},3.3,5.0999999999999996,4.8,4,4,3.1,1.2,2.9,0.5,0.7]
[{"$f":"B4439&YEAR(C4439)&D4439","v":"IA200213"},"IA","2002-05-26",{"$f":"COUNTIF(Calculations!$E$56:$E$98,\"<=\"&DATE(2006,MONTH(C4439),DAY(C4439)))","v":13},5,6.4,6.1,6.2,5.4,4.8,4.3,3.9,2.5,3.5]
["IA200214","IA","2002-06-02",{"$f":"COUNTIF(Calculations!$E$56:$E$98,\"<=\"&DATE(2006,MONTH(C4440),DAY(C4440)))","v":14},4.9000000000000004,5.8,6,3.9,4.7,5.3,3.8,5.5,4.2,4]
["IA200215","IA","2002-06-09",{"$f":"COUNTIF(Calculations!$E$56:$E$98,\"<=\"&DATE(2006,MONTH(C4441),DAY(C4441)))","v":15},4.8,5.6,4.5999999999999996,3.2,6.4,4.7,2.4,6.8,5.8,3.5]
["IA200216","IA","2002-06-16",{"$f":"COUNTIF(Calculations!$E$56:$E$98,\"<=\"&DATE(2006,MONTH(C4442),DAY(C4442)))","v":16},3.8,5,4.5,4.3,3.9,3.7,2.1,4.7,2.8,1.7]
["IA200217","IA","2002-06-23",{"$f":"COUNTIF(Calculations!$E$56:$E$98,\"<=\"&DATE(2006,MONTH(C4443),DAY(C4443)))","v":17},5.8,6.3,3.5,5,6.5,6.4,4.9000000000000004,6.8,6.7,7]
["IA200218","IA","2002-06-30",{"$f":"COUNTIF(Calculations!$E$56:$E$98,\"<=\"&DATE(2006,MONTH(C4444),DAY(C4444)))","v":18},6.3,7,5.9,4.9000000000000004,7,6.8,4.8,6.9,6.8,5.8]
["IA200219","IA","2002-07-07",{"$f":"COUNTIF(Calculations!$E$56:$E$98,\"<=\"&DATE(2006,MONTH(C4445),DAY(C4445)))","v":19},6.4,6.8,6.2,6.3,6.9,5.7,5.2,7,6.7,6.6]
["IA200220","IA","2002-07-14",{"$f":"COUNTIF(Calculations!$E$56:$E$98,\"<=\"&DATE(2006,MONTH(C4446),DAY(C4446)))","v":20},4.2,4.8,4.4000000000000004,6,4,2.5,3.2,4.3,3.2,6]
["IA200221","IA","2002-07-21",{"$f":"COUNTIF(Calculations!$E$56:$E$98,\"<=\"&DATE(2006,MONTH(C4447),DAY(C4447)))","v":21},6.5,7,6.4,6.6,7,6.7,4.5,6.9,6.1,6.5]
["IA200222","IA","2002-07-28",{"$f":"COUNTIF(Calculations!$E$56:$E$98,\"<=\"&DATE(2006,MONTH(C4448),DAY(C4448)))","v":22},5.3,5.7,4.4000000000000004,5.3,4.7,5.4,5.2,5.0999999999999996,5.5,6.7]
["IA200223","IA","2002-08-04",{"$f":"COUNTIF(Calculations!$E$56:$E$98,\"<=\"&DATE(2006,MONTH(C4449),DAY(C4449)))","v":23},5.8,6.4,5.9,4.9000000000000004,5.7,5.8,4.9000000000000004,6.5,5.8,6.3]
["IA200224","IA","2002-08-11",{"$f":"COUNTIF(Calculations!$E$56:$E$98,\"<=\"&DATE(2006,MONTH(C4450),DAY(C4450)))","v":24},4.8,3.4,3.1,4.5999999999999996,4.4000000000000004,5,5.8,6.2,6.1,6.8]
["IA200225","IA","2002-08-18",{"$f":"COUNTIF(Calculations!$E$56:$E$98,\"<=\"&DATE(2006,MONTH(C4451),DAY(C4451)))","v":25},4.5,4.4000000000000004,3.2,4.7,4.5,4.2,5.0999999999999996,5,4.9000000000000004,5.6]
["IA200226","IA","2002-08-25",{"$f":"COUNTIF(Calculations!$E$56:$E$98,\"<=\"&DATE(2006,MONTH(C4452),DAY(C4452)))","v":26},2.9,2.2999999999999998,2.5,3.3,2.2000000000000002,3.6,2.6,2.7,3.3,4.9000000000000004]
["IA200227","IA","2002-09-01",{"$f":"COUNTIF(Calculations!$E$56:$E$98,\"<=\"&DATE(2006,MONTH(C4453),DAY(C4453)))","v":27},6.3,5.9,6.3,5.6,6.4,6.7,6.3,6.7,6.3,6.9]
["IA200228","IA","2002-09-08",{"$f":"COUNTIF(Calculations!$E$56:$E$98,\"<=\"&DATE(2006,MONTH(C4454),DAY(C4454)))","v":28},6.8,7,6.9,6.5,7,7,6.5,7,6.7,6.8]
["IA200229","IA","2002-09-15",{"$f":"COUNTIF(Calculations!$E$56:$E$98,\"<=\"&DATE(2006,MONTH(C4455),DAY(C4455)))","v":29},6.4,6.2,5.7,6.7,6.4,6.5,6.8,6.6,6.6,7]
["IA200230","IA","2002-09-22",{"$f":"COUNTIF(Calculations!$E$56:$E$98,\"<=\"&DATE(2006,MONTH(C4456),DAY(C4456)))","v":30},4.8,4.4000000000000004,4.3,4.4000000000000004,4.5999999999999996,4.8,5.0999999999999996,5.0999999999999996,5.2,6]
["IA200231","IA","2002-09-29",{"$f":"COUNTIF(Calculations!$E$56:$E$98,\"<=\"&DATE(2006,MONTH(C4457),DAY(C4457)))","v":31},5,3.1,3.2,5.8,4.3,5.7,6.2,6,6.6,6.7]
["IA200232","IA","2002-10-06",{"$f":"COUNTIF(Calculations!$E$56:$E$98,\"<=\"&DATE(2006,MONTH(C4458),DAY(C4458)))","v":32},2.5,2.4,1.9,2.7,2,2.6,1.7,2.9,3.1,3.8]
["IA200233","IA","2002-10-13",{"$f":"COUNTIF(Calculations!$E$56:$E$98,\"<=\"&DATE(2006,MONTH(C4459),DAY(C4459)))","v":33},5.4,4.3,4.5999999999999996,5,5.8,5.7,5.6,6.3,6,6.5]
["IA200234","IA","2002-10-20",{"$f":"COUNTIF(Calculations!$E$56:$E$98,\"<=\"&DATE(2006,MONTH(C4460),DAY(C4460)))","v":34},5.6,5.0999999999999996,5.6,5.5,5.3,5.6,5.4,5.8,6.1,6.5]
["IA200235","IA","2002-10-27",{"$f":"COUNTIF(Calculations!$E$56:$E$98,\"<=\"&DATE(2006,MONTH(C4461),DAY(C4461)))","v":35},3.6,3.2,3.5,4.0999999999999996,3.2,3.9,4,3.4,3.1,4.3]
["IA200236","IA","2002-11-03",{"$f":"COUNTIF(Calculations!$E$56:$E$98,\"<=\"&DATE(2006,MONTH(C4462),DAY(C4462)))","v":36},3.9,3.8,4.8,4.7,3.6,4,4.2,3.4,2.7,2.2000000000000002]
["IA200237","IA","2002-11-10",{"$f":"COUNTIF(Calculations!$E$56:$E$98,\"<=\"&DATE(2006,MONTH(C4463),DAY(C4463)))","v":37},5.2,5,6.1,5.3,5.5,4.8,5.0999999999999996,5.6,4.5999999999999996,4.5999999999999996]
["IA200238","IA","2002-11-17",{"$f":"COUNTIF(Calculations!$E$56:$E$98,\"<=\"&DATE(2006,MONTH(C4464),DAY(C4464)))","v":38},6.1,6,6.1,5.9,6.6,5.6,6,6.2,5.8,6.4]
["IA200239","IA","2002-11-24",{"$f":"COUNTIF(Calculations!$E$56:$E$98,\"<=\"&DATE(2006,MONTH(C4465),DAY(C4465)))","v":39},6,7,6,6,7,6,6,7,6,7]
["IA20036","IA","2003-04-06",{"$f":"COUNTIF(Calculations!$E$56:$E$98,\"<=\"&DATE(2006,MONTH(C4466),DAY(C4466)))","v":6},3.7,3.5,2.4,2.5,4.5,4.0999999999999996,3.3,5,4.8,4.5]
["IA20037","IA","2003-04-13",{"$f":"COUNTIF(Calculations!$E$56:$E$98,\"<=\"&DATE(2006,MONTH(C4467),DAY(C4467)))","v":7},2,1.5,0.9,0.5,1.3,1.8,3.3,2.7,2.8,2.2000000000000002]
["IA20038","IA","2003-04-20",{"$f":"COUNTIF(Calculations!$E$56:$E$98,\"<=\"&DATE(2006,MONTH(C4468),DAY(C4468)))","v":8},3.2,2.2999999999999998,2,3.4,3.6,3.1,4.2,3.5,4.3,3.6]
["IA20039","IA","2003-04-27",{"$f":"COUNTIF(Calculations!$E$56:$E$98,\"<=\"&DATE(2006,MONTH(C4469),DAY(C4469)))","v":9},4.3,4.7,4.7,5.0999999999999996,4.5,4.0999999999999996,5.2,3.5,2.6,2.9]
["IA200310","IA","2003-05-04",{"$f":"COUNTIF(Calculations!$E$56:$E$98,\"<=\"&DATE(2006,MONTH(C4470),DAY(C4470)))","v":10},2.7,3,3.6,3.4,2.5,2.4,2.8,2,1.7,1.3]
["IA200311","IA","2003-05-11",{"$f":"COUNTIF(Calculations!$E$56:$E$98,\"<=\"&DATE(2006,MONTH(C4471),DAY(C4471)))","v":11},0.6,1.7,0.4,0.4,0.5,0.1,0.5,0.6,0.6,0.6]
["IA200312","IA","2003-05-18",{"$f":"COUNTIF(Calculations!$E$56:$E$98,\"<=\"&DATE(2006,MONTH(C4472),DAY(C4472)))","v":12},2.4,2.8,1.9,1.7,2.6,1.7,3,2.5,1.9,3.3]
["IA200313","IA","2003-05-25",{"$f":"COUNTIF(Calculations!$E$56:$E$98,\"<=\"&DATE(2006,MONTH(C4473),DAY(C4473)))","v":13},5.0999999999999996,4.0999999999999996,4.9000000000000004,6.3,4.4000000000000004,5.3,6.3,4.2,5,5.8]
["IA200314","IA","2003-06-01",{"$f":"COUNTIF(Calculations!$E$56:$E$98,\"<=\"&DATE(2006,MONTH(C4474),DAY(C4474)))","v":14},6.2,6.4,6.1,6.5,6.1,6.4,6,5.9,6.2,6.5]
["IA200315","IA","2003-06-08",{"$f":"COUNTIF(Calculations!$E$56:$E$98,\"<=\"&DATE(2006,MONTH(C4475),DAY(C4475)))","v":15},3.4,3.3,3,4.5999999999999996,3.2,3.2,3.7,2.8,3.1,3.7]
["IA200316","IA","2003-06-15",{"$f":"COUNTIF(Calculations!$E$56:$E$98,\"<=\"&DATE(2006,MONTH(C4476),DAY(C4476)))","v":16},4.8,5.5,4.4000000000000004,5.5,5,4.9000000000000004,4,4.2,4.0999999999999996,4.3]
["IA200317","IA","2003-06-22",{"$f":"COUNTIF(Calculations!$E$56:$E$98,\"<=\"&DATE(2006,MONTH(C4477),DAY(C4477)))","v":17},6,5.4,5.8,6.8,5.7,6.1,6.5,5.4,6.4,6.8]
["IA200318","IA","2003-06-29",{"$f":"COUNTIF(Calculations!$E$56:$E$98,\"<=\"&DATE(2006,MONTH(C4478),DAY(C4478)))","v":18},3.9,2,2.6,4.3,4.4000000000000004,4.4000000000000004,4.5999999999999996,4.9000000000000004,4.0999999999999996,5.2]
["IA200319","IA","2003-07-06",{"$f":"COUNTIF(Calculations!$E$56:$E$98,\"<=\"&DATE(2006,MONTH(C4479),DAY(C4479)))","v":19},4.5999999999999996,3.2,2.9,3.9,4.9000000000000004,4.8,5.7,5.9,6,6.6]
["IA200320","IA","2003-07-13",{"$f":"COUNTIF(Calculations!$E$56:$E$98,\"<=\"&DATE(2006,MONTH(C4480),DAY(C4480)))","v":20},2.5,2.4,0.7,1.7,2.2000000000000002,2.6,2.1,4.5,4.4000000000000004,3.8]
["IA200321","IA","2003-07-20",{"$f":"COUNTIF(Calculations!$E$56:$E$98,\"<=\"&DATE(2006,MONTH(C4481),DAY(C4481)))","v":21},5.8,5.5,4.8,6.1,6.3,5.4,5.9,6.6,6.7,5.4]
["IA200322","IA","2003-07-27",{"$f":"COUNTIF(Calculations!$E$56:$E$98,\"<=\"&DATE(2006,MONTH(C4482),DAY(C4482)))","v":22},6.3,6.6,6.1,6.6,6.3,6.3,5.3,6.7,6.7,6.3]
["IA200323","IA","2003-08-03",{"$f":"COUNTIF(Calculations!$E$56:$E$98,\"<=\"&DATE(2006,MONTH(C4483),DAY(C4483)))","v":23},6.4,6.8,6.4,6.3,6.6,6.4,6.4,6,6.4,6.1]
["IA200324","IA","2003-08-10",{"$f":"COUNTIF(Calculations!$E$56:$E$98,\"<=\"&DATE(2006,MONTH(C4484),DAY(C4484)))","v":24},6.6,6.3,6.1,6.9,6.8,6.5,6.4,7,7,6.8]
["IA200325","IA","2003-08-17",{"$f":"COUNTIF(Calculations!$E$56:$E$98,\"<=\"&DATE(2006,MONTH(C4485),DAY(C4485)))","v":25},6.8,6.9,6.7,6.9,6.6,6.9,7,6.8,6.9,6.8]
["IA200326","IA","2003-08-24",{"$f":"COUNTIF(Calculations!$E$56:$E$98,\"<=\"&DATE(2006,MONTH(C4486),DAY(C4486)))","v":26},6.8,6.7,6.6,7,6.7,6.9,6.6,6.9,7,7]
["IA200327","IA","2003-08-31",{"$f":"COUNTIF(Calculations!$E$56:$E$98,\"<=\"&DATE(2006,MONTH(C4487),DAY(C4487)))","v":27},6.7,6.8,6.9,6.9,6.9,6.7,6.6,6.8,6.4,6.1]
["IA200328","IA","2003-09-07",{"$f":"COUNTIF(Calculations!$E$56:$E$98,\"<=\"&DATE(2006,MONTH(C4488),DAY(C4488)))","v":28},6.9,6.9,6.9,7,7,6.9,6.9,7,6.7,6.5]
["IA200329","IA","2003-09-14",{"$f":"COUNTIF(Calculations!$E$56:$E$98,\"<=\"&DATE(2006,MONTH(C4489),DAY(C4489)))","v":29},5.0999999999999996,3.6,5.4,6.1,4.7,5.3,5.5,5.6,4.7,5.3]
["IA200330","IA","2003-09-21",{"$f":"COUNTIF(Calculations!$E$56:$E$98,\"<=\"&DATE(2006,MONTH(C4490),DAY(C4490)))","v":30},5.0999999999999996,4.7,5.2,5.4,5.5,5.2,4.9000000000000004,5.8,4.3,4.9000000000000004]
["IA200331","IA","2003-09-28",{"$f":"COUNTIF(Calculations!$E$56:$E$98,\"<=\"&DATE(2006,MONTH(C4491),DAY(C4491)))","v":31},5.7,5.3,5.6,5.5,6.2,5.9,5.4,6.4,6.4,5.2]
["IA200332","IA","2003-10-05",{"$f":"COUNTIF(Calculations!$E$56:$E$98,\"<=\"&DATE(2006,MONTH(C4492),DAY(C4492)))","v":32},6.7,6.8,6.6,6.5,7,6.8,6.3,6.9,6.8,6.8]
["IA200333","IA","2003-10-12",{"$f":"COUNTIF(Calculations!$E$56:$E$98,\"<=\"&DATE(2006,MONTH(C4493),DAY(C4493)))","v":33},6.3,6.2,6.1,6.5,6.2,6.2,6.8,6.3,6.3,6.7]
["IA200334","IA","2003-10-19",{"$f":"COUNTIF(Calculations!$E$56:$E$98,\"<=\"&DATE(2006,MONTH(C4494),DAY(C4494)))","v":34},6.1,6.6,6.5,6.4,5.7,5.8,5.8,5.9,6.2,5.8]
["IA200335","IA","2003-10-26",{"$f":"COUNTIF(Calculations!$E$56:$E$98,\"<=\"&DATE(2006,MONTH(C4495),DAY(C4495)))","v":35},6.7,6.7,6.6,6.7,6.9,6.6,6.3,6.7,6.8,6.5]
["IA200336","IA","2003-11-02",{"$f":"COUNTIF(Calculations!$E$56:$E$98,\"<=\"&DATE(2006,MONTH(C4496),DAY(C4496)))","v":36},6.1,6.2,5.9,5.9,6.6,6.3,5.6,6.3,5.8,6.5]
["IA200337","IA","2003-11-09",{"$f":"COUNTIF(Calculations!$E$56:$E$98,\"<=\"&DATE(2006,MONTH(C4497),DAY(C4497)))","v":37},3.9,4.5999999999999996,4.5999999999999996,3.4,4,3.9,2.7,3.9,3.3,3.5]
["IA200338","IA","2003-11-16",{"$f":"COUNTIF(Calculations!$E$56:$E$98,\"<=\"&DATE(2006,MONTH(C4498),DAY(C4498)))","v":38},5.7,6.3,5.4,5.6,6.1,5.4,5.2,5.9,5.7,5.4]
["IA200339","IA","2003-11-23",{"$f":"COUNTIF(Calculations!$E$56:$E$98,\"<=\"&DATE(2006,MONTH(C4499),DAY(C4499)))","v":39},4.7,4.9000000000000004,4.2,4.3,4.8,4.5,4.8,4.8,5.2,4.9000000000000004]
["IA20046","IA","2004-04-04",{"$f":"COUNTIF(Calculations!$E$56:$E$98,\"<=\"&DATE(2006,MONTH(C4500),DAY(C4500)))","v":6},2.7,2.7,2.9,2.2999999999999998,3.3,2.8,2.6,2,3.5,1.4]
["IA20047","IA","2004-04-11",{"$f":"COUNTIF(Calculations!$E$56:$E$98,\"<=\"&DATE(2006,MONTH(C4501),DAY(C4501)))","v":7},6.2,5.9,6.4,6.2,6.2,6.5,6,6.5,6.1,6.1]
["IA20048","IA","2004-04-18",{"$f":"COUNTIF(Calculations!$E$56:$E$98,\"<=\"&DATE(2006,MONTH(C4502),DAY(C4502)))","v":8},6.6,6.5,6.4,6.3,6.9,6.2,6.6,6.9,6.7,6.8]
[{"$f":"B4503&YEAR(C4503)&D4503","v":"IA20049"},"IA","2004-04-25",{"$f":"COUNTIF(Calculations!$E$56:$E$98,\"<=\"&DATE(2006,MONTH(C4503),DAY(C4503)))","v":9},2.7,1,1.8,3.5,2.6,2.8,3.2,4.5,3.5,2.8]
["IA200410","IA","2004-05-02",{"$f":"COUNTIF(Calculations!$E$56:$E$98,\"<=\"&DATE(2006,MONTH(C4504),DAY(C4504)))","v":10},5.0999999999999996,5.5,4.0999999999999996,5.7,5.4,5,5.0999999999999996,5.4,4.5,4.8]
["IA200411","IA","2004-05-09",{"$f":"COUNTIF(Calculations!$E$56:$E$98,\"<=\"&DATE(2006,MONTH(C4505),DAY(C4505)))","v":11},6,5.9,5.8,5.9,6.5,6.1,5.3,5.8,6.3,6.6]
["IA200412","IA","2004-05-16",{"$f":"COUNTIF(Calculations!$E$56:$E$98,\"<=\"&DATE(2006,MONTH(C4506),DAY(C4506)))","v":12},3.5,4.5,3.2,2.6,3.7,3.5,3.1,2.9,3,4.4000000000000004]
["IA200413","IA","2004-05-23",{"$f":"COUNTIF(Calculations!$E$56:$E$98,\"<=\"&DATE(2006,MONTH(C4507),DAY(C4507)))","v":13},2.6,2.8,2.2000000000000002,2.7,2.6,3.2,1.7,2,2.4,3.1]
["IA200414","IA","2004-05-30",{"$f":"COUNTIF(Calculations!$E$56:$E$98,\"<=\"&DATE(2006,MONTH(C4508),DAY(C4508)))","v":14},1.5,1.8,0.6,1,2.2999999999999998,0.6,1.6,2,1.3,2.4]
["IA200415","IA","2004-06-06",{"$f":"COUNTIF(Calculations!$E$56:$E$98,\"<=\"&DATE(2006,MONTH(C4509),DAY(C4509)))","v":15},3.7,4.5999999999999996,2.9,3.2,4,4.2,3.2,3.7,3.5,4]
["IA200416","IA","2004-06-13",{"$f":"COUNTIF(Calculations!$E$56:$E$98,\"<=\"&DATE(2006,MONTH(C4510),DAY(C4510)))","v":16},3.5,3.7,2.1,2.8,4.2,3.6,3.9,4.4000000000000004,3.1,3.7]
["IA200417","IA","2004-06-20",{"$f":"COUNTIF(Calculations!$E$56:$E$98,\"<=\"&DATE(2006,MONTH(C4511),DAY(C4511)))","v":17},3.2,3.5,2.8,3.9,2.5,3.6,3.7,3.4,2,3.3]
["IA200418","IA","2004-06-27",{"$f":"COUNTIF(Calculations!$E$56:$E$98,\"<=\"&DATE(2006,MONTH(C4512),DAY(C4512)))","v":18},4.5,5.2,4.2,4,4.3,4.0999999999999996,4.4000000000000004,5.0999999999999996,5.2,5.0999999999999996]
["IA200419","IA","2004-07-04",{"$f":"COUNTIF(Calculations!$E$56:$E$98,\"<=\"&DATE(2006,MONTH(C4513),DAY(C4513)))","v":19},5.0999999999999996,5.0999999999999996,4.8,5.8,5.0999999999999996,4.7,5,5.0999999999999996,5.3,5.6]
["IA200420","IA","2004-07-11",{"$f":"COUNTIF(Calculations!$E$56:$E$98,\"<=\"&DATE(2006,MONTH(C4514),DAY(C4514)))","v":20},3.4,3.6,5.4,3.3,3.8,3.4,3.4,3.1,2.6,3.8]
["IA200421","IA","2004-07-18",{"$f":"COUNTIF(Calculations!$E$56:$E$98,\"<=\"&DATE(2006,MONTH(C4515),DAY(C4515)))","v":21},4.9000000000000004,5.4,4.0999999999999996,5,5.0999999999999996,5.2,5.3,3.8,5.2,5.3]
["IA200422","IA","2004-07-25",{"$f":"COUNTIF(Calculations!$E$56:$E$98,\"<=\"&DATE(2006,MONTH(C4516),DAY(C4516)))","v":22},5,5.2,4.5999999999999996,4.5999999999999996,5.4,5.5,5.9,3.2,4.2,5.3]
["IA200423","IA","2004-08-01",{"$f":"COUNTIF(Calculations!$E$56:$E$98,\"<=\"&DATE(2006,MONTH(C4517),DAY(C4517)))","v":23},5.6,6.1,5.5,5.7,5.8,5.0999999999999996,5.5,4.7,5.6,6.2]
["IA200424","IA","2004-08-08",{"$f":"COUNTIF(Calculations!$E$56:$E$98,\"<=\"&DATE(2006,MONTH(C4518),DAY(C4518)))","v":24},4.5999999999999996,5.4,4.9000000000000004,4.9000000000000004,4.9000000000000004,4.0999999999999996,4.7,3.8,3.8,3.7]
["IA200425","IA","2004-08-15",{"$f":"COUNTIF(Calculations!$E$56:$E$98,\"<=\"&DATE(2006,MONTH(C4519),DAY(C4519)))","v":25},6.4,6.6,6.2,5.8,6.7,6.3,6.5,6.2,6.6,6.5]
["IA200426","IA","2004-08-22",{"$f":"COUNTIF(Calculations!$E$56:$E$98,\"<=\"&DATE(2006,MONTH(C4520),DAY(C4520)))","v":26},5.7,6.2,5.3,6.1,5.8,4.5,6.1,6.7,6,4.9000000000000004]
["IA200427","IA","2004-08-29",{"$f":"COUNTIF(Calculations!$E$56:$E$98,\"<=\"&DATE(2006,MONTH(C4521),DAY(C4521)))","v":27},4.4000000000000004,5.8,5.0999999999999996,4.5999999999999996,5.8,4.2,3.5,3.6,1.5,2.2999999999999998]
["IA200428","IA","2004-09-05",{"$f":"COUNTIF(Calculations!$E$56:$E$98,\"<=\"&DATE(2006,MONTH(C4522),DAY(C4522)))","v":28},6,5.7,6.1,6.2,6.1,6.2,6.2,6.3,4.2,5.7]
["IA200429","IA","2004-09-12",{"$f":"COUNTIF(Calculations!$E$56:$E$98,\"<=\"&DATE(2006,MONTH(C4523),DAY(C4523)))","v":29},6.4,6.1,6.3,6.5,6.5,6.1,6.7,6.2,6.7,6.9]
["IA200430","IA","2004-09-19",{"$f":"COUNTIF(Calculations!$E$56:$E$98,\"<=\"&DATE(2006,MONTH(C4524),DAY(C4524)))","v":30},4.8,1.8,3.6,5.8,4.9000000000000004,5.4,6.3,6.3,5.4,5.9]
["IA200431","IA","2004-09-26",{"$f":"COUNTIF(Calculations!$E$56:$E$98,\"<=\"&DATE(2006,MONTH(C4525),DAY(C4525)))","v":31},5.3,2.5,4.7,6.3,4.5999999999999996,6.3,6.6,6.1,6.7,6.6]
["IA200432","IA","2004-10-03",{"$f":"COUNTIF(Calculations!$E$56:$E$98,\"<=\"&DATE(2006,MONTH(C4526),DAY(C4526)))","v":32},5.6,4.5,5.2,6.1,5.7,5.5,5.5,6.1,5.9,6.5]
["IA200433","IA","2004-10-10",{"$f":"COUNTIF(Calculations!$E$56:$E$98,\"<=\"&DATE(2006,MONTH(C4527),DAY(C4527)))","v":33},5.7,5.2,5.9,5.6,6,5.8,5.8,6.4,5.6,4.7]
["IA200434","IA","2004-10-17",{"$f":"COUNTIF(Calculations!$E$56:$E$98,\"<=\"&DATE(2006,MONTH(C4528),DAY(C4528)))","v":34},5.9,6.1,5.5,5.9,6.8,5.8,5.3,6.9,5.3,4.8]
["IA200435","IA","2004-10-24",{"$f":"COUNTIF(Calculations!$E$56:$E$98,\"<=\"&DATE(2006,MONTH(C4529),DAY(C4529)))","v":35},4.7,4.5,4.5999999999999996,5.7,4.5999999999999996,5.0999999999999996,4.7,5.8,3.2,2.9]
["IA200436","IA","2004-10-31",{"$f":"COUNTIF(Calculations!$E$56:$E$98,\"<=\"&DATE(2006,MONTH(C4530),DAY(C4530)))","v":36},3.7,4.4000000000000004,3.5,3.2,4.5,3.5,3.3,4.9000000000000004,2.6,2.1]
["IA200437","IA","2004-11-07",{"$f":"COUNTIF(Calculations!$E$56:$E$98,\"<=\"&DATE(2006,MONTH(C4531),DAY(C4531)))","v":37},4.5,5.3,4.5999999999999996,4.4000000000000004,4.5,4.2,3.7,5.7,3.8,3.5]
["IA200438","IA","2004-11-14",{"$f":"COUNTIF(Calculations!$E$56:$E$98,\"<=\"&DATE(2006,MONTH(C4532),DAY(C4532)))","v":38},5.9,6,6.1,6,5.7,5.9,5.6,5.7,5.5,5.9]
["IA200439","IA","2004-11-21",{"$f":"COUNTIF(Calculations!$E$56:$E$98,\"<=\"&DATE(2006,MONTH(C4533),DAY(C4533)))","v":39},3.6,3.6,4.3,4,3.1,3.8,2.4,3.6,3.1,3.8]
["IA200440","IA","2004-11-28",{"$f":"COUNTIF(Calculations!$E$56:$E$98,\"<=\"&DATE(2006,MONTH(C4534),DAY(C4534)))","v":40},4.0999999999999996,4,4,4.5999999999999996,4.3,3.8,4.2,4.5999999999999996,4.2,3.6]
["IA20056","IA","2005-04-03",{"$f":"COUNTIF(Calculations!$E$56:$E$98,\"<=\"&DATE(2006,MONTH(C4535),DAY(C4535)))","v":6},3.5,2.2000000000000002,2,2.2999999999999998,4.0999999999999996,4.5999999999999996,4.7,4.2,4.5999999999999996,5.4]
["IA20057","IA","2005-04-10",{"$f":"COUNTIF(Calculations!$E$56:$E$98,\"<=\"&DATE(2006,MONTH(C4536),DAY(C4536)))","v":7},5.3,4.7,4.3,6,6.3,5.7,5.7,5,4.4000000000000004,5]
["IA20058","IA","2005-04-17",{"$f":"COUNTIF(Calculations!$E$56:$E$98,\"<=\"&DATE(2006,MONTH(C4537),DAY(C4537)))","v":8},3,3.1,1.9,4,3,3.4,4.5999999999999996,2.9,2,2.9]
["IA20059","IA","2005-04-24",{"$f":"COUNTIF(Calculations!$E$56:$E$98,\"<=\"&DATE(2006,MONTH(C4538),DAY(C4538)))","v":9},2.6,1.7,1.6,3.5,1.9,2.2999999999999998,4,1.9,2.5,4]
["IA200510","IA","2005-05-01",{"$f":"COUNTIF(Calculations!$E$56:$E$98,\"<=\"&DATE(2006,MONTH(C4539),DAY(C4539)))","v":10},4.5,4.8,3.6,5.7,5,4.8,4.5999999999999996,3.9,2.9,3.8]
["IA200511","IA","2005-05-08",{"$f":"COUNTIF(Calculations!$E$56:$E$98,\"<=\"&DATE(2006,MONTH(C4540),DAY(C4540)))","v":11},6,5.6,5.2,5.6,6.2,6,6.2,6.5,6.1,6.2]
["IA200512","IA","2005-05-15",{"$f":"COUNTIF(Calculations!$E$56:$E$98,\"<=\"&DATE(2006,MONTH(C4541),DAY(C4541)))","v":12},1.9,1.4,0.5,2.5,2.2999999999999998,2,2.1,2.2000000000000002,2.4,2.8]
["IA200513","IA","2005-05-22",{"$f":"COUNTIF(Calculations!$E$56:$E$98,\"<=\"&DATE(2006,MONTH(C4542),DAY(C4542)))","v":13},3.6,3.4,1,2.7,4.9000000000000004,3.3,4,5,3.7,4.5]
["IA200514","IA","2005-05-29",{"$f":"COUNTIF(Calculations!$E$56:$E$98,\"<=\"&DATE(2006,MONTH(C4543),DAY(C4543)))","v":14},4.8,3.8,2.5,4.8,4.8,5.6,6,5.6,5.5,6.5]
["IA200515","IA","2005-06-05",{"$f":"COUNTIF(Calculations!$E$56:$E$98,\"<=\"&DATE(2006,MONTH(C4544),DAY(C4544)))","v":15},4.5,3.4,5,5.3,3.5,5.8,5.7,3,4.7,5.6]
["IA200516","IA","2005-06-12",{"$f":"COUNTIF(Calculations!$E$56:$E$98,\"<=\"&DATE(2006,MONTH(C4545),DAY(C4545)))","v":16},3.5,2.8,3.1,4.3,2.5,4.3,5.3,2,2.8,3.5]
["IA200517","IA","2005-06-19",{"$f":"COUNTIF(Calculations!$E$56:$E$98,\"<=\"&DATE(2006,MONTH(C4546),DAY(C4546)))","v":17},5.9,5.7,5.7,6.1,5.6,5.7,6.3,6,6.5,6.2]
["IA200518","IA","2005-06-26",{"$f":"COUNTIF(Calculations!$E$56:$E$98,\"<=\"&DATE(2006,MONTH(C4547),DAY(C4547)))","v":18},5.7,4.3,4.5,6,5.9,5.6,6.3,6.5,6.8,6.8]
["IA200519","IA","2005-07-03",{"$f":"COUNTIF(Calculations!$E$56:$E$98,\"<=\"&DATE(2006,MONTH(C4548),DAY(C4548)))","v":19},4.2,4.0999999999999996,3,3.7,4.3,3.5,5.3,4.5999999999999996,5,5.4]
["IA200520","IA","2005-07-10",{"$f":"COUNTIF(Calculations!$E$56:$E$98,\"<=\"&DATE(2006,MONTH(C4549),DAY(C4549)))","v":20},6.1,5.7,5.7,6.4,6.4,5.8,6.5,6.6,6.6,6.1]
["IA200521","IA","2005-07-17",{"$f":"COUNTIF(Calculations!$E$56:$E$98,\"<=\"&DATE(2006,MONTH(C4550),DAY(C4550)))","v":21},6.8,6.7,6.9,6.9,6.7,6.9,6.9,6.8,6.9,7]
["IA200522","IA","2005-07-24",{"$f":"COUNTIF(Calculations!$E$56:$E$98,\"<=\"&DATE(2006,MONTH(C4551),DAY(C4551)))","v":22},5.0999999999999996,5.0999999999999996,4.0999999999999996,4.3,4.7,5,5.9,6.1,6,6.8]
["IA200523","IA","2005-07-31",{"$f":"COUNTIF(Calculations!$E$56:$E$98,\"<=\"&DATE(2006,MONTH(C4552),DAY(C4552)))","v":23},5,5.6,4.2,5.2,5,4.2,5.8,4.9000000000000004,4.8,5.6]
["IA200524","IA","2005-08-07",{"$f":"COUNTIF(Calculations!$E$56:$E$98,\"<=\"&DATE(2006,MONTH(C4553),DAY(C4553)))","v":24},6,5.0999999999999996,5.4,6.2,6,5.5,7,6.6,6.1,6.8]
["IA200525","IA","2005-08-14",{"$f":"COUNTIF(Calculations!$E$56:$E$98,\"<=\"&DATE(2006,MONTH(C4554),DAY(C4554)))","v":25},4.3,4.3,4,5.2,4.4000000000000004,4,4.3,4.3,4.5,4.8]
["IA200526","IA","2005-08-21",{"$f":"COUNTIF(Calculations!$E$56:$E$98,\"<=\"&DATE(2006,MONTH(C4555),DAY(C4555)))","v":26},5.7,5.7,5.0999999999999996,4.5,6.3,5.6,5.8,6.7,6,5]
["IA200527","IA","2005-08-28",{"$f":"COUNTIF(Calculations!$E$56:$E$98,\"<=\"&DATE(2006,MONTH(C4556),DAY(C4556)))","v":27},5.7,5.9,5.0999999999999996,5.8,6.1,5.3,5.6,6.1,6,5.7]
["IA200528","IA","2005-09-04",{"$f":"COUNTIF(Calculations!$E$56:$E$98,\"<=\"&DATE(2006,MONTH(C4557),DAY(C4557)))","v":28},6.6,6.6,6.5,6.3,6.9,6.7,6.2,6.8,6.6,6.9]
["IA200529","IA","2005-09-11",{"$f":"COUNTIF(Calculations!$E$56:$E$98,\"<=\"&DATE(2006,MONTH(C4558),DAY(C4558)))","v":29},5.6,4.5,4.8,5.7,6,5.8,6,6.8,6.3,5.8]
["IA200530","IA","2005-09-18",{"$f":"COUNTIF(Calculations!$E$56:$E$98,\"<=\"&DATE(2006,MONTH(C4559),DAY(C4559)))","v":30},6,5.6,6,5.7,6.4,6.1,6.2,6.4,6.2,5.4]
["IA200531","IA","2005-09-25",{"$f":"COUNTIF(Calculations!$E$56:$E$98,\"<=\"&DATE(2006,MONTH(C4560),DAY(C4560)))","v":31},5.5,4.8,4.5,4.9000000000000004,5.9,5.8,5.8,6.2,6.6,6]
["IA200532","IA","2005-10-02",{"$f":"COUNTIF(Calculations!$E$56:$E$98,\"<=\"&DATE(2006,MONTH(C4561),DAY(C4561)))","v":32},4.7,4.5,3.2,3.7,5.3,4.4000000000000004,5.7,5.9,4.9000000000000004,5.5]
["IA200533","IA","2005-10-09",{"$f":"COUNTIF(Calculations!$E$56:$E$98,\"<=\"&DATE(2006,MONTH(C4562),DAY(C4562)))","v":33},5.5,4.8,5,4.9000000000000004,5.8,5.8,6,6.2,5.4,5.7]
["IA200534","IA","2005-10-16",{"$f":"COUNTIF(Calculations!$E$56:$E$98,\"<=\"&DATE(2006,MONTH(C4563),DAY(C4563)))","v":34},5.9,5.0999999999999996,5.8,6,5.9,5.9,6.3,6.2,6.2,6.1]
["IA200535","IA","2005-10-23",{"$f":"COUNTIF(Calculations!$E$56:$E$98,\"<=\"&DATE(2006,MONTH(C4564),DAY(C4564)))","v":35},5.9,5.9,6.2,6.2,6.2,6.1,6,5.5,5.4,5.2]
["IA200536","IA","2005-10-30",{"$f":"COUNTIF(Calculations!$E$56:$E$98,\"<=\"&DATE(2006,MONTH(C4565),DAY(C4565)))","v":36},6.5,6.3,6.3,6.3,6.7,6.5,6.3,6.8,6.7,6.6]
["IA200537","IA","2005-11-06",{"$f":"COUNTIF(Calculations!$E$56:$E$98,\"<=\"&DATE(2006,MONTH(C4566),DAY(C4566)))","v":37},6.5,6.6,6.1,6.3,6.9,6.7,5.9,7,6.4,6.6]
[{"$f":"B4567&YEAR(C4567)&D4567","v":"IA200538"},"IA","2005-11-13",{"$f":"COUNTIF(Calculations!$E$56:$E$98,\"<=\"&DATE(2006,MONTH(C4567),DAY(C4567)))","v":38},6.3,6.4,6,6.4,6.7,6.2,5.7,6.8,6.5,6.2]
["IA200539","IA","2005-11-20",{"$f":"COUNTIF(Calculations!$E$56:$E$98,\"<=\"&DATE(2006,MONTH(C4568),DAY(C4568)))","v":39},3.5,3.2,3.5,4.3,3.1,3,4.3,2.7,3,5.3]
["IA200540","IA","2005-11-27",{"$f":"COUNTIF(Calculations!$E$56:$E$98,\"<=\"&DATE(2006,MONTH(C4569),DAY(C4569)))","v":40},4.8,3.7,4.5,4.4000000000000004,5.4,5.4,4.4000000000000004,5.2,5.8,5.4]
["IA20066","IA","2006-04-02",{"$f":"COUNTIF(Calculations!$E$56:$E$98,\"<=\"&DATE(2006,MONTH(C4570),DAY(C4570)))","v":6},1,0,0,1,1,1,1,2,1,1]
["IA20067","IA","2006-04-09",{"$f":"COUNTIF(Calculations!$E$56:$E$98,\"<=\"&DATE(2006,MONTH(C4571),DAY(C4571)))","v":7},1.7,0.6,0.4,2,2.1,2.2999999999999998,2.1,3.4,2.4,0.7]
["IA20068","IA","2006-04-16",{"$f":"COUNTIF(Calculations!$E$56:$E$98,\"<=\"&DATE(2006,MONTH(C4572),DAY(C4572)))","v":8},4.7,4.3,4.5,3.9,5.5,4.9000000000000004,4.3,5.5,5.2,4.2]
["IA20069","IA","2006-04-23",{"$f":"COUNTIF(Calculations!$E$56:$E$98,\"<=\"&DATE(2006,MONTH(C4573),DAY(C4573)))","v":9},5,3.6,3.6,4.2,5.7,5.4,5.7,6.5,5.7,6.1]
["IA200610","IA","2006-04-30",{"$f":"COUNTIF(Calculations!$E$56:$E$98,\"<=\"&DATE(2006,MONTH(C4574),DAY(C4574)))","v":10},4.3,3.6,4.8,4.9000000000000004,3.7,4.4000000000000004,4.8,3.6,4.5999999999999996,4.9000000000000004]
["IA200611","IA","2006-05-07",{"$f":"COUNTIF(Calculations!$E$56:$E$98,\"<=\"&DATE(2006,MONTH(C4575),DAY(C4575)))","v":11},2.8,1.8,2.2999999999999998,3.9,3,2.8,3.7,3.1,2,2.5]
["IA200612","IA","2006-05-14",{"$f":"COUNTIF(Calculations!$E$56:$E$98,\"<=\"&DATE(2006,MONTH(C4576),DAY(C4576)))","v":12},3.6,4.0999999999999996,3.1,2.8,4.8,3.8,1.8,4.2,4.2,3.7]
["IA200613","IA","2006-05-21",{"$f":"COUNTIF(Calculations!$E$56:$E$98,\"<=\"&DATE(2006,MONTH(C4577),DAY(C4577)))","v":13},5.0999999999999996,5.9,4.5999999999999996,4.0999999999999996,6.3,4.5999999999999996,4.0999999999999996,6.1,5.9,4.3]
["IA200614","IA","2006-05-28",{"$f":"COUNTIF(Calculations!$E$56:$E$98,\"<=\"&DATE(2006,MONTH(C4578),DAY(C4578)))","v":14},5.4,6,5.4,5.5,5.6,4.8,5.3,4.3,5.3,5.6]
["IA200615","IA","2006-06-04",{"$f":"COUNTIF(Calculations!$E$56:$E$98,\"<=\"&DATE(2006,MONTH(C4579),DAY(C4579)))","v":15},6,6.7,6.2,6,6.3,5.8,5.6,5,5.8,5.7]
["IA200616","IA","2006-06-11",{"$f":"COUNTIF(Calculations!$E$56:$E$98,\"<=\"&DATE(2006,MONTH(C4580),DAY(C4580)))","v":16},6,6.5,5.8,5.5,6.7,6.1,4.8,6.9,6.3,5.9]
["IA200617","IA","2006-06-18",{"$f":"COUNTIF(Calculations!$E$56:$E$98,\"<=\"&DATE(2006,MONTH(C4581),DAY(C4581)))","v":17},5.7,5.0999999999999996,5.2,3.9,6.6,6.4,5.2,6,6.6,6.5]
["IA200618","IA","2006-06-25",{"$f":"COUNTIF(Calculations!$E$56:$E$98,\"<=\"&DATE(2006,MONTH(C4582),DAY(C4582)))","v":18},5,4.7,4.7,3.5,6.7,5.4,3.8,5.7,5.4,4.7]
["IA200619","IA","2006-07-02",{"$f":"COUNTIF(Calculations!$E$56:$E$98,\"<=\"&DATE(2006,MONTH(C4583),DAY(C4583)))","v":19},5.7,5.8,6.2,4.7,6.3,5.8,4.8,6.3,6.6,4.9000000000000004]
["IA200620","IA","2006-07-09",{"$f":"COUNTIF(Calculations!$E$56:$E$98,\"<=\"&DATE(2006,MONTH(C4584),DAY(C4584)))","v":20},6,6.5,6.2,6.5,6.2,6.6,6.3,6.7,6.8,6.7]
["IA200621","IA","2006-07-16",{"$f":"COUNTIF(Calculations!$E$56:$E$98,\"<=\"&DATE(2006,MONTH(C4585),DAY(C4585)))","v":21},5.7,6.8,6.1,5.3,5.2,4.7,5.9,5.5,5.6,5.7]
["IA200622","IA","2006-07-23",{"$f":"COUNTIF(Calculations!$E$56:$E$98,\"<=\"&DATE(2006,MONTH(C4586),DAY(C4586)))","v":22},5.9,6.8,5.6,5.5,6.5,6.1,4.7,6,6.1,5.4]
["IA200624","IA","2006-08-06",{"$f":"COUNTIF(Calculations!$E$56:$E$98,\"<=\"&DATE(2006,MONTH(C4587),DAY(C4587)))","v":24},5.0999999999999996,3.8,3.9,5.7,5.2,5.6,6.2,5.5,5.5,5.5]
["IA200625","IA","2006-08-13",{"$f":"COUNTIF(Calculations!$E$56:$E$98,\"<=\"&DATE(2006,MONTH(C4588),DAY(C4588)))","v":25},3.9,3.9,3.9,5.2,3.7,3.9,3.4,3.7,4,3.7]
["IA200626","IA","2006-08-20",{"$f":"COUNTIF(Calculations!$E$56:$E$98,\"<=\"&DATE(2006,MONTH(C4589),DAY(C4589)))","v":26},3.8,3.7,4,4.8,2.4,4.3,4.5,3.2,2.9,4]
["IA200627","IA","2006-08-27",{"$f":"COUNTIF(Calculations!$E$56:$E$98,\"<=\"&DATE(2006,MONTH(C4590),DAY(C4590)))","v":27},5.4,5.5,5.2,5.9,5.4,5.8,4.9000000000000004,5.4,5.0999999999999996,4.9000000000000004]
["IA200628","IA","2006-09-03",{"$f":"COUNTIF(Calculations!$E$56:$E$98,\"<=\"&DATE(2006,MONTH(C4591),DAY(C4591)))","v":28},4.8,5.5,5.0999999999999996,5.2,4.5999999999999996,4.9000000000000004,3.9,4.5999999999999996,4.4000000000000004,3.9]
["IA200629","IA","2006-09-10",{"$f":"COUNTIF(Calculations!$E$56:$E$98,\"<=\"&DATE(2006,MONTH(C4592),DAY(C4592)))","v":29},4.9000000000000004,5.3,5,5.3,4.8,4.9000000000000004,4,5.0999999999999996,5.3,4.4000000000000004]
["IA200630","IA","2006-09-17",{"$f":"COUNTIF(Calculations!$E$56:$E$98,\"<=\"&DATE(2006,MONTH(C4593),DAY(C4593)))","v":30},3.8,4.2,3.9,3.3,3.5,3,3.5,4.7,4.8,4.7]
["IA200631","IA","2006-09-24",{"$f":"COUNTIF(Calculations!$E$56:$E$98,\"<=\"&DATE(2006,MONTH(C4594),DAY(C4594)))","v":31},3.2,2.2000000000000002,2.8,3.5,2,3.2,4.0999999999999996,3.7,4.5,4.8]
["IA200632","IA","2006-10-01",{"$f":"COUNTIF(Calculations!$E$56:$E$98,\"<=\"&DATE(2006,MONTH(C4595),DAY(C4595)))","v":32},5.5,4.9000000000000004,5.5,5.3,5.2,5.5,6,5.4,6.3,6.4]
["IA200633","IA","2006-10-08",{"$f":"COUNTIF(Calculations!$E$56:$E$98,\"<=\"&DATE(2006,MONTH(C4596),DAY(C4596)))","v":33},6.6,6.2,6.5,6.3,6.7,6.7,6.6,6.8,7,6.6]
["IA200634","IA","2006-10-15",{"$f":"COUNTIF(Calculations!$E$56:$E$98,\"<=\"&DATE(2006,MONTH(C4597),DAY(C4597)))","v":34},5.8,5.7,5.7,5.5,5.9,6,6,5.5,5.8,6.3]
["IA200635","IA","2006-10-22",{"$f":"COUNTIF(Calculations!$E$56:$E$98,\"<=\"&DATE(2006,MONTH(C4598),DAY(C4598)))","v":35},3.6,4.5999999999999996,3.6,4,3.4,3.5,3.4,3.1,2.7,3.5]
["IA200636","IA","2006-10-29",{"$f":"COUNTIF(Calculations!$E$56:$E$98,\"<=\"&DATE(2006,MONTH(C4599),DAY(C4599)))","v":36},4.8,6.2,5.6,4.9000000000000004,5.2,4.0999999999999996,4,4.3,3.3,4.3]
["IA200637","IA","2006-11-05",{"$f":"COUNTIF(Calculations!$E$56:$E$98,\"<=\"&DATE(2006,MONTH(C4600),DAY(C4600)))","v":37},6.3,6.7,6.4,6.1,6.6,6.2,5.8,6.7,5.8,6.3]
["IA200638","IA","2006-11-12",{"$f":"COUNTIF(Calculations!$E$56:$E$98,\"<=\"&DATE(2006,MONTH(C4601),DAY(C4601)))","v":38},4.8,4.7,4.3,5.2,4.9000000000000004,4.8,4.8,5.6,5,4.5]
["IA200639","IA","2006-11-19",{"$f":"COUNTIF(Calculations!$E$56:$E$98,\"<=\"&DATE(2006,MONTH(C4602),DAY(C4602)))","v":39},5.4,5.0999999999999996,5.0999999999999996,5.3,5.8,4.9000000000000004,5.3,6.4,6.3,5.0999999999999996]
["IA20076","IA","2007-04-01",{"$f":"COUNTIF(Calculations!$E$56:$E$98,\"<=\"&DATE(2006,MONTH(C4603),DAY(C4603)))","v":6},0.7,0.5,0,0.8,0.6,1,0.7,1.3,0.8,1.2]
["IA20077","IA","2007-04-08",{"$f":"COUNTIF(Calculations!$E$56:$E$98,\"<=\"&DATE(2006,MONTH(C4604),DAY(C4604)))","v":7},0.8,0.8,0.1,0.3,1.4,0.7,0.4,2,1.8,0.4]
["IA20078","IA","2007-04-15",{"$f":"COUNTIF(Calculations!$E$56:$E$98,\"<=\"&DATE(2006,MONTH(C4605),DAY(C4605)))","v":8},0.9,0.3,0.1,1,1.1000000000000001,0.8,0.9,1.8,1.7,1.2]
["IA20079","IA","2007-04-22",{"$f":"COUNTIF(Calculations!$E$56:$E$98,\"<=\"&DATE(2006,MONTH(C4606),DAY(C4606)))","v":9},4.3,2.8,3.5,4.9000000000000004,5,4.4000000000000004,4.7,5.7,3.8,4.0999999999999996]
["IA200710","IA","2007-04-29",{"$f":"COUNTIF(Calculations!$E$56:$E$98,\"<=\"&DATE(2006,MONTH(C4607),DAY(C4607)))","v":10},1.3,1.5,1.8,1.6,0.8,0.4,2.1,1,1,1.5]
["IA200711","IA","2007-05-06",{"$f":"COUNTIF(Calculations!$E$56:$E$98,\"<=\"&DATE(2006,MONTH(C4608),DAY(C4608)))","v":11},3.8,3.8,4.8,5.0999999999999996,3.4,2.9,4.8,4.0999999999999996,2.7,2.1]
["IA200712","IA","2007-05-13",{"$f":"COUNTIF(Calculations!$E$56:$E$98,\"<=\"&DATE(2006,MONTH(C4609),DAY(C4609)))","v":12},3.8,3.3,5.0999999999999996,5.8,2.8,2.9,5.8,2.2000000000000002,1.8,3.5]
["IA200713","IA","2007-05-20",{"$f":"COUNTIF(Calculations!$E$56:$E$98,\"<=\"&DATE(2006,MONTH(C4610),DAY(C4610)))","v":13},5.9,6.2,5.9,6,6,5.9,6.4,5.2,5.4,5.9]
["IA200714","IA","2007-05-27",{"$f":"COUNTIF(Calculations!$E$56:$E$98,\"<=\"&DATE(2006,MONTH(C4611),DAY(C4611)))","v":14},4,4.3,3.8,4.3,4,3.5,4.9000000000000004,3.1,3.7,4.4000000000000004]
["IA200715","IA","2007-06-03",{"$f":"COUNTIF(Calculations!$E$56:$E$98,\"<=\"&DATE(2006,MONTH(C4612),DAY(C4612)))","v":15},2.6,2.7,2.8,2.9,3.1,2.2000000000000002,2.6,2.5,2,1.9]
["IA200716","IA","2007-06-10",{"$f":"COUNTIF(Calculations!$E$56:$E$98,\"<=\"&DATE(2006,MONTH(C4613),DAY(C4613)))","v":16},4.8,5.2,4.7,3.9,5.8,3.9,4.5,5.9,5.0999999999999996,4.0999999999999996]
["IA200717","IA","2007-06-17",{"$f":"COUNTIF(Calculations!$E$56:$E$98,\"<=\"&DATE(2006,MONTH(C4614),DAY(C4614)))","v":17},6.6,6.1,6.5,6.6,6.7,6.8,6.7,6.9,6.8,6.6]
["IA200718","IA","2007-06-24",{"$f":"COUNTIF(Calculations!$E$56:$E$98,\"<=\"&DATE(2006,MONTH(C4615),DAY(C4615)))","v":18},4.8,5.4,4.0999999999999996,3.7,5.9,4.5,4,6.2,5.3,4.3]
["IA200719","IA","2007-07-01",{"$f":"COUNTIF(Calculations!$E$56:$E$98,\"<=\"&DATE(2006,MONTH(C4616),DAY(C4616)))","v":19},6.2,6.7,6.6,6.1,6.7,6.4,5,6.6,5.7,5]
["IA200720","IA","2007-07-08",{"$f":"COUNTIF(Calculations!$E$56:$E$98,\"<=\"&DATE(2006,MONTH(C4617),DAY(C4617)))","v":20},6.5,6.6,6.6,6.2,6.8,6.9,5.0999999999999996,7,6.5,6.5]
["IA200721","IA","2007-07-15",{"$f":"COUNTIF(Calculations!$E$56:$E$98,\"<=\"&DATE(2006,MONTH(C4618),DAY(C4618)))","v":21},6.6,6.8,6.1,6.7,6.9,6.9,6.1,6.4,6.8,6.4]
["IA200722","IA","2007-07-22",{"$f":"COUNTIF(Calculations!$E$56:$E$98,\"<=\"&DATE(2006,MONTH(C4619),DAY(C4619)))","v":22},4.8,5.9,4.2,3.5,5.6,4.9000000000000004,3.3,5.8,6.2,4.3]
["IA200723","IA","2007-07-29",{"$f":"COUNTIF(Calculations!$E$56:$E$98,\"<=\"&DATE(2006,MONTH(C4620),DAY(C4620)))","v":23},5.4,6.3,4.7,5.2,5.7,4.5999999999999996,5.6,5.3,5.8,5.6]
["IA200724","IA","2007-08-05",{"$f":"COUNTIF(Calculations!$E$56:$E$98,\"<=\"&DATE(2006,MONTH(C4621),DAY(C4621)))","v":24},5.7,5.4,5,5.9,6.1,5.6,5.9,6,6.5,5.9]
["IA200725","IA","2007-08-12",{"$f":"COUNTIF(Calculations!$E$56:$E$98,\"<=\"&DATE(2006,MONTH(C4622),DAY(C4622)))","v":25},4.2,4.4000000000000004,4.9000000000000004,4.7,3.4,4.5,4.7,3.6,2.7,3.8]
["IA200726","IA","2007-08-19",{"$f":"COUNTIF(Calculations!$E$56:$E$98,\"<=\"&DATE(2006,MONTH(C4623),DAY(C4623)))","v":26},3.9,4.2,3.6,3.1,3.4,4.7,3.5,4.3,4.3,4.8]
["IA200727","IA","2007-08-26",{"$f":"COUNTIF(Calculations!$E$56:$E$98,\"<=\"&DATE(2006,MONTH(C4624),DAY(C4624)))","v":27},1,0.5,0.4,0.7,1.6,0.9,0.9,1.7,1.2,1.9]
["IA200728","IA","2007-09-02",{"$f":"COUNTIF(Calculations!$E$56:$E$98,\"<=\"&DATE(2006,MONTH(C4625),DAY(C4625)))","v":28},4.5,4.0999999999999996,1.8,3.7,3.9,4.2,5.5,4.9000000000000004,5.7,5.5]
["IA200729","IA","2007-09-09",{"$f":"COUNTIF(Calculations!$E$56:$E$98,\"<=\"&DATE(2006,MONTH(C4626),DAY(C4626)))","v":29},5.0999999999999996,4.8,4.9000000000000004,4.8,5.0999999999999996,5,5.7,4.8,5.5,5.6]
["IA200730","IA","2007-09-16",{"$f":"COUNTIF(Calculations!$E$56:$E$98,\"<=\"&DATE(2006,MONTH(C4627),DAY(C4627)))","v":30},5.7,5.2,5.6,5.8,5.3,5.6,6,5.5,6.4,6.4]
["IA200731","IA","2007-09-23",{"$f":"COUNTIF(Calculations!$E$56:$E$98,\"<=\"&DATE(2006,MONTH(C4628),DAY(C4628)))","v":31},5.2,4.5,5.5,5.5,4.8,5,5.7,5.3,5.2,6.2]
["IA200732","IA","2007-09-30",{"$f":"COUNTIF(Calculations!$E$56:$E$98,\"<=\"&DATE(2006,MONTH(C4629),DAY(C4629)))","v":32},5.2,4.0999999999999996,5.2,5.6,4.8,5.6,5.3,5.4,5.9,5.5]
["IA200733","IA","2007-10-07",{"$f":"COUNTIF(Calculations!$E$56:$E$98,\"<=\"&DATE(2006,MONTH(C4630),DAY(C4630)))","v":33},4,3.6,4.0999999999999996,3.6,3.8,4.0999999999999996,4.5999999999999996,4.0999999999999996,4.4000000000000004,4.8]
[{"$f":"B4631&YEAR(C4631)&D4631","v":"IA200734"},"IA","2007-10-14",{"$f":"COUNTIF(Calculations!$E$56:$E$98,\"<=\"&DATE(2006,MONTH(C4631),DAY(C4631)))","v":34},4,3.4,4.2,3.3,3.4,4.3,4.7,4.0999999999999996,3.9,5.5]
["IA200735","IA","2007-10-21",{"$f":"COUNTIF(Calculations!$E$56:$E$98,\"<=\"&DATE(2006,MONTH(C4632),DAY(C4632)))","v":35},1.2,0.6,0.8,1,1.3,1.1000000000000001,2.5,0.9,0.4,2.6]
["IA200736","IA","2007-10-28",{"$f":"COUNTIF(Calculations!$E$56:$E$98,\"<=\"&DATE(2006,MONTH(C4633),DAY(C4633)))","v":36},5.8,5.7,5.3,5.7,6.5,6.1,5.7,5.9,4.7,5.7]
["IA200737","IA","2007-11-04",{"$f":"COUNTIF(Calculations!$E$56:$E$98,\"<=\"&DATE(2006,MONTH(C4634),DAY(C4634)))","v":37},6.8,6.7,6.6,6.7,7,6.8,6.8,7,6.9,6.9]
["IA200738","IA","2007-11-11",{"$f":"COUNTIF(Calculations!$E$56:$E$98,\"<=\"&DATE(2006,MONTH(C4635),DAY(C4635)))","v":38},6.9,6.8,6.9,6.9,6.9,7,6.7,7,6.8,6.8]
["IA200739","IA","2007-11-18",{"$f":"COUNTIF(Calculations!$E$56:$E$98,\"<=\"&DATE(2006,MONTH(C4636),DAY(C4636)))","v":39},6.8,6.8,6.8,6.8,6.8,6.8,6.7,7,6.9,6.8]
["IA200740","IA","2007-11-25",{"$f":"COUNTIF(Calculations!$E$56:$E$98,\"<=\"&DATE(2006,MONTH(C4637),DAY(C4637)))","v":40},5.5,6.8,6.6,5.3,6.2,5.2,4.9000000000000004,4.4000000000000004,4.4000000000000004,4.3]
["IA20086","IA","2008-04-06",{"$f":"COUNTIF(Calculations!$E$56:$E$98,\"<=\"&DATE(2006,MONTH(C4638),DAY(C4638)))","v":6},0.3,0.3,0,0.2,0.3,0.4,0.3,0.4,0.5,0.8]
["IA20087","IA","2008-04-13",{"$f":"COUNTIF(Calculations!$E$56:$E$98,\"<=\"&DATE(2006,MONTH(C4639),DAY(C4639)))","v":7},0.4,0.4,0.4,0.1,1.3,0.3,0,0.8,0.1,0.1]
["IA20088","IA","2008-04-20",{"$f":"COUNTIF(Calculations!$E$56:$E$98,\"<=\"&DATE(2006,MONTH(C4640),DAY(C4640)))","v":8},1.2,1.3,0.7,0.5,2.1,1.3,1,1.6,0.8,0.8]
["IA20089","IA","2008-04-27",{"$f":"COUNTIF(Calculations!$E$56:$E$98,\"<=\"&DATE(2006,MONTH(C4641),DAY(C4641)))","v":9},1.3,2.5,0.9,0.4,2.7,0.6,0.4,2.2999999999999998,0.4,0.6]
["IA200810","IA","2008-05-04",{"$f":"COUNTIF(Calculations!$E$56:$E$98,\"<=\"&DATE(2006,MONTH(C4642),DAY(C4642)))","v":10},2.7,3.8,1.8,1.7,4,2.5,1.6,3.7,2.1,1.7]
["IA200811","IA","2008-05-11",{"$f":"COUNTIF(Calculations!$E$56:$E$98,\"<=\"&DATE(2006,MONTH(C4643),DAY(C4643)))","v":11},3,2.6,3,3,3.2,2.8,3.5,3.4,2.9,2.9]
["IA200812","IA","2008-05-18",{"$f":"COUNTIF(Calculations!$E$56:$E$98,\"<=\"&DATE(2006,MONTH(C4644),DAY(C4644)))","v":12},5.3,5.9,5.7,5.3,6.2,5.2,4.0999999999999996,5.5,4.5999999999999996,3.8]
["IA200813","IA","2008-05-25",{"$f":"COUNTIF(Calculations!$E$56:$E$98,\"<=\"&DATE(2006,MONTH(C4645),DAY(C4645)))","v":13},4.8,4.9000000000000004,5.3,6.1,4.7,4.9000000000000004,4.4000000000000004,4,4.2,3.8]
["IA200814","IA","2008-06-01",{"$f":"COUNTIF(Calculations!$E$56:$E$98,\"<=\"&DATE(2006,MONTH(C4646),DAY(C4646)))","v":14},2.4,3,3.6,2.9,1.4,1.8,2.6,1.4,2,2.5]
["IA200815","IA","2008-06-08",{"$f":"COUNTIF(Calculations!$E$56:$E$98,\"<=\"&DATE(2006,MONTH(C4647),DAY(C4647)))","v":15},0.9,1.3,1.1000000000000001,0.8,0.8,0.4,1,1.2,0.4,0.9]
["IA200816","IA","2008-06-15",{"$f":"COUNTIF(Calculations!$E$56:$E$98,\"<=\"&DATE(2006,MONTH(C4648),DAY(C4648)))","v":16},0.9,2.6,0.3,0.4,1.4,0.4,0.4,1.3,0.3,0.3]
["IA200817","IA","2008-06-22",{"$f":"COUNTIF(Calculations!$E$56:$E$98,\"<=\"&DATE(2006,MONTH(C4649),DAY(C4649)))","v":17},5.0999999999999996,5.4,4.5999999999999996,5.5,5.4,5.3,5.6,3.8,4,5.5]
["IA200818","IA","2008-06-29",{"$f":"COUNTIF(Calculations!$E$56:$E$98,\"<=\"&DATE(2006,MONTH(C4650),DAY(C4650)))","v":18},4.3,4.5,5,5.9,3.8,4.4000000000000004,5.0999999999999996,2.2999999999999998,2.6,2.9]
["IA200819","IA","2008-07-06",{"$f":"COUNTIF(Calculations!$E$56:$E$98,\"<=\"&DATE(2006,MONTH(C4651),DAY(C4651)))","v":19},6,6,6,6,6,6,6,8,8,8]
["IA200820","IA","2008-07-13",{"$f":"COUNTIF(Calculations!$E$56:$E$98,\"<=\"&DATE(2006,MONTH(C4652),DAY(C4652)))","v":20},5,5.5,5.2,4.7,5,5.5,3.6,5.5,4.7,4.3]
["IA200821","IA","2008-07-20",{"$f":"COUNTIF(Calculations!$E$56:$E$98,\"<=\"&DATE(2006,MONTH(C4653),DAY(C4653)))","v":21},4.4000000000000004,4.3,4.3,4.7,4.7,4,3,5.3,4.8,5]
["IA200822","IA","2008-07-27",{"$f":"COUNTIF(Calculations!$E$56:$E$98,\"<=\"&DATE(2006,MONTH(C4654),DAY(C4654)))","v":22},3.9,3.9,4.5999999999999996,5.6,2.9,2.7,4.5,4.7,2.6,4.0999999999999996]
["IA200823","IA","2008-08-03",{"$f":"COUNTIF(Calculations!$E$56:$E$98,\"<=\"&DATE(2006,MONTH(C4655),DAY(C4655)))","v":23},5.4,5.5,5.6,5.9,5.6,4.8,5.7,6.3,4.8,4.5]
["IA200824","IA","2008-08-10",{"$f":"COUNTIF(Calculations!$E$56:$E$98,\"<=\"&DATE(2006,MONTH(C4656),DAY(C4656)))","v":24},6,5.7,5.5,6.3,6.7,6.2,5.0999999999999996,6.9,6.5,5.5]
["IA200825","IA","2008-08-17",{"$f":"COUNTIF(Calculations!$E$56:$E$98,\"<=\"&DATE(2006,MONTH(C4657),DAY(C4657)))","v":25},5.9,5.5,5.6,5.8,5.9,5.7,6.4,6.9,6.2,5.9]
["IA200826","IA","2008-08-24",{"$f":"COUNTIF(Calculations!$E$56:$E$98,\"<=\"&DATE(2006,MONTH(C4658),DAY(C4658)))","v":26},6.2,6.8,6.3,5.8,6.7,6.3,5.5,6.9,5.6,5.2]
["IA200827","IA","2008-08-31",{"$f":"COUNTIF(Calculations!$E$56:$E$98,\"<=\"&DATE(2006,MONTH(C4659),DAY(C4659)))","v":27},5.7,6.2,5.6,6.4,5,5.4,5.5,6.1,6.4,5.7]
["IA200828","IA","2008-09-07",{"$f":"COUNTIF(Calculations!$E$56:$E$98,\"<=\"&DATE(2006,MONTH(C4660),DAY(C4660)))","v":28},5.3,5.2,5.5,5.8,5.3,5.6,4.5999999999999996,6,5.2,4.3]
["IA200829","IA","2008-09-14",{"$f":"COUNTIF(Calculations!$E$56:$E$98,\"<=\"&DATE(2006,MONTH(C4661),DAY(C4661)))","v":29},3.8,4.3,4.8,4.2,3.4,3.5,2.7,4.4000000000000004,3.5,3.3]
["IA200830","IA","2008-09-21",{"$f":"COUNTIF(Calculations!$E$56:$E$98,\"<=\"&DATE(2006,MONTH(C4662),DAY(C4662)))","v":30},6.2,6.7,6.2,6.4,6.3,6.2,5.9,6.4,5.9,4.9000000000000004]
["IA200831","IA","2008-09-28",{"$f":"COUNTIF(Calculations!$E$56:$E$98,\"<=\"&DATE(2006,MONTH(C4663),DAY(C4663)))","v":31},5.4,5.6,5.4,6,4.2,5.3,6.4,5.2,5.8,5.8]
["IA200832","IA","2008-10-05",{"$f":"COUNTIF(Calculations!$E$56:$E$98,\"<=\"&DATE(2006,MONTH(C4664),DAY(C4664)))","v":32},5.9,6,5.6,5.7,6,6.2,5.7,6.1,6.1,5.9]
["IA200833","IA","2008-10-12",{"$f":"COUNTIF(Calculations!$E$56:$E$98,\"<=\"&DATE(2006,MONTH(C4665),DAY(C4665)))","v":33},5,5,4.8,5.5,4.8,4.4000000000000004,5.4,5.2,5.2,5.5]
["IA200834","IA","2008-10-19",{"$f":"COUNTIF(Calculations!$E$56:$E$98,\"<=\"&DATE(2006,MONTH(C4666),DAY(C4666)))","v":34},3.8,4.0999999999999996,3.9,4.7,2.9,3.3,4.7,3.4,3.2,4.2]
["IA200835","IA","2008-10-26",{"$f":"COUNTIF(Calculations!$E$56:$E$98,\"<=\"&DATE(2006,MONTH(C4667),DAY(C4667)))","v":35},2.7,2.2000000000000002,2.7,4.3,1.9,2.8,3.3,2,2.1,2.9]
["IA200836","IA","2008-11-02",{"$f":"COUNTIF(Calculations!$E$56:$E$98,\"<=\"&DATE(2006,MONTH(C4668),DAY(C4668)))","v":36},6.3,6.3,6.5,6.3,6.3,6,6.2,6.5,6.3,6.5]
["IA200837","IA","2008-11-09",{"$f":"COUNTIF(Calculations!$E$56:$E$98,\"<=\"&DATE(2006,MONTH(C4669),DAY(C4669)))","v":37},3.9,3.3,3.6,4.0999999999999996,4.0999999999999996,3.6,4.5999999999999996,3.9,3.8,4.5999999999999996]
["IA200838","IA","2008-11-16",{"$f":"COUNTIF(Calculations!$E$56:$E$98,\"<=\"&DATE(2006,MONTH(C4670),DAY(C4670)))","v":38},2.1,1.9,2.1,2.7,1.5,2.1,2.9,1.7,1.6,2.8]
["IA200839","IA","2008-11-23",{"$f":"COUNTIF(Calculations!$E$56:$E$98,\"<=\"&DATE(2006,MONTH(C4671),DAY(C4671)))","v":39},5.4,4.5999999999999996,5.5,5.4,5.3,5.4,5.6,6,5.6,6]
["IA200840","IA","2008-11-30",{"$f":"COUNTIF(Calculations!$E$56:$E$98,\"<=\"&DATE(2006,MONTH(C4672),DAY(C4672)))","v":40},5.0999999999999996,4.7,3.9,5.2,4.8,5.6,5.3,5.7,5.6,6.5]
["IA20096","IA","2009-04-05",{"$f":"COUNTIF(Calculations!$E$56:$E$98,\"<=\"&DATE(2006,MONTH(C4673),DAY(C4673)))","v":6},1.9,1.2,1.3,1.7,3.2,2.2999999999999998,0.8,4.0999999999999996,0.7,1.3]
["IA20097","IA","2009-04-12",{"$f":"COUNTIF(Calculations!$E$56:$E$98,\"<=\"&DATE(2006,MONTH(C4674),DAY(C4674)))","v":7},3.3,2.2999999999999998,3,4.5,3,2.9,4.7,4,2.9,2.8]
["IA20098","IA","2009-04-19",{"$f":"COUNTIF(Calculations!$E$56:$E$98,\"<=\"&DATE(2006,MONTH(C4675),DAY(C4675)))","v":8},4.9000000000000004,4.9000000000000004,5.7,5.4,5.5,4.5,4.7,5,3.4,3]
["IA20099","IA","2009-04-26",{"$f":"COUNTIF(Calculations!$E$56:$E$98,\"<=\"&DATE(2006,MONTH(C4676),DAY(C4676)))","v":9},5.0999999999999996,5.2,5.2,4.9000000000000004,5.5,5.3,4.5999999999999996,5.5,5.3,4]
["IA200910","IA","2009-05-03",{"$f":"COUNTIF(Calculations!$E$56:$E$98,\"<=\"&DATE(2006,MONTH(C4677),DAY(C4677)))","v":10},1.4,2.5,1.2,1.6,1.8,0.5,1.6,0.9,0.2,0.9]
["IA200911","IA","2009-05-10",{"$f":"COUNTIF(Calculations!$E$56:$E$98,\"<=\"&DATE(2006,MONTH(C4678),DAY(C4678)))","v":11},3.1,2.8,2.1,2.2999999999999998,3.3,3.3,4.9000000000000004,3.6,2.5,3.8]
["IA200912","IA","2009-05-17",{"$f":"COUNTIF(Calculations!$E$56:$E$98,\"<=\"&DATE(2006,MONTH(C4679),DAY(C4679)))","v":12},2.8,3.6,1.9,2.7,3.2,2.8,2.5,2.5,2.1,2.9]
["IA200913","IA","2009-05-24",{"$f":"COUNTIF(Calculations!$E$56:$E$98,\"<=\"&DATE(2006,MONTH(C4680),DAY(C4680)))","v":13},5.2,4.8,4.8,4.9000000000000004,5.7,5.5,5.9,5.8,4.9000000000000004,4.7]
["IA200914","IA","2009-05-31",{"$f":"COUNTIF(Calculations!$E$56:$E$98,\"<=\"&DATE(2006,MONTH(C4681),DAY(C4681)))","v":14},3.9,5.7,2.6,3.5,5,2.8,4.0999999999999996,4.5,2.7,3.1]
["IA200915","IA","2009-06-07",{"$f":"COUNTIF(Calculations!$E$56:$E$98,\"<=\"&DATE(2006,MONTH(C4682),DAY(C4682)))","v":15},4.3,5.0999999999999996,5,5.0999999999999996,4.5999999999999996,4.3,3.4,3,2.2000000000000002,3]
["IA200916","IA","2009-06-14",{"$f":"COUNTIF(Calculations!$E$56:$E$98,\"<=\"&DATE(2006,MONTH(C4683),DAY(C4683)))","v":16},3.3,3.9,3.8,4.8,3.1,3.2,3.7,2.1,1.7,2.1]
["IA200917","IA","2009-06-21",{"$f":"COUNTIF(Calculations!$E$56:$E$98,\"<=\"&DATE(2006,MONTH(C4684),DAY(C4684)))","v":17},2.2000000000000002,2.7,2.2999999999999998,2.7,1.5,2,2.2000000000000002,3.1,2.1,1]
["IA200918","IA","2009-06-28",{"$f":"COUNTIF(Calculations!$E$56:$E$98,\"<=\"&DATE(2006,MONTH(C4685),DAY(C4685)))","v":18},4,4.5999999999999996,4.0999999999999996,4.7,3.9,3.3,4.4000000000000004,4.7,4,1.9]
["IA200919","IA","2009-07-05",{"$f":"COUNTIF(Calculations!$E$56:$E$98,\"<=\"&DATE(2006,MONTH(C4686),DAY(C4686)))","v":19},5.2,4.9000000000000004,5.4,5.6,5.0999999999999996,5.2,5,5.4,5.0999999999999996,5.2]
["IA200920","IA","2009-07-12",{"$f":"COUNTIF(Calculations!$E$56:$E$98,\"<=\"&DATE(2006,MONTH(C4687),DAY(C4687)))","v":20},3,2.5,3.1,4.8,2.4,2.2999999999999998,3.2,3.2,3.3,3.4]
["IA200921","IA","2009-07-19",{"$f":"COUNTIF(Calculations!$E$56:$E$98,\"<=\"&DATE(2006,MONTH(C4688),DAY(C4688)))","v":21},4.8,4.0999999999999996,4.0999999999999996,5.4,4.2,5.2,5.7,4.4000000000000004,5.3,5.4]
["IA200922","IA","2009-07-26",{"$f":"COUNTIF(Calculations!$E$56:$E$98,\"<=\"&DATE(2006,MONTH(C4689),DAY(C4689)))","v":22},5.2,5.7,5.7,5.0999999999999996,4.5,5.7,4.5,4.8,5.9,4.4000000000000004]
["IA200923","IA","2009-08-02",{"$f":"COUNTIF(Calculations!$E$56:$E$98,\"<=\"&DATE(2006,MONTH(C4690),DAY(C4690)))","v":23},5.8,5.4,6.1,5.2,5.5,6.8,4.9000000000000004,6.3,6.6,5.8]
["IA200924","IA","2009-08-09",{"$f":"COUNTIF(Calculations!$E$56:$E$98,\"<=\"&DATE(2006,MONTH(C4691),DAY(C4691)))","v":24},5,5.4,5.3,4.7,4.8,5.6,4,4.9000000000000004,5.0999999999999996,4.8]
["IA200925","IA","2009-08-16",{"$f":"COUNTIF(Calculations!$E$56:$E$98,\"<=\"&DATE(2006,MONTH(C4692),DAY(C4692)))","v":25},4.9000000000000004,5.6,5.2,4.4000000000000004,4.4000000000000004,4.5999999999999996,4.0999999999999996,5.5,5.0999999999999996,5]
["IA200926","IA","2009-08-23",{"$f":"COUNTIF(Calculations!$E$56:$E$98,\"<=\"&DATE(2006,MONTH(C4693),DAY(C4693)))","v":26},3.7,4.4000000000000004,4.0999999999999996,3,4.0999999999999996,3.5,3,4.4000000000000004,3.1,3.4]
["IA200927","IA","2009-08-30",{"$f":"COUNTIF(Calculations!$E$56:$E$98,\"<=\"&DATE(2006,MONTH(C4694),DAY(C4694)))","v":27},3.9,5.5,5,3.8,4,3.2,2.2999999999999998,4.0999999999999996,2.6,2.7]
[{"$f":"B4695&YEAR(C4695)&D4695","v":"IA200928"},"IA","2009-09-06",{"$f":"COUNTIF(Calculations!$E$56:$E$98,\"<=\"&DATE(2006,MONTH(C4695),DAY(C4695)))","v":28},6.1,6.2,6.7,6.7,5.7,6.5,6,5.3,5.9,5.8]
["IA200929","IA","2009-09-13",{"$f":"COUNTIF(Calculations!$E$56:$E$98,\"<=\"&DATE(2006,MONTH(C4696),DAY(C4696)))","v":29},6.6,6.2,6.7,6.8,6,7,6.9,6.1,6.7,6.8]
["IA200930","IA","2009-09-20",{"$f":"COUNTIF(Calculations!$E$56:$E$98,\"<=\"&DATE(2006,MONTH(C4697),DAY(C4697)))","v":30},6.9,6.8,6.9,6.9,6.8,7,6.9,6.8,6.6,6.8]
["IA200931","IA","2009-09-27",{"$f":"COUNTIF(Calculations!$E$56:$E$98,\"<=\"&DATE(2006,MONTH(C4698),DAY(C4698)))","v":31},4.3,4.2,3.1,4.5,5.6,3.2,3.9,5.8,5.4,3.7]
["IA200932","IA","2009-10-04",{"$f":"COUNTIF(Calculations!$E$56:$E$98,\"<=\"&DATE(2006,MONTH(C4699),DAY(C4699)))","v":32},3.2,3.4,3,3.2,3.4,3,2.9,4.2,2.7,3.3]
["IA200933","IA","2009-10-11",{"$f":"COUNTIF(Calculations!$E$56:$E$98,\"<=\"&DATE(2006,MONTH(C4700),DAY(C4700)))","v":33},2.4,2,1.8,2.2999999999999998,2.2000000000000002,2.7,2.9,3,2.5,2.2000000000000002]
["IA200934","IA","2009-10-18",{"$f":"COUNTIF(Calculations!$E$56:$E$98,\"<=\"&DATE(2006,MONTH(C4701),DAY(C4701)))","v":34},2,1.3,1.4,3,1.7,2.2000000000000002,2.1,2.5,1.6,2.5]
["IA200935","IA","2009-10-25",{"$f":"COUNTIF(Calculations!$E$56:$E$98,\"<=\"&DATE(2006,MONTH(C4702),DAY(C4702)))","v":35},1.9,1.6,1.3,1.9,1.7,2.2000000000000002,2.7,1.7,1.6,2.7]
["IA200936","IA","2009-11-01",{"$f":"COUNTIF(Calculations!$E$56:$E$98,\"<=\"&DATE(2006,MONTH(C4703),DAY(C4703)))","v":36},2,2.2000000000000002,2.1,1.5,2.2000000000000002,2.4,1.9,2.5,1.9,1.3]
["IA200937","IA","2009-11-08",{"$f":"COUNTIF(Calculations!$E$56:$E$98,\"<=\"&DATE(2006,MONTH(C4704),DAY(C4704)))","v":37},6,5.9,6.1,4.9000000000000004,6.2,6.1,5.8,6.4,6.5,6.3]
["IA200938","IA","2009-11-15",{"$f":"COUNTIF(Calculations!$E$56:$E$98,\"<=\"&DATE(2006,MONTH(C4705),DAY(C4705)))","v":38},6.6,6.2,6.6,6.6,6.6,6.7,6.7,6.8,6.7,6.4]
["IA200939","IA","2009-11-22",{"$f":"COUNTIF(Calculations!$E$56:$E$98,\"<=\"&DATE(2006,MONTH(C4706),DAY(C4706)))","v":39},5.5,6.6,6.7,5.7,6.5,6.1,4,4.9000000000000004,2,2.6]
["IA200940","IA","2009-11-29",{"$f":"COUNTIF(Calculations!$E$56:$E$98,\"<=\"&DATE(2006,MONTH(C4707),DAY(C4707)))","v":40},4.3,4.8,4.8,4.5,4.2,4.2,3.8,4.4000000000000004,3.3,3.1]
["IA200941","IA","2009-12-06",{"$f":"COUNTIF(Calculations!$E$56:$E$98,\"<=\"&DATE(2006,MONTH(C4708),DAY(C4708)))","v":41},5.6,5,5.2,5.4,5.9,5.5,5.4,6.3,5.9,6.1]
["IA200942","IA","2009-12-13",{"$f":"COUNTIF(Calculations!$E$56:$E$98,\"<=\"&DATE(2006,MONTH(C4709),DAY(C4709)))","v":42},1.5,1.7,1.4,1.8,2,1,1.8,1,1.3,1]
["IA20106","IA","2010-04-04",{"$f":"COUNTIF(Calculations!$E$56:$E$98,\"<=\"&DATE(2006,MONTH(C4710),DAY(C4710)))","v":6},3.9,3.7,3.5,5,4.2,4.0999999999999996,4.5,3.3,2.9,3.4]
["IA20107","IA","2010-04-11",{"$f":"COUNTIF(Calculations!$E$56:$E$98,\"<=\"&DATE(2006,MONTH(C4711),DAY(C4711)))","v":7},3.6,4.9000000000000004,4,2.5,4.5999999999999996,2.2999999999999998,2.5,4.0999999999999996,3.4,3.4]
["IA20108","IA","2010-04-18",{"$f":"COUNTIF(Calculations!$E$56:$E$98,\"<=\"&DATE(2006,MONTH(C4712),DAY(C4712)))","v":8},5.3,4.4000000000000004,3.6,5,5.9,5.9,6.5,5.2,6.1,6.2]
["IA20109","IA","2010-04-25",{"$f":"COUNTIF(Calculations!$E$56:$E$98,\"<=\"&DATE(2006,MONTH(C4713),DAY(C4713)))","v":9},4.7,4.9000000000000004,5.2,5.3,4.5,5,4.4000000000000004,3.3,4.4000000000000004,4.8]
["IA201010","IA","2010-05-02",{"$f":"COUNTIF(Calculations!$E$56:$E$98,\"<=\"&DATE(2006,MONTH(C4714),DAY(C4714)))","v":10},3.1,3.5,3.3,4.2,3.3,2.6,3.7,2.9,1.3,1.1000000000000001]
["IA201011","IA","2010-05-09",{"$f":"COUNTIF(Calculations!$E$56:$E$98,\"<=\"&DATE(2006,MONTH(C4715),DAY(C4715)))","v":11},4.0999999999999996,4.5999999999999996,4.4000000000000004,3.9,4.7,4.7,4.0999999999999996,3.5,3.3,2.5]
["IA201012","IA","2010-05-16",{"$f":"COUNTIF(Calculations!$E$56:$E$98,\"<=\"&DATE(2006,MONTH(C4716),DAY(C4716)))","v":12},1.2,1,1.5,1.4,1.5,1.5,1.5,0.5,0.3,0.4]
["IA201013","IA","2010-05-23",{"$f":"COUNTIF(Calculations!$E$56:$E$98,\"<=\"&DATE(2006,MONTH(C4717),DAY(C4717)))","v":13},4,5.5,4.7,4.9000000000000004,5,4.4000000000000004,3.6,2.2000000000000002,1.1000000000000001,1]
["IA201014","IA","2010-05-30",{"$f":"COUNTIF(Calculations!$E$56:$E$98,\"<=\"&DATE(2006,MONTH(C4718),DAY(C4718)))","v":14},5.6,6.3,5.7,6,6.5,5.6,4.8,4.7,4.2,4.5999999999999996]
["IA201015","IA","2010-06-06",{"$f":"COUNTIF(Calculations!$E$56:$E$98,\"<=\"&DATE(2006,MONTH(C4719),DAY(C4719)))","v":15},3.9,4.7,4.5,4.2,4.4000000000000004,4.0999999999999996,3.8,1.9,2.4,2.9]
["IA201016","IA","2010-06-13",{"$f":"COUNTIF(Calculations!$E$56:$E$98,\"<=\"&DATE(2006,MONTH(C4720),DAY(C4720)))","v":16},1.8,2.2999999999999998,2.5,2.2000000000000002,1.6,1.4,2.8,1.1000000000000001,0.9,0.8]
["IA201017","IA","2010-06-20",{"$f":"COUNTIF(Calculations!$E$56:$E$98,\"<=\"&DATE(2006,MONTH(C4721),DAY(C4721)))","v":17},1.6,2.7,2.1,1.7,1.6,0.9,1.2,1.9,0.8,0.6]
["IA201018","IA","2010-06-27",{"$f":"COUNTIF(Calculations!$E$56:$E$98,\"<=\"&DATE(2006,MONTH(C4722),DAY(C4722)))","v":18},2,2.5,1.3,2.7,2.9,1.6,1.8,2.4,1.5,0.7]
["IA201019","IA","2010-07-04",{"$f":"COUNTIF(Calculations!$E$56:$E$98,\"<=\"&DATE(2006,MONTH(C4723),DAY(C4723)))","v":19},4.5999999999999996,3.4,4.8,4.8,4.8,4,5.4,4.8,5.8,4.4000000000000004]
["IA201020","IA","2010-07-11",{"$f":"COUNTIF(Calculations!$E$56:$E$98,\"<=\"&DATE(2006,MONTH(C4724),DAY(C4724)))","v":20},3.5,4.5999999999999996,3.8,2.6,4.0999999999999996,3.1,3.4,3.6,2.9,1.9]
["IA201021","IA","2010-07-18",{"$f":"COUNTIF(Calculations!$E$56:$E$98,\"<=\"&DATE(2006,MONTH(C4725),DAY(C4725)))","v":21},4.5999999999999996,5.3,4.2,5.4,4.0999999999999996,4.2,4.3,4.7,5.3,4.5]
["IA201022","IA","2010-07-25",{"$f":"COUNTIF(Calculations!$E$56:$E$98,\"<=\"&DATE(2006,MONTH(C4726),DAY(C4726)))","v":22},3,2.9,2.6,3.7,2.6,2.2999999999999998,4.0999999999999996,4.2,2.2000000000000002,3.1]
["IA201023","IA","2010-08-01",{"$f":"COUNTIF(Calculations!$E$56:$E$98,\"<=\"&DATE(2006,MONTH(C4727),DAY(C4727)))","v":23},4.0999999999999996,3.5,3.8,4,3.5,3.3,4.8,5.9,4.5999999999999996,4.8]
["IA201024","IA","2010-08-08",{"$f":"COUNTIF(Calculations!$E$56:$E$98,\"<=\"&DATE(2006,MONTH(C4728),DAY(C4728)))","v":24},4.3,4,4.9000000000000004,4.8,3.7,3.6,4.3,4.9000000000000004,3.9,4.7]
["IA201025","IA","2010-08-15",{"$f":"COUNTIF(Calculations!$E$56:$E$98,\"<=\"&DATE(2006,MONTH(C4729),DAY(C4729)))","v":25},3.5,3.1,4,4.4000000000000004,3.6,1.9,3.1,6.4,3.2,2.6]
["IA201026","IA","2010-08-22",{"$f":"COUNTIF(Calculations!$E$56:$E$98,\"<=\"&DATE(2006,MONTH(C4730),DAY(C4730)))","v":26},5.0999999999999996,5.9,6.2,5.6,5.0999999999999996,4.8,4,5.3,3.3,3.5]
["IA201027","IA","2010-08-29",{"$f":"COUNTIF(Calculations!$E$56:$E$98,\"<=\"&DATE(2006,MONTH(C4731),DAY(C4731)))","v":27},6.3,6,6.5,6.6,5.7,6.6,6.5,6.1,6.4,6.5]
["IA201028","IA","2010-09-05",{"$f":"COUNTIF(Calculations!$E$56:$E$98,\"<=\"&DATE(2006,MONTH(C4732),DAY(C4732)))","v":28},5,5.8,5.3,4.7,5.4,4.7,4.8,4.7,4.8,4.3]
["IA201029","IA","2010-09-12",{"$f":"COUNTIF(Calculations!$E$56:$E$98,\"<=\"&DATE(2006,MONTH(C4733),DAY(C4733)))","v":29},5.4,4.0999999999999996,5.3,5.5,5.9,5.9,6.1,5.3,5.7,5.0999999999999996]
["IA201030","IA","2010-09-19",{"$f":"COUNTIF(Calculations!$E$56:$E$98,\"<=\"&DATE(2006,MONTH(C4734),DAY(C4734)))","v":30},4.8,3.8,5,5.4,4.7,4.9000000000000004,5.5,4.5,4.9000000000000004,4.9000000000000004]
["IA201031","IA","2010-09-26",{"$f":"COUNTIF(Calculations!$E$56:$E$98,\"<=\"&DATE(2006,MONTH(C4735),DAY(C4735)))","v":31},2.2000000000000002,1.7,2.6,3.3,1.4,1.9,3,2.7,1.5,2]
["IA201032","IA","2010-10-03",{"$f":"COUNTIF(Calculations!$E$56:$E$98,\"<=\"&DATE(2006,MONTH(C4736),DAY(C4736)))","v":32},6.3,6.3,6.1,6.1,6.5,6.7,6.3,6.3,6.4,6.1]
["IA201033","IA","2010-10-10",{"$f":"COUNTIF(Calculations!$E$56:$E$98,\"<=\"&DATE(2006,MONTH(C4737),DAY(C4737)))","v":33},6.9,6.9,6.7,7,7,7,7,6.8,7,7]
["IA201034","IA","2010-10-17",{"$f":"COUNTIF(Calculations!$E$56:$E$98,\"<=\"&DATE(2006,MONTH(C4738),DAY(C4738)))","v":34},6.9,6.9,7,7,7,7,6.9,6.8,6.8,7]
["IA201035","IA","2010-10-24",{"$f":"COUNTIF(Calculations!$E$56:$E$98,\"<=\"&DATE(2006,MONTH(C4739),DAY(C4739)))","v":35},6.4,6.2,6.7,6.4,6.8,6.5,5.8,6.3,6,6.4]
["IA201036","IA","2010-10-31",{"$f":"COUNTIF(Calculations!$E$56:$E$98,\"<=\"&DATE(2006,MONTH(C4740),DAY(C4740)))","v":36},5.5,4.7,5.4,5,6,5.7,5.2,6.3,5.8,6]
["IA201037","IA","2010-11-07",{"$f":"COUNTIF(Calculations!$E$56:$E$98,\"<=\"&DATE(2006,MONTH(C4741),DAY(C4741)))","v":37},6.8,6.6,6.8,6.8,6.9,6.9,6.6,7,6.7,7]
["IA201038","IA","2010-11-14",{"$f":"COUNTIF(Calculations!$E$56:$E$98,\"<=\"&DATE(2006,MONTH(C4742),DAY(C4742)))","v":38},4.9000000000000004,5.2,4.7,4.9000000000000004,4.7,4.5999999999999996,5.5,4.5999999999999996,4.4000000000000004,5.4]
["IA201039","IA","2010-11-21",{"$f":"COUNTIF(Calculations!$E$56:$E$98,\"<=\"&DATE(2006,MONTH(C4743),DAY(C4743)))","v":39},4.0999999999999996,3,3.2,4.9000000000000004,2.8,4,5.7,5.2,5,5.9]
["IA20116","IA","2011-04-03",{"$f":"COUNTIF(Calculations!$E$56:$E$98,\"<=\"&DATE(2006,MONTH(C4744),DAY(C4744)))","v":6},2,0.5,1,1.4,1.8,2,3.6,3.5,2.7,3.3]
["IA20117","IA","2011-04-10",{"$f":"COUNTIF(Calculations!$E$56:$E$98,\"<=\"&DATE(2006,MONTH(C4745),DAY(C4745)))","v":7},3.6,1.8,2.7,4.0999999999999996,4.7,4.4000000000000004,3.5,3.6,3.8,3.7]
["IA20118","IA","2011-04-17",{"$f":"COUNTIF(Calculations!$E$56:$E$98,\"<=\"&DATE(2006,MONTH(C4746),DAY(C4746)))","v":8},3.4,1.7,3.6,4.4000000000000004,3.1,3.9,4,3.1,3.6,4.5]
["IA20119","IA","2011-04-24",{"$f":"COUNTIF(Calculations!$E$56:$E$98,\"<=\"&DATE(2006,MONTH(C4747),DAY(C4747)))","v":9},0.5,0.2,0.5,0.8,0.4,0.3,0.7,0.8,0.4,0.8]
["IA201110","IA","2011-05-01",{"$f":"COUNTIF(Calculations!$E$56:$E$98,\"<=\"&DATE(2006,MONTH(C4748),DAY(C4748)))","v":10},1.7,1.5,0.8,0.9,3.1,1.5,1.7,3,1.4,1.4]
["IA201111","IA","2011-05-08",{"$f":"COUNTIF(Calculations!$E$56:$E$98,\"<=\"&DATE(2006,MONTH(C4749),DAY(C4749)))","v":11},6.2,6.2,5.9,5.5,6.8,6.6,6.1,6.6,6.2,5.6]
["IA201112","IA","2011-05-15",{"$f":"COUNTIF(Calculations!$E$56:$E$98,\"<=\"&DATE(2006,MONTH(C4750),DAY(C4750)))","v":12},4.2,4.2,4.3,4.4000000000000004,3.8,4.3,4.9000000000000004,3,3.3,5]
["IA201113","IA","2011-05-22",{"$f":"COUNTIF(Calculations!$E$56:$E$98,\"<=\"&DATE(2006,MONTH(C4751),DAY(C4751)))","v":13},4.2,4.2,4.5999999999999996,5,3.5,4.3,5.4,3.3,2.1,4.4000000000000004]
["IA201114","IA","2011-05-29",{"$f":"COUNTIF(Calculations!$E$56:$E$98,\"<=\"&DATE(2006,MONTH(C4752),DAY(C4752)))","v":14},2.1,1.8,2.1,3.3,2,2.2000000000000002,2.7,1.6,0.6,1.8]
["IA201115","IA","2011-06-05",{"$f":"COUNTIF(Calculations!$E$56:$E$98,\"<=\"&DATE(2006,MONTH(C4753),DAY(C4753)))","v":15},4.3,4,5.2,5.4,4.9000000000000004,4.7,4.0999999999999996,3.8,2.9,1.6]
["IA201116","IA","2011-06-12",{"$f":"COUNTIF(Calculations!$E$56:$E$98,\"<=\"&DATE(2006,MONTH(C4754),DAY(C4754)))","v":16},4.0999999999999996,4.4000000000000004,4.9000000000000004,4.8,4.3,3.7,3.3,4.3,3.6,2.6]
["IA201117","IA","2011-06-19",{"$f":"COUNTIF(Calculations!$E$56:$E$98,\"<=\"&DATE(2006,MONTH(C4755),DAY(C4755)))","v":17},3.5,3.5,3.9,4.4000000000000004,4.2,3.6,2.7,4.5,2.2999999999999998,1.1000000000000001]
["IA201118","IA","2011-06-26",{"$f":"COUNTIF(Calculations!$E$56:$E$98,\"<=\"&DATE(2006,MONTH(C4756),DAY(C4756)))","v":18},2.1,1.8,1.8,3.2,1.9,1.9,2.9,2.5,1.2,0.9]
["IA201119","IA","2011-07-03",{"$f":"COUNTIF(Calculations!$E$56:$E$98,\"<=\"&DATE(2006,MONTH(C4757),DAY(C4757)))","v":19},5.0999999999999996,4.7,5.0999999999999996,6.6,5,4.8,5.6,4.5999999999999996,5.0999999999999996,5]
["IA201120","IA","2011-07-10",{"$f":"COUNTIF(Calculations!$E$56:$E$98,\"<=\"&DATE(2006,MONTH(C4758),DAY(C4758)))","v":20},5.9,5.6,5.7,6.5,5.8,5.6,6.5,5.2,5.5,6.7]
[{"$f":"B4759&YEAR(C4759)&D4759","v":"IA201121"},"IA","2011-07-17",{"$f":"COUNTIF(Calculations!$E$56:$E$98,\"<=\"&DATE(2006,MONTH(C4759),DAY(C4759)))","v":21},5.3,3.3,4.0999999999999996,6.1,5.5,5.3,6.1,6.4,6.7,7]
["IA201122","IA","2011-07-24",{"$f":"COUNTIF(Calculations!$E$56:$E$98,\"<=\"&DATE(2006,MONTH(C4760),DAY(C4760)))","v":22},5.5,5.8,5.6,4.8,5.2,4.9000000000000004,5.5,6,6.2,6.4]
["IA201123","IA","2011-07-31",{"$f":"COUNTIF(Calculations!$E$56:$E$98,\"<=\"&DATE(2006,MONTH(C4761),DAY(C4761)))","v":23},5.8,6.6,6,4.5999999999999996,5.3,5.6,5,6,6.8,6.8]
["IA201124","IA","2011-08-07",{"$f":"COUNTIF(Calculations!$E$56:$E$98,\"<=\"&DATE(2006,MONTH(C4762),DAY(C4762)))","v":24},6.2,6.4,6.6,6.3,5.8,6,6.4,5.6,5.8,6.9]
["IA201125","IA","2011-08-14",{"$f":"COUNTIF(Calculations!$E$56:$E$98,\"<=\"&DATE(2006,MONTH(C4763),DAY(C4763)))","v":25},6.4,6.7,6.3,6.1,6.2,6.6,6.6,5.6,6.4,6.9]
["IA201126","IA","2011-08-21",{"$f":"COUNTIF(Calculations!$E$56:$E$98,\"<=\"&DATE(2006,MONTH(C4764),DAY(C4764)))","v":26},6,6.5,6.4,6.7,4.7,6.6,6.9,3.8,5.3,7]
["IA201127","IA","2011-08-28",{"$f":"COUNTIF(Calculations!$E$56:$E$98,\"<=\"&DATE(2006,MONTH(C4765),DAY(C4765)))","v":27},5.9,6,5.8,5.8,5.6,6.7,5.8,4.5999999999999996,6.2,7]
["IA201128","IA","2011-09-04",{"$f":"COUNTIF(Calculations!$E$56:$E$98,\"<=\"&DATE(2006,MONTH(C4766),DAY(C4766)))","v":28},4.9000000000000004,5.0999999999999996,4.8,5.0999999999999996,4.7,4.5,5.2,4.3,5.2,6.1]
["IA201129","IA","2011-09-11",{"$f":"COUNTIF(Calculations!$E$56:$E$98,\"<=\"&DATE(2006,MONTH(C4767),DAY(C4767)))","v":29},6.5,6.6,6.6,6.4,6.5,6.5,6.2,6,6.8,6.8]
["IA201130","IA","2011-09-18",{"$f":"COUNTIF(Calculations!$E$56:$E$98,\"<=\"&DATE(2006,MONTH(C4768),DAY(C4768)))","v":30},5.7,5.7,6.1,6.3,5.6,5.6,5.8,4.7,5.3,6.3]
["IA201131","IA","2011-09-25",{"$f":"COUNTIF(Calculations!$E$56:$E$98,\"<=\"&DATE(2006,MONTH(C4769),DAY(C4769)))","v":31},6.2,6.2,5.7,5.4,6.7,6.5,6,5.9,6.5,6.9]
["IA201132","IA","2011-10-02",{"$f":"COUNTIF(Calculations!$E$56:$E$98,\"<=\"&DATE(2006,MONTH(C4770),DAY(C4770)))","v":32},6.1,6.7,6.3,4.0999999999999996,6.9,5.9,5.2,6.5,6.9,6.5]
["IA201133","IA","2011-10-09",{"$f":"COUNTIF(Calculations!$E$56:$E$98,\"<=\"&DATE(2006,MONTH(C4771),DAY(C4771)))","v":33},6.8,6.4,6.8,7,6.6,7,6.8,6.7,6.9,7]
["IA201134","IA","2011-10-16",{"$f":"COUNTIF(Calculations!$E$56:$E$98,\"<=\"&DATE(2006,MONTH(C4772),DAY(C4772)))","v":34},5.8,6.6,5.9,5,6.4,5.4,4.8,6,6.1,5.9]
["IA201135","IA","2011-10-23",{"$f":"COUNTIF(Calculations!$E$56:$E$98,\"<=\"&DATE(2006,MONTH(C4773),DAY(C4773)))","v":35},6.6,6.9,6.8,6.3,6.7,6.9,6.4,5.8,6.5,6.8]
["IA201136","IA","2011-10-30",{"$f":"COUNTIF(Calculations!$E$56:$E$98,\"<=\"&DATE(2006,MONTH(C4774),DAY(C4774)))","v":36},6.8,7,6.9,6.2,6.9,7,6.5,6.9,7,7]
["IA201137","IA","2011-11-06",{"$f":"COUNTIF(Calculations!$E$56:$E$98,\"<=\"&DATE(2006,MONTH(C4775),DAY(C4775)))","v":37},5.7,6.8,5.9,5.3,5.8,5.2,5.0999999999999996,5.2,5.5,5.4]
["IA201138","IA","2011-11-13",{"$f":"COUNTIF(Calculations!$E$56:$E$98,\"<=\"&DATE(2006,MONTH(C4776),DAY(C4776)))","v":38},5.2,6.9,6.4,4.7,6.1,3.9,4.5999999999999996,0.4,3.4,4.7]
["IA201139","IA","2011-11-20",{"$f":"COUNTIF(Calculations!$E$56:$E$98,\"<=\"&DATE(2006,MONTH(C4777),DAY(C4777)))","v":39},6.5,6.6,6.3,6.2,6.6,6.6,6.7,6.3,6.4,6.7]
["IA201140","IA","2011-11-27",{"$f":"COUNTIF(Calculations!$E$56:$E$98,\"<=\"&DATE(2006,MONTH(C4778),DAY(C4778)))","v":40},6,6.8,6,5.8,6.4,6,5.4,6,5.5,5.5]
["IA20126","IA","2012-04-01",{"$f":"COUNTIF(Calculations!$E$56:$E$98,\"<=\"&DATE(2006,MONTH(C4779),DAY(C4779)))","v":6},4.7,5.4,4.5,3.8,5.4,4.3,4.5999999999999996,3.9,4,5.8]
["IA20127","IA","2012-04-08",{"$f":"COUNTIF(Calculations!$E$56:$E$98,\"<=\"&DATE(2006,MONTH(C4780),DAY(C4780)))","v":7},6,6.5,6.1,5.7,6.5,5.9,5.9,5.0999999999999996,5.2,5.8]
["IA20128","IA","2012-04-15",{"$f":"COUNTIF(Calculations!$E$56:$E$98,\"<=\"&DATE(2006,MONTH(C4781),DAY(C4781)))","v":8},4.5,4.3,4.8,5.0999999999999996,4.4000000000000004,4.4000000000000004,5,4.0999999999999996,3.8,4.9000000000000004]
["IA20129","IA","2012-04-22",{"$f":"COUNTIF(Calculations!$E$56:$E$98,\"<=\"&DATE(2006,MONTH(C4782),DAY(C4782)))","v":9},1.8,1.5,1.1000000000000001,1.9,2,1.1000000000000001,2.5,2.2000000000000002,1.2,3.4]
["IA201210","IA","2012-04-29",{"$f":"COUNTIF(Calculations!$E$56:$E$98,\"<=\"&DATE(2006,MONTH(C4783),DAY(C4783)))","v":10},4.3,4.0999999999999996,3.8,3.9,4.9000000000000004,4.0999999999999996,4.5999999999999996,4.7,4.0999999999999996,4.5999999999999996]
["IA201211","IA","2012-05-06",{"$f":"COUNTIF(Calculations!$E$56:$E$98,\"<=\"&DATE(2006,MONTH(C4784),DAY(C4784)))","v":11},1.5,2.2999999999999998,1.5,1.3,1.7,1.6,1.3,1.2,0.8,0.8]
["IA201212","IA","2012-05-13",{"$f":"COUNTIF(Calculations!$E$56:$E$98,\"<=\"&DATE(2006,MONTH(C4785),DAY(C4785)))","v":12},5.0999999999999996,4.8,5.0999999999999996,5.3,5.5,5.3,5.5,5.0999999999999996,4.5999999999999996,4.0999999999999996]
["IA201213","IA","2012-05-20",{"$f":"COUNTIF(Calculations!$E$56:$E$98,\"<=\"&DATE(2006,MONTH(C4786),DAY(C4786)))","v":13},6.6,5.9,6.7,6.8,6.5,6.9,6.9,6.6,7,7]
["IA201214","IA","2012-05-27",{"$f":"COUNTIF(Calculations!$E$56:$E$98,\"<=\"&DATE(2006,MONTH(C4787),DAY(C4787)))","v":14},5.5,3.4,5,5.2,5.5,5.9,6.6,6.5,6.6,6.9]
["IA201215","IA","2012-06-03",{"$f":"COUNTIF(Calculations!$E$56:$E$98,\"<=\"&DATE(2006,MONTH(C4788),DAY(C4788)))","v":15},5.0999999999999996,3.8,5.2,4.5,5.6,5.7,5,6.2,5.5,4.9000000000000004]
["IA201216","IA","2012-06-10",{"$f":"COUNTIF(Calculations!$E$56:$E$98,\"<=\"&DATE(2006,MONTH(C4789),DAY(C4789)))","v":16},6.7,6.2,6.6,6.4,6.8,6.9,6.8,6.9,7,6.9]
["IA201217","IA","2012-06-17",{"$f":"COUNTIF(Calculations!$E$56:$E$98,\"<=\"&DATE(2006,MONTH(C4790),DAY(C4790)))","v":17},5.4,5.3,6,6.2,4.2,5.6,6.4,3.8,6.2,5.8]
["IA201218","IA","2012-06-24",{"$f":"COUNTIF(Calculations!$E$56:$E$98,\"<=\"&DATE(2006,MONTH(C4791),DAY(C4791)))","v":18},5.4,5.2,5.5,6,4.3,5.7,6.7,4,5.7,5.9]
["IA201219","IA","2012-07-01",{"$f":"COUNTIF(Calculations!$E$56:$E$98,\"<=\"&DATE(2006,MONTH(C4792),DAY(C4792)))","v":19},6,6,6.6,6.5,6.6,6.5,6.1,6.6,6.9,6.3]
["IA201220","IA","2012-07-08",{"$f":"COUNTIF(Calculations!$E$56:$E$98,\"<=\"&DATE(2006,MONTH(C4793),DAY(C4793)))","v":20},6.9,6.9,6.8,6.8,7,6.8,6.8,7,7,6.9]
["IA201221","IA","2012-07-15",{"$f":"COUNTIF(Calculations!$E$56:$E$98,\"<=\"&DATE(2006,MONTH(C4794),DAY(C4794)))","v":21},6.7,7,6.8,6.4,7,6.5,6.3,6.8,7,6.7]
["IA201222","IA","2012-07-22",{"$f":"COUNTIF(Calculations!$E$56:$E$98,\"<=\"&DATE(2006,MONTH(C4795),DAY(C4795)))","v":22},6.8,6.7,6.8,6.5,7,6.9,6.8,6.9,7,7]
["IA201223","IA","2012-07-29",{"$f":"COUNTIF(Calculations!$E$56:$E$98,\"<=\"&DATE(2006,MONTH(C4796),DAY(C4796)))","v":23},6.4,6.3,6.2,6,6.5,6.2,6.3,6.5,7,6.8]
["IA201224","IA","2012-08-05",{"$f":"COUNTIF(Calculations!$E$56:$E$98,\"<=\"&DATE(2006,MONTH(C4797),DAY(C4797)))","v":24},6.4,6.1,6.2,6.3,6.7,6,6.2,6.8,6.9,6.7]
["IA201225","IA","2012-08-12",{"$f":"COUNTIF(Calculations!$E$56:$E$98,\"<=\"&DATE(2006,MONTH(C4798),DAY(C4798)))","v":25},6.1,6.5,5.8,6,6.2,5.4,5.8,6.3,6.7,6.4]
["IA201226","IA","2012-08-19",{"$f":"COUNTIF(Calculations!$E$56:$E$98,\"<=\"&DATE(2006,MONTH(C4799),DAY(C4799)))","v":26},6.2,6.1,6.2,6,6.1,6,5.5,6.7,6.9,6.6]
["IA201227","IA","2012-08-26",{"$f":"COUNTIF(Calculations!$E$56:$E$98,\"<=\"&DATE(2006,MONTH(C4800),DAY(C4800)))","v":27},6,6.2,6,5.9,5.6,5.8,5.6,5.7,5.7,6.6]
["IA201228","IA","2012-09-02",{"$f":"COUNTIF(Calculations!$E$56:$E$98,\"<=\"&DATE(2006,MONTH(C4801),DAY(C4801)))","v":28},6.5,6.9,6.7,6.7,6.4,6.4,6.2,6.5,6.6,6.1]
["IA201229","IA","2012-09-09",{"$f":"COUNTIF(Calculations!$E$56:$E$98,\"<=\"&DATE(2006,MONTH(C4802),DAY(C4802)))","v":29},6.1,6.4,6.1,6.1,6.1,5.8,5.2,6.8,6.6,6.2]
["IA201230","IA","2012-09-16",{"$f":"COUNTIF(Calculations!$E$56:$E$98,\"<=\"&DATE(2006,MONTH(C4803),DAY(C4803)))","v":30},6,6.1,6.2,6.1,5.4,6,6.2,5.5,6.4,6.2]
[{"$f":"B4804&YEAR(C4804)&D4804","v":"IA201231"},"IA","2012-09-23",{"$f":"COUNTIF(Calculations!$E$56:$E$98,\"<=\"&DATE(2006,MONTH(C4804),DAY(C4804)))","v":31},6.5,6.9,6.5,5.8,6.7,6.5,6.2,6.3,6.7,6.9]
["IA201232","IA","2012-09-30",{"$f":"COUNTIF(Calculations!$E$56:$E$98,\"<=\"&DATE(2006,MONTH(C4805),DAY(C4805)))","v":32},6.9,6.9,6.9,7,7,7,6.9,6.9,7,7]
["IA201233","IA","2012-10-07",{"$f":"COUNTIF(Calculations!$E$56:$E$98,\"<=\"&DATE(2006,MONTH(C4806),DAY(C4806)))","v":33},6.8,6.9,7,6.8,7,6.9,6.8,6.9,6.7,6.3]
["IA201234","IA","2012-10-14",{"$f":"COUNTIF(Calculations!$E$56:$E$98,\"<=\"&DATE(2006,MONTH(C4807),DAY(C4807)))","v":34},5.9,6.9,5.8,5,6.1,5.9,5.6,5.7,5.6,5.6]
["IA201235","IA","2012-10-21",{"$f":"COUNTIF(Calculations!$E$56:$E$98,\"<=\"&DATE(2006,MONTH(C4808),DAY(C4808)))","v":35},4.5,5.6,5.0999999999999996,4.8,4.5,4.4000000000000004,3.9,3.7,3.8,3.9]
["IA201236","IA","2012-10-28",{"$f":"COUNTIF(Calculations!$E$56:$E$98,\"<=\"&DATE(2006,MONTH(C4809),DAY(C4809)))","v":36},3.9,4.7,4.5999999999999996,3.2,3.1,3.9,3.9,3,4.8,4.3]
["IA201237","IA","2012-11-04",{"$f":"COUNTIF(Calculations!$E$56:$E$98,\"<=\"&DATE(2006,MONTH(C4810),DAY(C4810)))","v":37},6,6.1,6.1,6,5.7,6.1,6.3,5.8,5.8,6.1]
["IA201238","IA","2012-11-11",{"$f":"COUNTIF(Calculations!$E$56:$E$98,\"<=\"&DATE(2006,MONTH(C4811),DAY(C4811)))","v":38},5.4,5.9,5.6,4.9000000000000004,5.4,5.5,5.0999999999999996,5.6,5.7,5.2]
["IA201239","IA","2012-11-18",{"$f":"COUNTIF(Calculations!$E$56:$E$98,\"<=\"&DATE(2006,MONTH(C4812),DAY(C4812)))","v":39},6.3,6.3,6.6,6.4,6.3,6,6.1,6.5,5.9,5.9]
["IA201240","IA","2012-11-25",{"$f":"COUNTIF(Calculations!$E$56:$E$98,\"<=\"&DATE(2006,MONTH(C4813),DAY(C4813)))","v":40},6.7,7,6.8,6.6,6.8,6.6,6.5,6.7,6.8,6.2]
["MO20135","MO","2013-03-31",{"$f":"COUNTIF(Calculations!$E$56:$E$98,\"<=\"&DATE(2006,MONTH(C4814),DAY(C4814)))","v":5},1.6,2.8,1.4,1,0,0.8,0.5,2.4,3,2.2999999999999998]
["MO20136","MO","2013-04-07",{"$f":"COUNTIF(Calculations!$E$56:$E$98,\"<=\"&DATE(2006,MONTH(C4815),DAY(C4815)))","v":6},4.0999999999999996,5.3,3.7,2,2.9,3.9,3.7,4.2,5.5,5.5]
["MO20137","MO","2013-04-14",{"$f":"COUNTIF(Calculations!$E$56:$E$98,\"<=\"&DATE(2006,MONTH(C4816),DAY(C4816)))","v":7},1.8,0.8,0.4,0.7,0.8,1.6,3.3,2.6,5.0999999999999996,3.6]
["MO20138","MO","2013-04-21",{"$f":"COUNTIF(Calculations!$E$56:$E$98,\"<=\"&DATE(2006,MONTH(C4817),DAY(C4817)))","v":8},1.6,1.3,0.2,0.3,0.3,0.4,1.3,4.0999999999999996,4.4000000000000004,3.8]
["MO20139","MO","2013-04-28",{"$f":"COUNTIF(Calculations!$E$56:$E$98,\"<=\"&DATE(2006,MONTH(C4818),DAY(C4818)))","v":9},1,1.6,0.7,0.5,0.4,0.3,0.7,1.7,1.9,1.9]
["MO201310","MO","2013-05-05",{"$f":"COUNTIF(Calculations!$E$56:$E$98,\"<=\"&DATE(2006,MONTH(C4819),DAY(C4819)))","v":10},1.7,2.5,2.8,1.4,0.7,1.3,1.2,2.5,1.7,1.3]
["MO201311","MO","2013-05-12",{"$f":"COUNTIF(Calculations!$E$56:$E$98,\"<=\"&DATE(2006,MONTH(C4820),DAY(C4820)))","v":11},2.1,2.5,2.9,0.9,1.3,2.1,1.9,2.5,4,2.2000000000000002]
["MO201312","MO","2013-05-19",{"$f":"COUNTIF(Calculations!$E$56:$E$98,\"<=\"&DATE(2006,MONTH(C4821),DAY(C4821)))","v":12},5.7,5.8,6.3,5.2,5.8,6.2,5.8,4.4000000000000004,5.7,5.7]
["MO201313","MO","2013-05-26",{"$f":"COUNTIF(Calculations!$E$56:$E$98,\"<=\"&DATE(2006,MONTH(C4822),DAY(C4822)))","v":13},3.6,5.4,2.2999999999999998,2.4,2.4,2.2999999999999998,3.4,4.2,5.4,4.8]
[{"$f":"B4823&YEAR(C4823)&D4823","v":"MO201314"},"MO","2013-06-02",{"$f":"COUNTIF(Calculations!$E$56:$E$98,\"<=\"&DATE(2006,MONTH(C4823),DAY(C4823)))","v":14},1.4,0.2,0.2,0,1.3,0.3,1.3,2.9,3.9,4.4000000000000004]
["MO201315","MO","2013-06-09",{"$f":"COUNTIF(Calculations!$E$56:$E$98,\"<=\"&DATE(2006,MONTH(C4824),DAY(C4824)))","v":15},2.9,2.7,2.6,3.6,1.6,2.9,3.8,3.3,4.2,3]
["MO201316","MO","2013-06-16",{"$f":"COUNTIF(Calculations!$E$56:$E$98,\"<=\"&DATE(2006,MONTH(C4825),DAY(C4825)))","v":16},4.5999999999999996,3.3,4.4000000000000004,4.9000000000000004,4.4000000000000004,4.4000000000000004,4.5999999999999996,4.9000000000000004,5.8,5.8]
["MO201317","MO","2013-06-23",{"$f":"COUNTIF(Calculations!$E$56:$E$98,\"<=\"&DATE(2006,MONTH(C4826),DAY(C4826)))","v":17},4.5999999999999996,5.2,4.7,5.0999999999999996,3.8,4.5,3.1,5.4,5.4,4]
["MO201318","MO","2013-06-30",{"$f":"COUNTIF(Calculations!$E$56:$E$98,\"<=\"&DATE(2006,MONTH(C4827),DAY(C4827)))","v":18},5.6,5.8,5.7,5.2,5.8,5.8,4.5999999999999996,6.7,5.4,5]
["MO201319","MO","2013-07-07",{"$f":"COUNTIF(Calculations!$E$56:$E$98,\"<=\"&DATE(2006,MONTH(C4828),DAY(C4828)))","v":19},6.3,6.6,6.4,6.8,6.7,6.5,4.7,6.9,6.6,5.4]
["MO201320","MO","2013-07-14",{"$f":"COUNTIF(Calculations!$E$56:$E$98,\"<=\"&DATE(2006,MONTH(C4829),DAY(C4829)))","v":20},6.6,6.9,6.9,6.3,7,6.5,5.0999999999999996,6.9,7,6.7]
["MO201321","MO","2013-07-21",{"$f":"COUNTIF(Calculations!$E$56:$E$98,\"<=\"&DATE(2006,MONTH(C4830),DAY(C4830)))","v":21},6.6,6.6,6.7,6.8,6.7,6.5,5.3,6.3,6.3,6.9]
["MO201322","MO","2013-07-28",{"$f":"COUNTIF(Calculations!$E$56:$E$98,\"<=\"&DATE(2006,MONTH(C4831),DAY(C4831)))","v":22},5.4,6.3,6.5,6.2,5.5,5.8,5.4,4.8,4.5999999999999996,3.6]
["MO201323","MO","2013-08-04",{"$f":"COUNTIF(Calculations!$E$56:$E$98,\"<=\"&DATE(2006,MONTH(C4832),DAY(C4832)))","v":23},4.5999999999999996,5,5.3,6.2,3.7,4.8,5.7,2.2000000000000002,4.3,3.9]
["MO201324","MO","2013-08-11",{"$f":"COUNTIF(Calculations!$E$56:$E$98,\"<=\"&DATE(2006,MONTH(C4833),DAY(C4833)))","v":24},3.7,6.2,6.7,7,2,2.9,4.5,0.7,1,0.3]
["MO201325","MO","2013-08-18",{"$f":"COUNTIF(Calculations!$E$56:$E$98,\"<=\"&DATE(2006,MONTH(C4834),DAY(C4834)))","v":25},5.6,5.8,6.9,6.6,5.7,6.1,6.2,4.5999999999999996,5.8,3.5]
["MO201326","MO","2013-08-25",{"$f":"COUNTIF(Calculations!$E$56:$E$98,\"<=\"&DATE(2006,MONTH(C4835),DAY(C4835)))","v":26},6.8,6.9,7,7,7,7,6.7,6.2,6.7,6.4]
["MO201327","MO","2013-09-01",{"$f":"COUNTIF(Calculations!$E$56:$E$98,\"<=\"&DATE(2006,MONTH(C4836),DAY(C4836)))","v":27},6.7,6.7,7,7,6.7,6.8,6.5,7,7,6.2]
["MO201328","MO","2013-09-08",{"$f":"COUNTIF(Calculations!$E$56:$E$98,\"<=\"&DATE(2006,MONTH(C4837),DAY(C4837)))","v":28},6.8,6.8,7,7,6.6,6.6,6.7,7,7,7]
["MO201329","MO","2013-09-15",{"$f":"COUNTIF(Calculations!$E$56:$E$98,\"<=\"&DATE(2006,MONTH(C4838),DAY(C4838)))","v":29},6.5,5.5,6.3,6.4,6.9,6.7,6.7,7,7,6.8]
["MO201330","MO","2013-09-22",{"$f":"COUNTIF(Calculations!$E$56:$E$98,\"<=\"&DATE(2006,MONTH(C4839),DAY(C4839)))","v":30},4.7,3.8,5,5.9,4.0999999999999996,3.2,4.2,5,6.1,5.6]
["MO201331","MO","2013-09-29",{"$f":"COUNTIF(Calculations!$E$56:$E$98,\"<=\"&DATE(2006,MONTH(C4840),DAY(C4840)))","v":31},5.6,5.8,5.8,6.2,5.4,5.6,6.1,5.8,6.7,4.3]
["MO201334","MO","2013-10-20",{"$f":"COUNTIF(Calculations!$E$56:$E$98,\"<=\"&DATE(2006,MONTH(C4841),DAY(C4841)))","v":34},5.0999999999999996,6.2,5.9,6.1,4.5999999999999996,5.2,5.4,4.8,5.5,3.1]
["MO201335","MO","2013-10-27",{"$f":"COUNTIF(Calculations!$E$56:$E$98,\"<=\"&DATE(2006,MONTH(C4842),DAY(C4842)))","v":35},6.4,6.9,6.6,6.6,7,6.8,6,7,6.7,5]
["MO201336","MO","2013-11-03",{"$f":"COUNTIF(Calculations!$E$56:$E$98,\"<=\"&DATE(2006,MONTH(C4843),DAY(C4843)))","v":36},3.2,2.6,4,3.2,1.8,3.3,3.9,2.6,4.2,3.6]
["MO201337","MO","2013-11-10",{"$f":"COUNTIF(Calculations!$E$56:$E$98,\"<=\"&DATE(2006,MONTH(C4844),DAY(C4844)))","v":37},4.2,4.2,3.8,5.0999999999999996,3.7,4.8,5.0999999999999996,3.6,4.3,3.8]
["MO201338","MO","2013-11-17",{"$f":"COUNTIF(Calculations!$E$56:$E$98,\"<=\"&DATE(2006,MONTH(C4845),DAY(C4845)))","v":38},5.6,6.1,6.3,6.1,5,5.4,5,4.9000000000000004,6.4,5.0999999999999996]
["MO201339","MO","2013-11-24",{"$f":"COUNTIF(Calculations!$E$56:$E$98,\"<=\"&DATE(2006,MONTH(C4846),DAY(C4846)))","v":39},3.5,3.7,3.2,3.8,2.8,3.5,4.7,4.0999999999999996,4.7,2.8]
["KS20131","KS","2013-03-03",{"$f":"COUNTIF(Calculations!$E$56:$E$98,\"<=\"&DATE(2006,MONTH(C4847),DAY(C4847)))","v":1},0.9,0.6,1,1,1.3,0.2,0.1,3,0.9,0.5]
["KS20132","KS","2013-03-10",{"$f":"COUNTIF(Calculations!$E$56:$E$98,\"<=\"&DATE(2006,MONTH(C4848),DAY(C4848)))","v":2},2.2999999999999998,1.8,2.8,2.6,4.4000000000000004,1.6,0.7,3.8,1.5,2]
["KS20133","KS","2013-03-17",{"$f":"COUNTIF(Calculations!$E$56:$E$98,\"<=\"&DATE(2006,MONTH(C4849),DAY(C4849)))","v":3},4.0999999999999996,2.9,3.2,4.4000000000000004,6.4,3.3,2.4,6.5,4.0999999999999996,3.4]
["KS20134","KS","2013-03-24",{"$f":"COUNTIF(Calculations!$E$56:$E$98,\"<=\"&DATE(2006,MONTH(C4850),DAY(C4850)))","v":4},4.0999999999999996,3.6,3,3.5,5.3,3.7,2.6,5.6,5.5,4.0999999999999996]
["KS20135","KS","2013-03-31",{"$f":"COUNTIF(Calculations!$E$56:$E$98,\"<=\"&DATE(2006,MONTH(C4851),DAY(C4851)))","v":5},3.9,2.2999999999999998,4,4.4000000000000004,5.2,4,1.2,6.4,5,2.4]
["KS20136","KS","2013-04-07",{"$f":"COUNTIF(Calculations!$E$56:$E$98,\"<=\"&DATE(2006,MONTH(C4852),DAY(C4852)))","v":6},4.5999999999999996,4.8,5.6,6.1,5.8,5,3.1,6.2,3.9,2.4]
["KS20137","KS","2013-04-14",{"$f":"COUNTIF(Calculations!$E$56:$E$98,\"<=\"&DATE(2006,MONTH(C4853),DAY(C4853)))","v":7},3.2,3.8,2,2,5.5,3.1,2,5.6,3.2,2.4]
["KS20138","KS","2013-04-21",{"$f":"COUNTIF(Calculations!$E$56:$E$98,\"<=\"&DATE(2006,MONTH(C4854),DAY(C4854)))","v":8},3,3.8,2.1,1,4.5999999999999996,2.1,2,5.0999999999999996,3.7,2.2000000000000002]
["KS20139","KS","2013-04-28",{"$f":"COUNTIF(Calculations!$E$56:$E$98,\"<=\"&DATE(2006,MONTH(C4855),DAY(C4855)))","v":9},2.7,3.9,2.4,1.4,5.4,1.8,1.5,4.7,3.3,1.3]
["KS201310","KS","2013-05-05",{"$f":"COUNTIF(Calculations!$E$56:$E$98,\"<=\"&DATE(2006,MONTH(C4856),DAY(C4856)))","v":10},3,3.7,3.1,2.2000000000000002,4.7,2.2999999999999998,1.2,5.0999999999999996,3.7,1.4]
["KS201311","KS","2013-05-12",{"$f":"COUNTIF(Calculations!$E$56:$E$98,\"<=\"&DATE(2006,MONTH(C4857),DAY(C4857)))","v":11},3.2,5.6,3.2,1.8,4.0999999999999996,2.9,1.4,5.7,4,1.4]
["KS201312","KS","2013-05-19",{"$f":"COUNTIF(Calculations!$E$56:$E$98,\"<=\"&DATE(2006,MONTH(C4858),DAY(C4858)))","v":12},5.8,5,5.7,6.1,5.9,5.6,5.8,6.9,6.1,4.3]
["KS201313","KS","2013-05-26",{"$f":"COUNTIF(Calculations!$E$56:$E$98,\"<=\"&DATE(2006,MONTH(C4859),DAY(C4859)))","v":13},5.7,6.2,5.3,5,6.4,6,5.3,6.9,6,4.4000000000000004]
["KS201314","KS","2013-06-02",{"$f":"COUNTIF(Calculations!$E$56:$E$98,\"<=\"&DATE(2006,MONTH(C4860),DAY(C4860)))","v":14},3.8,4.5999999999999996,2.7,0.9,5.9,3.7,2.6,6.3,4.3,3.5]
["KS201316","KS","2013-06-10",{"$f":"COUNTIF(Calculations!$E$56:$E$98,\"<=\"&DATE(2006,MONTH(C4861),DAY(C4861)))","v":16},4.3,5.5,4.3,3.6,5.2,4.3,3.3,5.4,5.0999999999999996,3.2]
["KS201316","KS","2013-06-16",{"$f":"COUNTIF(Calculations!$E$56:$E$98,\"<=\"&DATE(2006,MONTH(C4862),DAY(C4862)))","v":16},5.7,5.9,5.8,5.3,5.9,6.1,5.3,6.1,6.5,4.4000000000000004]
["KS201317","KS","2013-06-23",{"$f":"COUNTIF(Calculations!$E$56:$E$98,\"<=\"&DATE(2006,MONTH(C4863),DAY(C4863)))","v":17},5.6,6,5.9,5.6,5.4,5.6,4.8,5.9,6.1,5.5]
["KS201318","KS","2013-06-30",{"$f":"COUNTIF(Calculations!$E$56:$E$98,\"<=\"&DATE(2006,MONTH(C4864),DAY(C4864)))","v":18},6.3,6.8,6.3,5.5,6.9,6.3,5.6,6.5,6.2,6.6]
["KS201319","KS","2013-07-07",{"$f":"COUNTIF(Calculations!$E$56:$E$98,\"<=\"&DATE(2006,MONTH(C4865),DAY(C4865)))","v":19},6.8,6.9,6.9,6.6,6.6,6.9,6.6,6.8,6.9,6.9]
["KS201320","KS","2013-07-14",{"$f":"COUNTIF(Calculations!$E$56:$E$98,\"<=\"&DATE(2006,MONTH(C4866),DAY(C4866)))","v":20},6.4,6.3,6.3,6.6,6.2,5.8,6.8,6.4,6.5,6.9]
["KS201321","KS","2013-07-21",{"$f":"COUNTIF(Calculations!$E$56:$E$98,\"<=\"&DATE(2006,MONTH(C4867),DAY(C4867)))","v":21},6,6.3,6.6,6.3,6.2,5.7,6.1,6.3,5.0999999999999996,6.1]
["KS201322","KS","2013-07-28",{"$f":"COUNTIF(Calculations!$E$56:$E$98,\"<=\"&DATE(2006,MONTH(C4868),DAY(C4868)))","v":22},4.5,5.0999999999999996,4.3,5.4,5.2,3.6,4.9000000000000004,5.7,3.3,3]
["KS201323","KS","2013-08-04",{"$f":"COUNTIF(Calculations!$E$56:$E$98,\"<=\"&DATE(2006,MONTH(C4869),DAY(C4869)))","v":23},2.5,4.8,2.2999999999999998,0.9,4.4000000000000004,1.1000000000000001,1.7,4.7,3.1,0.7]
["KS201324","KS","2013-08-11",{"$f":"COUNTIF(Calculations!$E$56:$E$98,\"<=\"&DATE(2006,MONTH(C4870),DAY(C4870)))","v":24},2,4.7,3.2,3.7,2.9,1.4,0.5,2.6,0.7,0.3]
["KS201325","KS","2013-08-18",{"$f":"COUNTIF(Calculations!$E$56:$E$98,\"<=\"&DATE(2006,MONTH(C4871),DAY(C4871)))","v":25},3.3,5.4,3.6,4.9000000000000004,3.8,2.6,2,3.9,2,2.4]
["KS201326","KS","2013-08-25",{"$f":"COUNTIF(Calculations!$E$56:$E$98,\"<=\"&DATE(2006,MONTH(C4872),DAY(C4872)))","v":26},6.2,6.7,6.5,6.2,6.4,6,6.1,6.5,5.7,6]
["KS201327","KS","2013-09-01",{"$f":"COUNTIF(Calculations!$E$56:$E$98,\"<=\"&DATE(2006,MONTH(C4873),DAY(C4873)))","v":27},6.8,6.8,6.7,6.5,6.6,7,6.9,6.9,7,6.9]
["KS201328","KS","2013-09-08",{"$f":"COUNTIF(Calculations!$E$56:$E$98,\"<=\"&DATE(2006,MONTH(C4874),DAY(C4874)))","v":28},6.8,6.9,6.9,6.3,6.8,6.8,6.8,6.9,7,6.9]
["KS201329","KS","2013-09-15",{"$f":"COUNTIF(Calculations!$E$56:$E$98,\"<=\"&DATE(2006,MONTH(C4875),DAY(C4875)))","v":29},5.5,2.8,5.0999999999999996,6.1,4.4000000000000004,5.6,6.9,4.4000000000000004,6.2,6.8]
["KS201330","KS","2013-09-22",{"$f":"COUNTIF(Calculations!$E$56:$E$98,\"<=\"&DATE(2006,MONTH(C4876),DAY(C4876)))","v":30},5.2,4.5,5.0999999999999996,4.5,5.2,5.0999999999999996,4.7,5.2,6.2,4.5999999999999996]
["KS201331","KS","2013-09-29",{"$f":"COUNTIF(Calculations!$E$56:$E$98,\"<=\"&DATE(2006,MONTH(C4877),DAY(C4877)))","v":31},6,5.5,6.1,5.7,5.8,6.5,5.9,6.1,6.2,5.8]
["KS201334","KS","2013-10-20",{"$f":"COUNTIF(Calculations!$E$56:$E$98,\"<=\"&DATE(2006,MONTH(C4878),DAY(C4878)))","v":34},4.8,5.0999999999999996,5,5,5,4.2,4.5,5.5,5,3.8]
["KS201335","KS","2013-10-27",{"$f":"COUNTIF(Calculations!$E$56:$E$98,\"<=\"&DATE(2006,MONTH(C4879),DAY(C4879)))","v":35},6.5,6.6,6.7,6.6,6.7,6.3,6.5,6.8,6.5,6.5]
["KS201336","KS","2013-11-03",{"$f":"COUNTIF(Calculations!$E$56:$E$98,\"<=\"&DATE(2006,MONTH(C4880),DAY(C4880)))","v":36},4,6.6,4.0999999999999996,2.2000000000000002,6.2,4.5,2.5,5.4,3.5,2.1]
["KS201337","KS","2013-11-10",{"$f":"COUNTIF(Calculations!$E$56:$E$98,\"<=\"&DATE(2006,MONTH(C4881),DAY(C4881)))","v":37},3.9,5.0999999999999996,3.3,3.5,5.0999999999999996,4.0999999999999996,3.1,5.5,4.2,2]
["KS201338","KS","2013-11-17",{"$f":"COUNTIF(Calculations!$E$56:$E$98,\"<=\"&DATE(2006,MONTH(C4882),DAY(C4882)))","v":38},6.2,6.9,6,5.6,6.6,6.5,5.8,6.8,6.2,5.6]
["KS201339","KS","2013-11-24",{"$f":"COUNTIF(Calculations!$E$56:$E$98,\"<=\"&DATE(2006,MONTH(C4883),DAY(C4883)))","v":39},4.7,6.2,4.9000000000000004,3.4,5.7,4.8,4.5,4.4000000000000004,4.9000000000000004,4.3]
["IL20135","IL","2013-03-31",{"$f":"COUNTIF(Calculations!$E$56:$E$98,\"<=\"&DATE(2006,MONTH(C4884),DAY(C4884)))","v":5},0.6,0,1.3,0.4,0.3,1.2,0,1.3,0,0]
["IL20136","IL","2013-04-07",{"$f":"COUNTIF(Calculations!$E$56:$E$98,\"<=\"&DATE(2006,MONTH(C4885),DAY(C4885)))","v":6},2.8,1.7,2.9,4,2.9,2.1,2.8,3.6,3.6,2.4]
["IL20137","IL","2013-04-14",{"$f":"COUNTIF(Calculations!$E$56:$E$98,\"<=\"&DATE(2006,MONTH(C4886),DAY(C4886)))","v":7},1.5,0.2,0.2,7,1.1000000000000001,1.8,2,2.4,3.3,2.4]
[{"$f":"B4887&YEAR(C4887)&D4887","v":"IL20138"},"IL","2013-04-21",{"$f":"COUNTIF(Calculations!$E$56:$E$98,\"<=\"&DATE(2006,MONTH(C4887),DAY(C4887)))","v":8},0.3,0,0,0,0,0,0,0.8,4.2,1.7]
["IL20139","IL","2013-04-28",{"$f":"COUNTIF(Calculations!$E$56:$E$98,\"<=\"&DATE(2006,MONTH(C4888),DAY(C4888)))","v":9},0.3,1.2,0.1,0.2,0.4,0.1,0,0,0.9,0.8]
["IL201310","IL","2013-05-05",{"$f":"COUNTIF(Calculations!$E$56:$E$98,\"<=\"&DATE(2006,MONTH(C4889),DAY(C4889)))","v":10},2,3.5,3.3,1.7,1.6,2.2000000000000002,1.4,0.4,1.7,1.8]
["IL201311","IL","2013-05-12",{"$f":"COUNTIF(Calculations!$E$56:$E$98,\"<=\"&DATE(2006,MONTH(C4890),DAY(C4890)))","v":11},1.7,3.4,3.7,0.2,2,3.1,0.2,0,0.9,2]
["IL201312","IL","2013-05-19",{"$f":"COUNTIF(Calculations!$E$56:$E$98,\"<=\"&DATE(2006,MONTH(C4891),DAY(C4891)))","v":12},5.8,6.4,6.2,5.6,5.6,5.5,5.7,5.7,5.5,7]
["IL201313","IL","2013-05-26",{"$f":"COUNTIF(Calculations!$E$56:$E$98,\"<=\"&DATE(2006,MONTH(C4892),DAY(C4892)))","v":13},3.3,3.2,2.9,2.7,3.1,3.7,1.8,4.2,5.6,5.3]
["IL201314","IL","2013-06-02",{"$f":"COUNTIF(Calculations!$E$56:$E$98,\"<=\"&DATE(2006,MONTH(C4893),DAY(C4893)))","v":14},1.2,2,0.5,0.2,0.2,1.7,0.4,1.7,4.2,2.4]
["IL201315","IL","2013-06-09",{"$f":"COUNTIF(Calculations!$E$56:$E$98,\"<=\"&DATE(2006,MONTH(C4894),DAY(C4894)))","v":15},3.4,3.5,3.9,2.9,2.6,4.8,2.9,2.7,4.2,3.5]
["IL201316","IL","2013-06-16",{"$f":"COUNTIF(Calculations!$E$56:$E$98,\"<=\"&DATE(2006,MONTH(C4895),DAY(C4895)))","v":16},4.9000000000000004,4.5999999999999996,5,4.7,4.9000000000000004,5.0999999999999996,4.9000000000000004,4.9000000000000004,6,5.2]
["IL201317","IL","2013-06-23",{"$f":"COUNTIF(Calculations!$E$56:$E$98,\"<=\"&DATE(2006,MONTH(C4896),DAY(C4896)))","v":17},4.5999999999999996,5,3.8,5.5,5.4,4.5999999999999996,4,3.7,4,4.9000000000000004]
["IL201318","IL","2013-06-30",{"$f":"COUNTIF(Calculations!$E$56:$E$98,\"<=\"&DATE(2006,MONTH(C4897),DAY(C4897)))","v":18},3.2,2.8,1.8,4.2,4.2,2.8,3.7,1.5,4.5999999999999996,5]
["IL201319","IL","2013-07-07",{"$f":"COUNTIF(Calculations!$E$56:$E$98,\"<=\"&DATE(2006,MONTH(C4898),DAY(C4898)))","v":19},5.4,6.4,5.4,6.7,6.6,5.4,5.8,3.3,4,2.9]
["IL201320","IL","2013-07-14",{"$f":"COUNTIF(Calculations!$E$56:$E$98,\"<=\"&DATE(2006,MONTH(C4899),DAY(C4899)))","v":20},5.9,6.3,6.3,6.9,5.7,5.8,5.8,4.5999999999999996,5.2,6]
["IL201321","IL","2013-07-21",{"$f":"COUNTIF(Calculations!$E$56:$E$98,\"<=\"&DATE(2006,MONTH(C4900),DAY(C4900)))","v":21},6.3,6.5,6.9,6.9,6.8,6.3,6.3,5.5,6.5,4.5]
["IL201322","IL","2013-07-28",{"$f":"COUNTIF(Calculations!$E$56:$E$98,\"<=\"&DATE(2006,MONTH(C4901),DAY(C4901)))","v":22},6,5.6,6.4,6.5,6.3,6.4,6.1,5.6,5.4,4]
["IL201323","IL","2013-08-04",{"$f":"COUNTIF(Calculations!$E$56:$E$98,\"<=\"&DATE(2006,MONTH(C4902),DAY(C4902)))","v":23},5.7,6.2,6.2,5.4,5.5,5.5,5.4,6,4.9000000000000004,4.8]
["IL201324","IL","2013-08-11",{"$f":"COUNTIF(Calculations!$E$56:$E$98,\"<=\"&DATE(2006,MONTH(C4903),DAY(C4903)))","v":24},6.2,6.6,5.9,6.8,6.2,6.7,6.2,6.1,4.5,4.9000000000000004]
["IL201325","IL","2013-08-18",{"$f":"COUNTIF(Calculations!$E$56:$E$98,\"<=\"&DATE(2006,MONTH(C4904),DAY(C4904)))","v":25},6.8,6.9,7,7,6.7,7,6.7,6.8,5.8,5.8]
["IL201326","IL","2013-08-25",{"$f":"COUNTIF(Calculations!$E$56:$E$98,\"<=\"&DATE(2006,MONTH(C4905),DAY(C4905)))","v":26},6.5,5.9,5,7,7,6.3,7,6.7,6.2,7]
["IL201327","IL","2013-09-01",{"$f":"COUNTIF(Calculations!$E$56:$E$98,\"<=\"&DATE(2006,MONTH(C4906),DAY(C4906)))","v":27},6.6,6.6,5.4,7,7,6.3,6.9,6.8,7,7]
["IL201328","IL","2013-09-08",{"$f":"COUNTIF(Calculations!$E$56:$E$98,\"<=\"&DATE(2006,MONTH(C4907),DAY(C4907)))","v":28},6.8,6.9,6.6,7,7,6.7,6.4,6.9,7,6.7]
["IL201329","IL","2013-09-15",{"$f":"COUNTIF(Calculations!$E$56:$E$98,\"<=\"&DATE(2006,MONTH(C4908),DAY(C4908)))","v":29},6.4,6.5,6.8,6.2,6.5,6.3,5.3,6.8,7,7]
["IL201330","IL","2013-09-22",{"$f":"COUNTIF(Calculations!$E$56:$E$98,\"<=\"&DATE(2006,MONTH(C4909),DAY(C4909)))","v":30},5.6,5.6,5.4,5.2,6.3,5.9,4.8,5.5,5.8,6.2]
["IL201331","IL","2013-09-29",{"$f":"COUNTIF(Calculations!$E$56:$E$98,\"<=\"&DATE(2006,MONTH(C4910),DAY(C4910)))","v":31},6.4,6.4,6.4,6.2,6.4,6.5,6.2,6.3,6.6,6.7]
["IL201335","IL","2013-10-21",{"$f":"COUNTIF(Calculations!$E$56:$E$98,\"<=\"&DATE(2006,MONTH(C4911),DAY(C4911)))","v":35},5.7,6.2,4.9000000000000004,6.4,5.2,6.2,5.3,5.8,5.6,5.3]
["IL201335","IL","2013-10-27",{"$f":"COUNTIF(Calculations!$E$56:$E$98,\"<=\"&DATE(2006,MONTH(C4912),DAY(C4912)))","v":35},6.2,5.7,6.7,6.3,5.6,6.3,6.2,6.7,6.8,6.8]
["IL201336","IL","2013-11-03",{"$f":"COUNTIF(Calculations!$E$56:$E$98,\"<=\"&DATE(2006,MONTH(C4913),DAY(C4913)))","v":36},4.2,4.2,4.0999999999999996,3.7,4.2,4.8,3.9,4.4000000000000004,3.2,3.7]
["IL201337","IL","2013-11-10",{"$f":"COUNTIF(Calculations!$E$56:$E$98,\"<=\"&DATE(2006,MONTH(C4914),DAY(C4914)))","v":37},4.9000000000000004,4.8,4.8,5.0999999999999996,4.7,4.4000000000000004,4.3,5.3,6,6.2]
["IL201338","IL","2013-11-17",{"$f":"COUNTIF(Calculations!$E$56:$E$98,\"<=\"&DATE(2006,MONTH(C4915),DAY(C4915)))","v":38},5,4.8,4.8,4.5,4.2,4.9000000000000004,5.6,5.5,5.7,5.6]
["IL201339","IL","2013-11-24",{"$f":"COUNTIF(Calculations!$E$56:$E$98,\"<=\"&DATE(2006,MONTH(C4916),DAY(C4916)))","v":39},4.0999999999999996,4.4000000000000004,4.5999999999999996,3.7,2.4,4.4000000000000004,4.4000000000000004,4.5999999999999996,5,3.8]
["IA20136","IA","2013-04-07",{"$f":"COUNTIF(Calculations!$E$56:$E$98,\"<=\"&DATE(2006,MONTH(C4917),DAY(C4917)))","v":6},2.5,1.8,1,1.3,2.2000000000000002,2.4,3.4,4.2,5,4.5999999999999996]
["IA20137","IA","2013-04-14",{"$f":"COUNTIF(Calculations!$E$56:$E$98,\"<=\"&DATE(2006,MONTH(C4918),DAY(C4918)))","v":7},0.8,0.5,0.2,0.8,0.9,0.9,1,1.4,1.3,2]
["IA20138","IA","2013-04-21",{"$f":"COUNTIF(Calculations!$E$56:$E$98,\"<=\"&DATE(2006,MONTH(C4919),DAY(C4919)))","v":8},0.3,0.4,0.1,0.2,0.1,0.2,0.1,0.6,0.2,0.4]
["IA20139","IA","2013-04-28",{"$f":"COUNTIF(Calculations!$E$56:$E$98,\"<=\"&DATE(2006,MONTH(C4920),DAY(C4920)))","v":9},2,1.5,1.2,1.8,2,2.1,2.9,2.7,2.2000000000000002,1.8]
["IA201310","IA","2013-05-05",{"$f":"COUNTIF(Calculations!$E$56:$E$98,\"<=\"&DATE(2006,MONTH(C4921),DAY(C4921)))","v":10},2,2.2999999999999998,1.6,2.1,1.9,2.2999999999999998,2.7,2.8,2.5,2.6]
["IA201311","IA","2013-05-12",{"$f":"COUNTIF(Calculations!$E$56:$E$98,\"<=\"&DATE(2006,MONTH(C4922),DAY(C4922)))","v":11},1.6,2,1.5,2.2000000000000002,1.8,1,1.9,1.8,1.2,1.2]
["IA201312","IA","2013-05-19",{"$f":"COUNTIF(Calculations!$E$56:$E$98,\"<=\"&DATE(2006,MONTH(C4923),DAY(C4923)))","v":12},5.3,4.8,5,5,4.9000000000000004,5.7,5.7,5.9,5.6,5.4]
["IA201313","IA","2013-05-26",{"$f":"COUNTIF(Calculations!$E$56:$E$98,\"<=\"&DATE(2006,MONTH(C4924),DAY(C4924)))","v":13},2.2999999999999998,2.1,0.9,1.1000000000000001,2.5,1.7,3,3.5,3,4]
["IA201314","IA","2013-06-02",{"$f":"COUNTIF(Calculations!$E$56:$E$98,\"<=\"&DATE(2006,MONTH(C4925),DAY(C4925)))","v":14},0.6,0.6,0.1,0.9,0.9,0.2,1,0.9,0.3,0.5]
["IA201315","IA","2013-06-09",{"$f":"COUNTIF(Calculations!$E$56:$E$98,\"<=\"&DATE(2006,MONTH(C4926),DAY(C4926)))","v":15},1.7,1.8,0.9,1.3,2.2999999999999998,1.3,2.5,1.8,1,1.9]
["IA201316","IA","2013-06-16",{"$f":"COUNTIF(Calculations!$E$56:$E$98,\"<=\"&DATE(2006,MONTH(C4927),DAY(C4927)))","v":16},2.8,1.9,1.5,2.8,2.7,2.9,4.5999999999999996,2.7,2.6,4.3]
["IA201317","IA","2013-06-23",{"$f":"COUNTIF(Calculations!$E$56:$E$98,\"<=\"&DATE(2006,MONTH(C4928),DAY(C4928)))","v":17},4.3,3.8,3.6,3.9,4.5999999999999996,4.9000000000000004,4.8,4,4.2,5.4]
["IA201318","IA","2013-06-30",{"$f":"COUNTIF(Calculations!$E$56:$E$98,\"<=\"&DATE(2006,MONTH(C4929),DAY(C4929)))","v":18},4.0999999999999996,5.4,3.2,2.9,4.4000000000000004,4.2,3.4,3.7,5.0999999999999996,3.8]
["IA201319","IA","2013-07-07",{"$f":"COUNTIF(Calculations!$E$56:$E$98,\"<=\"&DATE(2006,MONTH(C4930),DAY(C4930)))","v":19},6.2,6.1,6,5.8,6.7,6.5,6,6,6.3,6.3]
["IA201320","IA","2013-07-14",{"$f":"COUNTIF(Calculations!$E$56:$E$98,\"<=\"&DATE(2006,MONTH(C4931),DAY(C4931)))","v":20},6.5,6.5,6.4,5.8,6.6,6.7,6.3,6.8,7,6.9]
["IA201321","IA","2013-07-21",{"$f":"COUNTIF(Calculations!$E$56:$E$98,\"<=\"&DATE(2006,MONTH(C4932),DAY(C4932)))","v":21},6.7,6.7,6.9,6.5,6.8,6.8,6.6,6.6,6.8,6.7]
["IA201322","IA","2013-07-28",{"$f":"COUNTIF(Calculations!$E$56:$E$98,\"<=\"&DATE(2006,MONTH(C4933),DAY(C4933)))","v":22},5.9,6,5.3,5.7,6.6,5.6,5.0999999999999996,6.5,6.2,6.3]
["IA201323","IA","2013-08-04",{"$f":"COUNTIF(Calculations!$E$56:$E$98,\"<=\"&DATE(2006,MONTH(C4934),DAY(C4934)))","v":23},6.2,6.1,5.8,6.3,6.4,5.8,6.1,6.8,6.6,6.1]
["IA201324","IA","2013-08-11",{"$f":"COUNTIF(Calculations!$E$56:$E$98,\"<=\"&DATE(2006,MONTH(C4935),DAY(C4935)))","v":24},6.2,5.9,5.8,5.4,6.5,6.5,6,6.6,6.7,6.9]
["IA201325","IA","2013-08-17",{"$f":"COUNTIF(Calculations!$E$56:$E$98,\"<=\"&DATE(2006,MONTH(C4936),DAY(C4936)))","v":25},6.4,6.7,6.1,6.6,6.1,6.6,6.8,5.8,6.5,6.9]
["IA201326","IA","2013-08-25",{"$f":"COUNTIF(Calculations!$E$56:$E$98,\"<=\"&DATE(2006,MONTH(C4937),DAY(C4937)))","v":26},6.3,5.7,5.8,5.6,6.2,6.8,6.8,6.7,6.9,7]
["IA201327","IA","2013-09-01",{"$f":"COUNTIF(Calculations!$E$56:$E$98,\"<=\"&DATE(2006,MONTH(C4938),DAY(C4938)))","v":27},6.7,6.4,6.8,6.8,6.4,6.9,7,6.3,7,7]
["IA201328","IA","2013-09-08",{"$f":"COUNTIF(Calculations!$E$56:$E$98,\"<=\"&DATE(2006,MONTH(C4939),DAY(C4939)))","v":28},6.8,6.5,7,7,6.3,7,7,6.6,7,7]
["IA201329","IA","2013-09-15",{"$f":"COUNTIF(Calculations!$E$56:$E$98,\"<=\"&DATE(2006,MONTH(C4940),DAY(C4940)))","v":29},6.6,6.7,6.7,6.4,6.7,6.8,6.3,5.9,6.6,6.7]
["IA201330","IA","2013-09-22",{"$f":"COUNTIF(Calculations!$E$56:$E$98,\"<=\"&DATE(2006,MONTH(C4941),DAY(C4941)))","v":30},5.6,6.6,5.8,5,5.8,4.8,5.3,4.9000000000000004,5.0999999999999996,6.3]
["IA201331","IA","2013-09-29",{"$f":"COUNTIF(Calculations!$E$56:$E$98,\"<=\"&DATE(2006,MONTH(C4942),DAY(C4942)))","v":31},5.9,6,6.2,5.9,5.7,6,5.7,5.3,5.7,6.5]
["IA201334","IA","2013-10-20",{"$f":"COUNTIF(Calculations!$E$56:$E$98,\"<=\"&DATE(2006,MONTH(C4943),DAY(C4943)))","v":34},5.4,4.8,5.7,5.0999999999999996,4.9000000000000004,5.3,5.7,5.2,6.2,6.8]
["IA201335","IA","2013-10-27",{"$f":"COUNTIF(Calculations!$E$56:$E$98,\"<=\"&DATE(2006,MONTH(C4944),DAY(C4944)))","v":35},6,5.3,6.6,6.2,5,5.5,5.8,6.2,6,6.3]
["IA201336","IA","2013-11-03",{"$f":"COUNTIF(Calculations!$E$56:$E$98,\"<=\"&DATE(2006,MONTH(C4945),DAY(C4945)))","v":36},4.7,5,5.8,5.0999999999999996,4.5999999999999996,4.2,4.8,4.2,3.8,4.4000000000000004]
["IA201337","IA","2013-11-10",{"$f":"COUNTIF(Calculations!$E$56:$E$98,\"<=\"&DATE(2006,MONTH(C4946),DAY(C4946)))","v":37},4.7,4.5,5.6,4.9000000000000004,4.5999999999999996,3.9,5.2,4.3,4.5999999999999996,5.0999999999999996]
["IA201338","IA","2013-11-17",{"$f":"COUNTIF(Calculations!$E$56:$E$98,\"<=\"&DATE(2006,MONTH(C4947),DAY(C4947)))","v":38},5.2,5.5,5.6,4.3,5.6,4.9000000000000004,4.8,5.8,5.3,5.3]
["IA201339","IA","2013-11-24",{"$f":"COUNTIF(Calculations!$E$56:$E$98,\"<=\"&DATE(2006,MONTH(C4948),DAY(C4948)))","v":39},4.5,5.4,4.9000000000000004,4.5,4.3,4.2,4.0999999999999996,4.3,4,3.8]
["MO20146","MO","2014-04-06",{"$f":"COUNTIF(Calculations!$E$56:$E$98,\"<=\"&DATE(2006,MONTH(C4949),DAY(C4949)))","v":6},3,6,2,3,3,2,2,6,4,3]
["MO20147","MO","2014-04-13",{"$f":"COUNTIF(Calculations!$E$56:$E$98,\"<=\"&DATE(2006,MONTH(C4950),DAY(C4950)))","v":7},4.2,5.3,5,4.4000000000000004,5.3,3.3,1.9,6.1,5.2,2.5]
[{"$f":"B4951&YEAR(C4951)&D4951","v":"MO20148"},"MO","2014-04-20",{"$f":"COUNTIF(Calculations!$E$56:$E$98,\"<=\"&DATE(2006,MONTH(C4951),DAY(C4951)))","v":8},4.3,4.5999999999999996,4,5.5,3.6,4.3,4.8,6.3,5,2.6]
["MO20149","MO","2014-04-27",{"$f":"COUNTIF(Calculations!$E$56:$E$98,\"<=\"&DATE(2006,MONTH(C4952),DAY(C4952)))","v":9},4,3,3.1,4,3.1,4.4000000000000004,4.3,5.4,5.3,5]
["MO201410","MO","2014-05-04",{"$f":"COUNTIF(Calculations!$E$56:$E$98,\"<=\"&DATE(2006,MONTH(C4953),DAY(C4953)))","v":10},3.1,2.2999999999999998,2.8,2.1,2.8,3.6,3.8,6.6,4.8,2.4]
["MO201411","MO","2014-05-11",{"$f":"COUNTIF(Calculations!$E$56:$E$98,\"<=\"&DATE(2006,MONTH(C4954),DAY(C4954)))","v":11},5.6,5.6,6.2,5.4,5.8,5.9,5.7,6.1,5.5,4.5]
["MO201412","MO","2014-05-18",{"$f":"COUNTIF(Calculations!$E$56:$E$98,\"<=\"&DATE(2006,MONTH(C4955),DAY(C4955)))","v":12},3.5,3.4,3.8,2.9,4.8,4.8,2.2000000000000002,5.9,4.7,1]
["MO201413","MO","2014-05-25",{"$f":"COUNTIF(Calculations!$E$56:$E$98,\"<=\"&DATE(2006,MONTH(C4956),DAY(C4956)))","v":13},5.3,3.9,5.5,5,5.5,5.4,5.3,5.7,5.8,6.2]
["MO201414","MO","2014-06-01",{"$f":"COUNTIF(Calculations!$E$56:$E$98,\"<=\"&DATE(2006,MONTH(C4957),DAY(C4957)))","v":14},5.0999999999999996,5.7,6.4,5.2,4.3,4.9000000000000004,5.2,5.6,5.4,3.9]
["MO201415","MO","2014-06-08",{"$f":"COUNTIF(Calculations!$E$56:$E$98,\"<=\"&DATE(2006,MONTH(C4958),DAY(C4958)))","v":15},2.2999999999999998,1.1000000000000001,2.5,2.1,1.8,2,3,2.2000000000000002,3.7,3.8]
["MO201416","MO","2014-06-15",{"$f":"COUNTIF(Calculations!$E$56:$E$98,\"<=\"&DATE(2006,MONTH(C4959),DAY(C4959)))","v":16},2.4,2.4,2.4,3.2,1.6,1.4,2.2999999999999998,2.8,4.2,2.5]
["MO201417","MO","2014-06-22",{"$f":"COUNTIF(Calculations!$E$56:$E$98,\"<=\"&DATE(2006,MONTH(C4960),DAY(C4960)))","v":17},4.9000000000000004,3.7,4.7,3.4,4.5999999999999996,5.0999999999999996,5.7,6.1,6.1,6.3]
["MO201418","MO","2014-06-29",{"$f":"COUNTIF(Calculations!$E$56:$E$98,\"<=\"&DATE(2006,MONTH(C4961),DAY(C4961)))","v":18},4.0999999999999996,3.7,4.7,3.8,4.5,4.4000000000000004,4.3,5.8,4.5999999999999996,2.8]
["MO201419","MO","2014-07-06",{"$f":"COUNTIF(Calculations!$E$56:$E$98,\"<=\"&DATE(2006,MONTH(C4962),DAY(C4962)))","v":19},4.7,4,3.9,4.4000000000000004,4.7,5.3,6.1,6.2,5.2,4.5999999999999996]
["MO201420","MO","2014-07-13",{"$f":"COUNTIF(Calculations!$E$56:$E$98,\"<=\"&DATE(2006,MONTH(C4963),DAY(C4963)))","v":20},4.8,3.5,3.4,4.5,4.5,5.7,5.8,6,5.6,5.7]
["MO201421","MO","2014-07-20",{"$f":"COUNTIF(Calculations!$E$56:$E$98,\"<=\"&DATE(2006,MONTH(C4964),DAY(C4964)))","v":21},6.1,6.4,6.3,6.1,6.5,6.3,6,6.6,6.1,5.3]
["MO201422","MO","2014-07-27",{"$f":"COUNTIF(Calculations!$E$56:$E$98,\"<=\"&DATE(2006,MONTH(C4965),DAY(C4965)))","v":22},6.4,6.9,6.7,5.7,6.9,6.8,6.7,7,6.3,5.0999999999999996]
["MO201423","MO","2014-08-03",{"$f":"COUNTIF(Calculations!$E$56:$E$98,\"<=\"&DATE(2006,MONTH(C4966),DAY(C4966)))","v":23},6.7,6.4,6.7,6.8,6.8,6.9,6.6,6.1,6.9,7]
["MO201424","MO","2014-08-10",{"$f":"COUNTIF(Calculations!$E$56:$E$98,\"<=\"&DATE(2006,MONTH(C4967),DAY(C4967)))","v":24},3.5,3.3,2.8,3.4,3,3.4,3.8,6.3,6,3.1]
["MO201425","MO","2014-08-17",{"$f":"COUNTIF(Calculations!$E$56:$E$98,\"<=\"&DATE(2006,MONTH(C4968),DAY(C4968)))","v":25},5,4.5999999999999996,3.9,4.5,6.3,4.9000000000000004,4.8,7,6.6,4.5999999999999996]
["MO201426","MO","2014-08-24",{"$f":"COUNTIF(Calculations!$E$56:$E$98,\"<=\"&DATE(2006,MONTH(C4969),DAY(C4969)))","v":26},5.8,4.8,4.3,5,6.7,6.4,5.4,7,7,6.8]
["MO201427","MO","2014-08-31",{"$f":"COUNTIF(Calculations!$E$56:$E$98,\"<=\"&DATE(2006,MONTH(C4970),DAY(C4970)))","v":27},5,3.3,4.3,5.2,6.2,5.6,5,6.6,6,5.2]
["MO201428","MO","2014-09-07",{"$f":"COUNTIF(Calculations!$E$56:$E$98,\"<=\"&DATE(2006,MONTH(C4971),DAY(C4971)))","v":28},4.9000000000000004,4.8,5.0999999999999996,5.4,3.9,4.4000000000000004,2.6,4.8,6.8,6.1]
["MO201429","MO","2014-09-14",{"$f":"COUNTIF(Calculations!$E$56:$E$98,\"<=\"&DATE(2006,MONTH(C4972),DAY(C4972)))","v":29},6.3,2.8,1.8,2.8,4.8,4.3,3.1,6,6.4,3.7]
["MO201430","MO","2014-09-21",{"$f":"COUNTIF(Calculations!$E$56:$E$98,\"<=\"&DATE(2006,MONTH(C4973),DAY(C4973)))","v":30},5.0999999999999996,5.0999999999999996,5.7,5.7,3.5,4.7,4.8,5.0999999999999996,6.3,5]
["MO201431","MO","2014-09-28",{"$f":"COUNTIF(Calculations!$E$56:$E$98,\"<=\"&DATE(2006,MONTH(C4974),DAY(C4974)))","v":31},6.6,5.9,6.6,6.9,6.4,6.6,7,7,6.7,7]
["MO201432","MO","2014-10-05",{"$f":"COUNTIF(Calculations!$E$56:$E$98,\"<=\"&DATE(2006,MONTH(C4975),DAY(C4975)))","v":32},3.9,3,2.9,2.7,3.6,3.7,3.7,5.6,6,5.8]
["MO201433","MO","2014-10-12",{"$f":"COUNTIF(Calculations!$E$56:$E$98,\"<=\"&DATE(2006,MONTH(C4976),DAY(C4976)))","v":33},2.8,3.4,3.2,2.6,2.7,2.2999999999999998,1,4.2,2.5,2.5]
["MO201434","MO","2014-10-19",{"$f":"COUNTIF(Calculations!$E$56:$E$98,\"<=\"&DATE(2006,MONTH(C4977),DAY(C4977)))","v":34},3.5,3.9,3.2,2.6,3.8,3.5,2.2000000000000002,5.9,4.8,3.3]
["MO201435","MO","2014-10-26",{"$f":"COUNTIF(Calculations!$E$56:$E$98,\"<=\"&DATE(2006,MONTH(C4978),DAY(C4978)))","v":35},6,4.8,5.9,5.8,5.9,6.6,6.2,6.3,6.9,6.3]
["MO201436","MO","2014-11-02",{"$f":"COUNTIF(Calculations!$E$56:$E$98,\"<=\"&DATE(2006,MONTH(C4979),DAY(C4979)))","v":36},6,6.3,6.2,6.6,5.8,6.4,4.9000000000000004,6.9,6.5,4.8]
["MO201437","MO","2014-11-09",{"$f":"COUNTIF(Calculations!$E$56:$E$98,\"<=\"&DATE(2006,MONTH(C4980),DAY(C4980)))","v":37},5.7,6.7,6.6,6.3,5.7,6.2,4,5.4,5.4,3.8]
["MO201438","MO","2014-11-16",{"$f":"COUNTIF(Calculations!$E$56:$E$98,\"<=\"&DATE(2006,MONTH(C4981),DAY(C4981)))","v":38},5.7,6,6.1,6.1,5.7,5.9,5.6,6,5.5,4.5999999999999996]
["MO201439","MO","2014-11-23",{"$f":"COUNTIF(Calculations!$E$56:$E$98,\"<=\"&DATE(2006,MONTH(C4982),DAY(C4982)))","v":39},4.9000000000000004,4.7,5.2,5.9,4.3,5.7,4.4000000000000004,4.8,6,3.8]
["IA20146","IA","2014-04-06",{"$f":"COUNTIF(Calculations!$E$56:$E$98,\"<=\"&DATE(2006,MONTH(C4983),DAY(C4983)))","v":6},1.7,1,0.2,0.3,3.2,0.8,1.6,3.9,4,2.4]
["IA20147","IA","2014-04-13",{"$f":"COUNTIF(Calculations!$E$56:$E$98,\"<=\"&DATE(2006,MONTH(C4984),DAY(C4984)))","v":7},3.9,3,1.4,2.2999999999999998,4.9000000000000004,3.8,4.8,5.7,6,5.6]
["IA20148","IA","2014-04-20",{"$f":"COUNTIF(Calculations!$E$56:$E$98,\"<=\"&DATE(2006,MONTH(C4985),DAY(C4985)))","v":8},3.2,3.3,1.9,2.2999999999999998,3.9,2.9,4,3.4,3.6,4.2]
["IA20149","IA","2014-04-27",{"$f":"COUNTIF(Calculations!$E$56:$E$98,\"<=\"&DATE(2006,MONTH(C4986),DAY(C4986)))","v":9},3,4,1.5,2,3.6,3.2,3,3.2,2.9,3.5]
["IA201410","IA","2014-05-05",{"$f":"COUNTIF(Calculations!$E$56:$E$98,\"<=\"&DATE(2006,MONTH(C4987),DAY(C4987)))","v":10},5.0999999999999996,5.6,5.5,6,4.7,4.5999999999999996,4.9000000000000004,4.2,3.9,5.9]
["IA201411","IA","2014-05-11",{"$f":"COUNTIF(Calculations!$E$56:$E$98,\"<=\"&DATE(2006,MONTH(C4988),DAY(C4988)))","v":11},4.9000000000000004,4.5,4.3,4.9000000000000004,4.5,4.9000000000000004,5.3,5.4,5.7,5.5]
["IA201412","IA","2014-05-18",{"$f":"COUNTIF(Calculations!$E$56:$E$98,\"<=\"&DATE(2006,MONTH(C4989),DAY(C4989)))","v":12},2.6,4.3,2.2000000000000002,1.6,3.7,2.5,1.9,2,1.8,2.1]
["IA201413","IA","2014-05-25",{"$f":"COUNTIF(Calculations!$E$56:$E$98,\"<=\"&DATE(2006,MONTH(C4990),DAY(C4990)))","v":13},5.3,5.7,6.3,5.9,5.3,4.9000000000000004,4.8,4.4000000000000004,3.8,5.3]
["IA201414","IA","2014-06-01",{"$f":"COUNTIF(Calculations!$E$56:$E$98,\"<=\"&DATE(2006,MONTH(C4991),DAY(C4991)))","v":14},5.0999999999999996,5.6,5.5,6,4.7,4.5999999999999996,4.9000000000000004,4.2,3.9,5.9]
["IA201415","IA","2014-06-08",{"$f":"COUNTIF(Calculations!$E$56:$E$98,\"<=\"&DATE(2006,MONTH(C4992),DAY(C4992)))","v":15},4,3.7,5.6,5.9,2.7,4,4.7,1.8,2,4]
["IA201416","IA","2014-06-15",{"$f":"COUNTIF(Calculations!$E$56:$E$98,\"<=\"&DATE(2006,MONTH(C4993),DAY(C4993)))","v":16},5.4,5,6,5.8,5.8,5.8,5.4,4.7,3.8,4.3]
["IA201417","IA","2014-06-22",{"$f":"COUNTIF(Calculations!$E$56:$E$98,\"<=\"&DATE(2006,MONTH(C4994),DAY(C4994)))","v":17},2,1.4,1,1,1.8,2,2.7,3.3,2.9,3.2]
["IA201418","IA","2014-06-29",{"$f":"COUNTIF(Calculations!$E$56:$E$98,\"<=\"&DATE(2006,MONTH(C4995),DAY(C4995)))","v":18},2.2000000000000002,2.6,0.8,2.4,1.6,1.7,3.1,3,2.7,3.4]
["IA201419","IA","2014-07-06",{"$f":"COUNTIF(Calculations!$E$56:$E$98,\"<=\"&DATE(2006,MONTH(C4996),DAY(C4996)))","v":19},2.6,3.9,1.8,2.8,2.7,1.4,2.2999999999999998,3.5,2.9,2.7]
["IA201420","IA","2014-07-13",{"$f":"COUNTIF(Calculations!$E$56:$E$98,\"<=\"&DATE(2006,MONTH(C4997),DAY(C4997)))","v":20},4.2,4.5999999999999996,4.9000000000000004,4.4000000000000004,3.5,3.6,3.9,4,4.4000000000000004,4.8]
["IA201421","IA","2014-07-21",{"$f":"COUNTIF(Calculations!$E$56:$E$98,\"<=\"&DATE(2006,MONTH(C4998),DAY(C4998)))","v":21},6.3,6.5,6.1,6.3,6.7,6.3,5.5,6.2,5.8,6.5]
["IA201422","IA","2014-07-28",{"$f":"COUNTIF(Calculations!$E$56:$E$98,\"<=\"&DATE(2006,MONTH(C4999),DAY(C4999)))","v":22},5.8,5.5,5.2,5.7,6.9,5.4,5.5,6.7,6.7,4.8]
["IA201423","IA","2014-08-03",{"$f":"COUNTIF(Calculations!$E$56:$E$98,\"<=\"&DATE(2006,MONTH(C5000),DAY(C5000)))","v":23},6.5,6.6,6.5,6.5,6.9,6.4,6.5,6,6.8,6.4]
["IA201424","IA","2014-08-10",{"$f":"COUNTIF(Calculations!$E$56:$E$98,\"<=\"&DATE(2006,MONTH(C5001),DAY(C5001)))","v":24},4.5999999999999996,4.0999999999999996,5.8,6.5,2.5,4.4000000000000004,6.2,3.6,4.2,4.8]
["IA201425","IA","2014-08-17",{"$f":"COUNTIF(Calculations!$E$56:$E$98,\"<=\"&DATE(2006,MONTH(C5002),DAY(C5002)))","v":25},5.6,4.9000000000000004,6.4,6.8,4.5999999999999996,5.5,6.7,4.7,4.9000000000000004,6.1]
["IA201426","IA","2014-08-24",{"$f":"COUNTIF(Calculations!$E$56:$E$98,\"<=\"&DATE(2006,MONTH(C5003),DAY(C5003)))","v":26},4.2,4.3,4.5,4.7,3.2,4.7,5.2,3.9,2.8,4.4000000000000004]
["IA201427","IA","2014-08-31",{"$f":"COUNTIF(Calculations!$E$56:$E$98,\"<=\"&DATE(2006,MONTH(C5004),DAY(C5004)))","v":27},2.2999999999999998,2.9,2.6,2.7,1.3,1.7,4.0999999999999996,1,1.4,2.8]
["IA201428","IA","2014-09-07",{"$f":"COUNTIF(Calculations!$E$56:$E$98,\"<=\"&DATE(2006,MONTH(C5005),DAY(C5005)))","v":28},3.7,4.2,4.3,4,2.8,2.9,4.3,3.2,3.1,4.4000000000000004]
["IA201429","IA","2014-09-14",{"$f":"COUNTIF(Calculations!$E$56:$E$98,\"<=\"&DATE(2006,MONTH(C5006),DAY(C5006)))","v":29},2.6,3.3,3.5,3.3,1.5,2.2999999999999998,2.9,1.5,1.3,2.8]
["IA201430","IA","2014-09-21",{"$f":"COUNTIF(Calculations!$E$56:$E$98,\"<=\"&DATE(2006,MONTH(C5007),DAY(C5007)))","v":30},4.7,4.5,4.4000000000000004,5,4.7,4.8,5.4,4,4.5999999999999996,4.7]
["IA201431","IA","2014-09-28",{"$f":"COUNTIF(Calculations!$E$56:$E$98,\"<=\"&DATE(2006,MONTH(C5008),DAY(C5008)))","v":31},5.3,4.5999999999999996,5.0999999999999996,5.5,5.3,4.7,6.3,4.9000000000000004,5.0999999999999996,6.5]
["IA201432","IA","2014-10-05",{"$f":"COUNTIF(Calculations!$E$56:$E$98,\"<=\"&DATE(2006,MONTH(C5009),DAY(C5009)))","v":32},3.3,2.8,3.2,4.4000000000000004,2.4,3.2,5,2.4,3,4]
["IA201433","IA","2014-10-12",{"$f":"COUNTIF(Calculations!$E$56:$E$98,\"<=\"&DATE(2006,MONTH(C5010),DAY(C5010)))","v":33},5.0999999999999996,5.0999999999999996,5.5,5.7,4.5999999999999996,5,5.6,4.8,4.5,4.7]
["IA201434","IA","2014-10-19",{"$f":"COUNTIF(Calculations!$E$56:$E$98,\"<=\"&DATE(2006,MONTH(C5011),DAY(C5011)))","v":34},4.2,6,5.0999999999999996,3.5,4.7,3.6,2.9,4.0999999999999996,3.2,2.9]
["IA201435","IA","2014-10-26",{"$f":"COUNTIF(Calculations!$E$56:$E$98,\"<=\"&DATE(2006,MONTH(C5012),DAY(C5012)))","v":35},5.0999999999999996,5.7,5.5,4.5999999999999996,5.2,4.5999999999999996,5.2,4.5,5,5.8]
["IA201436","IA","2014-11-02",{"$f":"COUNTIF(Calculations!$E$56:$E$98,\"<=\"&DATE(2006,MONTH(C5013),DAY(C5013)))","v":36},6.4,6.7,6.3,6.2,6.7,6.1,6.2,6.7,6.5,6.7]
["IA201437","IA","2014-11-09",{"$f":"COUNTIF(Calculations!$E$56:$E$98,\"<=\"&DATE(2006,MONTH(C5014),DAY(C5014)))","v":37},6.6,6.6,6.6,6.4,6.9,6.6,6.1,6.7,6.8,6.7]
[{"$f":"B5015&YEAR(C5015)&D5015","v":"IA201438"},"IA","2014-11-16",{"$f":"COUNTIF(Calculations!$E$56:$E$98,\"<=\"&DATE(2006,MONTH(C5015),DAY(C5015)))","v":38},5,4.9000000000000004,4.5999999999999996,5.0999999999999996,4.5999999999999996,4.5999999999999996,5.5,5.5,5.5,6.1]
["IA201439","IA","2014-11-23",{"$f":"COUNTIF(Calculations!$E$56:$E$98,\"<=\"&DATE(2006,MONTH(C5016),DAY(C5016)))","v":39},3.7,3.1,3.1,3.8,4.3,3.5,4.2,3.8,4,4.7]
["IL20146","IL","2014-04-06",{"$f":"COUNTIF(Calculations!$E$56:$E$98,\"<=\"&DATE(2006,MONTH(C5017),DAY(C5017)))","v":6},1,2,0,1,1,1,2,2,3,0]
["IL20147","IL","2014-04-13",{"$f":"COUNTIF(Calculations!$E$56:$E$98,\"<=\"&DATE(2006,MONTH(C5018),DAY(C5018)))","v":7},2.7,3.6,3.6,4.7,2.5,2.4,3.7,1.1000000000000001,1.6,0.8]
["IL20148","IL","2014-04-20",{"$f":"COUNTIF(Calculations!$E$56:$E$98,\"<=\"&DATE(2006,MONTH(C5019),DAY(C5019)))","v":8},3.7,4.5,3.7,4.4000000000000004,4,3.6,4.8,2.4,3.7,1.1000000000000001]
["IL20149","IL","2014-04-27",{"$f":"COUNTIF(Calculations!$E$56:$E$98,\"<=\"&DATE(2006,MONTH(C5020),DAY(C5020)))","v":9},5,4.8,4.7,5.2,5.6,5.5,5.2,4.9000000000000004,4.2,4.5999999999999996]
["IL201410","IL","2014-05-04",{"$f":"COUNTIF(Calculations!$E$56:$E$98,\"<=\"&DATE(2006,MONTH(C5021),DAY(C5021)))","v":10},1.7,0.9,1.5,1.3,3.1,2.7,1.6,1.2,2.4,0.4]
["IL201411","IL","2014-05-11",{"$f":"COUNTIF(Calculations!$E$56:$E$98,\"<=\"&DATE(2006,MONTH(C5022),DAY(C5022)))","v":11},5,5.7,5.7,5.2,5.5,4.5999999999999996,4.7,4.3,4.4000000000000004,4.0999999999999996]
["IL201412","IL","2014-05-18",{"$f":"COUNTIF(Calculations!$E$56:$E$98,\"<=\"&DATE(2006,MONTH(C5023),DAY(C5023)))","v":12},1.4,2.2999999999999998,1.6,1.7,1.4,0.5,1.3,0.6,2,1.4]
["IL201413","IL","2014-05-25",{"$f":"COUNTIF(Calculations!$E$56:$E$98,\"<=\"&DATE(2006,MONTH(C5024),DAY(C5024)))","v":13},5,5.0999999999999996,5.2,6.1,5.8,3.5,4.7,4.5,5.7,4.9000000000000004]
["IL201414","IL","2014-06-01",{"$f":"COUNTIF(Calculations!$E$56:$E$98,\"<=\"&DATE(2006,MONTH(C5025),DAY(C5025)))","v":14},5.4,5,5.4,6.3,5.8,4.3,4.9000000000000004,6.1,5.6,5.6]
["IL201415","IL","2014-06-08",{"$f":"COUNTIF(Calculations!$E$56:$E$98,\"<=\"&DATE(2006,MONTH(C5026),DAY(C5026)))","v":15},3.7,4.2,5.3,4,3.9,3.9,3.4,2.8,3.6,1.5]
["IL201416","IL","2014-06-15",{"$f":"COUNTIF(Calculations!$E$56:$E$98,\"<=\"&DATE(2006,MONTH(C5027),DAY(C5027)))","v":16},3.1,3.7,4.9000000000000004,2,4,3.1,2.2000000000000002,2.8,3,1.8]
["IL201417","IL","2014-06-22",{"$f":"COUNTIF(Calculations!$E$56:$E$98,\"<=\"&DATE(2006,MONTH(C5028),DAY(C5028)))","v":17},3.8,2.2000000000000002,3,3,3.1,4,3.5,5.3,4.7,5.9]
["IL201418","IL","2014-06-29",{"$f":"COUNTIF(Calculations!$E$56:$E$98,\"<=\"&DATE(2006,MONTH(C5029),DAY(C5029)))","v":18},4,3.9,4.5,3.2,3.5,4.7,3.2,5,4.2,4.2]
["IL201419","IL","2014-07-06",{"$f":"COUNTIF(Calculations!$E$56:$E$98,\"<=\"&DATE(2006,MONTH(C5030),DAY(C5030)))","v":19},4.5999999999999996,2.9,4.0999999999999996,4.5,3.9,4.8,4.9000000000000004,6.2,6,4.7]
["IL201420","IL","2014-07-13",{"$f":"COUNTIF(Calculations!$E$56:$E$98,\"<=\"&DATE(2006,MONTH(C5031),DAY(C5031)))","v":20},4.9000000000000004,4.5,4.3,4.5,3.7,4.5,5.2,5.8,5.8,6.7]
["IL201421","IL","2014-07-20",{"$f":"COUNTIF(Calculations!$E$56:$E$98,\"<=\"&DATE(2006,MONTH(C5032),DAY(C5032)))","v":21},6,6.1,5.9,6,5.3,5.7,6.4,6.1,5.4,6.8]
["IL201422","IL","2014-07-27",{"$f":"COUNTIF(Calculations!$E$56:$E$98,\"<=\"&DATE(2006,MONTH(C5033),DAY(C5033)))","v":22},6,5.9,6.7,5.5,5.3,6.3,6.2,5.9,6.2,6.6]
["IL201423","IL","2014-08-03",{"$f":"COUNTIF(Calculations!$E$56:$E$98,\"<=\"&DATE(2006,MONTH(C5034),DAY(C5034)))","v":23},6.4,6.7,6.1,6,6.1,6.6,6.2,6.6,6.6,6.8]
["IL201424","IL","2014-08-10",{"$f":"COUNTIF(Calculations!$E$56:$E$98,\"<=\"&DATE(2006,MONTH(C5035),DAY(C5035)))","v":24},4.9000000000000004,6.6,5.9,2.6,3.8,6.3,4.4000000000000004,4.4000000000000004,4.3,5]
["IL201425","IL","2014-08-17",{"$f":"COUNTIF(Calculations!$E$56:$E$98,\"<=\"&DATE(2006,MONTH(C5036),DAY(C5036)))","v":25},5.3,6.9,5.8,3.4,5.8,6.1,3.8,4.5999999999999996,5.0999999999999996,5.9]
["IL201426","IL","2014-08-24",{"$f":"COUNTIF(Calculations!$E$56:$E$98,\"<=\"&DATE(2006,MONTH(C5037),DAY(C5037)))","v":26},4.4000000000000004,5.5,4.5,1.9,3.3,5,4.7,5.5,5,2.8]
["IL201427","IL","2014-08-31",{"$f":"COUNTIF(Calculations!$E$56:$E$98,\"<=\"&DATE(2006,MONTH(C5038),DAY(C5038)))","v":27},4,3.8,5.2,3.8,4,2.8,4.3,4.4000000000000004,4.2,3.9]
["IL201428","IL","2014-09-07",{"$f":"COUNTIF(Calculations!$E$56:$E$98,\"<=\"&DATE(2006,MONTH(C5039),DAY(C5039)))","v":28},4.4000000000000004,3.2,4.8,4.9000000000000004,3.8,4.5999999999999996,4.2,5.3,5.5,3.3]
["IL201429","IL","2014-09-14",{"$f":"COUNTIF(Calculations!$E$56:$E$98,\"<=\"&DATE(2006,MONTH(C5040),DAY(C5040)))","v":29},3.2,3.5,4.0999999999999996,2.1,1.7,3,2.6,4.2,4.9000000000000004,2.9]
["IL201430","IL","2014-09-21",{"$f":"COUNTIF(Calculations!$E$56:$E$98,\"<=\"&DATE(2006,MONTH(C5041),DAY(C5041)))","v":30},4.8,5.6,5.5,4,3.6,4.7,4.0999999999999996,5.0999999999999996,6,5.8]
["IL201431","IL","2014-09-27",{"$f":"COUNTIF(Calculations!$E$56:$E$98,\"<=\"&DATE(2006,MONTH(C5042),DAY(C5042)))","v":31},6.6,6.7,6.7,6.5,6.2,6.5,6.6,6.7,7,6.8]
["IL201432","IL","2014-10-05",{"$f":"COUNTIF(Calculations!$E$56:$E$98,\"<=\"&DATE(2006,MONTH(C5043),DAY(C5043)))","v":32},4.3,5,4.8,3.9,3,4.2,3.5,4.2,5.4,5.9]
["IL201433","IL","2014-10-12",{"$f":"COUNTIF(Calculations!$E$56:$E$98,\"<=\"&DATE(2006,MONTH(C5044),DAY(C5044)))","v":33},4.0999999999999996,6.4,6.1,4.2,2.5,3.5,3.1,3.7,4.2,3.4]
["IL201434","IL","2014-10-19",{"$f":"COUNTIF(Calculations!$E$56:$E$98,\"<=\"&DATE(2006,MONTH(C5045),DAY(C5045)))","v":34},2.2999999999999998,3.2,2.4,1.8,2.4,2.5,1.7,2.2000000000000002,2.1,2.1]
["IL201435","IL","2014-10-26",{"$f":"COUNTIF(Calculations!$E$56:$E$98,\"<=\"&DATE(2006,MONTH(C5046),DAY(C5046)))","v":35},6.2,5.5,6.5,6.2,6.5,6,5.8,6.7,6.9,6.5]
["IL201436","IL","2014-11-02",{"$f":"COUNTIF(Calculations!$E$56:$E$98,\"<=\"&DATE(2006,MONTH(C5047),DAY(C5047)))","v":36},6,6.9,6.8,6.6,5.8,5.7,5.3,5.5,5.7,5.7]
["IL201437","IL","2014-11-09",{"$f":"COUNTIF(Calculations!$E$56:$E$98,\"<=\"&DATE(2006,MONTH(C5048),DAY(C5048)))","v":37},5.8,6.1,7,6.3,6.6,5.8,5.4,4.8,4.5999999999999996,5.2]
["IL201438","IL","2014-11-16",{"$f":"COUNTIF(Calculations!$E$56:$E$98,\"<=\"&DATE(2006,MONTH(C5049),DAY(C5049)))","v":38},5.9,6.4,6.7,6.2,5.3,5.8,5.9,5.8,5.9,5.4]
["IL201439","IL","2014-11-23",{"$f":"COUNTIF(Calculations!$E$56:$E$98,\"<=\"&DATE(2006,MONTH(C5050),DAY(C5050)))","v":39},4.5999999999999996,5.2,6.5,4.5,3.4,4,4.5,4.7,4,4.5999999999999996]
["KS20142","KS","2014-03-09",{"$f":"COUNTIF(Calculations!$E$56:$E$98,\"<=\"&DATE(2006,MONTH(C5051),DAY(C5051)))","v":2},2.9,3.9,3.7,1.2,3.2,1.9,1.4,3.5,2.8,3.1]
["KS20143","KS","2014-03-16",{"$f":"COUNTIF(Calculations!$E$56:$E$98,\"<=\"&DATE(2006,MONTH(C5052),DAY(C5052)))","v":3},5.7,5.2,5.7,4.3,6.3,5.8,5.8,5.7,6,5.4]
["KS20144","KS","2014-03-23",{"$f":"COUNTIF(Calculations!$E$56:$E$98,\"<=\"&DATE(2006,MONTH(C5053),DAY(C5053)))","v":4},5.9,4.7,6,5.7,5.9,6.7,6.6,5.8,6.3,5.7]
["KS20145","KS","2014-03-30",{"$f":"COUNTIF(Calculations!$E$56:$E$98,\"<=\"&DATE(2006,MONTH(C5054),DAY(C5054)))","v":5},6.2,5.6,6.1,5.5,6,6.2,5.5,6.1,6.4,5.4]
["KS20146","KS","2014-04-06",{"$f":"COUNTIF(Calculations!$E$56:$E$98,\"<=\"&DATE(2006,MONTH(C5055),DAY(C5055)))","v":6},5.9,5.2,5.0999999999999996,3.9,5.4,5.9,4.5,6.1,6.4,6]
["KS20147","KS","2014-04-13",{"$f":"COUNTIF(Calculations!$E$56:$E$98,\"<=\"&DATE(2006,MONTH(C5056),DAY(C5056)))","v":7},6,5.5,6,5.2,6.1,6.2,5,6,6.5,6.4]
["KS20148","KS","2014-04-20",{"$f":"COUNTIF(Calculations!$E$56:$E$98,\"<=\"&DATE(2006,MONTH(C5057),DAY(C5057)))","v":8},6,5.5,6,5.2,6.1,6.2,5,6,6.5,6.4]
["KS20149","KS","2014-04-27",{"$f":"COUNTIF(Calculations!$E$56:$E$98,\"<=\"&DATE(2006,MONTH(C5058),DAY(C5058)))","v":9},5.4,5.4,4.7,4.3,5.4,5.9,3.7,5.7,6.5,5.4]
["KS201410","KS","2014-05-04",{"$f":"COUNTIF(Calculations!$E$56:$E$98,\"<=\"&DATE(2006,MONTH(C5059),DAY(C5059)))","v":10},5.4,5.3,5.4,2.8,5.2,6.2,4.0999999999999996,5.7,6.4,5.7]
["KS201411","KS","2014-05-11",{"$f":"COUNTIF(Calculations!$E$56:$E$98,\"<=\"&DATE(2006,MONTH(C5060),DAY(C5060)))","v":11},6.2,6.2,6.3,5.8,6.3,6.4,5.6,6.3,6.4,6]
["KS201412","KS","2014-05-17",{"$f":"COUNTIF(Calculations!$E$56:$E$98,\"<=\"&DATE(2006,MONTH(C5061),DAY(C5061)))","v":12},5.7,5.9,6.1,3.9,6.5,5.4,5.2,6.4,5.3,5]
["KS201413","KS","2014-05-25",{"$f":"COUNTIF(Calculations!$E$56:$E$98,\"<=\"&DATE(2006,MONTH(C5062),DAY(C5062)))","v":13},5.3,5.2,5,4.3,5.6,5.5,4.5999999999999996,5.8,5.0999999999999996,5.7]
["KS201414","KS","2014-06-01",{"$f":"COUNTIF(Calculations!$E$56:$E$98,\"<=\"&DATE(2006,MONTH(C5063),DAY(C5063)))","v":14},5.8,5.5,5.8,5.0999999999999996,6.1,6.2,4.5,6.3,6.1,4.4000000000000004]
["KS201415","KS","2014-06-08",{"$f":"COUNTIF(Calculations!$E$56:$E$98,\"<=\"&DATE(2006,MONTH(C5064),DAY(C5064)))","v":15},3.7,4.5999999999999996,2.9,2.5,4.9000000000000004,3,2.6,4.5999999999999996,4,1.6]
["KS201416","KS","2014-06-15",{"$f":"COUNTIF(Calculations!$E$56:$E$98,\"<=\"&DATE(2006,MONTH(C5065),DAY(C5065)))","v":16},3.1,3.4,2.2000000000000002,2.4,4.0999999999999996,2.2000000000000002,1.8,4.5999999999999996,3.2,2]
["KS201417","KS","2014-06-22",{"$f":"COUNTIF(Calculations!$E$56:$E$98,\"<=\"&DATE(2006,MONTH(C5066),DAY(C5066)))","v":17},5.3,5,5.5,4,5.6,5,4.0999999999999996,5.8,5.3,5.9]
["KS201418","KS","2014-06-29",{"$f":"COUNTIF(Calculations!$E$56:$E$98,\"<=\"&DATE(2006,MONTH(C5067),DAY(C5067)))","v":18},3.1,3.3,3.3,3.9,2.2000000000000002,2.8,4,3.9,1.5,4.2]
["KS201419","KS","2014-07-06",{"$f":"COUNTIF(Calculations!$E$56:$E$98,\"<=\"&DATE(2006,MONTH(C5068),DAY(C5068)))","v":19},5.7,6.1,6,5.7,5.8,5.6,5.8,6,4.7,5.6]
["KS201420","KS","2014-07-13",{"$f":"COUNTIF(Calculations!$E$56:$E$98,\"<=\"&DATE(2006,MONTH(C5069),DAY(C5069)))","v":20},6,6.3,6.1,4.9000000000000004,6.5,6.1,5.7,6.9,4.8,5.8]
["KS201421","KS","2014-07-20",{"$f":"COUNTIF(Calculations!$E$56:$E$98,\"<=\"&DATE(2006,MONTH(C5070),DAY(C5070)))","v":21},5.4,4.9000000000000004,6.3,6.1,5.8,5.9,6.6,5.3,3.7,6.3]
["KS201421","KS","2014-07-21",{"$f":"COUNTIF(Calculations!$E$56:$E$98,\"<=\"&DATE(2006,MONTH(C5071),DAY(C5071)))","v":21},6.7,6.4,6.7,6.8,6.7,6.8,6.8,6.5,6.8,6.5]
["KS201423","KS","2014-08-03",{"$f":"COUNTIF(Calculations!$E$56:$E$98,\"<=\"&DATE(2006,MONTH(C5072),DAY(C5072)))","v":23},6,6.2,6.6,6.3,6,6.7,6.9,4.8,5.6,6.2]
["KS201424","KS","2014-08-10",{"$f":"COUNTIF(Calculations!$E$56:$E$98,\"<=\"&DATE(2006,MONTH(C5073),DAY(C5073)))","v":24},5.4,5.4,6.3,4.2,4.8,6,5.0999999999999996,5.7,4.8,5.8]
["KS201425","KS","2014-08-17",{"$f":"COUNTIF(Calculations!$E$56:$E$98,\"<=\"&DATE(2006,MONTH(C5074),DAY(C5074)))","v":25},6.1,6,4.9000000000000004,5,6.5,6.3,6.2,6.6,6.6,6.2]
["KS201426","KS","2014-08-24",{"$f":"COUNTIF(Calculations!$E$56:$E$98,\"<=\"&DATE(2006,MONTH(C5075),DAY(C5075)))","v":26},6.2,5,4.8,5.5,6.3,6.7,6.8,6.8,6.4,6.6]
["KS201427","KS","2014-08-31",{"$f":"COUNTIF(Calculations!$E$56:$E$98,\"<=\"&DATE(2006,MONTH(C5076),DAY(C5076)))","v":27},5.3,4.7,3.8,4.4000000000000004,5.6,5.6,6,5.8,5.6,6.3]
["KS201428","KS","2014-09-07",{"$f":"COUNTIF(Calculations!$E$56:$E$98,\"<=\"&DATE(2006,MONTH(C5077),DAY(C5077)))","v":28},4.8,5.3,3.6,4.4000000000000004,4.8,4.4000000000000004,4.2,5.3,5.8,4.4000000000000004]
["KS201429","KS","2014-09-14",{"$f":"COUNTIF(Calculations!$E$56:$E$98,\"<=\"&DATE(2006,MONTH(C5078),DAY(C5078)))","v":29},4.9000000000000004,4.3,3.4,4.2,4.8,3.7,5.0999999999999996,5.7,6.4,5.8]
[{"$f":"B5079&YEAR(C5079)&D5079","v":"KS201430"},"KS","2014-09-21",{"$f":"COUNTIF(Calculations!$E$56:$E$98,\"<=\"&DATE(2006,MONTH(C5079),DAY(C5079)))","v":30},6,6.2,5.5,5.4,6.6,5.4,4.9000000000000004,6.8,6.7,5]
["KS201431","KS","2014-09-28",{"$f":"COUNTIF(Calculations!$E$56:$E$98,\"<=\"&DATE(2006,MONTH(C5080),DAY(C5080)))","v":31},5.8,5.4,5.2,5.4,6.6,5.4,5.9,6.2,5.8,5.9]
["KS201432","KS","2014-10-05",{"$f":"COUNTIF(Calculations!$E$56:$E$98,\"<=\"&DATE(2006,MONTH(C5081),DAY(C5081)))","v":32},5.3,5.2,3.7,3.8,5.9,4.5999999999999996,4.3,6.7,6.2,4.9000000000000004]
["KS201433","KS","2014-10-12",{"$f":"COUNTIF(Calculations!$E$56:$E$98,\"<=\"&DATE(2006,MONTH(C5082),DAY(C5082)))","v":33},4.2,4.5999999999999996,4.0999999999999996,3.3,4.5,4.0999999999999996,3,4.7,4.5,3.7]
["KS201434","KS","2014-10-19",{"$f":"COUNTIF(Calculations!$E$56:$E$98,\"<=\"&DATE(2006,MONTH(C5083),DAY(C5083)))","v":34},5.5,6.2,5.7,5.0999999999999996,6.1,5.0999999999999996,4.5999999999999996,6.1,5.6,3.8]
["KS201435","KS","2014-10-26",{"$f":"COUNTIF(Calculations!$E$56:$E$98,\"<=\"&DATE(2006,MONTH(C5084),DAY(C5084)))","v":35},6.2,6.7,5.9,5.2,6.8,6.2,4.7,6.8,6.4,4.8]
["KS201436","KS","2014-11-02",{"$f":"COUNTIF(Calculations!$E$56:$E$98,\"<=\"&DATE(2006,MONTH(C5085),DAY(C5085)))","v":36},6.8,6.6,6.7,6.7,6.9,6.9,6.6,6.9,6.9,6.6]
["KS201437","KS","2014-11-09",{"$f":"COUNTIF(Calculations!$E$56:$E$98,\"<=\"&DATE(2006,MONTH(C5086),DAY(C5086)))","v":37},6.7,6.6,6.9,6.8,6.9,6.8,6.2,6.7,6.9,6.1]
["KS201438","KS","2014-11-16",{"$f":"COUNTIF(Calculations!$E$56:$E$98,\"<=\"&DATE(2006,MONTH(C5087),DAY(C5087)))","v":38},5.7,5.4,5.8,5.4,4.4000000000000004,6.5,6.1,5.9,5.4,6.2]
["KS201439","KS","2014-11-23",{"$f":"COUNTIF(Calculations!$E$56:$E$98,\"<=\"&DATE(2006,MONTH(C5088),DAY(C5088)))","v":39},5.6,6.1,6.3,4.2,5.5,6.3,5.7,6.1,5,4.5]
["KS201440","KS","2014-11-30",{"$f":"COUNTIF(Calculations!$E$56:$E$98,\"<=\"&DATE(2006,MONTH(C5089),DAY(C5089)))","v":40},6.6,6.5,6.7,6.1,6.4,6.8,6.8,6.9,6.6,6.3]
["MO20156","MO","2015-04-05",{"$f":"COUNTIF(Calculations!$E$56:$E$98,\"<=\"&DATE(2006,MONTH(C5090),DAY(C5090)))","v":6},2.4,2.6,2.4,3.2,3.2,1.9,1.2,2.2999999999999998,3.2,1.5]
["MO20157","MO","2015-04-12",{"$f":"COUNTIF(Calculations!$E$56:$E$98,\"<=\"&DATE(2006,MONTH(C5091),DAY(C5091)))","v":7},2.2999999999999998,2.6,2.2999999999999998,2.8,2.6,2,0.4,4.5,2.8,1.1000000000000001]
["MO20158","MO","2015-04-19",{"$f":"COUNTIF(Calculations!$E$56:$E$98,\"<=\"&DATE(2006,MONTH(C5092),DAY(C5092)))","v":8},2.8,2.6,3.3,4.4000000000000004,1.5,3,3.4,4.5999999999999996,2,0.9]
["MO20159","MO","2015-04-26",{"$f":"COUNTIF(Calculations!$E$56:$E$98,\"<=\"&DATE(2006,MONTH(C5093),DAY(C5093)))","v":9},3.2,3.1,3.1,3.9,2.8,4.2,3.6,3.6,3.7,1.5]
["MO201510","MO","2015-05-03",{"$f":"COUNTIF(Calculations!$E$56:$E$98,\"<=\"&DATE(2006,MONTH(C5094),DAY(C5094)))","v":10},6.1,4.8,6.3,5.6,6.2,6.6,6.4,6,6.2,6.9]
["MO201511","MO","2015-05-10",{"$f":"COUNTIF(Calculations!$E$56:$E$98,\"<=\"&DATE(2006,MONTH(C5095),DAY(C5095)))","v":11},3.5,1.2,3.2,3.6,3.4,3.1,5.0999999999999996,3.2,5.0999999999999996,5.5]
["MO201512","MO","2015-05-17",{"$f":"COUNTIF(Calculations!$E$56:$E$98,\"<=\"&DATE(2006,MONTH(C5096),DAY(C5096)))","v":12},1.5,0.9,2.2000000000000002,2,0.7,1.3,1.1000000000000001,2.2000000000000002,3.4,1.5]
["MO201513","MO","2015-05-24",{"$f":"COUNTIF(Calculations!$E$56:$E$98,\"<=\"&DATE(2006,MONTH(C5097),DAY(C5097)))","v":13},1.2,0.5,0.9,0.6,0.3,1.7,3.3,2.2999999999999998,2.7,1.2]
["MO201514","MO","2015-05-31",{"$f":"COUNTIF(Calculations!$E$56:$E$98,\"<=\"&DATE(2006,MONTH(C5098),DAY(C5098)))","v":14},0.9,0.5,0.4,0,0.1,0.8,3.2,0.4,2.1,2]
["MO201515","MO","2015-06-07",{"$f":"COUNTIF(Calculations!$E$56:$E$98,\"<=\"&DATE(2006,MONTH(C5099),DAY(C5099)))","v":15},2,1.1000000000000001,1.4,1.5,0.6,1.3,2.4,2.2000000000000002,3.4,5]
["MO201416","MO","2014-06-14",{"$f":"COUNTIF(Calculations!$E$56:$E$98,\"<=\"&DATE(2006,MONTH(C5100),DAY(C5100)))","v":16},3,2.2999999999999998,1.6,1.2,3.3,3,2.5,4.8,4.4000000000000004,5.8]
["MO201517","MO","2015-06-21",{"$f":"COUNTIF(Calculations!$E$56:$E$98,\"<=\"&DATE(2006,MONTH(C5101),DAY(C5101)))","v":17},1.9,2.8,1.9,0.6,2.2999999999999998,1.1000000000000001,0.4,1.2,1.3,3.6]
["MO201518","MO","2015-06-28",{"$f":"COUNTIF(Calculations!$E$56:$E$98,\"<=\"&DATE(2006,MONTH(C5102),DAY(C5102)))","v":18},2.7,2.7,1.5,0.4,3.3,2.8,1.9,5.0999999999999996,3.9,4.7]
["MO201519","MO","2015-07-05",{"$f":"COUNTIF(Calculations!$E$56:$E$98,\"<=\"&DATE(2006,MONTH(C5103),DAY(C5103)))","v":19},3.1,4.2,4.4000000000000004,2.6,2.9,1.6,2.4,3.6,3.2,3.2]
["MO201520","MO","2015-07-12",{"$f":"COUNTIF(Calculations!$E$56:$E$98,\"<=\"&DATE(2006,MONTH(C5104),DAY(C5104)))","v":20},2.5,3.7,3.3,1.9,1.4,2.4,1.5,2.2000000000000002,1.7,2.7]
["MO201521","MO","2015-07-19",{"$f":"COUNTIF(Calculations!$E$56:$E$98,\"<=\"&DATE(2006,MONTH(C5105),DAY(C5105)))","v":21},3.9,3.4,2.9,3,4.2,4.7,4.7,3.7,4.7,4.9000000000000004]
["MO201522","MO","2015-07-26",{"$f":"COUNTIF(Calculations!$E$56:$E$98,\"<=\"&DATE(2006,MONTH(C5106),DAY(C5106)))","v":22},3.5,3.2,2.2999999999999998,3.5,4.5,4.3,3.8,5.9,4.2,2.1]
["MO201523","MO","2015-08-02",{"$f":"COUNTIF(Calculations!$E$56:$E$98,\"<=\"&DATE(2006,MONTH(C5107),DAY(C5107)))","v":23},5.2,3.6,3.9,4.5999999999999996,6.6,6,5.0999999999999996,7,5.4,6.3]
["MO201524","MO","2015-08-09",{"$f":"COUNTIF(Calculations!$E$56:$E$98,\"<=\"&DATE(2006,MONTH(C5108),DAY(C5108)))","v":24},4.0999999999999996,3.8,2.5,4.2,4.7,5.2,4,4.4000000000000004,4.5999999999999996,4.2]
["MO201525","MO","2015-08-16",{"$f":"COUNTIF(Calculations!$E$56:$E$98,\"<=\"&DATE(2006,MONTH(C5109),DAY(C5109)))","v":25},5.8,6,6.7,6.2,5.4,5.8,5.3,5,5.7,5.2]
["MO201526","MO","2015-08-23",{"$f":"COUNTIF(Calculations!$E$56:$E$98,\"<=\"&DATE(2006,MONTH(C5110),DAY(C5110)))","v":26},5.5,5.6,5.4,6.3,5.4,5.4,4.7,4.5999999999999996,5.5,5.7]
["MO201527","MO","2015-08-30",{"$f":"COUNTIF(Calculations!$E$56:$E$98,\"<=\"&DATE(2006,MONTH(C5111),DAY(C5111)))","v":27},6.5,6.2,6.7,7,6.1,6.8,5.9,5.9,6.3,6.7]
["MO201528","MO","2015-09-06",{"$f":"COUNTIF(Calculations!$E$56:$E$98,\"<=\"&DATE(2006,MONTH(C5112),DAY(C5112)))","v":28},6.7,6,6.9,7,6.7,6.8,7,6.6,6.6,7]
["MO201529","MO","2015-09-13",{"$f":"COUNTIF(Calculations!$E$56:$E$98,\"<=\"&DATE(2006,MONTH(C5113),DAY(C5113)))","v":29},4.8,4.5999999999999996,4.7,5.6,3.4,5.6,5,4.7,4.5999999999999996,5]
["MO201530","MO","2015-09-20",{"$f":"COUNTIF(Calculations!$E$56:$E$98,\"<=\"&DATE(2006,MONTH(C5114),DAY(C5114)))","v":30},6.2,5.3,5.9,6.6,5.7,6.5,6.9,5.9,6.6,6.6]
["MO201531","MO","2015-09-27",{"$f":"COUNTIF(Calculations!$E$56:$E$98,\"<=\"&DATE(2006,MONTH(C5115),DAY(C5115)))","v":31},6.8,6.2,7,7,6.9,6.8,7,6.7,7,6.8]
["MO201532","MO","2015-10-04",{"$f":"COUNTIF(Calculations!$E$56:$E$98,\"<=\"&DATE(2006,MONTH(C5116),DAY(C5116)))","v":32},6.7,6.8,6.9,7,6.9,6.8,6.8,6.6,6.6,5.5]
["MO201533","MO","2015-10-11",{"$f":"COUNTIF(Calculations!$E$56:$E$98,\"<=\"&DATE(2006,MONTH(C5117),DAY(C5117)))","v":33},6.7,7,6.9,6.9,6.2,6.6,7,6.3,6.8,6.5]
["MO201534","MO","2015-10-18",{"$f":"COUNTIF(Calculations!$E$56:$E$98,\"<=\"&DATE(2006,MONTH(C5118),DAY(C5118)))","v":34},6.9,6.9,7,7,7,7,7,7,6.9,6.6]
["MO201535","MO","2015-10-25",{"$f":"COUNTIF(Calculations!$E$56:$E$98,\"<=\"&DATE(2006,MONTH(C5119),DAY(C5119)))","v":35},6,5.8,5.8,6,6.4,6.2,6.7,6.2,6.5,6.2]
["MO201536","MO","2015-11-01",{"$f":"COUNTIF(Calculations!$E$56:$E$98,\"<=\"&DATE(2006,MONTH(C5120),DAY(C5120)))","v":36},4.2,4.3,3.6,4.3,5.0999999999999996,4,5.2,5.7,5,2.2999999999999998]
["MO201537","MO","2015-11-08",{"$f":"COUNTIF(Calculations!$E$56:$E$98,\"<=\"&DATE(2006,MONTH(C5121),DAY(C5121)))","v":37},4.5,4.9000000000000004,4.0999999999999996,5.2,4.5,5.2,4.2,5,4.5999999999999996,2.6]
["MO201538","MO","2015-11-15",{"$f":"COUNTIF(Calculations!$E$56:$E$98,\"<=\"&DATE(2006,MONTH(C5122),DAY(C5122)))","v":38},5.6,5.9,5.2,5.8,6.5,6.6,4.9000000000000004,6.1,5.9,4]
["MO201539","MO","2015-11-22",{"$f":"COUNTIF(Calculations!$E$56:$E$98,\"<=\"&DATE(2006,MONTH(C5123),DAY(C5123)))","v":39},2.2999999999999998,3.2,0.9,1.6,2.2000000000000002,2.7,2.1,4,3.7,2]
["MO201540","MO","2015-11-29",{"$f":"COUNTIF(Calculations!$E$56:$E$98,\"<=\"&DATE(2006,MONTH(C5124),DAY(C5124)))","v":40},2,1.6,0.7,2.2000000000000002,2,1.8,1.8,2.5,2.1,3.4]
["IA20156","IA","2015-04-05",{"$f":"COUNTIF(Calculations!$E$56:$E$98,\"<=\"&DATE(2006,MONTH(C5125),DAY(C5125)))","v":6},4.2,4.5,2.5,3.1,4.5,4.2,5.5,4.3,4.8,5.6]
["IA20157","IA","2015-04-12",{"$f":"COUNTIF(Calculations!$E$56:$E$98,\"<=\"&DATE(2006,MONTH(C5126),DAY(C5126)))","v":7},2.7,2.4,1.5,2.1,2.6,2.6,4.8,2.2999999999999998,3.7,3.8]
["IA20158","IA","2015-04-19",{"$f":"COUNTIF(Calculations!$E$56:$E$98,\"<=\"&DATE(2006,MONTH(C5127),DAY(C5127)))","v":8},4.4000000000000004,3.8,4,5.2,3.8,5.0999999999999996,5.5,3,4.5999999999999996,4.8]
["IA20159","IA","2015-04-26",{"$f":"COUNTIF(Calculations!$E$56:$E$98,\"<=\"&DATE(2006,MONTH(C5128),DAY(C5128)))","v":9},2.7,3.3,2.2999999999999998,2.9,2.2999999999999998,1.9,3.8,1.9,2.1,3.8]
["IA201510","IA","2015-05-03",{"$f":"COUNTIF(Calculations!$E$56:$E$98,\"<=\"&DATE(2006,MONTH(C5129),DAY(C5129)))","v":10},5.6,5.4,6,6.1,5.4,6.1,5.7,4.5999999999999996,5,5.5]
["IA201511","IA","2015-05-10",{"$f":"COUNTIF(Calculations!$E$56:$E$98,\"<=\"&DATE(2006,MONTH(C5130),DAY(C5130)))","v":11},2.5,3.1,2.5,1.9,2.5,3.3,1.6,1.2,3.5,2.6]
["IA201512","IA","2015-05-17",{"$f":"COUNTIF(Calculations!$E$56:$E$98,\"<=\"&DATE(2006,MONTH(C5131),DAY(C5131)))","v":12},2.6,2.7,2.5,3.2,2.4,2.8,3.4,1.7,2.5,1.9]
["IA201513","IA","2015-05-24",{"$f":"COUNTIF(Calculations!$E$56:$E$98,\"<=\"&DATE(2006,MONTH(C5132),DAY(C5132)))","v":13},2.8,2.2999999999999998,2.7,4,2.5,3.6,3.5,1.3,2,2.8]
["IA201514","IA","2015-05-31",{"$f":"COUNTIF(Calculations!$E$56:$E$98,\"<=\"&DATE(2006,MONTH(C5133),DAY(C5133)))","v":14},2.2999999999999998,2.8,2.1,3.2,2.4,2.1,2.7,1.7,0.8,2.2999999999999998]
["IA201515","IA","2015-06-07",{"$f":"COUNTIF(Calculations!$E$56:$E$98,\"<=\"&DATE(2006,MONTH(C5134),DAY(C5134)))","v":15},4.3,4,4.3,5.0999999999999996,4.2,4.8,5.8,2.5,2.4,4.4000000000000004]
["IA201416","IA","2014-06-14",{"$f":"COUNTIF(Calculations!$E$56:$E$98,\"<=\"&DATE(2006,MONTH(C5135),DAY(C5135)))","v":16},3.2,3.5,3.2,3.6,2.9,3.4,3.5,3,2.2000000000000002,2.1]
["IA201517","IA","2015-06-21",{"$f":"COUNTIF(Calculations!$E$56:$E$98,\"<=\"&DATE(2006,MONTH(C5136),DAY(C5136)))","v":17},3.5,4.8,3.9,3.2,4.3,3.9,2.2999999999999998,3,2.6,2.2000000000000002]
["IA201518","IA","2015-06-28",{"$f":"COUNTIF(Calculations!$E$56:$E$98,\"<=\"&DATE(2006,MONTH(C5137),DAY(C5137)))","v":18},3,4.8,4,2.2999999999999998,3.3,2.2999999999999998,2.4,4.0999999999999996,1.8,0.6]
["IA201519","IA","2015-07-05",{"$f":"COUNTIF(Calculations!$E$56:$E$98,\"<=\"&DATE(2006,MONTH(C5138),DAY(C5138)))","v":19},4.8,5.8,4.9000000000000004,4.8,4.5999999999999996,4.5,4.3,5.3,4.5,4]
["IA201520","IA","2015-07-12",{"$f":"COUNTIF(Calculations!$E$56:$E$98,\"<=\"&DATE(2006,MONTH(C5139),DAY(C5139)))","v":20},4.8,6,5.6,4.4000000000000004,4.8,4.5999999999999996,4.3,5,3.6,3.2]
["IA201521","IA","2015-07-19",{"$f":"COUNTIF(Calculations!$E$56:$E$98,\"<=\"&DATE(2006,MONTH(C5140),DAY(C5140)))","v":21},4.5,4.9000000000000004,5.2,4.3,4.4000000000000004,4.8,5.2,4.4000000000000004,3.2,2.7]
["IA201522","IA","2015-07-26",{"$f":"COUNTIF(Calculations!$E$56:$E$98,\"<=\"&DATE(2006,MONTH(C5141),DAY(C5141)))","v":22},5,5.6,5,5,5.0999999999999996,4.8,5.7,5,4.5,3.7]
["IA201523","IA","2015-08-02",{"$f":"COUNTIF(Calculations!$E$56:$E$98,\"<=\"&DATE(2006,MONTH(C5142),DAY(C5142)))","v":23},4.5999999999999996,5,5.0999999999999996,5.2,3.6,4.7,5.9,4,2.2000000000000002,4]
[{"$f":"B5143&YEAR(C5143)&D5143","v":"IA201524"},"IA","2015-08-09",{"$f":"COUNTIF(Calculations!$E$56:$E$98,\"<=\"&DATE(2006,MONTH(C5143),DAY(C5143)))","v":24},5.5,6.3,6.2,6.2,5.0999999999999996,5.3,5.8,4.0999999999999996,3.8,5.0999999999999996]
["IA201525","IA","2015-08-16",{"$f":"COUNTIF(Calculations!$E$56:$E$98,\"<=\"&DATE(2006,MONTH(C5144),DAY(C5144)))","v":25},5.9,5.6,6.2,6.5,5.8,5.3,6.1,6,6.3,6]
["IA201526","IA","2015-08-23",{"$f":"COUNTIF(Calculations!$E$56:$E$98,\"<=\"&DATE(2006,MONTH(C5145),DAY(C5145)))","v":26},4.0999999999999996,2.8,3.5,4.8,2.9,4.0999999999999996,5.4,4.5,4.4000000000000004,5.6]
["IA201527","IA","2015-08-30",{"$f":"COUNTIF(Calculations!$E$56:$E$98,\"<=\"&DATE(2006,MONTH(C5146),DAY(C5146)))","v":27},3.9,2.2999999999999998,3.7,4.7,2.5,4,5,4.0999999999999996,5.2,6.1]
["IA201528","IA","2015-09-06",{"$f":"COUNTIF(Calculations!$E$56:$E$98,\"<=\"&DATE(2006,MONTH(C5147),DAY(C5147)))","v":28},4.9000000000000004,4.8,4,5.5,4.9000000000000004,4,5.9,4.9000000000000004,4.7,6.4]
["IA201529","IA","2015-09-13",{"$f":"COUNTIF(Calculations!$E$56:$E$98,\"<=\"&DATE(2006,MONTH(C5148),DAY(C5148)))","v":29},4.9000000000000004,4.5,4.5,4.7,4.5999999999999996,5.3,5.8,5,4.4000000000000004,5.9]
["IA201530","IA","2015-09-20",{"$f":"COUNTIF(Calculations!$E$56:$E$98,\"<=\"&DATE(2006,MONTH(C5149),DAY(C5149)))","v":30},4.8,5.6,4.7,4,4.5999999999999996,4.5,4.9000000000000004,4.9000000000000004,4.7,5.2]
["IA201531","IA","2015-09-27",{"$f":"COUNTIF(Calculations!$E$56:$E$98,\"<=\"&DATE(2006,MONTH(C5150),DAY(C5150)))","v":31},4.8,3.3,4.8,6.1,3.3,5.3,6.5,2.5,5.4,6.7]
["IA201532","IA","2015-10-04",{"$f":"COUNTIF(Calculations!$E$56:$E$98,\"<=\"&DATE(2006,MONTH(C5151),DAY(C5151)))","v":32},5.7,6.3,6.4,5.2,4.9000000000000004,5.5,5.8,4.5999999999999996,6.1,6.5]
["IA201533","IA","2015-10-11",{"$f":"COUNTIF(Calculations!$E$56:$E$98,\"<=\"&DATE(2006,MONTH(C5152),DAY(C5152)))","v":33},6.8,6.9,6.9,6.5,6.7,6.6,6.9,6.7,6.9,6.8]
["IA201534","IA","2015-10-18",{"$f":"COUNTIF(Calculations!$E$56:$E$98,\"<=\"&DATE(2006,MONTH(C5153),DAY(C5153)))","v":34},6.9,6.9,7,6.8,6.9,6.8,6.9,7,6.9,7]
["IA201535","IA","2015-10-25",{"$f":"COUNTIF(Calculations!$E$56:$E$98,\"<=\"&DATE(2006,MONTH(C5154),DAY(C5154)))","v":35},5.4,5.5,5.8,5.3,5.2,5.2,4.4000000000000004,6,5.8,6.1]
["IA201536","IA","2015-11-01",{"$f":"COUNTIF(Calculations!$E$56:$E$98,\"<=\"&DATE(2006,MONTH(C5155),DAY(C5155)))","v":36},4.2,4.5999999999999996,4.9000000000000004,3.9,4.4000000000000004,3.6,3.5,5.3,3.8,4]
["IA201537","IA","2015-11-08",{"$f":"COUNTIF(Calculations!$E$56:$E$98,\"<=\"&DATE(2006,MONTH(C5156),DAY(C5156)))","v":37},5.5,5.4,6.4,4.7,6.2,5.4,4.0999999999999996,6.3,5.2,5.0999999999999996]
["IA201538","IA","2015-11-15",{"$f":"COUNTIF(Calculations!$E$56:$E$98,\"<=\"&DATE(2006,MONTH(C5157),DAY(C5157)))","v":38},4.7,4.2,5.0999999999999996,4.3,4,4.8,4.5999999999999996,5.2,5.5,5.2]
["IA201539","IA","2015-11-22",{"$f":"COUNTIF(Calculations!$E$56:$E$98,\"<=\"&DATE(2006,MONTH(C5158),DAY(C5158)))","v":39},2.9,2.2999999999999998,3.3,3.5,2.2999999999999998,3.5,2.6,2.2000000000000002,2.2999999999999998,3.8]
["IA201540","IA","2015-11-29",{"$f":"COUNTIF(Calculations!$E$56:$E$98,\"<=\"&DATE(2006,MONTH(C5159),DAY(C5159)))","v":40},1.6,1.4,2.1,1.8,1.3,2.2999999999999998,1.2,1.6,1.1000000000000001,1.7]
["IL 20156","IL ","2015-04-05",{"$f":"COUNTIF(Calculations!$E$56:$E$98,\"<=\"&DATE(2006,MONTH(C5160),DAY(C5160)))","v":6},2.5,3.6,2.4,3.5,2.2000000000000002,3.1,2.9,1.4,2.2000000000000002,0.5]
["IL 20157","IL ","2015-04-12",{"$f":"COUNTIF(Calculations!$E$56:$E$98,\"<=\"&DATE(2006,MONTH(C5161),DAY(C5161)))","v":7},2.9,5.2,3.7,5.0999999999999996,2.7,3.8,2.8,0.6,1.4,0]
["IL 20158","IL ","2015-04-19",{"$f":"COUNTIF(Calculations!$E$56:$E$98,\"<=\"&DATE(2006,MONTH(C5162),DAY(C5162)))","v":8},4.3,6.1,4.5,6.4,5.4,5.2,4.9000000000000004,1.7,1.6,1.4]
["IL 20159","IL ","2015-04-26",{"$f":"COUNTIF(Calculations!$E$56:$E$98,\"<=\"&DATE(2006,MONTH(C5163),DAY(C5163)))","v":9},3.7,4,3.7,4.7,3.9,3.8,3.7,3.5,3.7,1.7]
["IL 201510","IL ","2015-05-03",{"$f":"COUNTIF(Calculations!$E$56:$E$98,\"<=\"&DATE(2006,MONTH(C5164),DAY(C5164)))","v":10},5.9,6.3,5.3,5.5,5.8,5.3,6.1,6.4,6.2,5.7]
["IL 201511","IL ","2015-05-10",{"$f":"COUNTIF(Calculations!$E$56:$E$98,\"<=\"&DATE(2006,MONTH(C5165),DAY(C5165)))","v":11},4.2,2,3.2,3.6,3.3,3.3,5.0999999999999996,5.9,5.7,6.2]
["IL 201512","IL ","2015-05-17",{"$f":"COUNTIF(Calculations!$E$56:$E$98,\"<=\"&DATE(2006,MONTH(C5166),DAY(C5166)))","v":12},2.1,3.5,2.8,1.6,2.1,1.5,2.2999999999999998,1,2.5,2.2999999999999998]
["IL 201513","IL ","2015-05-24",{"$f":"COUNTIF(Calculations!$E$56:$E$98,\"<=\"&DATE(2006,MONTH(C5167),DAY(C5167)))","v":13},4,4.2,4.4000000000000004,3.7,4.3,4,4.0999999999999996,4.5999999999999996,3,2.5]
["IL 201514","IL ","2015-05-31",{"$f":"COUNTIF(Calculations!$E$56:$E$98,\"<=\"&DATE(2006,MONTH(C5168),DAY(C5168)))","v":14},3.5,3.4,1.9,2.2999999999999998,2.7,4.7,2.7,4.7,3.6,4.8]
["IL 201515","IL ","2015-06-07",{"$f":"COUNTIF(Calculations!$E$56:$E$98,\"<=\"&DATE(2006,MONTH(C5169),DAY(C5169)))","v":15},4.5999999999999996,5.5,4.8,3.5,5.0999999999999996,4.5999999999999996,3.5,5.8,3.4,4.4000000000000004]
["IL 201416","IL ","2014-06-14",{"$f":"COUNTIF(Calculations!$E$56:$E$98,\"<=\"&DATE(2006,MONTH(C5170),DAY(C5170)))","v":16},2.2999999999999998,2.8,2.9,2.1,1,1.2,1.9,3.9,3.3,2.2999999999999998]
["IL 201517","IL ","2015-06-21",{"$f":"COUNTIF(Calculations!$E$56:$E$98,\"<=\"&DATE(2006,MONTH(C5171),DAY(C5171)))","v":17},0.8,1.6,0.8,0.8,0.3,0.8,0.5,0.7,0.9,0.3]
["IL 201518","IL ","2015-06-28",{"$f":"COUNTIF(Calculations!$E$56:$E$98,\"<=\"&DATE(2006,MONTH(C5172),DAY(C5172)))","v":18},1.1000000000000001,1.1000000000000001,1.1000000000000001,0.4,0.7,0.8,0.6,0.8,3.8,2.1]
["IL 201519","IL ","2015-07-05",{"$f":"COUNTIF(Calculations!$E$56:$E$98,\"<=\"&DATE(2006,MONTH(C5173),DAY(C5173)))","v":19},2.8,1.1000000000000001,1.1000000000000001,0.4,0.7,0.8,0.6,0.8,3.8,2.1]
["IL 201520","IL ","2015-07-12",{"$f":"COUNTIF(Calculations!$E$56:$E$98,\"<=\"&DATE(2006,MONTH(C5174),DAY(C5174)))","v":20},1.8,3.1,2.5,1.7,1,1.8,1.4,1.5,2.8,0.6]
["IL 201521","IL ","2015-07-19",{"$f":"COUNTIF(Calculations!$E$56:$E$98,\"<=\"&DATE(2006,MONTH(C5175),DAY(C5175)))","v":21},3.3,3.7,2.7,1.8,1.9,3.5,3.1,4.3,4.9000000000000004,4.2]
["IL 201522","IL ","2015-07-26",{"$f":"COUNTIF(Calculations!$E$56:$E$98,\"<=\"&DATE(2006,MONTH(C5176),DAY(C5176)))","v":22},5.2,5.4,6.3,3.5,5,5.6,4.2,6.4,5,4.9000000000000004]
["IL 201523","IL ","2015-08-02",{"$f":"COUNTIF(Calculations!$E$56:$E$98,\"<=\"&DATE(2006,MONTH(C5177),DAY(C5177)))","v":23},6,6.2,6.6,5.7,6.4,5.7,5.8,6.6,5.2,4.7]
["IL 201524","IL ","2015-08-09",{"$f":"COUNTIF(Calculations!$E$56:$E$98,\"<=\"&DATE(2006,MONTH(C5178),DAY(C5178)))","v":24},5.9,6.5,7,6.4,6.9,6.3,4.7,5.4,5.0999999999999996,4.4000000000000004]
["IL 201525","IL ","2015-08-16",{"$f":"COUNTIF(Calculations!$E$56:$E$98,\"<=\"&DATE(2006,MONTH(C5179),DAY(C5179)))","v":25},6.4,6.4,6.2,6.3,6.8,6.5,6.5,6.5,5.9,6.1]
["IL 201526","IL ","2015-08-23",{"$f":"COUNTIF(Calculations!$E$56:$E$98,\"<=\"&DATE(2006,MONTH(C5180),DAY(C5180)))","v":26},5.4,4.4000000000000004,5.0999999999999996,5.3,5.9,5.7,5.2,6.1,4.9000000000000004,5.7]
["IL 201527","IL ","2015-08-30",{"$f":"COUNTIF(Calculations!$E$56:$E$98,\"<=\"&DATE(2006,MONTH(C5181),DAY(C5181)))","v":27},6.6,5.9,7,6.8,6.6,6.8,6.7,6.9,6.3,6.7]
["IL 201528","IL ","2015-09-06",{"$f":"COUNTIF(Calculations!$E$56:$E$98,\"<=\"&DATE(2006,MONTH(C5182),DAY(C5182)))","v":28},6.7,6.7,6.7,7,6.9,6.2,6.9,6.4,6.7,7]
["IL 201529","IL ","2015-09-13",{"$f":"COUNTIF(Calculations!$E$56:$E$98,\"<=\"&DATE(2006,MONTH(C5183),DAY(C5183)))","v":29},4.8,4.2,4.5,5.3,4.9000000000000004,4.5999999999999996,4.8,5,5.3,5.0999999999999996]
["IL 201530","IL ","2015-09-20",{"$f":"COUNTIF(Calculations!$E$56:$E$98,\"<=\"&DATE(2006,MONTH(C5184),DAY(C5184)))","v":30},5.3,4.4000000000000004,4.7,5.4,4.4000000000000004,5.2,5.7,6.2,5.9,6.7]
["IL 201531","IL ","2015-09-27",{"$f":"COUNTIF(Calculations!$E$56:$E$98,\"<=\"&DATE(2006,MONTH(C5185),DAY(C5185)))","v":31},6.7,6.5,7,6.7,6.7,6.8,6.7,6.8,6.2,6.8]
["IL 201532","IL ","2015-10-04",{"$f":"COUNTIF(Calculations!$E$56:$E$98,\"<=\"&DATE(2006,MONTH(C5186),DAY(C5186)))","v":32},6.4,6.7,7,7,6.8,6.8,6.6,5.9,5,5.0999999999999996]
["IL 201533","IL ","2015-10-11",{"$f":"COUNTIF(Calculations!$E$56:$E$98,\"<=\"&DATE(2006,MONTH(C5187),DAY(C5187)))","v":33},6.8,7,7,6.9,6.9,6.9,7,6.8,6.4,6.4]
["IL 201534","IL ","2015-10-18",{"$f":"COUNTIF(Calculations!$E$56:$E$98,\"<=\"&DATE(2006,MONTH(C5188),DAY(C5188)))","v":34},6.9,6.9,7,7,7,7,7,6.8,6.7,6.6]
["IL 201535","IL ","2015-10-25",{"$f":"COUNTIF(Calculations!$E$56:$E$98,\"<=\"&DATE(2006,MONTH(C5189),DAY(C5189)))","v":35},6.4,5.7,6.1,6.1,6.4,7,6.3,6.7,6.6,6.5]
["IL 201536","IL ","2015-11-01",{"$f":"COUNTIF(Calculations!$E$56:$E$98,\"<=\"&DATE(2006,MONTH(C5190),DAY(C5190)))","v":36},4.2,3.9,4.2,3.7,3.8,4.2,4.2,5,5.0999999999999996,4.2]
["IL 201537","IL ","2015-11-08",{"$f":"COUNTIF(Calculations!$E$56:$E$98,\"<=\"&DATE(2006,MONTH(C5191),DAY(C5191)))","v":37},4.9000000000000004,5.2,5.5,5.2,4.2,4.8,4.8,5.2,4.7,4.2]
["IL 201538","IL ","2015-11-15",{"$f":"COUNTIF(Calculations!$E$56:$E$98,\"<=\"&DATE(2006,MONTH(C5192),DAY(C5192)))","v":38},5.2,5.5,4.8,5.4,4.9000000000000004,4.7,5.9,5.7,4.7,4.9000000000000004]
["IL 201539","IL ","2015-11-22",{"$f":"COUNTIF(Calculations!$E$56:$E$98,\"<=\"&DATE(2006,MONTH(C5193),DAY(C5193)))","v":39},2.9,3.4,1.9,1.9,3.6,3,2.4,3.3,3.2,2.2999999999999998]
["IL 201540","IL ","2015-11-29",{"$f":"COUNTIF(Calculations!$E$56:$E$98,\"<=\"&DATE(2006,MONTH(C5194),DAY(C5194)))","v":40},1.9,2,0.2,0.1,1.8,2.2000000000000002,1.9,2.9,3.2,1.3]
["KS20152","KS","2015-03-08",{"$f":"COUNTIF(Calculations!$E$56:$E$98,\"<=\"&DATE(2006,MONTH(C5195),DAY(C5195)))","v":2},4.3,6,5.7,4.2,5.3,5.0999999999999996,2.1,3.3,4.4000000000000004,2.1]
["KS20153","KS","2015-03-15",{"$f":"COUNTIF(Calculations!$E$56:$E$98,\"<=\"&DATE(2006,MONTH(C5196),DAY(C5196)))","v":3},6.4,6.4,6.3,5.4,6.7,6.8,5.8,6.6,6.7,5]
["KS20154","KS","2015-03-22",{"$f":"COUNTIF(Calculations!$E$56:$E$98,\"<=\"&DATE(2006,MONTH(C5197),DAY(C5197)))","v":4},5.8,6.6,6.6,6,6.5,6.4,4.5999999999999996,5.0999999999999996,5.6,4.0999999999999996]
["KS20155","KS","2015-03-29",{"$f":"COUNTIF(Calculations!$E$56:$E$98,\"<=\"&DATE(2006,MONTH(C5198),DAY(C5198)))","v":5},5.8,5.9,6.2,3.9,6.4,6.4,4.9000000000000004,6.4,6.1,4.4000000000000004]
["KS20156","KS","2015-04-05",{"$f":"COUNTIF(Calculations!$E$56:$E$98,\"<=\"&DATE(2006,MONTH(C5199),DAY(C5199)))","v":6},6,5.6,5.8,4.4000000000000004,6.4,6.6,4.9000000000000004,6.8,6.6,5.0999999999999996]
["KS20157","KS","2015-04-12",{"$f":"COUNTIF(Calculations!$E$56:$E$98,\"<=\"&DATE(2006,MONTH(C5200),DAY(C5200)))","v":7},5.9,5.5,6.1,5,6.7,6.4,5.2,6.7,6.1,4.0999999999999996]
["KS20158","KS","2015-04-19",{"$f":"COUNTIF(Calculations!$E$56:$E$98,\"<=\"&DATE(2006,MONTH(C5201),DAY(C5201)))","v":8},4.0999999999999996,4.0999999999999996,4.8,4.4000000000000004,4.9000000000000004,4.4000000000000004,2.8,4.8,3.6,2.1]
["KS20159","KS","2015-04-26",{"$f":"COUNTIF(Calculations!$E$56:$E$98,\"<=\"&DATE(2006,MONTH(C5202),DAY(C5202)))","v":9},4.2,3.1,4.7,4.5,4.8,4,2.2999999999999998,5.8,3.8,2.4]
["KS201510","KS","2015-05-03",{"$f":"COUNTIF(Calculations!$E$56:$E$98,\"<=\"&DATE(2006,MONTH(C5203),DAY(C5203)))","v":10},5.6,4.9000000000000004,5.5,5.6,6,5.7,5.0999999999999996,5.4,6.1,5.3]
["KS201511","KS","2015-05-10",{"$f":"COUNTIF(Calculations!$E$56:$E$98,\"<=\"&DATE(2006,MONTH(C5204),DAY(C5204)))","v":11},2.7,4,2.8,2,2,2.2999999999999998,1.6,2.6,3.3,2.5]
["KS201512","KS","2015-05-17",{"$f":"COUNTIF(Calculations!$E$56:$E$98,\"<=\"&DATE(2006,MONTH(C5205),DAY(C5205)))","v":12},2.5,4.3,2.2999999999999998,1.5,3.5,1.8,0.5,3.1,2.8,0.8]
["KS201513","KS","2015-05-24",{"$f":"COUNTIF(Calculations!$E$56:$E$98,\"<=\"&DATE(2006,MONTH(C5206),DAY(C5206)))","v":13},1,1.4,2,0.4,1.2,0.6,0.3,1.1000000000000001,1,0.1]
[{"$f":"B5207&YEAR(C5207)&D5207","v":"KS201514"},"KS","2015-05-31",{"$f":"COUNTIF(Calculations!$E$56:$E$98,\"<=\"&DATE(2006,MONTH(C5207),DAY(C5207)))","v":14},1.6,2.7,2.2000000000000002,0.4,2.6,0.8,0.3,2.2999999999999998,1.2,0]
["KS201515","KS","2015-06-07",{"$f":"COUNTIF(Calculations!$E$56:$E$98,\"<=\"&DATE(2006,MONTH(C5208),DAY(C5208)))","v":15},4.0999999999999996,3.9,2.6,0.9,6.1,4.2,0.3,5.6,5.3,3]
["KS201416","KS","2014-06-14",{"$f":"COUNTIF(Calculations!$E$56:$E$98,\"<=\"&DATE(2006,MONTH(C5209),DAY(C5209)))","v":16},4.4000000000000004,4.5999999999999996,3.7,2.6,5,4.8,3.1,4.5,4.8,4.8]
["KS201517","KS","2015-06-21",{"$f":"COUNTIF(Calculations!$E$56:$E$98,\"<=\"&DATE(2006,MONTH(C5210),DAY(C5210)))","v":17},5.3,6,4.5999999999999996,3.5,6.4,5.3,4.2,6.3,5.2,3.8]
["KS201518","KS","2015-06-28",{"$f":"COUNTIF(Calculations!$E$56:$E$98,\"<=\"&DATE(2006,MONTH(C5211),DAY(C5211)))","v":18},6.3,6.2,5.9,3.8,6.5,6.9,5.4,6.7,6.7,6.1]
["KS201519","KS","2015-07-05",{"$f":"COUNTIF(Calculations!$E$56:$E$98,\"<=\"&DATE(2006,MONTH(C5212),DAY(C5212)))","v":19},6.3,6.4,5.9,4.0999999999999996,6.6,6.4,5.6,6.7,6.8,6.5]
["KS201520","KS","2015-07-12",{"$f":"COUNTIF(Calculations!$E$56:$E$98,\"<=\"&DATE(2006,MONTH(C5213),DAY(C5213)))","v":20},5.0999999999999996,6.3,5.7,3.9,6.6,5.5,1.5,6.1,4.7,2.4]
["KS201521","KS","2015-07-19",{"$f":"COUNTIF(Calculations!$E$56:$E$98,\"<=\"&DATE(2006,MONTH(C5214),DAY(C5214)))","v":21},5.3,4.7,4.9000000000000004,4.3,5.8,4.7,4.7,5.7,6.2,5.4]
["KS201522","KS","2015-07-26",{"$f":"COUNTIF(Calculations!$E$56:$E$98,\"<=\"&DATE(2006,MONTH(C5215),DAY(C5215)))","v":22},5.3,4.5,5.0999999999999996,4,5.7,5.7,6.2,4.8,5.5,6]
["KS201523","KS","2015-08-02",{"$f":"COUNTIF(Calculations!$E$56:$E$98,\"<=\"&DATE(2006,MONTH(C5216),DAY(C5216)))","v":23},5.7,5.8,6.2,5.2,6.2,5.9,6.5,5.6,4.7,6.1]
["KS201524","KS","2015-08-09",{"$f":"COUNTIF(Calculations!$E$56:$E$98,\"<=\"&DATE(2006,MONTH(C5217),DAY(C5217)))","v":24},5.4,5.0999999999999996,4.7,4.5999999999999996,6,5.0999999999999996,5.3,6.6,5.2,4.7]
["KS201525","KS","2015-08-16",{"$f":"COUNTIF(Calculations!$E$56:$E$98,\"<=\"&DATE(2006,MONTH(C5218),DAY(C5218)))","v":25},6,6.2,6.2,6.2,6.2,6.8,6,5.6,5.9,5.7]
["KS201526","KS","2015-08-23",{"$f":"COUNTIF(Calculations!$E$56:$E$98,\"<=\"&DATE(2006,MONTH(C5219),DAY(C5219)))","v":26},5.4,6.2,6.4,5.9,5.0999999999999996,5.9,5.7,4.2,5.7,4.9000000000000004]
["KS201527","KS","2015-08-30",{"$f":"COUNTIF(Calculations!$E$56:$E$98,\"<=\"&DATE(2006,MONTH(C5220),DAY(C5220)))","v":27},6.1,6.9,5.9,6.2,6.8,5.8,5.3,6.2,6.1,4.7]
["KS201528","KS","2015-09-06",{"$f":"COUNTIF(Calculations!$E$56:$E$98,\"<=\"&DATE(2006,MONTH(C5221),DAY(C5221)))","v":28},6.8,6.7,6.7,6.6,6.7,6.9,6.1,7,6.9,6.8]
["KS201529","KS","2015-09-13",{"$f":"COUNTIF(Calculations!$E$56:$E$98,\"<=\"&DATE(2006,MONTH(C5222),DAY(C5222)))","v":29},5.7,6.4,5.6,4.7,6.6,6,4.4000000000000004,6.2,5,5.3]
["KS201530","KS","2015-09-20",{"$f":"COUNTIF(Calculations!$E$56:$E$98,\"<=\"&DATE(2006,MONTH(C5223),DAY(C5223)))","v":30},6.4,6.6,6.4,5.4,6.9,6.9,4.8,6.9,6.5,5.5]
["KS201531","KS","2015-09-27",{"$f":"COUNTIF(Calculations!$E$56:$E$98,\"<=\"&DATE(2006,MONTH(C5224),DAY(C5224)))","v":31},6.2,5.4,6.1,4.5999999999999996,6.2,6.2,6.3,6.6,6.5,6.7]
["KS201532","KS","2015-10-04",{"$f":"COUNTIF(Calculations!$E$56:$E$98,\"<=\"&DATE(2006,MONTH(C5225),DAY(C5225)))","v":32},6.5,5.7,6.5,6.8,6.3,6.6,6.9,6.5,6.6,7]
["KS201533","KS","2015-10-11",{"$f":"COUNTIF(Calculations!$E$56:$E$98,\"<=\"&DATE(2006,MONTH(C5226),DAY(C5226)))","v":33},6.3,6.2,6.6,6.8,6.6,6.7,6.6,5.8,5.9,6.4]
["KS201534","KS","2015-10-18",{"$f":"COUNTIF(Calculations!$E$56:$E$98,\"<=\"&DATE(2006,MONTH(C5227),DAY(C5227)))","v":34},6.9,6.8,6.7,6.9,6.9,6.9,7,6.9,6.8,6.9]
["KS201535","KS","2015-10-25",{"$f":"COUNTIF(Calculations!$E$56:$E$98,\"<=\"&DATE(2006,MONTH(C5228),DAY(C5228)))","v":35},5.2,4.7,5,6,4.3,5.8,6.2,3.7,6,6.5]
["KS201536","KS","2015-11-01",{"$f":"COUNTIF(Calculations!$E$56:$E$98,\"<=\"&DATE(2006,MONTH(C5229),DAY(C5229)))","v":36},4.8,4.8,5.4,5.2,3.2,5.5,5.4,4,5.5,5.4]
["KS201537","KS","2015-11-08",{"$f":"COUNTIF(Calculations!$E$56:$E$98,\"<=\"&DATE(2006,MONTH(C5230),DAY(C5230)))","v":37},5.4,5.5,6.4,5.9,4.0999999999999996,5.6,5.0999999999999996,4.2,6.5,5.6]
["KS201538","KS","2015-11-15",{"$f":"COUNTIF(Calculations!$E$56:$E$98,\"<=\"&DATE(2006,MONTH(C5231),DAY(C5231)))","v":38},6.1,4.0999999999999996,6.6,6.6,5.8,6.7,6.4,6,6.8,6.2]
["KS201539","KS","2015-11-22",{"$f":"COUNTIF(Calculations!$E$56:$E$98,\"<=\"&DATE(2006,MONTH(C5232),DAY(C5232)))","v":39},4,2.5,4,3.4,2.8,4.8,3.8,4,5.6,4.2]
["KS201540","KS","2015-11-29",{"$f":"COUNTIF(Calculations!$E$56:$E$98,\"<=\"&DATE(2006,MONTH(C5233),DAY(C5233)))","v":40},2.8,2.2000000000000002,3.4,2.2000000000000002,2.5,2.9,2.4,2.7,3.3,2.6]
["IA20166","IA","2016-04-04",{"$f":"COUNTIF(Calculations!$E$56:$E$98,\"<=\"&DATE(2006,MONTH(C5234),DAY(C5234)))","v":6},2.2999999999999998,1.3,1.1000000000000001,1.5,2.7,3.1,2.9,3.5,3.6,1.9]
["IA20167","IA","2016-04-11",{"$f":"COUNTIF(Calculations!$E$56:$E$98,\"<=\"&DATE(2006,MONTH(C5235),DAY(C5235)))","v":7},3.1,2.4,1.9,2,4.7,3.5,2.4,4.7,3.8,2.8]
["IA20168","IA","2016-04-18",{"$f":"COUNTIF(Calculations!$E$56:$E$98,\"<=\"&DATE(2006,MONTH(C5236),DAY(C5236)))","v":8},6.2,5.6,6.5,6,6.5,6.2,5.9,6.5,6.3,6.2]
["IA20169","IA","2016-04-25",{"$f":"COUNTIF(Calculations!$E$56:$E$98,\"<=\"&DATE(2006,MONTH(C5237),DAY(C5237)))","v":9},3.6,2.8,4.5999999999999996,4.0999999999999996,2,4.5,4.0999999999999996,3.2,3.2,5]
["IL 20166","IL ","2016-04-04",{"$f":"COUNTIF(Calculations!$E$56:$E$98,\"<=\"&DATE(2006,MONTH(C5238),DAY(C5238)))","v":6},2.2999999999999998,1.2,2.8,2.7,3.5,1.5,2.4,1.8,3.6,2.2999999999999998]
["IL 20167","IL ","2016-04-11",{"$f":"COUNTIF(Calculations!$E$56:$E$98,\"<=\"&DATE(2006,MONTH(C5239),DAY(C5239)))","v":7},2.4,2.2000000000000002,0.8,3.6,2.5,1.3,2.7,2.4,4.3,2.4]
["IL 20168","IL ","2016-04-18",{"$f":"COUNTIF(Calculations!$E$56:$E$98,\"<=\"&DATE(2006,MONTH(C5240),DAY(C5240)))","v":8},4.5,5.7,5.8,6.4,5.7,3.9,4.7,1.9,3.8,3.2]
["IL 20169","IL ","2016-04-25",{"$f":"COUNTIF(Calculations!$E$56:$E$98,\"<=\"&DATE(2006,MONTH(C5241),DAY(C5241)))","v":9},4.4000000000000004,3.6,5.3,3.9,5,4.5,4.7,3.8,4.4000000000000004,5]
["KS20162","KS","2016-03-06",{"$f":"COUNTIF(Calculations!$E$56:$E$98,\"<=\"&DATE(2006,MONTH(C5242),DAY(C5242)))","v":2},6.8,6.4,6.8,6.4,6.7,6.9,7,6.7,7,6.9]
["KS20163","KS","2016-03-13",{"$f":"COUNTIF(Calculations!$E$56:$E$98,\"<=\"&DATE(2006,MONTH(C5243),DAY(C5243)))","v":3},6.3,6.6,6.5,5.7,6.6,6.7,5.2,6.9,6.3,4.9000000000000004]
["KS20164","KS","2016-03-20",{"$f":"COUNTIF(Calculations!$E$56:$E$98,\"<=\"&DATE(2006,MONTH(C5244),DAY(C5244)))","v":4},5.8,6.1,6.2,5.2,5.3,5.5,5,6.1,5.8,6.5]
["KS20165","KS","2016-03-27",{"$f":"COUNTIF(Calculations!$E$56:$E$98,\"<=\"&DATE(2006,MONTH(C5245),DAY(C5245)))","v":5},5.7,5,6.1,4.4000000000000004,5.9,6.3,4.7,6,5.9,5.9]
["KS20166","KS","2016-04-03",{"$f":"COUNTIF(Calculations!$E$56:$E$98,\"<=\"&DATE(2006,MONTH(C5246),DAY(C5246)))","v":6},6.2,6,6.5,5.8,6.8,6.5,5.7,6.8,6.1,4.8]
["KS20167","KS","2016-04-10",{"$f":"COUNTIF(Calculations!$E$56:$E$98,\"<=\"&DATE(2006,MONTH(C5247),DAY(C5247)))","v":7},6.6,6.1,6.8,6.6,6.8,6.4,6.5,6.8,6.8,6.3]
["KS20168","KS","2016-04-17",{"$f":"COUNTIF(Calculations!$E$56:$E$98,\"<=\"&DATE(2006,MONTH(C5248),DAY(C5248)))","v":8},5.6,4.5,5.9,6.4,5.5,5.8,6.6,4.8,6,5.6]
["KS20169","KS","2016-04-24",{"$f":"COUNTIF(Calculations!$E$56:$E$98,\"<=\"&DATE(2006,MONTH(C5249),DAY(C5249)))","v":9},2.4,2.7,2.1,1.9,2.6,2.2000000000000002,2.7,2.1,2.6,3.2]
["MO20166","MO","2016-04-03",{"$f":"COUNTIF(Calculations!$E$56:$E$98,\"<=\"&DATE(2006,MONTH(C5250),DAY(C5250)))","v":6},4.0999999999999996,4.5999999999999996,3.5,3.2,5.2,4.9000000000000004,4.4000000000000004,5.7,4.5999999999999996,2.1]
["MO20167","MO","2016-04-10",{"$f":"COUNTIF(Calculations!$E$56:$E$98,\"<=\"&DATE(2006,MONTH(C5251),DAY(C5251)))","v":7},5.0999999999999996,5.4,3.5,4.4000000000000004,5.9,6.1,4.7,6.6,5.6,4.9000000000000004]
["MO20168","MO","2016-04-17",{"$f":"COUNTIF(Calculations!$E$56:$E$98,\"<=\"&DATE(2006,MONTH(C5252),DAY(C5252)))","v":8},5.9,6.7,5.8,6.3,5.7,5.9,4.4000000000000004,5.7,6.1,5.8]
["MO20169","MO","2016-04-24",{"$f":"COUNTIF(Calculations!$E$56:$E$98,\"<=\"&DATE(2006,MONTH(C5253),DAY(C5253)))","v":9},4,2.4,4,3.7,3.6,4.8,5.3,5,5.6,4.3]
["MO201610","MO","2016-05-01",{"$f":"COUNTIF(Calculations!$E$56:$E$98,\"<=\"&DATE(2006,MONTH(C5254),DAY(C5254)))","v":10},2.1,0.7,1.2,1.3,2.2000000000000002,1.8,3.3,4.4000000000000004,4.3,3.3]
["MO201611","MO","2016-05-08",{"$f":"COUNTIF(Calculations!$E$56:$E$98,\"<=\"&DATE(2006,MONTH(C5255),DAY(C5255)))","v":11},4.5,2.2999999999999998,3.4,4.7,5.2,5,5,6.6,6.1,5.4]
["MO201612","MO","2016-05-15",{"$f":"COUNTIF(Calculations!$E$56:$E$98,\"<=\"&DATE(2006,MONTH(C5256),DAY(C5256)))","v":12},2.9,2.2000000000000002,1.8,2.1,3.2,4.7,2.6,4.9000000000000004,5.3,1.8]
["MO201613","MO","2016-05-22",{"$f":"COUNTIF(Calculations!$E$56:$E$98,\"<=\"&DATE(2006,MONTH(C5257),DAY(C5257)))","v":13},2.9,3,3.8,3.6,2,2.5,2.7,3.6,2.2000000000000002,2.6]
["MO201614","MO","2016-05-29",{"$f":"COUNTIF(Calculations!$E$56:$E$98,\"<=\"&DATE(2006,MONTH(C5258),DAY(C5258)))","v":14},2.7,2.2999999999999998,3.8,3.9,1.9,2.2000000000000002,3.7,2.2000000000000002,2.6,1.6]
["MO201615","MO","2016-06-05",{"$f":"COUNTIF(Calculations!$E$56:$E$98,\"<=\"&DATE(2006,MONTH(C5259),DAY(C5259)))","v":15},3.7,4.3,4.2,5.7,3.8,3.7,4,2.2000000000000002,2.1,1.8]
["MO201616","MO","2016-06-12",{"$f":"COUNTIF(Calculations!$E$56:$E$98,\"<=\"&DATE(2006,MONTH(C5260),DAY(C5260)))","v":16},6.6,6.5,6.7,7,6.8,6.8,6.5,6,6.2,6.6]
["MO201617","MO","2016-06-19",{"$f":"COUNTIF(Calculations!$E$56:$E$98,\"<=\"&DATE(2006,MONTH(C5261),DAY(C5261)))","v":17},6.7,7,6.7,6.9,6.3,6.7,6.8,6.9,6.5,6.7]
["MO201618","MO","2016-06-26",{"$f":"COUNTIF(Calculations!$E$56:$E$98,\"<=\"&DATE(2006,MONTH(C5262),DAY(C5262)))","v":18},5.7,4.7,5,6.1,6.1,5.6,6,5.6,6.4,7]
["MO201619","MO","2016-07-03",{"$f":"COUNTIF(Calculations!$E$56:$E$98,\"<=\"&DATE(2006,MONTH(C5263),DAY(C5263)))","v":19},4.4000000000000004,4,3.6,4.4000000000000004,3.5,4.9000000000000004,5.3,4.2,5.3,4.8]
["MO201620","MO","2016-07-10",{"$f":"COUNTIF(Calculations!$E$56:$E$98,\"<=\"&DATE(2006,MONTH(C5264),DAY(C5264)))","v":20},3.1,4.0999999999999996,3.4,2.8,2.1,2.4,1.9,3.5,4.8,3]
["MO201621","MO","2016-07-17",{"$f":"COUNTIF(Calculations!$E$56:$E$98,\"<=\"&DATE(2006,MONTH(C5265),DAY(C5265)))","v":21},4,4.3,3.4,3.8,2.4,3.5,4.5,4.0999999999999996,5.5,5.5]
["MO201622","MO","2016-07-24",{"$f":"COUNTIF(Calculations!$E$56:$E$98,\"<=\"&DATE(2006,MONTH(C5266),DAY(C5266)))","v":22},5.4,5.0999999999999996,5.4,4.2,5.4,6.3,5,6.1,6.5,5.9]
[{"$f":"B5267&YEAR(C5267)&D5267","v":"MO201623"},"MO","2016-07-31",{"$f":"COUNTIF(Calculations!$E$56:$E$98,\"<=\"&DATE(2006,MONTH(C5267),DAY(C5267)))","v":23},5,6.6,5.5,5.2,4.5999999999999996,5,3.8,5.6,4,3.2]
["MO201624","MO","2016-08-07",{"$f":"COUNTIF(Calculations!$E$56:$E$98,\"<=\"&DATE(2006,MONTH(C5268),DAY(C5268)))","v":24},3.4,4.3,1.8,2.7,4.4000000000000004,3.3,1.9,6.1,5,3.2]
["MO201625","MO","2016-08-14",{"$f":"COUNTIF(Calculations!$E$56:$E$98,\"<=\"&DATE(2006,MONTH(C5269),DAY(C5269)))","v":25},4.5999999999999996,4.5,3.8,4.2,5.0999999999999996,4.9000000000000004,4.4000000000000004,6.1,4.9000000000000004,4.2]
["MO201626","MO","2016-08-21",{"$f":"COUNTIF(Calculations!$E$56:$E$98,\"<=\"&DATE(2006,MONTH(C5270),DAY(C5270)))","v":26},4.5,5.4,4.9000000000000004,5.0999999999999996,5.5,5.7,3.2,6.9,4]
["MO201627","MO","2016-08-28",{"$f":"COUNTIF(Calculations!$E$56:$E$98,\"<=\"&DATE(2006,MONTH(C5271),DAY(C5271)))","v":27},4.3,2.7,3,3.7,3.8,5.6,5.6,6.9,5,4.8]
["MO201628","MO","2016-09-04",{"$f":"COUNTIF(Calculations!$E$56:$E$98,\"<=\"&DATE(2006,MONTH(C5272),DAY(C5272)))","v":28},5.2,4.2,3.4,5.9,3.8,5.3,5.4,6.3,6.8,7]
["MO201629","MO","2016-09-11",{"$f":"COUNTIF(Calculations!$E$56:$E$98,\"<=\"&DATE(2006,MONTH(C5273),DAY(C5273)))","v":29},4.2,3.9,3.1,3.7,3.5,3.4,4.5999999999999996,5,5.8,6.3]
["MO201630","MO","2016-09-18",{"$f":"COUNTIF(Calculations!$E$56:$E$98,\"<=\"&DATE(2006,MONTH(C5274),DAY(C5274)))","v":30},3.7,2.1,3.4,3.9,3.4,4,3.9,5.0999999999999996,4.5,4.4000000000000004]
["MO201631","MO","2016-09-25",{"$f":"COUNTIF(Calculations!$E$56:$E$98,\"<=\"&DATE(2006,MONTH(C5275),DAY(C5275)))","v":31},5.9,5.3,5.7,6.6,5.7,6.2,6.3,5.0999999999999996,5.6,6.3]
["MO201632","MO","2016-10-02",{"$f":"COUNTIF(Calculations!$E$56:$E$98,\"<=\"&DATE(2006,MONTH(C5276),DAY(C5276)))","v":32},6.7,6.2,6.9,6.8,6.5,7,6.6,6.7,6.6,6.9]
["MO201633","MO","2016-10-09",{"$f":"COUNTIF(Calculations!$E$56:$E$98,\"<=\"&DATE(2006,MONTH(C5277),DAY(C5277)))","v":33},4.9000000000000004,4.5999999999999996,3.7,4.8,3.1,5.4,7,3.5,5.9,7]
["MO201634","MO","2016-10-16",{"$f":"COUNTIF(Calculations!$E$56:$E$98,\"<=\"&DATE(2006,MONTH(C5278),DAY(C5278)))","v":34},5.4,4.5999999999999996,5.8,6,4.4000000000000004,5.8,6.8,3.9,5.4,5.7]
["MO201635","MO","2016-10-23",{"$f":"COUNTIF(Calculations!$E$56:$E$98,\"<=\"&DATE(2006,MONTH(C5279),DAY(C5279)))","v":35},6.1,6.7,6.1,6.1,6.8,6.3,4.9000000000000004,4.9000000000000004,5.5,6.2]
["MO201636","MO","2016-10-30",{"$f":"COUNTIF(Calculations!$E$56:$E$98,\"<=\"&DATE(2006,MONTH(C5280),DAY(C5280)))","v":36},6.3,5.9,5.7,6.7,6.2,6.8,6,5.8,6.3,6.7]
["MO201637","MO","2016-11-06",{"$f":"COUNTIF(Calculations!$E$56:$E$98,\"<=\"&DATE(2006,MONTH(C5281),DAY(C5281)))","v":37},5.7,6.3,5.2,5.2,5.0999999999999996,5.2,5.3,5.2,6.4,7]
["MO201638","MO","2016-11-13",{"$f":"COUNTIF(Calculations!$E$56:$E$98,\"<=\"&DATE(2006,MONTH(C5282),DAY(C5282)))","v":38},6,6.8,6.3,6,4.9000000000000004,5.4,5.0999999999999996,5.3,6.6,7]
["MO201639","MO","2016-11-20",{"$f":"COUNTIF(Calculations!$E$56:$E$98,\"<=\"&DATE(2006,MONTH(C5283),DAY(C5283)))","v":39},6.8,6.9,7,6.7,6.8,6.9,6.8,5.9,6.2,6.8]
["MO201640","MO","2016-11-27",{"$f":"COUNTIF(Calculations!$E$56:$E$98,\"<=\"&DATE(2006,MONTH(C5284),DAY(C5284)))","v":40},5.4,4.9000000000000004,5.8,5.4,5.7,6,5.5,6,5.3,4]
["MO20176","MO","2017-04-02",{"$f":"COUNTIF(Calculations!$E$56:$E$98,\"<=\"&DATE(2006,MONTH(C5285),DAY(C5285)))","v":6},1.1000000000000001,0.4,0.4,1.5,1,0.9,1.6,2.8,3.2,0.9]
["MO20177","MO","2017-04-09",{"$f":"COUNTIF(Calculations!$E$56:$E$98,\"<=\"&DATE(2006,MONTH(C5286),DAY(C5286)))","v":7},1.4,0.3,0.8,0.9,1.1000000000000001,0.6,1,2.9,3.3,3.7]
["MO20178","MO","2017-04-16",{"$f":"COUNTIF(Calculations!$E$56:$E$98,\"<=\"&DATE(2006,MONTH(C5287),DAY(C5287)))","v":8},4.4000000000000004,1.9,3.7,4.3,3.9,5.2,5.4,5.7,5.6,6.3]
["MO20179","MO","2017-04-24",{"$f":"COUNTIF(Calculations!$E$56:$E$98,\"<=\"&DATE(2006,MONTH(C5288),DAY(C5288)))","v":9},4.2,3.8,5.6,5.8,3.4,4.8,4.5,2.2000000000000002,3,3]
["MO201710","MO","2017-05-01",{"$f":"COUNTIF(Calculations!$E$56:$E$98,\"<=\"&DATE(2006,MONTH(C5289),DAY(C5289)))","v":10},2.1,3.3,2.5,3.1,0.7,1.8,1.6,1,2.1,1.7]
["MO201711","MO","2017-05-08",{"$f":"COUNTIF(Calculations!$E$56:$E$98,\"<=\"&DATE(2006,MONTH(C5290),DAY(C5290)))","v":11},1.4,2.4,2.4,1.5,0.8,0.7,"-",0.8,2.2000000000000002,0.8]
["MO201712","MO","2017-05-15",{"$f":"COUNTIF(Calculations!$E$56:$E$98,\"<=\"&DATE(2006,MONTH(C5291),DAY(C5291)))","v":12},4.0999999999999996,5.2,4.5999999999999996,3.7,3.5,4.4000000000000004,2.4,3.5,3.6,4.2]
["MO201713","MO","2017-05-22",{"$f":"COUNTIF(Calculations!$E$56:$E$98,\"<=\"&DATE(2006,MONTH(C5292),DAY(C5292)))","v":13},4,4.0999999999999996,3.8,4,4.2,4.2,4.2,3.9,4.0999999999999996,3.7]
["MO201714","MO","2017-05-30",{"$f":"COUNTIF(Calculations!$E$56:$E$98,\"<=\"&DATE(2006,MONTH(C5293),DAY(C5293)))","v":14},3.4,3.4,2.2999999999999998,2.5,3.4,3.1,3.1,4.8,4.8,4.5999999999999996]
["MO201715","MO","2017-06-05",{"$f":"COUNTIF(Calculations!$E$56:$E$98,\"<=\"&DATE(2006,MONTH(C5294),DAY(C5294)))","v":15},5.0999999999999996,5.9,6.2,6.4,3,5.0999999999999996,5.8,1.7,5.2,4.5999999999999996]
["MO201716","MO","2017-06-12",{"$f":"COUNTIF(Calculations!$E$56:$E$98,\"<=\"&DATE(2006,MONTH(C5295),DAY(C5295)))","v":16},6.6,6.2,7,6.9,6.9,6.5,6.4,5.9,6.2,6.4]
["MO201717","MO","2017-06-19",{"$f":"COUNTIF(Calculations!$E$56:$E$98,\"<=\"&DATE(2006,MONTH(C5296),DAY(C5296)))","v":17},4.7,4.5999999999999996,4.7,4.0999999999999996,4.8,4.0999999999999996,4.7,4.4000000000000004,5.8,5.7]
["MO201718","MO","2017-06-26",{"$f":"COUNTIF(Calculations!$E$56:$E$98,\"<=\"&DATE(2006,MONTH(C5297),DAY(C5297)))","v":18},5.2,5.4,5.4,5.3,5.2,5.3,5.5,5.5,5.8,5.8]
["MO201719","MO","2017-07-05",{"$f":"COUNTIF(Calculations!$E$56:$E$98,\"<=\"&DATE(2006,MONTH(C5298),DAY(C5298)))","v":19},4.0999999999999996,3.2,2.4,3.7,4.3,3.9,6.7,4.5,5.6,5.4]
["MO201720","MO","2017-07-10",{"$f":"COUNTIF(Calculations!$E$56:$E$98,\"<=\"&DATE(2006,MONTH(C5299),DAY(C5299)))","v":20},5.0999999999999996,5.5,5.5,5.8,5.4,5.2,5.4,4,5.0999999999999996,3.3]
["MO201721","MO","2017-07-17",{"$f":"COUNTIF(Calculations!$E$56:$E$98,\"<=\"&DATE(2006,MONTH(C5300),DAY(C5300)))","v":21},5.5,4.5999999999999996,4.0999999999999996,6.4,5.7,6.3,5.7,5.5,6,5.6]
["MO201722","MO","2017-07-24",{"$f":"COUNTIF(Calculations!$E$56:$E$98,\"<=\"&DATE(2006,MONTH(C5301),DAY(C5301)))","v":22},6.4,5.4,6.2,6.5,6.8,6.7,6.6,7,6.5,6.7]
["MO201723","MO","2017-07-31",{"$f":"COUNTIF(Calculations!$E$56:$E$98,\"<=\"&DATE(2006,MONTH(C5302),DAY(C5302)))","v":23},5.5,6.1,5.6,5.0999999999999996,4.0999999999999996,5,5.7,5.4,6.2,6.6]
["MO201724","MO","2017-08-07",{"$f":"COUNTIF(Calculations!$E$56:$E$98,\"<=\"&DATE(2006,MONTH(C5303),DAY(C5303)))","v":24},5.4,5.9,5.8,5.8,3.9,5.4,5.9,4.0999999999999996,5.4,5.7]
["MO201725","MO","2017-08-14",{"$f":"COUNTIF(Calculations!$E$56:$E$98,\"<=\"&DATE(2006,MONTH(C5304),DAY(C5304)))","v":25},5.5,6.1,6.7,6.8,3.5,5.0999999999999996,5.6,3.6,5.3,5.5]
["MO201726","MO","2017-08-21",{"$f":"COUNTIF(Calculations!$E$56:$E$98,\"<=\"&DATE(2006,MONTH(C5305),DAY(C5305)))","v":26},5.0999999999999996,5,5.9,6.4,4.5999999999999996,4.0999999999999996,4.9000000000000004,4.5,4.5999999999999996,5.3]
["MO201727","MO","2017-08-28",{"$f":"COUNTIF(Calculations!$E$56:$E$98,\"<=\"&DATE(2006,MONTH(C5306),DAY(C5306)))","v":27},4.5,4.0999999999999996,4.2,4.0999999999999996,2.9,3.8,5.6,4.7,5.8,6.8]
["MO201728","MO","2017-09-05",{"$f":"COUNTIF(Calculations!$E$56:$E$98,\"<=\"&DATE(2006,MONTH(C5307),DAY(C5307)))","v":28},6.1,6.2,6.2,6.3,5.2,6.3,6.9,7,6.6,4.9000000000000004]
["MO201729","MO","2017-09-11",{"$f":"COUNTIF(Calculations!$E$56:$E$98,\"<=\"&DATE(2006,MONTH(C5308),DAY(C5308)))","v":29},6.9,6.9,6.7,7,7,6.8,7,7,6.9,7]
["MO201730","MO","2017-09-18",{"$f":"COUNTIF(Calculations!$E$56:$E$98,\"<=\"&DATE(2006,MONTH(C5309),DAY(C5309)))","v":30},6.4,6,5.5,7,6.9,6.5,6.8,6.8,6.6,6]
["MO201731","MO","2017-09-25",{"$f":"COUNTIF(Calculations!$E$56:$E$98,\"<=\"&DATE(2006,MONTH(C5310),DAY(C5310)))","v":31},6.1,5.8,5.3,6.1,5,6.5,6.4,6.7,6.5,7]
["MO201732","MO","2017-10-02",{"$f":"COUNTIF(Calculations!$E$56:$E$98,\"<=\"&DATE(2006,MONTH(C5311),DAY(C5311)))","v":32},6.6,5.7,6.4,6.9,6.4,7,7,6.6,6.8,7]
["MO201733","MO","2017-10-10",{"$f":"COUNTIF(Calculations!$E$56:$E$98,\"<=\"&DATE(2006,MONTH(C5312),DAY(C5312)))","v":33},4,3.1,3.1,3.8,3,3.3,4.5,5.2,6.8,6.2]
["MO201734","MO","2017-10-16",{"$f":"COUNTIF(Calculations!$E$56:$E$98,\"<=\"&DATE(2006,MONTH(C5313),DAY(C5313)))","v":34},4.0999999999999996,3.8,3.6,3.5,4.5999999999999996,3.5,2.9,5.6,6.3,5]
["MO201735","MO","2017-10-23",{"$f":"COUNTIF(Calculations!$E$56:$E$98,\"<=\"&DATE(2006,MONTH(C5314),DAY(C5314)))","v":35},4.9000000000000004,4.9000000000000004,4.8,4.7,4.0999999999999996,4.5999999999999996,5.2,5.2,6.2,5.3]
["MO201736","MO","2017-10-30",{"$f":"COUNTIF(Calculations!$E$56:$E$98,\"<=\"&DATE(2006,MONTH(C5315),DAY(C5315)))","v":36},5.5,5.3,5.8,5.6,5.7,5.5,5.2,6.2,6,4.7]
["MO201737","MO","2017-11-06",{"$f":"COUNTIF(Calculations!$E$56:$E$98,\"<=\"&DATE(2006,MONTH(C5316),DAY(C5316)))","v":37},5.2,5.9,5.5,5.9,5.6,5.5,4.4000000000000004,6.5,5.0999999999999996,2.6]
["MO201738","MO","2017-11-13",{"$f":"COUNTIF(Calculations!$E$56:$E$98,\"<=\"&DATE(2006,MONTH(C5317),DAY(C5317)))","v":38},5.4,6.1,5.4,6,5.0999999999999996,5.9,5.3,6.6,5.4,3.6]
["MO201739","MO","2017-11-20",{"$f":"COUNTIF(Calculations!$E$56:$E$98,\"<=\"&DATE(2006,MONTH(C5318),DAY(C5318)))","v":39},4.7,4.7,4.7,5,4.0999999999999996,4.8,5.0999999999999996,5.7,5.8,3.5]
["MO201740","MO","2017-11-27",{"$f":"COUNTIF(Calculations!$E$56:$E$98,\"<=\"&DATE(2006,MONTH(C5319),DAY(C5319)))","v":40},6.6,6.9,5.8,6.1,6.7,6.7,6.7,7,6.5,6.8]

{"sheet":"Sheet1","index":6,"n_rows":0,"n_cols":0,"rows_kept":0,"cut":false,"hidden":true,"merged":[]}