Workbook
Name acres: #REF!
Name acres: [1]Input!$B$12
Name Boom_Sprayer: #REF!
Name Boom_Sprayer: [1]MDB!$A$100:$A$101
Name Boom_Sprayer_SP: #REF!
Name Boom_Sprayer_SP: [1]MDB!$A$99
Name BudgetActivities: #REF!
Name byyield: #REF!
Name byyield: [1]MDB!$C$160
Name Chisel_Plow: #REF!
Name Chisel_Plow: [1]MDB!$A$39:$A$42
Name Chisel_Plow_FD: #REF!
Name Chisel_Plow_FD: [1]MDB!$A$43:$A$44
Name Comb_Disk_VRipper: #REF!
Name Comb_Disk_VRipper: [1]MDB!$A$66:$A$67
Name Comb_Fld_Cult_Incorp: #REF!
Name Comb_Fld_Cult_Incorp: [1]MDB!$A$63:$A$65
Name Combine_Size: #REF!
Name Combine_Size: [1]MDB!$B$24:$B$27
Name Cornhead_Size: #REF!
Name Cornhead_Size: [1]MDB!$A$133:$A$135
Name CornWt: Inputs!$D$25
Name crop: #REF!
Name crop: [1]MDB!$C$164
Name cropnum: #REF!
Name cropnum: [1]MDB!$C$158
Name Crops: #REF!
Name Crops: [1]MDB!$I$157:$I$163
Name Cultivator: #REF!
Name Cultivator: [1]MDB!$A$91:$A$94
Name Cultivator_HR: #REF!
Name Cultivator_HR: [1]MDB!$A$95:$A$97
Name CustomActivities: #REF!
Name CustomActivities: '[2]Activity list'!$W$4:$AA$14
Name customhire2: #REF!,#REF!
Name customhire2: [1]Input!$F$114:$F$117,[1]Input!$F$123:$F$126
Name CustomImps: #REF!
Name CustomImps: [2]!Table4[Implement]
Name Disc_Mower: #REF!
Name Disc_Mower: [1]MDB!$A$104:$A$107
Name Disk: #REF!
Name Disk: [1]MDB!$A$68:$A$69
Name Disk_Mower: #REF!
Name Disk_Mower: [1]MDB!$A$108:$A$109
Name drying: #REF!,#REF!
Name drying: [1]Input!$B$106,[1]Input!$F$106
Name Field_Cultivator: #REF!
Name Field_Cultivator: [1]MDB!$A$49:$A$54
Name Grain_Auger: #REF!
Name Grain_Auger: [1]MDB!$A$34
Name Graincart: #REF!
Name Graincart: [1]MDB!$A$32:$A$33
Name Grainhead_Size: #REF!
Name Grainhead_Size: [1]MDB!$A$125:$A$127
Name Harrow: #REF!
Name Harrow: [1]MDB!$A$70:$A$71
Name hauling: #REF!,#REF!
Name hauling: [1]Input!$B$108:$B$109,[1]Input!$F$108:$F$109
Name herbicide2: #REF!,#REF!
Name herbicide2: [1]Input!$F$43:$F$50,[1]Input!$B$51:$F$51

Sheet Introduction
B2: Swine (Confinement) Budgets
B3: Updated: 10/2026
C5: Developed by:
C6: Elliott Dennis, Magdiel Lopez Soriano and Timothy Safranski
C7: University of Missouri Extension
C9: Purpose: Use this workbook to develop customized enterprise budgets for confinement swine operations. An enterprise budget estimates the expected costs and returns for a single agricultural enterprise. It can help producers evaluate profitability, compare production alternatives, estimate cash needs and support management decisions. Default production and cost assumptions are based on Missouri conditions. Replace assumptions with values that reflect your farm and production practices.
C11: How to use this workbook:
C12: 1. Save a copy of the workbook using a new file name before making changes.
C13: 2. Begin with the Inputs worksheet. Review and update assumptions around prices, production parameters and other key inputs.
C14: 3. Complete the swine worksheets that are relevant to your operation. Adjust assumptions for income, operating costs, and ownership costs as needed. Results are reported on a per-sow or per-lot basis.
C15: 4. Edit only the gray cells within each worksheet. Gray cells are user inputs; white cells contain labels or formulas that calculate results automatically.
C17: For more information:
C18: MU Extension publication G688, Farrow-to-Finish Planning Budget (extension.missouri.edu/publications/g688)
C19: MU Extension publication G687, Feeder Pigs Planning Budget (extension.missouri.edu/publications/g687)
... C22: This workbook is for educational purposes only. Results are estimates based on user-entered assumptions and should not be the sole basis for financial or management decisions.

Sheet Inputs
B1: Input Assumptions
B3: Technical parameters | C3: Unit | D3: Value | F3: Prices | G3: Unit | H3: All budgets | I3: Farrow-feeder | J3: Farrow to finish | K3: Feeder to finish
B4: Litters/sow/year | C4: litters | D4: 2.2 | F4: Market hog price | G4: cwt. (live weight) | H4: 64
B5: Pigs weaned/litter | C5: pigs | D5: 11.75 | F5: Feeder pig price | G5: head | H5: 55.89
B6: Average litters/sow (lifetime) | C6: litters per sow | D6: 3 | F6: Gilt premium over market hogs | G6: gilt | H6: 110
B7: Weaned pigs/sow/year | C7: weaned pigs | D7: =D5*D4 -> 25.85 | F7: Gilts for sow replacement | G7: head | H7: =Phogs*D16/100+H6 -> 289.2
B8: Death loss | F8: Culled sow price relative to market hog price | H8: 0.98
B9: Sows | C9: annual percent | D9: 0.08 | F9: Market price for culled sow | G9: cwt. (live weight) | H9: =H8*H4 -> 62.72
B10: Weaned-finish | C10: annual percent | D10: 0.08
B11: Weaned-feeder | C11: annual percent | D11: 0.04 | F11: Corn | G11: bushel | H11: 5.05
B12: Feeder to finish | C12: annual percent | D12: 0.04 | F12: Soybean meal | G12: ton | H12: 385
B13: Weight | F13: Dried distiller's grain with solubles (DDG) | G13: ton | H13: 190
B14: Feeder | C14: pounds (live wt.) | D14: 50 | F14: Vitamin and mineral premix
B15: Market hog | C15: pounds (live wt.) | D15: 280 | F15: Sow and pig | G15: pound | H15: 0.55
B16: Replacement gilt | C16: pounds (live wt.) | D16: 280 | F16: Hog | G16: pound | H16: 0.45
B17: Culled sows | C17: pounds (live wt.) | D17: 400 | F17: Nursery pellet | G17: pound | H17: 0.5
B18: Labor | F18: Feed processing | G18: ton | H18: 20
B19: Farrow-finish | C19: hours/sow/litter | D19: 3 | F19: Labor | G19: hour | H19: 23.5
B20: Farrow-feeder | C20: hours/sow/litter | D20: 2.75 | F20: Semen cost and genetics | G20: litter | H20: 13
B21: Feeder-finish | C21: hours/finishing hog | D21: 0.17 | F21: Operating interest | G21: percent | H21: 0.075
F22: Long-term interest | G22: percent | H22: 0.07
B23: Identities | F23: Vet, medicine | G23: cwt gain | I23: 12.678871 | J23: 3.7171507 | K23: 3.85641
B24: Weight conversion | C24: pounds/ton | D24: 2000 | F24: Utilities and fuel | G24: cwt gain | I24: 4.6663472 | J24: 2.870883 | K24: 1.8103702
B25: Corn | C25: pounds/bushel | D25: 56 | F25: Facility repair and custom services | G25: cwt gain | I25: 4.4441402 | J25: 3.1386892 | K25: 3.0529912
B26: Sensitivity table increments | F26: Marketing and general farm overhead | G26: cwt gain | I26: 3.7383062 | J26: 3.0101422 | K26: 1.756809
B27: Market hog price | C27: $/cwt (liveweight) | D27: 2 | F27: Taxes and Insurance | G27: cwt gain | I27: 2.26 | J27: 1 | K27: 1.16
B28: Corn price | C28: $/bushel | D28: 0.5 | F28: Machinery and Equipment | G28: cwt gain | I28: 43.15 | J28: 17.93 | K28: 9.65
B30: Manure production was calculated using numbers from Clemson University. Manure value was estimated as the fertilizer valueof its contribution of nitrogen, phosphorus, and potassium for a 2-year crop rotation (corn-soybean), assuming that it is managed in pits and used locally (no transportation costs). A custom manure application charge is deducted from the value to obtain its net value on each budget.
B31: Values used to determine fertilizer value (not changeable in this spreadsheet)
B32: Fertilizer value for manure nutrients
B33: Nitrogen | C33: lb N | D33: 0.54
B34: P2O5 | C34: lb. P2O5 | D34: 0.67
B35: K2O | C35: lb K2O | D35: 0.4
B36: Custom manure application | C36: $/1000 gallons | D36: 18.15

Sheet Farrow-finish
B1: Farrow-to-Finish Swine Planning Budget | K1: Income over total cost sensitivity analysis ($ per sow)
L2: Market hog price
B3: Income | C3: Unit | D3: Quantity | E3: Price/unit | F3: Total/sow | L3: =M3-Inputs!$D$27 -> 60 | M3: =N3-Inputs!$D$27 -> 62 | N3: =F41 -> 64 | O3: =N3+Inputs!$D$27 -> 66 | P3: =O3+Inputs!$D$27 -> 68
B4: Market hogs sold | C4: cwt | D4: =Inputs!D7*(1-Inputs!D10)*Inputs!D15/100 -> 66.5896 | E4: =F41 -> 64 | F4: =D4*E4 -> 4261.7344 | J4: Corn price | K4: =K5-Inputs!$D$28 -> 4.05 | L4: =ProfitFtF-$D$4*($F$41-L3)+$D$11*($F$46-$K4)/CornWt -> 445.02147 | M4: =ProfitFtF-$D$4*($F$41-M3)+$D$11*($F$46-$K4)/CornWt -> 578.20067 | N4: =ProfitFtF-$D$4*($F$41-N3)+$D$11*($F$46-$K4)/CornWt -> 711.37987 | O4: =ProfitFtF-$D$4*($F$41-O3)+$D$11*($F$46-$K4)/CornWt -> 844.55907 | P4: =ProfitFtF-$D$4*($F$41-P3)+$D$11*($F$46-$K4)/CornWt -> 977.73827
B5: Culled sows sold | C5: cwt | D5: =D19*Inputs!D17/100*(1-Inputs!D9) -> 2.6986667 | E5: =Inputs!H9 -> 62.72 | F5: =D5*E5 -> 169.26037 | K5: =K6-Inputs!$D$28 -> 4.55 | L5: =ProfitFtF-$D$4*($F$41-L3)+$D$11*($F$46-$K5)/CornWt -> 329.8429 | M5: =ProfitFtF-$D$4*($F$41-M3)+$D$11*($F$46-$K5)/CornWt -> 463.0221 | N5: =ProfitFtF-$D$4*($F$41-N3)+$D$11*($F$46-$K5)/CornWt -> 596.2013 | O5: =ProfitFtF-$D$4*($F$41-O3)+$D$11*($F$46-$K5)/CornWt -> 729.3805 | P5: =ProfitFtF-$D$4*($F$41-P3)+$D$11*($F$46-$K5)/CornWt -> 862.5597
B6: Other income (manure) | C6: 1,000 gallons | D6: 4.8 | E6: 18.58 | F6: =D6*E6 -> 89.184 | K6: =F46 -> 5.05 | L6: =ProfitFtF-$D$4*($F$41-L3)+$D$11*($F$46-$K6)/CornWt -> 214.66433 | M6: =ProfitFtF-$D$4*($F$41-M3)+$D$11*($F$46-$K6)/CornWt -> 347.84353 | N6: =ProfitFtF-$D$4*($F$41-N3)+$D$11*($F$46-$K6)/CornWt -> 481.02273 | O6: =ProfitFtF-$D$4*($F$41-O3)+$D$11*($F$46-$K6)/CornWt -> 614.20193 | P6: =ProfitFtF-$D$4*($F$41-P3)+$D$11*($F$46-$K6)/CornWt -> 747.38113
B7: Total income | F7: =SUM(F4:F6) -> 4520.1788 | K7: =K6+Inputs!$D$28 -> 5.55 | L7: =ProfitFtF-$D$4*($F$41-L3)+$D$11*($F$46-$K7)/CornWt -> 99.485756 | M7: =ProfitFtF-$D$4*($F$41-M3)+$D$11*($F$46-$K7)/CornWt -> 232.66496 | N7: =ProfitFtF-$D$4*($F$41-N3)+$D$11*($F$46-$K7)/CornWt -> 365.84416 | O7: =ProfitFtF-$D$4*($F$41-O3)+$D$11*($F$46-$K7)/CornWt -> 499.02336 | P7: =ProfitFtF-$D$4*($F$41-P3)+$D$11*($F$46-$K7)/CornWt -> 632.20256
K8: =K7+Inputs!$D$28 -> 6.05 | L8: =ProfitFtF-$D$4*($F$41-L3)+$D$11*($F$46-$K8)/CornWt -> -15.692815 | M8: =ProfitFtF-$D$4*($F$41-M3)+$D$11*($F$46-$K8)/CornWt -> 117.48638 | N8: =ProfitFtF-$D$4*($F$41-N3)+$D$11*($F$46-$K8)/CornWt -> 250.66558 | O8: =ProfitFtF-$D$4*($F$41-O3)+$D$11*($F$46-$K8)/CornWt -> 383.84478 | P8: =ProfitFtF-$D$4*($F$41-P3)+$D$11*($F$46-$K8)/CornWt -> 517.02398
B9: Operating costs | C9: Unit | D9: Quantity | E9: Price/unit | F9: Total/sow
B10: Feed | F10: =SUMPRODUCT(E11:E16,D11:D16) -> 1639.3283
B11: Corn | C11: pounds per sow | D11: 12900 | E11: =F46/Inputs!D25 -> 0.090178571
B12: Soybean meal | C12: pounds per sow | D12: 1020 | E12: =Inputs!H12/Inputs!D24 -> 0.1925
B13: DDG with solubles | C13: pounds per sow | D13: 300 | E13: =Inputs!H13/Inputs!D24 -> 0.095
B14: Vitamin and mineral premix | C14: pounds per sow | D14: 150 | E14: =Inputs!H15 -> 0.55
B15: Nursery pellet | C15: pounds per sow | D15: 48.97 | E15: =Inputs!H17 -> 0.5
B16: Feed processing | C16: tons per sow | D16: =SUM(D11:D15)/Inputs!D24 -> 7.209485 | E16: =Inputs!H18 -> 20
B17: Labor | C17: hours per sow | D17: =Inputs!D19*Inputs!D4 -> 6.6 | E17: =Inputs!H19 -> 23.5 | F17: =E17*D17 -> 155.1
B18: Veterinary and medicine | C18: hogs sold | D18: =D4 -> 66.5896 | E18: =Inputs!J23 -> 3.7171507 | F18: =E18*$D$18 -> 247.52358
B19: Replacement gilts | C19: sow | D19: =Inputs!D4/Inputs!D6 -> 0.73333333 | E19: =Inputs!H7 -> 289.2 | F19: =E19*D19 -> 212.08
B20: Semen and genetics | C20: litter/sow/year | D20: =Inputs!D4 -> 2.2 | E20: =IF(Inputs!J17>0,Inputs!J17,Inputs!H20) -> 13 | F20: =E20*D20 -> 28.6
B21: Utilities and fuel | C21: hogs sold | D21: =D4 -> 66.5896 | E21: =Inputs!J24 -> 2.870883 | F21: =E21*$D$4 -> 191.17095
B22: Facility repair and maintenance | C22: hogs sold | D22: =D4 -> 66.5896 | E22: =Inputs!J25 -> 3.1386892 | F22: =E22*$D$4 -> 209.00406
B23: Marketing and miscellaneous | C23: hogs sold | D23: =D4 -> 66.5896 | E23: =Inputs!J26 -> 3.0101422 | F23: =E23*$D$4 -> 200.44417
B24: Operating interest | C24: months | D24: 6 | E24: =(1+Inputs!H21)^(1/12) - 1 -> 0.006044919 | F24: =SUM(F10:F23)*(1+E24)^D24 - SUM(F10:F23) -> 106.16726
B25: Total operating costs | F25: =SUM(F10:F24) -> 2989.4183
B27: Ownership costs | C27: Unit | D27: Quantity | E27: Price/unit | F27: Total/sow
B28: Taxes and insurance | C28: cwt gain | D28: =Inputs!D7*(1-Inputs!D10)*Inputs!D15/100-Inputs!D7*Inputs!D14/100+(1-D19)*D5 -> 54.384244 | E28: =Inputs!J27 -> 1 | F28: =E28*$D$28 -> 54.384244
B29: Machinery and equipment | C29: cwt gain | D29: =Inputs!D7*(1-Inputs!D10)*Inputs!D15/100-Inputs!D7*Inputs!D14/100+(1-D19)*D5 -> 54.384244 | E29: =Inputs!J28 -> 17.93 | F29: =E29*$D$29 -> 975.1095
B30: Interest on breeding stock (sows) | F30: =Inputs!H22*Inputs!H7 -> 20.244
B31: Total ownership costs | F31: =SUM(F28:F30) -> 1049.7377
B33: Total costs | F33: =F31+F25 -> 4039.156
B35: Income over operating costs | F35: =F7-F25 -> 1530.7605
B36: Income over total costs | F36: =F7-F33 -> 481.02273
B39: Assumptions used in farrow-to-finish swine (confinement) planning budget
B40: Selected quantities | C40: Quantity | D40: Selected prices | F40: Price/unit
B41: Market hog sale weight, pounds | C41: =Inputs!D15 -> 280 | D41: Market hog sale price, per cwt | F41: =Inputs!H4 -> 64
B42: Cull sow sale weight, pounds | C42: =Inputs!D17 -> 400 | D42: Cull sow price, per cwt | F42: =Inputs!H9 -> 62.72
B43: Replacement gilt weight, pounds | C43: =Inputs!D16 -> 280 | D43: Replacement gilts, per head | F43: =Inputs!H7 -> 289.2
B44: Labor, hours/sow per year | C44: =D17 -> 6.6 | D44: Labor rate, per hour | F44: =Inputs!H19 -> 23.5
B45: Weaned pigs/sow/year | C45: =Inputs!D7 -> 25.85 | D45: Feed processing, per ton | F45: =Inputs!H18 -> 20
...

Sheet Farrow-feeder
B1: Feeder Pigs Planning Budget | K1: Income over total cost sensitivity analysis ($ per sow)
L2: Feeder pig price
B3: Income | C3: Unit | D3: Quantity | E3: Price/unit | F3: Total/sow | L3: =M3-Inputs!$D$27 -> 51.89 | M3: =N3-Inputs!$D$27 -> 53.89 | N3: =F41 -> 55.89 | O3: =N3+Inputs!$D$27 -> 57.89 | P3: =O3+Inputs!$D$27 -> 59.89
B4: Feeder pigs sold | C4: head | D4: =Inputs!D7*(1-Inputs!D11) -> 24.816 | E4: =F41 -> 55.89 | F4: =D4*E4 -> 1386.9662 | J4: Corn price | K4: =K5-Inputs!$D$28 -> 4.05 | L4: =ProfitF2F-$D$4*($F$41-L$3)+$D$11*($F$46-K4)/CornWt -> 14.726303 | M4: =ProfitF2F-$D$4*($F$41-M3)+$D$11*($F$46-$K4)/CornWt -> 64.358303 | N4: =ProfitF2F-$D$4*($F$41-N3)+$D$11*($F$46-$K4)/CornWt -> 113.9903 | O4: =ProfitF2F-$D$4*($F$41-O3)+$D$11*($F$46-$K4)/CornWt -> 163.6223 | P4: =ProfitF2F-$D$4*($F$41-P3)+$D$11*($F$46-$K4)/CornWt -> 213.2543
B5: Culled sows sold | C5: cwt | D5: =Inputs!D17/100*D19*(1-Inputs!D9) -> 2.6986667 | E5: =Inputs!H9 -> 62.72 | F5: =D5*E5 -> 169.26037 | K5: =K6-Inputs!$D$28 -> 4.55 | L5: =ProfitF2F-$D$4*($F$41-L3)+$D$11*($F$46-$K5)/CornWt -> -8.3629827 | M5: =ProfitF2F-$D$4*($F$41-M3)+$D$11*($F$46-$K5)/CornWt -> 41.269017 | N5: =ProfitF2F-$D$4*($F$41-N3)+$D$11*($F$46-$K5)/CornWt -> 90.901017 | O5: =ProfitF2F-$D$4*($F$41-O3)+$D$11*($F$46-$K5)/CornWt -> 140.53302 | P5: =ProfitF2F-$D$4*($F$41-P3)+$D$11*($F$46-$K5)/CornWt -> 190.16502
B6: Other income (manure) | C6: 1,000 gallons | D6: 1.47 | E6: 9.85 | F6: =D6*E6 -> 14.4795 | K6: =F46 -> 5.05 | L6: =ProfitF2F-$D$4*($F$41-L3)+$D$11*($F$46-$K6)/CornWt -> -31.452268 | M6: =ProfitF2F-$D$4*($F$41-M3)+$D$11*($F$46-$K6)/CornWt -> 18.179732 | N6: =ProfitF2F-$D$4*($F$41-N3)+$D$11*($F$46-$K6)/CornWt -> 67.811732 | O6: =ProfitF2F-$D$4*($F$41-O3)+$D$11*($F$46-$K6)/CornWt -> 117.44373 | P6: =ProfitF2F-$D$4*($F$41-P3)+$D$11*($F$46-$K6)/CornWt -> 167.07573
B7: Total income | F7: =SUM(F4:F6) -> 1570.7061 | K7: =K6+Inputs!$D$28 -> 5.55 | L7: =ProfitF2F-$D$4*($F$41-L3)+$D$11*($F$46-$K7)/CornWt -> -54.541554 | M7: =ProfitF2F-$D$4*($F$41-M3)+$D$11*($F$46-$K7)/CornWt -> -4.9095541 | N7: =ProfitF2F-$D$4*($F$41-N3)+$D$11*($F$46-$K7)/CornWt -> 44.722446 | O7: =ProfitF2F-$D$4*($F$41-O3)+$D$11*($F$46-$K7)/CornWt -> 94.354446 | P7: =ProfitF2F-$D$4*($F$41-P3)+$D$11*($F$46-$K7)/CornWt -> 143.98645
K8: =K7+Inputs!$D$28 -> 6.05 | L8: =ProfitF2F-$D$4*($F$41-L3)+$D$11*($F$46-$K8)/CornWt -> -77.63084 | M8: =ProfitF2F-$D$4*($F$41-M3)+$D$11*($F$46-$K8)/CornWt -> -27.99884 | N8: =ProfitF2F-$D$4*($F$41-N3)+$D$11*($F$46-$K8)/CornWt -> 21.63316 | O8: =ProfitF2F-$D$4*($F$41-O3)+$D$11*($F$46-$K8)/CornWt -> 71.26516 | P8: =ProfitF2F-$D$4*($F$41-P3)+$D$11*($F$46-$K8)/CornWt -> 120.89716
B9: Operating costs | C9: Unit | D9: Quantity | E9: Price/unit | F9: Total/sow
B10: Feed | F10: =SUMPRODUCT(D11:D16,E11:E16) -> 446.35929
B11: Corn | C11: pounds per sow | D11: 2586 | E11: =F46/Inputs!D25 -> 0.090178571
B12: Soybean meal | C12: pounds per sow | D12: 605 | E12: =Inputs!H12/poundton -> 0.1925
B13: DDG with solubles | C13: pounds per sow | D13: 91 | E13: =Inputs!H13/poundton -> 0.095
B14: Vitamin and mineral premix | C14: pounds per sow | D14: 54 | E14: =Inputs!H15 -> 0.55
B15: Nursery pellet | C15: pounds per sow | D15: 49 | E15: =Inputs!H17 -> 0.5
B16: Feed processing | C16: tons per sow | D16: =SUM(D11:D15)/poundton -> 1.6925 | E16: =Inputs!H18 -> 20
B17: Labor | C17: hours/sow | D17: =Inputs!D20*Inputs!D4 -> 6.05 | E17: =Inputs!H19 -> 23.5 | F17: =D17*E17 -> 142.175
B18: Veterinary and medicine | C18: cwt/year/sow | D18: =$C$46 -> 12.408 | E18: =Inputs!I23 -> 12.678871 | F18: =D18*E18 -> 157.31943
B19: Replacement gilts | C19: sow | D19: =Inputs!D4/Inputs!D6 -> 0.73333333 | E19: =Inputs!H7 -> 289.2 | F19: =E19*D19 -> 212.08
B20: Semen and genetics | C20: litter/sow/year | D20: =Inputs!D4 -> 2.2 | E20: =Inputs!H20 -> 13 | F20: =E20*D20 -> 28.6
B21: Utilities and fuel | C21: cwt./year/sow | D21: =$C$46 -> 12.408 | E21: =Inputs!I24 -> 4.6663472 | F21: =E21*D21 -> 57.900036
B22: Facility repair and maintenance | C22: cwt./year/sow | D22: =$C$46 -> 12.408 | E22: =Inputs!I25 -> 4.4441402 | F22: =E22*D22 -> 55.142891
B23: Marketing and miscellaneous | C23: cwt./year/sow | D23: =$C$46 -> 12.408 | E23: =Inputs!I26 -> 3.7383062 | F23: =E23*D23 -> 46.384903
B24: Operating interest | C24: months | D24: 3.5 | E24: =(1+Inputs!H21)^(1/12) - 1 -> 0.006044919 | F24: =SUM(F10:F23)*(1+E24)^D24 - SUM(F10:F23) -> 24.429112
B25: Total operating costs | F25: =SUM(F10:F24) -> 1170.3907
B27: Ownership costs | C27: Unit | D27: Quantity | E27: Price/unit | F27: Total/sow
B28: Taxes and insurance | C28: cwt gain | D28: =$C$46 -> 12.408 | E28: =Inputs!I27 -> 2.26 | F28: =E28*D28 -> 28.04208
B29: Machinery and equipment | C29: cwt gain | D29: =$C$46 -> 12.408 | E29: =Inputs!I28-'Farrow-feeder'!F30 -> 22.906 | F29: =E29*D29 -> 284.21765
B30: Interest on breeding stock (sows) | C30: per sow | F30: =Inputs!H22*Inputs!H7 -> 20.244
B31: Total ownership costs | F31: =SUM(F28:F30) -> 332.50373
B33: Total costs | F33: =F31+F25 -> 1502.8944
B35: Income over operating costs | F35: =F7-F25 -> 400.31546
B36: Income over total costs | F36: =F7-F33 -> 67.811732
B39: Assumptions used in farrow-to-feeder swine (confinement) planning budget
B40: Selected quantities | C40: Quantity | D40: Selected prices | F40: Price/unit
B41: Feeder pig sale weight, pounds | C41: =Inputs!D14 -> 50 | D41: Feeder pig sale price, head | F41: =Inputs!H5 -> 55.89
B42: Cull sow sale weight, pounds | C42: =Inputs!D17 -> 400 | D42: Cull sow price, per cwt | F42: =Inputs!H9 -> 62.72
B43: Replacement gilt weight, pounds | C43: =Inputs!D16 -> 280 | D43: Replacement gilt price, per head | F43: =Inputs!H7 -> 289.2
B44: Labor, hours/sow | C44: =D17 -> 6.05 | D44: Labor rate, per hour | F44: =Inputs!H19 -> 23.5
B45: Weaned pigs/sow/year (number) | C45: =Inputs!D7 -> 25.85 | D45: Feed processing, per ton | F45: =Inputs!H18 -> 20
...

Sheet Feeder-finish
B1: Hog Finishing Planning Budget | M1: Income over total cost sensitivity analysis ($ per 100 hog lot)
N2: Market hog price
B3: Income | C3: Quantity/hog | D3: Unit | E3: Quantity | F3: Unit | G3: Price/unit | H3: Total/lot | N3: =O3-Inputs!$D$27 -> 60 | O3: =P3-Inputs!$D$27 -> 62 | P3: =F38 -> 64 | Q3: =P3+Inputs!$D$27 -> 66 | R3: =Q3+Inputs!$D$27 -> 68
B4: Market hogs | C4: =Inputs!D15/100 -> 2.8 | D4: cwt/hog | E4: 100 | F4: hogs/lot | G4: =Inputs!H4 -> 64 | H4: =C4*E4*G4 -> 17920 | L4: Corn price | M4: =M5-Inputs!$D$28 -> 4.05 | N4: =ProfitFin-$C$4*$E$4*($F$38-N3)+$E$11*($F$40-$M4)/CornWt -> -1077.575 | O4: =ProfitFin-$C$4*$E$4*($F$38-O3)+$E$11*($F$40-$M4)/CornWt -> -517.57496 | P4: =ProfitFin-$C$4*$E$4*($F$38-P3)+$E$11*($F$40-$M4)/CornWt -> 42.425041 | Q4: =ProfitFin-$C$4*$E$4*($F$38-Q3)+$E$11*($F$40-$M4)/CornWt -> 602.42504 | R4: =ProfitFin-$C$4*$E$4*($F$38-R3)+$E$11*($F$40-$M4)/CornWt -> 1162.425
B5: Other income (manure) | E5: 10.23 | F5: 1,000 gallons | G5: 38.7 | H5: =E5*G5 -> 395.901 | M5: =M6-Inputs!$D$28 -> 4.55 | N5: =ProfitFin-$C$4*$E$4*($F$38-N3)+$E$11*($F$40-$M5)/CornWt -> -1524.0035 | O5: =ProfitFin-$C$4*$E$4*($F$38-O3)+$E$11*($F$40-$M5)/CornWt -> -964.00353 | P5: =ProfitFin-$C$4*$E$4*($F$38-P3)+$E$11*($F$40-$M5)/CornWt -> -404.00353 | Q5: =ProfitFin-$C$4*$E$4*($F$38-Q3)+$E$11*($F$40-$M5)/CornWt -> 155.99647 | R5: =ProfitFin-$C$4*$E$4*($F$38-R3)+$E$11*($F$40-$M5)/CornWt -> 715.99647
B6: Total income | H6: =SUM(H4:H5) -> 18315.901 | M6: =F40 -> 5.05 | N6: =ProfitFin-$C$4*$E$4*($F$38-N3)+$E$11*($F$40-$M6)/CornWt -> -1970.4321 | O6: =ProfitFin-$C$4*$E$4*($F$38-O3)+$E$11*($F$40-$M6)/CornWt -> -1410.4321 | P6: =ProfitFin-$C$4*$E$4*($F$38-P3)+$E$11*($F$40-$M6)/CornWt -> -850.4321 | Q6: =ProfitFin-$C$4*$E$4*($F$38-Q3)+$E$11*($F$40-$M6)/CornWt -> -290.4321 | R6: =ProfitFin-$C$4*$E$4*($F$38-R3)+$E$11*($F$40-$M6)/CornWt -> 269.5679
M7: =M6+Inputs!$D$28 -> 5.55 | N7: =ProfitFin-$C$4*$E$4*($F$38-N3)+$E$11*($F$40-$M7)/CornWt -> -2416.8607 | O7: =ProfitFin-$C$4*$E$4*($F$38-O3)+$E$11*($F$40-$M7)/CornWt -> -1856.8607 | P7: =ProfitFin-$C$4*$E$4*($F$38-P3)+$E$11*($F$40-$M7)/CornWt -> -1296.8607 | Q7: =ProfitFin-$C$4*$E$4*($F$38-Q3)+$E$11*($F$40-$M7)/CornWt -> -736.86067 | R7: =ProfitFin-$C$4*$E$4*($F$38-R3)+$E$11*($F$40-$M7)/CornWt -> -176.86067
B8: Operating costs | C8: Quantity/hog | D8: Unit | E8: Quantity | F8: Unit | G8: Price/unit | H8: Total/lot | M8: =M7+Inputs!$D$28 -> 6.05 | N8: =ProfitFin-$C$4*$E$4*($F$38-N3)+$E$11*($F$40-$M8)/CornWt -> -2863.2892 | O8: =ProfitFin-$C$4*$E$4*($F$38-O3)+$E$11*($F$40-$M8)/CornWt -> -2303.2892 | P8: =ProfitFin-$C$4*$E$4*($F$38-P3)+$E$11*($F$40-$M8)/CornWt -> -1743.2892 | Q8: =ProfitFin-$C$4*$E$4*($F$38-Q3)+$E$11*($F$40-$M8)/CornWt -> -1183.2892 | R8: =ProfitFin-$C$4*$E$4*($F$38-R3)+$E$11*($F$40-$M8)/CornWt -> -623.28924
B9: Purchased feeder pigs | C9: =Inputs!D12 -> 0.04 | D9: % death loss | E9: =E4*(1+C9) -> 104 | F9: head | G9: =Inputs!H5 -> 55.89 | H9: =E9*G9 -> 5812.56
B10: Feed | H10: =SUMPRODUCT(E11:E15,G11:G15) -> 7808.9286
B11: Corn | C11: 500 | D11: pounds/hog | E11: =C11*$E$4 -> 50000 | F11: total pounds | G11: =Inputs!H11/Inputs!D25 -> 0.090178571
B12: Soybean meal | C12: =0.2*C11 -> 100 | D12: pounds/hog | E12: =C12*$E$4 -> 10000 | F12: total pounds | G12: =Inputs!H12/poundton -> 0.1925
B13: DDG with soluables | C13: 30 | D13: pounds/hog | E13: =C13*$E$4 -> 3000 | F13: total pounds | G13: =Inputs!H13/poundton -> 0.095
B14: Vitamin and mineral premix | C14: 10 | D14: pounds/hog | E14: =C14*$E$4 -> 1000 | F14: total pounds | G14: =Inputs!H16 -> 0.45
B15: Feed processing | E15: =SUM(E11:E14)/poundton -> 32 | F15: tons | G15: =Inputs!H18 -> 20
B16: Labor | C16: =Inputs!D21 -> 0.17 | D16: hours/hog | E16: =C16*E4 -> 17 | F16: total hours | G16: =Inputs!H19 -> 23.5 | H16: =E16*G16 -> 399.5
B17: Veterinary and medicine | C17: =(Inputs!D15-Inputs!D14)/100 -> 2.3 | D17: cwt gain | E17: =C17*$E$4 -> 230 | F17: total cwt gain | G17: =Inputs!K23 -> 3.85641 | H17: =G17*E17 -> 886.9743
B18: Utilities and fuel | C18: =(Inputs!D15-Inputs!D14)/100 -> 2.3 | D18: cwt gain | E18: =C18*$E$4 -> 230 | F18: total cwt gain | G18: =Inputs!K24 -> 1.8103702 | H18: =G18*E18 -> 416.38516
B19: Facility/equipment repair & maintenance | C19: =(Inputs!D15-Inputs!D14)/100 -> 2.3 | D19: cwt gain | E19: =C19*$E$4 -> 230 | F19: total cwt gain | G19: =Inputs!K25 -> 3.0529912 | H19: =G19*E19 -> 702.18799
B20: Marketing & miscellaneous | C20: =(Inputs!D15-Inputs!D14)/100 -> 2.3 | D20: cwt gain | E20: =C20*$E$4 -> 230 | F20: total cwt gain | G20: =Inputs!K26 -> 1.756809 | H20: =G20*E20 -> 404.06607
B21: Operating interest | D21: months | E21: 2.5 | G21: =(1+Inputs!H21)^(1/12) - 1 -> 0.006044919 | H21: =SUM(H9:H10,H16:H20)*(1+G21)^E21-SUM(H9:H10,H16:H20) -> 249.43101
B22: Total operating costs | H22: =SUM(H16:H21)+H9+H10 -> 16680.033
B24: Ownership costs | C24: Quantity/hog | D24: Unit | E24: Quantity | F24: Unit | G24: Price/unit | H24: Total/lot
B25: Taxes and insurance | C25: =(Inputs!D15-Inputs!D14)/100 -> 2.3 | D25: cwt gain | E25: =C25*$E$4 -> 230 | F25: total cwt gain | G25: =Inputs!K27 -> 1.16 | H25: =G25*E25 -> 266.8
B26: Machinery and equipment | C26: =(Inputs!D15-Inputs!D14)/100 -> 2.3 | D26: cwt gain | E26: =C26*$E$4 -> 230 | F26: total cwt gain | G26: =Inputs!K28 -> 9.65 | H26: =G26*E26 -> 2219.5
B27: Total ownership costs | H27: =SUM(H25:H26) -> 2486.3
B29: Total costs | H29: =H27+H22 -> 19166.333
B31: Income over operating costs | G31: =H31/E4 -> 16.358679 | H31: =H6-H22 -> 1635.8679
B32: Income over total costs | G32: =H32/E4 -> -8.504321 | H32: =H6-H29 -> -850.4321
B35: Assumptions used in feeder-to-finish swine (confinement) planning budget
B36: Selected quantities | C36: Quantity | D36: Selected prices | F36: Price/unit
B37: Feeder pig purchase weight, pounds | C37: =Inputs!D14 -> 50 | D37: Feeder pig price, per head | F37: =Inputs!H5 -> 55.89
B38: Market hog sale weight, pounds | C38: =Inputs!D15 -> 280 | D38: Market hog price, per cwt | F38: =Inputs!H4 -> 64
B39: Labor, hours/pig | C39: =C16 -> 0.17 | D39: Labor rate, per hour | F39: =Inputs!H19 -> 23.5
B40: Manure production per hog, 1,000 gallons | C40: 0.102 | D40: Corn price, per bushel | F40: =Pcorn -> 5.05
B41: Operating interest, annual percentage | C41: =Inputs!H21 -> 0.075
B818: Start
B819: cropnum-22706 | C819: 1
B820: primyieldtype-22706 | C820: 1
B821: byyieldtype-22706 | C821: 1
...

Sheet Price data and justification
A1: Hog Price Data used with reasonings
A3: Prices chosen for 2027 budget
A4: Market hogs | C4: 64 | D4: $/cwt
A5: Adjustments used for non-market hog prices
A6: Feeder pig | B6: =B57 -> 1.74665 | C6: =C4*B6*B55/100 -> 55.892801 | D6: $/head
A7: Cull sows | B7: 0.98 | C7: =C4*B7 -> 62.72 | D7: $/cwt
A8: Replacement gilts ($/hd premium over market hogs) | B8: 110 | E8: Note: this is my best estimate of gilt premium. I left is that same as last year since production outlook for 2027 is expected to be 1% higher that production forecast for 2026. Seems to be holding steady. Also, Mags suggested keeping the $110 "royalty."
A11: USDA Sept 2026 Livestock, Dairy and Poultry Outlook | B11: 2027
A12: Hog price Q1 forecast | B12: 61
A13: Hog price Q2 forecast | B13: 67
A14: Hog price 2027 forecast | B14: 64
A16: FAPRI baseline published Sept 2026 | B16: 2027
A17: National daily direct, producer sold net price, live equivalent | B17: 64.38
A19: CME quotes (9/17/26) | C19: Lean hog quotes | D19: Live hog equivalent | F19: carcass yield
A20: 46419 | C20: 71.7 | D20: =C20*$F$20 -> 50.19 | F20: 0.7
A21: 46478 | C21: 76.7 | D21: =C21*$F$20 -> 53.69
A22: 46508 | C22: 81.625 | D22: =C22*$F$20 -> 57.1375
A23: 46539 | C23: 90.45 | D23: =C23*$F$20 -> 63.315
A24: 46569 | C24: 92.4 | D24: =C24*$F$20 -> 64.68
A25: 46600 | C25: 92.225 | D25: =C25*$F$20 -> 64.5575
A26: 46661 | C26: 78.075 | D26: =C26*$F$20 -> 54.6525
A27: 46722 | C27: 71.475 | D27: =C27*$F$20 -> 50.0325
A28: Average | D28: =AVERAGE(D20:D27) -> 57.281875
A33: USDA weekly national direct swine report (Sept 14, 2026)
A34: Negotiated national live weighted average for barrows and gilts | B34: 64.18 | C34: $/cwt
A35: Sows - negotiated average | B35: Avg wt | C35: price ($/cwt)
B36: 371 | C36: 62.59
B37: 425 | C37: 64.65
B38: 476 | C38: 70.16
B39: 523 | C39: 71.11
B40: 589 | C40: 72.27
C41: =AVERAGE(C36:C40) -> 68.156
A43: Quickstats
A44: Sum of Value | B44: Column Labels
A45: Row Labels | B45: 2022 | C45: 2023 | D45: 2024 | E45: 2025 | F45: 2026
A46: HOGS, BARROWS & GILTS - PRICE RECEIVED, MEASURED IN $ / CWT | B46: 73.146154 | C46: 62.907692 | D46: 64.3 | E46: 69.869231 | F46: 67.785714
A47: HOGS, SOWS - PRICE RECEIVED, MEASURED IN $ / CWT | B47: 67.892308 | C47: 47.153846 | D47: 60.1 | E47: 72.861538 | F47: 65.157143
A48: Grand Total | B48: 70.519231 | C48: 55.030769 | D48: 62.2 | E48: 71.365385 | F48: 66.471429
A50: Sow price relative to hog price | B50: =B47/B46 -> 0.92817331 | C50: =C47/C46 -> 0.74957202 | D50: =D47/D46 -> 0.93468118 | E50: =E47/E46 -> 1.0428273 | F50: =F47/F46 -> 0.96122234
A51: Note: Sept 2026 negotiated sow prices are greater than 100% of market hog price. Sept sow prices for 2024-2026 have been higher than market hog prices.
...
