Workbook
Name \C: Inputs!$H$2
Name BudgetActivities: #REF!
Name CustomActivities: '[1]Activity list'!$W$4:$AA$14
Name CustomImps: [1]!Table4[Implement]
Name ss: #REF!
Name ww: [1]!Table4[Implement]

Sheet Introduction
C2: Dairy Budgets
D3: Updated: 10/2026
C5: Developed by:
C6: Ryan Milhollin, Scott Poock, Reagan Bluel, Stacey Hamilton
C7: University of Missouri Extension
C10: Purpose: Use this workbook to develop customized enterprise budgets for a confinement dairy operation or dairy replacement heifers. An enterprise budget estimates the expected costs and returns for a single agricultural enterprise. It can help producers evaluate profitability, compare production alternatives, estimate cash needs and support management decisions. Default assumptions are based on Missouri conditions. Replace assumptions with values that reflect your farm and production practices.
C12: How to use this workbook:
C13: 1. Save a copy of the workbook using a new file name before making changes.
C14: 2. Begin with the Inputs worksheet. Review and update assumptions around feed costs, milk price and other key inputs.
C15: 3. Review the Cow feed and Heifer feed worksheets to adjust feed requirements and related assumptions.
C16: 4. Review the Heifer worksheet and make adjustments to develop a budget for the dairy replacement heifer enterprise. Results are reported on a per-heifer-sold basis.
C17: 5. Review the Dairy worksheet and make adjustments to develop a budget for the conventional dairy enterpise. Results are reported on a per-cow or per-cwt. basis.
C18: 6. Edit only the gray cells within each worksheet. Gray cells are user inputs; white cells contain labels or formulas that calculate results automatically.
C20: For more information:
... C24: This workbook is for educational purposes only and the user assumes all risks associated with its use.

Sheet Inputs
B2: Input Assumptions
B4: Feed cost assumption | C4: Value | D4: Unit | E4: Value | F4: Unit | G4: Value | H4: Unit
B5: Alfalfa hay | C5: 275 | D5: $ per ton | E5: =C5/2000 -> 0.1375 | F5: $ per pound | G5: =C5/20 -> 13.75 | H5: $ per cwt.
B6: Alfalfa baleage (as fed, 60% moisture) | C6: 96 | D6: $ per ton | E6: =C6/2000 -> 0.048 | F6: $ per pound | G6: =C6/20 -> 4.8 | H6: $ per cwt.
B7: Calf grower (16%) | C7: 475 | D7: $ per ton | E7: =C7/2000 -> 0.2375 | F7: $ per pound | G7: =C7/20 -> 23.75 | H7: $ per cwt.
B8: Calf starter (18%) w/med | C8: 575 | D8: $ per ton | E8: =C8/2000 -> 0.2875 | F8: $ per pound | G8: =C8/20 -> 28.75 | H8: $ per cwt.
B9: Corn gluten feed | C9: 225 | D9: $ per ton | E9: =C9/2000 -> 0.1125 | F9: $ per pound | G9: =C9/20 -> 11.25 | H9: $ per cwt.
B10: Corn silage | C10: 48 | D10: $ per ton | E10: =C10/2000 -> 0.024 | F10: $ per pound | G10: =C10/20 -> 2.4 | H10: $ per cwt.
B11: Corn, cracked | C11: 6.4 | D11: $ per bushel | E11: =C11/56 -> 0.11428571 | F11: $ per pound | G11: =C11/56*100 -> 11.428571 | H11: $ per cwt.
B12: Corn, ground | C12: 6.27 | D12: $ per bushel | E12: =C12/56 -> 0.11196429 | F12: $ per pound | G12: =C12/56*100 -> 11.196429 | H12: $ per cwt.
B13: Dry distillers grain | C13: 190 | D13: $ per ton | E13: =C13/2000 -> 0.095 | F13: $ per pound | G13: =C13/20 -> 9.5 | H13: $ per cwt.
B14: Grass hay | C14: 110 | D14: $ per ton | E14: =C14/2000 -> 0.055 | F14: $ per pound | G14: =C14/20 -> 5.5 | H14: $ per cwt.
B15: Milk replacer | C15: =E15*2000 -> 3400 | D15: $ per ton | E15: 1.7 | F15: $ per pound | G15: =C15/20 -> 170 | H15: $ per cwt.
B16: Minerals (w/lasalocid) | C16: 1000 | D16: $ per ton | E16: =C16/2000 -> 0.5 | F16: $ per pound | G16: =C16/20 -> 50 | H16: $ per cwt.
B17: Minerals/vitamins | C17: 2000 | D17: $ per ton | E17: =C17/2000 -> 1 | F17: $ per pound | G17: =C17/20 -> 100 | H17: $ per cwt.
B18: Pasture | C18: 30 | D18: $ per AUM
B19: Soybean hulls | C19: 145 | D19: $ per ton | E19: =C19/2000 -> 0.0725 | F19: $ per pound | G19: =C19/20 -> 7.25 | H19: $ per cwt.
B20: Soybean meal | C20: 385 | D20: $ per ton | E20: =C20/2000 -> 0.1925 | F20: $ per pound | G20: =C20/20 -> 19.25 | H20: $ per cwt.
B21: Whole cotton seed | C21: 375 | D21: $ per ton | E21: =C21/2000 -> 0.1875 | F21: $ per pound | G21: =C21/20 -> 18.75 | H21: $ per cwt. | AA21: Missouri FMMO reference price = (0.70 × Southeast Order price) + (0.30 × Central Order price)
AB22: 70/30
B23: Other assumption | C23: Value | D23: Unit | E23: Value | F23: Unit | G23: Value | H23: Unit | AB23: MO FMMO price | AC23: U.S. All-Milk | AD23: Difference
B24: Milk price | C24: 21.25 | D24: $ per cwt. | AA24: 2023 | AB24: 21.06 | AC24: 20.48 | AD24: =AB24-AC24 -> 0.58
B25: Holstein bull calf (dairy sire) | C25: 700 | D25: $ per head | E25: 0.5 | F25: % of calves sold | AA25: 2024 | AB25: 22.3 | AC25: 22.6 | AD25: =AB25-AC25 -> -0.3
B26: Holstein bull calf (beef sire) | C26: 1100 | D26: $ per head | E26: 0.5 | F26: % of calves sold | AA26: 2025 | AB26: 21.42 | AC26: 21.18 | AD26: =AB26-AC26 -> 0.24
B27: Average bull calf value | C27: =(C25*E25)+(C26*E26) -> 900 | D27: $ per head | AA27: 2026 (partial) | AB27: 21.54 | AC27: =(18.5+21.07)/2 -> 19.785
B28: Holstein heifer calf (dairy sire) | C28: 700 | D28: $ per head | E28: 0.7 | F28: % of calves sold | G28: 90 | H28: pounds per head
B29: Holstein heifer calf (beef sire) | C29: 1100 | D29: $ per head | E29: 0.3 | F29: % of calves sold
B30: Average heifer calf value | C30: =(C28*E28)+(C29*E29) -> 820 | D30: $ per head
B31: Cull cows | C31: 130 | D31: $ per cwt.
B32: Livestock --- insurance rate | C32: 0.01 | D32: percent
B33: Interest rate for long-term investments | C33: 0.07 | D33: percent
B34: Interest rate for operating costs and cattle | C34: 0.075 | D34: percent

Sheet Cow feed
B2: Conventional Dairy Feed
B4: Feed requirements and costs for two levels of milk production per cow per year | K4: 22,000 pound herd | L4: Lactation diet | O4: Days | P4: 307 | T4: 25,000 pound herd | U4: Lactation diet | X4: Days | Y4: =P4 -> 307
C5: Milk production level | K5: Feed item | L5: As fed lb/day | M5: DM fed lb/day | N5: waste % | O5: lb/day | P5: lb/cow/yr | Q5: DM, % | R5: Lbs DM | T5: Feed item | U5: As fed lb/day | V5: DM fed lb/day | W5: waste % | X5: lb/day | Y5: lb/cow/yr | Z5: DM, % | AA5: Lbs DM
G6: Replacement heifer | H6: Total feed cost | K6: =B10 -> Corn silage | L6: 52 | M6: =L6*Q6 -> 18.2 | N6: 0.15 | O6: =L6*(1+N6) -> 59.8 | P6: =O6*Y$4 -> 18358.6 | Q6: 0.35 | R6: =+P6*Q6 -> 6425.51 | T6: =B10 -> Corn silage | U6: 51 | V6: =U6*Z6 -> 17.85 | W6: 0.15 | X6: =U6*(1+W6) -> 58.65 | Y6: =X6*Y$4 -> 18005.55 | Z6: 0.35 | AA6: =+Y6*Z6 -> 6301.9425
B7: Milk production (lbs) | C7: =Dairy!H52 -> 21999.6 | E7: =Dairy!J52 -> 25000 | G7: (birth to 24 months) | H7: =C7 -> 21999.6 | I7: =E7 -> 25000 | K7: =B11 -> Alfalfa baleage | L7: 14 | M7: =L7*Q7 -> 5.6 | N7: 0.15 | O7: =L7*(1+N7) -> 16.1 | P7: =O7*Y$4 -> 4942.7 | Q7: 0.4 | R7: =+P7*Q7 -> 1977.08 | T7: =B11 -> Alfalfa baleage | U7: 15 | V7: =U7*Z7 -> 6 | W7: 0.15 | X7: =U7*(1+W7) -> 17.25 | Y7: =X7*Y$4 -> 5295.75 | Z7: 0.4 | AA7: =+Y7*Z7 -> 2118.3
K8: =B12 -> Alfalfa hay | L8: 0 | M8: =L8*Q8 -> 0 | N8: 0.05 | O8: =L8*(1+N8) -> 0 | P8: =O8*Y$4 -> 0 | Q8: 0.9 | R8: =+P8*Q8 -> 0 | T8: =B12 -> Alfalfa hay | U8: 0 | V8: =U8*Z8 -> 0 | W8: 0.05 | X8: =U8*(1+W8) -> 0 | Y8: =X8*Y$4 -> 0 | Z8: 0.9 | AA8: =+Y8*Z8 -> 0
B9: Feed item | C9: Lbs | D9: Dollars | E9: Lbs | F9: Dollars | K9: =B13 -> Grass hay | L9: 0 | M9: =L9*Q9 -> 0 | N9: 0.05 | O9: =L9*(1+N9) -> 0 | P9: =O9*Y$4 -> 0 | Q9: 0.9 | R9: =+P9*Q9 -> 0 | T9: =B13 -> Grass hay | U9: 0 | V9: =U9*Z9 -> 0 | W9: 0.05 | X9: =U9*(1+W9) -> 0 | Y9: =X9*Y$4 -> 0 | Z9: 0.9 | AA9: =+Y9*Z9 -> 0
B10: Corn silage | C10: =L35 -> 19359.1 | D10: =O35 -> 464.6184 | E10: =U35 -> 19006.05 | F10: =X35 -> 456.1452 | K10: =B14 -> Corn, ground | L10: 16.5 | M10: =L10*Q10 -> 14.685 | N10: 0.03 | O10: =L10*(1+N10) -> 16.995 | P10: =O10*Y$4 -> 5217.465 | Q10: 0.89 | R10: =+P10*Q10 -> 4643.5439 | T10: =B14 -> Corn, ground | U10: 18.75 | V10: =U10*Z10 -> 16.6875 | W10: 0.03 | X10: =U10*(1+W10) -> 19.3125 | Y10: =X10*Y$4 -> 5928.9375 | Z10: 0.89 | AA10: =+Y10*Z10 -> 5276.7544
B11: Alfalfa baleage | C11: =L36 -> 4942.7 | D11: =O36 -> 237.2496 | E11: =U36 -> 5295.75 | F11: =X36 -> 254.196 | K11: =B15 -> Soybean meal | L11: 5 | M11: =L11*Q11 -> 4.5 | N11: 0.03 | O11: =L11*(1+N11) -> 5.15 | P11: =O11*Y$4 -> 1581.05 | Q11: 0.9 | R11: =+P11*Q11 -> 1422.945 | T11: =B15 -> Soybean meal | U11: 6 | V11: =U11*Z11 -> 5.4 | W11: 0.03 | X11: =U11*(1+W11) -> 6.18 | Y11: =X11*Y$4 -> 1897.26 | Z11: 0.9 | AA11: =+Y11*Z11 -> 1707.534
B12: Alfalfa hay | C12: =L37 -> 0 | D12: =O37 -> 0 | E12: =U37 -> 0 | F12: =X37 -> 0 | K12: =B16 -> Dry distillers grain | L12: 3 | M12: =L12*Q12 -> 2.55 | N12: 0.03 | O12: =L12*(1+N12) -> 3.09 | P12: =O12*Y$4 -> 948.63 | Q12: 0.85 | R12: =+P12*Q12 -> 806.3355 | T12: =B16 -> Dry distillers grain | U12: 3 | V12: =U12*Z12 -> 2.55 | W12: 0.03 | X12: =U12*(1+W12) -> 3.09 | Y12: =X12*Y$4 -> 948.63 | Z12: 0.85 | AA12: =+Y12*Z12 -> 806.3355
B13: Grass hay | C13: =L38 -> 913.5 | D13: =O38 -> 50.2425 | E13: =U38 -> 913.5 | F13: =X38 -> 50.2425 | K13: =B17 -> Soybean hulls | L13: 5 | M13: =L13*Q13 -> 4.25 | N13: 0.03 | O13: =L13*(1+N13) -> 5.15 | P13: =O13*Y$4 -> 1581.05 | Q13: 0.85 | R13: =+P13*Q13 -> 1343.8925 | T13: =B17 -> Soybean hulls | U13: 5 | V13: =U13*Z13 -> 4.25 | W13: 0.03 | X13: =U13*(1+W13) -> 5.15 | Y13: =X13*Y$4 -> 1581.05 | Z13: 0.85 | AA13: =+Y13*Z13 -> 1343.8925
B14: Corn, ground | C14: =L39 -> 5351.88 | D14: =O39 -> 599.21942 | E14: =U39 -> 6108.1575 | F14: =X39 -> 683.89549 | K14: =B18 -> Whole cotton seed | L14: 2 | M14: =L14*Q14 -> 1.82 | N14: 0.03 | O14: =L14*(1+N14) -> 2.06 | P14: =O14*Y$4 -> 632.42 | Q14: 0.91 | R14: =+P14*Q14 -> 575.5022 | T14: =B18 -> Whole cotton seed | U14: 2.5 | V14: =U14*Z14 -> 2.275 | W14: 0.03 | X14: =U14*(1+W14) -> 2.575 | Y14: =X14*Y$4 -> 790.525 | Z14: 0.91 | AA14: =+Y14*Z14 -> 719.37775
B15: Soybean meal | C15: =L40 -> 1670.66 | D15: =O40 -> 321.60205 | E15: =U40 -> 1986.87 | F15: =X40 -> 382.47247 | K15: =B19 -> Minerals/vitamins | L15: 1.25 | M15: =L15*Q15 -> 1.25 | N15: 0.02 | O15: =L15*(1+N15) -> 1.275 | P15: =O15*Y$4 -> 391.425 | Q15: 1 | R15: =+P15*Q15 -> 391.425 | T15: =B19 -> Minerals/vitamins | U15: 1.25 | V15: =U15*Z15 -> 1.25 | W15: 0.02 | X15: =U15*(1+W15) -> 1.275 | Y15: =X15*Y$4 -> 391.425 | Z15: 1 | AA15: =+Y15*Z15 -> 391.425
B16: Dry distillers grain | C16: =L41 -> 948.63 | D16: =O41 -> 90.11985 | E16: =U41 -> 948.63 | F16: =X41 -> 90.11985 | M16: =SUM(M6:M15) -> 52.855 | Q16: Total lbs. | R16: =SUM(R6:R15) -> 17586.234 | V16: =SUM(V6:V15) -> 56.2625 | Z16: Total lbs. | AA16: =SUM(AA6:AA15) -> 18665.562
B17: Soybean hulls | C17: =L42 -> 1700.53 | D17: =O42 -> 123.28843 | E17: =U42 -> 1700.53 | F17: =X42 -> 123.28843 | Q17: Lb/day | R17: =+R16/P4 -> 57.28415 | Z17: Lb/day | AA17: =+AA16/P4 -> 60.799875
B18: Whole cotton seed | C18: =L43 -> 632.42 | D18: =O43 -> 118.57875 | E18: =U43 -> 790.525 | F18: =X43 -> 148.22344
B19: Minerals/vitamins | C19: =L44 -> 421.005 | D19: =O44 -> 421.005 | E19: =U44 -> 421.005 | F19: =X44 -> 421.005 | K19: 22,000 pound herd | L19: Dry diet | O19: Days | P19: 58 | T19: 25,000 pound herd | U19: Dry diet | X19: Days | Y19: =P19 -> 58
B20: Total feed cost | D20: =SUM(D10:D19) -> 2425.924 | F20: =SUM(F10:F19) -> 2609.5884 | G20: ='Heifer feed'!C51 -> 1188.622 | H20: =D20+(G20*Dairy!H80) -> 2818.1693 | I20: =F20+(G20*Dairy!H80) -> 3001.8337 | K20: Feed item | L20: As fed lb/day | M20: DM fed lb/day | N20: waste % | O20: lb/day | P20: lb/cow/yr | Q20: DM, % | R20: Lbs DM | T20: Feed item | U20: lb/day | V20: DM fed lb/day | W20: waste % | X20: lb/day | Y20: lb/cow/yr | Z20: DM, % | AA20: Lbs DM
K21: =B10 -> Corn silage | L21: 15 | M21: =L21*Q21 -> 5.25 | N21: 0.15 | O21: =L21*(1+N21) -> 17.25 | P21: =O21*P$19 -> 1000.5 | Q21: 0.35 | R21: =+P21*Q21 -> 350.175 | T21: =B10 -> Corn silage | U21: 15 | V21: =U21*Z21 -> 5.25 | W21: 0.15 | X21: =U21*(1+W21) -> 17.25 | Y21: =X21*Y$19 -> 1000.5 | Z21: 0.35 | AA21: =+Y21*Z21 -> 350.175
K22: =B11 -> Alfalfa baleage | L22: 0 | M22: =L22*Q22 -> 0 | N22: 0.15 | O22: =L22*(1+N22) -> 0 | P22: =O22*P$19 -> 0 | Q22: 0.35 | R22: =+P22*Q22 -> 0 | T22: =B11 -> Alfalfa baleage | U22: 0 | V22: =U22*Z22 -> 0 | W22: 0.15 | X22: =U22*(1+W22) -> 0 | Y22: =X22*Y$19 -> 0 | Z22: 0.35 | AA22: =+Y22*Z22 -> 0
K23: =B12 -> Alfalfa hay | L23: 0 | M23: =L23*Q23 -> 0 | N23: 0.05 | O23: =L23*(1+N23) -> 0 | P23: =O23*P$19 -> 0 | Q23: 0.85 | R23: =+P23*Q23 -> 0 | T23: =B12 -> Alfalfa hay | U23: 0 | V23: =U23*Z23 -> 0 | W23: 0.05 | X23: =U23*(1+W23) -> 0 | Y23: =X23*Y$19 -> 0 | Z23: 0.85 | AA23: =+Y23*Z23 -> 0
K24: =B13 -> Grass hay | L24: 15 | M24: =L24*Q24 -> 12.75 | N24: 0.05 | O24: =L24*(1+N24) -> 15.75 | P24: =O24*P$19 -> 913.5 | Q24: 0.85 | R24: =+P24*Q24 -> 776.475 | T24: =B13 -> Grass hay | U24: 15 | V24: =U24*Z24 -> 12.75 | W24: 0.05 | X24: =U24*(1+W24) -> 15.75 | Y24: =X24*Y$19 -> 913.5 | Z24: 0.85 | AA24: =+Y24*Z24 -> 776.475
K25: =B14 -> Corn, ground | L25: 2.25 | M25: =L25*Q25 -> 1.9125 | N25: 0.03 | O25: =L25*(1+N25) -> 2.3175 | P25: =O25*P$19 -> 134.415 | Q25: 0.85 | R25: =+P25*Q25 -> 114.25275 | T25: =B14 -> Corn, ground | U25: 3 | V25: =U25*Z25 -> 2.55 | W25: 0.03 | X25: =U25*(1+W25) -> 3.09 | Y25: =X25*Y$19 -> 179.22 | Z25: 0.85 | AA25: =+Y25*Z25 -> 152.337
K26: =B15 -> Soybean meal | L26: 1.5 | M26: =L26*Q26 -> 1.35 | N26: 0.03 | O26: =L26*(1+N26) -> 1.545 | P26: =O26*P$19 -> 89.61 | Q26: 0.9 | R26: =+P26*Q26 -> 80.649 | T26: =B15 -> Soybean meal | U26: 1.5 | V26: =U26*Z26 -> 1.35 | W26: 0.03 | X26: =U26*(1+W26) -> 1.545 | Y26: =X26*Y$19 -> 89.61 | Z26: 0.9 | AA26: =+Y26*Z26 -> 80.649
K27: =B16 -> Dry distillers grain | L27: 0 | M27: =L27*Q27 -> 0 | N27: 0.03 | O27: =L27*(1+N27) -> 0 | P27: =O27*P$19 -> 0 | Q27: 0.85 | R27: =+P27*Q27 -> 0 | T27: =B16 -> Dry distillers grain | U27: 0 | V27: =U27*Z27 -> 0 | W27: 0.03 | X27: =U27*(1+W27) -> 0 | Y27: =X27*Y$19 -> 0 | Z27: 0.85 | AA27: =+Y27*Z27 -> 0
K28: =B17 -> Soybean hulls | L28: 2 | M28: =L28*Q28 -> 1.7 | N28: 0.03 | O28: =L28*(1+N28) -> 2.06 | P28: =O28*P$19 -> 119.48 | Q28: 0.85 | R28: =+P28*Q28 -> 101.558 | T28: =B17 -> Soybean hulls | U28: 2 | V28: =U28*Z28 -> 1.7 | W28: 0.03 | X28: =U28*(1+W28) -> 2.06 | Y28: =X28*Y$19 -> 119.48 | Z28: 0.85 | AA28: =+Y28*Z28 -> 101.558
K29: =B18 -> Whole cotton seed | L29: 0 | M29: =L29*Q29 -> 0 | N29: 0.03 | O29: =L29*(1+N29) -> 0 | P29: =O29*P$19 -> 0 | Q29: 0.85 | R29: =+P29*Q29 -> 0 | T29: =B18 -> Whole cotton seed | U29: 0 | V29: =U29*Z29 -> 0 | W29: 0.03 | X29: =U29*(1+W29) -> 0 | Y29: =X29*Y$19 -> 0 | Z29: 0.85 | AA29: =+Y29*Z29 -> 0
K30: =B19 -> Minerals/vitamins | L30: 0.5 | M30: =L30*Q30 -> 0.5 | N30: 0.02 | O30: =L30*(1+N30) -> 0.51 | P30: =O30*P$19 -> 29.58 | Q30: 1 | R30: =+P30*Q30 -> 29.58 | T30: =B19 -> Minerals/vitamins | U30: 0.5 | V30: =U30*Z30 -> 0.5 | W30: 0.02 | X30: =U30*(1+W30) -> 0.51 | Y30: =X30*Y$19 -> 29.58 | Z30: 1 | AA30: =+Y30*Z30 -> 29.58
M31: =SUM(M21:M30) -> 23.4625 | Q31: Total lbs. | R31: =SUM(R21:R30) -> 1452.6898 | V31: =SUM(V21:V30) -> 24.1 | Z31: Total lbs. | AA31: =SUM(AA21:AA30) -> 1490.774
Q32: Lb/day | R32: =+R31/P19 -> 25.046375 | Z32: Lb/day | AA32: =+AA31/P19 -> 25.703
K33: Total per cow/year | T33: Total per cow/year
K34: Feed item | L34: lbs/cow/yr | N34: $/ton | O34: $/cow | P34: tons/year | T34: Feed item | U34: lbs/cow/yr | W34: $/ton | X34: $/cow | Y34: tons/year
K35: =B10 -> Corn silage | L35: =P6+P21 -> 19359.1 | N35: =W35 -> 48 | O35: =L35*N35/2000 -> 464.6184 | P35: =L35/2000 -> 9.67955 | T35: =B10 -> Corn silage | U35: =Y6+Y21 -> 19006.05 | W35: =Inputs!C10 -> 48 | X35: =U35*W35/2000 -> 456.1452 | Y35: =U35/2000 -> 9.503025
K36: =B11 -> Alfalfa baleage | L36: =P7+P22 -> 4942.7 | N36: =W36 -> 96 | O36: =L36*N36/2000 -> 237.2496 | P36: =L36/2000 -> 2.47135 | T36: =B11 -> Alfalfa baleage | U36: =Y7+Y22 -> 5295.75 | W36: =Inputs!C6 -> 96 | X36: =U36*W36/2000 -> 254.196 | Y36: =U36/2000 -> 2.647875
K37: =B12 -> Alfalfa hay | L37: =P8+P23 -> 0 | N37: =W37 -> 275 | O37: =L37*N37/2000 -> 0 | P37: =L37/2000 -> 0 | T37: =B12 -> Alfalfa hay | U37: =Y8+Y23 -> 0 | W37: =Inputs!C5 -> 275 | X37: =U37*W37/2000 -> 0 | Y37: =U37/2000 -> 0
K38: =B13 -> Grass hay | L38: =P9+P24 -> 913.5 | N38: =W38 -> 110 | O38: =L38*N38/2000 -> 50.2425 | P38: =L38/2000 -> 0.45675 | T38: =B13 -> Grass hay | U38: =Y9+Y24 -> 913.5 | W38: =Inputs!C14 -> 110 | X38: =U38*W38/2000 -> 50.2425 | Y38: =U38/2000 -> 0.45675
K39: =B14 -> Corn, ground | L39: =P10+P25 -> 5351.88 | N39: =W39 -> 223.92857 | O39: =L39*N39/2000 -> 599.21942 | P39: =L39/2000 -> 2.67594 | T39: =B14 -> Corn, ground | U39: =Y10+Y25 -> 6108.1575 | W39: =Inputs!G12*20 -> 223.92857 | X39: =U39*W39/2000 -> 683.89549 | Y39: =U39/2000 -> 3.0540787
K40: =B15 -> Soybean meal | L40: =P11+P26 -> 1670.66 | N40: =W40 -> 385 | O40: =L40*N40/2000 -> 321.60205 | P40: =L40/2000 -> 0.83533 | T40: =B15 -> Soybean meal | U40: =Y11+Y26 -> 1986.87 | W40: =Inputs!C20 -> 385 | X40: =U40*W40/2000 -> 382.47247 | Y40: =U40/2000 -> 0.993435
K41: =B16 -> Dry distillers grain | L41: =P12+P27 -> 948.63 | N41: =W41 -> 190 | O41: =L41*N41/2000 -> 90.11985 | P41: =L41/2000 -> 0.474315 | T41: =B16 -> Dry distillers grain | U41: =Y12+Y27 -> 948.63 | W41: =Inputs!C13 -> 190 | X41: =U41*W41/2000 -> 90.11985 | Y41: =U41/2000 -> 0.474315
K42: =B17 -> Soybean hulls | L42: =P13+P28 -> 1700.53 | N42: =W42 -> 145 | O42: =L42*N42/2000 -> 123.28843 | P42: =L42/2000 -> 0.850265 | T42: =B17 -> Soybean hulls | U42: =Y13+Y28 -> 1700.53 | W42: =Inputs!C19 -> 145 | X42: =U42*W42/2000 -> 123.28843 | Y42: =U42/2000 -> 0.850265
...

Sheet Heifer feed
B2: Feed requirements for raising a dairy replacement heifer (birth to 6 months)
C3: Preweaning ration | E3: Transition ration | G3: Early growing ration
C4: Birth to 2 months | E4: 2 to 3 months | G4: 3 to 6 months
B5: Beginning/ending weight | C5: 90 | D5: 180 | E5: =+D5 -> 180 | F5: 235 | G5: =+F5 -> 235 | H5: 400
B7: Feed item | C7: Lbs | D7: Dollars | E7: Lbs | F7: Dollars | G7: Lbs | H7: Dollars
A8: Milk replacer | B8: =LEFT(A8,40)&" @ $"&FIXED(VLOOKUP(A8,Inputs!$B$5:$G$21,6),2)&" per cwt." -> Milk replacer @ $170.00 per cwt. | C8: 100 | D8: =C8/100*VLOOKUP($A8,Inputs!$B$5:$G$21,6) -> 170 | E8: 0 | F8: =E8/100*VLOOKUP($A8,Inputs!$B$5:$G$21,6) -> 0 | G8: 0 | H8: =G8/100*VLOOKUP($A8,Inputs!$B$5:$G$21,6) -> 0
A9: Calf starter (18%) w/med | B9: =LEFT(A9,40)&" @ $"&FIXED(VLOOKUP(A9,Inputs!$B$5:$G$21,6),2)&" per cwt." -> Calf starter (18%) w/med @ $28.75 per cwt. | C9: 100 | D9: =C9/100*VLOOKUP($A9,Inputs!$B$5:$G$21,6) -> 28.75 | E9: 100 | F9: =E9/100*VLOOKUP($A9,Inputs!$B$5:$G$21,6) -> 28.75 | G9: 0 | H9: =G9/100*VLOOKUP($A9,Inputs!$B$5:$G$21,6) -> 0
A10: Calf grower (16%) | B10: =LEFT(A10,40)&" @ $"&FIXED(VLOOKUP(A10,Inputs!$B$5:$G$21,6),2)&" per cwt." -> Calf grower (16%) @ $23.75 per cwt. | C10: 0 | D10: =C10/100*VLOOKUP($A10,Inputs!$B$5:$G$21,6) -> 0 | E10: 50 | F10: =E10/100*VLOOKUP($A10,Inputs!$B$5:$G$21,6) -> 11.875 | G10: 450 | H10: =G10/100*VLOOKUP($A10,Inputs!$B$5:$G$21,6) -> 106.875
A11: Alfalfa hay | B11: =LEFT(A11,40)&" @ $"&FIXED(VLOOKUP(A11,Inputs!$B$5:$G$21,2,FALSE),2)&" per ton" -> Alfalfa hay @ $275.00 per ton | C11: 0 | D11: =C11/100*VLOOKUP($A11,Inputs!$B$5:$G$21,6,FALSE) -> 0 | E11: 90 | F11: =E11/100*VLOOKUP($A11,Inputs!$B$5:$G$21,6,FALSE) -> 12.375 | G11: 225 | H11: =G11/100*VLOOKUP($A11,Inputs!$B$5:$G$21,6,FALSE) -> 30.9375
A12: Grass hay | B12: =LEFT(A12,40)&" @ $"&FIXED(VLOOKUP(A12,Inputs!$B$5:$G$21,2),2)&" per ton" -> Grass hay @ $110.00 per ton | C12: 0 | D12: =C12/100*VLOOKUP($A12,Inputs!$B$5:$G$21,6) -> 0 | E12: 0 | F12: =E12/100*VLOOKUP($A12,Inputs!$B$5:$G$21,6) -> 0 | G12: 225 | H12: =G12/100*VLOOKUP($A12,Inputs!$B$5:$G$21,6) -> 12.375
A13: Pasture | B13: =LEFT(A13,40)&" @ $"&FIXED(VLOOKUP(A28,Inputs!$B$5:$G$21,2),2)&" per AUM" -> Pasture @ $30.00 per AUM | C13: 0 | D13: =C13*VLOOKUP($A13,Inputs!$B$5:$G$21,2) -> 0 | E13: 0 | F13: =E13*VLOOKUP($A13,Inputs!$B$5:$G$21,2) -> 0 | G13: =0.35*2*(7/12) -> 0.40833333 | H13: =G13*VLOOKUP($A13,Inputs!$B$5:$G$21,2) -> 12.25
B14: Feed cost per period | D14: =SUM(D8:D13) -> 198.75 | F14: =SUM(F8:F13) -> 53 | H14: =SUM(H8:H13) -> 162.4375
B15: Total feed costs | D15: =D14+F14+H14 -> 414.1875
B17: Feed requirements for raising replacement heifer (6 to 12 months)
C18: Growing ration #1 | E18: Growing ration #2 | G18: Growing ration #3
C19: Winter feeding | E19: Spring & fall | G19: Mid-summer
B20: Beginning/ending weight | C20: 400 | D20: 725 | E20: =+C20 -> 400 | F20: =+D20 -> 725 | G20: =+E20 -> 400 | H20: =+F20 -> 725
B22: Feed item | C22: Lbs | D22: Dollars | E22: Lbs | F22: Dollars | G22: Lbs | H22: Dollars
A23: Corn gluten feed | B23: =LEFT(A23,40)&" @ $"&FIXED(VLOOKUP(A23,Inputs!$B$5:$G$21,6),2)&" per cwt." -> Corn gluten feed @ $11.25 per cwt. | C23: 525 | D23: =C23/100*VLOOKUP($A23,Inputs!$B$5:$G$21,6) -> 59.0625 | E23: 0 | F23: =E23/100*VLOOKUP($A23,Inputs!$B$5:$G$21,6) -> 0 | G23: 270 | H23: =G23/100*VLOOKUP($A23,Inputs!$B$5:$G$21,6) -> 30.375
A24: Corn, cracked | B24: =LEFT(A24,40)&" @ $"&FIXED(VLOOKUP(A24,Inputs!$B$5:$G$21,6),2)&" per cwt." -> Corn, cracked @ $11.43 per cwt. | C24: 387 | D24: =C24/100*VLOOKUP($A24,Inputs!$B$5:$G$21,6) -> 44.228571 | E24: 252 | F24: =E24/100*VLOOKUP($A24,Inputs!$B$5:$G$21,6) -> 28.8 | G24: 234 | H24: =G24/100*VLOOKUP($A24,Inputs!$B$5:$G$21,6) -> 26.742857
A25: Soybean hulls | B25: =LEFT(A25,40)&" @ $"&FIXED(VLOOKUP(A25,Inputs!$B$5:$G$21,2),2)&" per ton" -> Soybean hulls @ $145.00 per ton | C25: 262.5 | D25: =C25/100*VLOOKUP($A25,Inputs!$B$5:$G$21,6) -> 19.03125 | E25: 360 | F25: =E25/100*VLOOKUP($A25,Inputs!$B$5:$G$21,6) -> 26.1 | G25: 270 | H25: =G25/100*VLOOKUP($A25,Inputs!$B$5:$G$21,6) -> 19.575
A26: Grass hay | B26: =LEFT(A26,40)&" @ $"&FIXED(VLOOKUP(A26,Inputs!$B$5:$G$21,2),2)&" per ton" -> Grass hay @ $110.00 per ton | C26: 1350 | D26: =C26/100*VLOOKUP($A26,Inputs!$B$5:$G$21,6) -> 74.25 | E26: 0 | F26: =E26/100*VLOOKUP($A26,Inputs!$B$5:$G$21,6) -> 0 | G26: 0 | H26: =G26/100*VLOOKUP($A26,Inputs!$B$5:$G$21,6) -> 0
A27: Minerals (w/lasalocid) | B27: =LEFT(A27,40)&" @ $"&FIXED(VLOOKUP(A27,Inputs!$B$5:$G$21,6),2)&" per cwt." -> Minerals (w/lasalocid) @ $50.00 per cwt. | C27: 36 | D27: =C27/100*VLOOKUP($A27,Inputs!$B$5:$G$21,6) -> 18 | E27: 36 | F27: =E27/100*VLOOKUP($A27,Inputs!$B$5:$G$21,6) -> 18 | G27: 36 | H27: =G27/100*VLOOKUP($A27,Inputs!$B$5:$G$21,6) -> 18
A28: Pasture | B28: =LEFT(A28,40)&" @ $"&FIXED(VLOOKUP(A28,Inputs!$B$5:$G$21,2),2)&" per AUM" -> Pasture @ $30.00 per AUM | C28: 0 | D28: =C28*VLOOKUP($A28,Inputs!$B$5:$G$21,2) -> 0 | E28: =2*((E20+F20)/2/1000) -> 1.125 | F28: =E28*VLOOKUP($A28,Inputs!$B$5:$G$21,2) -> 33.75 | G28: =3*((G20+H20)/2/1000) -> 1.6875 | H28: =G28*VLOOKUP($A28,Inputs!$B$5:$G$21,2) -> 50.625
B29: Feed cost per period | D29: =SUM(D23:D28) -> 214.57232 | F29: =SUM(F23:F28) -> 106.65 | H29: =SUM(H23:H28) -> 145.31786
B30: Average total feed costs | D30: =(D29+F29*2+H29)/2 -> 286.59509
B32: Feed requirements for raising replacement heifer (12 to 24 months)
C33: Growing ration #4 | E33: Growing ration #5 | G33: Growing ration #6
C34: Winter feeding | E34: Spring & fall | G34: Mid-summer
B35: Beginning/ending weight | C35: 725 | D35: 1380 | E35: =+C35 -> 725 | F35: =+D35 -> 1380 | G35: =+E35 -> 725 | H35: =+F35 -> 1380
B37: Feed item | C37: Lbs | D37: Dollars | E37: Lbs | F37: Dollars | G37: Lbs | H37: Dollars
A38: Corn gluten feed | B38: =LEFT(A38,40)&" @ $"&FIXED(VLOOKUP(A38,Inputs!$B$5:$G$21,6),2)&" per cwt." -> Corn gluten feed @ $11.25 per cwt. | C38: 225 | D38: =C38/100*VLOOKUP($A38,Inputs!$B$5:$G$21,6) -> 25.3125 | E38: 0 | F38: =E38/100*VLOOKUP($A38,Inputs!$B$5:$G$21,6) -> 0 | G38: 207 | H38: =G38/100*VLOOKUP($A38,Inputs!$B$5:$G$21,6) -> 23.2875
A39: Corn, cracked | B39: =LEFT(A39,40)&" @ $"&FIXED(VLOOKUP(A39,Inputs!$B$5:$G$21,6),2)&" per cwt." -> Corn, cracked @ $11.43 per cwt. | C39: 135 | D39: =C39/100*VLOOKUP($A39,Inputs!$B$5:$G$21,6) -> 15.428571 | E39: 90 | F39: =E39/100*VLOOKUP($A39,Inputs!$B$5:$G$21,6) -> 10.285714 | G39: 117 | H39: =G39/100*VLOOKUP($A39,Inputs!$B$5:$G$21,6) -> 13.371429
A40: Soybean hulls | B40: =LEFT(A40,40)&" @ $"&FIXED(VLOOKUP(A40,Inputs!$B$5:$G$21,2),2)&" per ton" -> Soybean hulls @ $145.00 per ton | C40: 90 | D40: =C40/100*VLOOKUP($A40,Inputs!$B$5:$G$21,6) -> 6.525 | E40: 180 | F40: =E40/100*VLOOKUP($A40,Inputs!$B$5:$G$21,6) -> 13.05 | G40: 207 | H40: =G40/100*VLOOKUP($A40,Inputs!$B$5:$G$21,6) -> 15.0075
A41: Grass hay | B41: =LEFT(A41,40)&" @ $"&FIXED(VLOOKUP(A41,Inputs!$B$5:$G$21,2),2)&" per ton" -> Grass hay @ $110.00 per ton | C41: 1710 | D41: =C41/100*VLOOKUP($A41,Inputs!$B$5:$G$21,6) -> 94.05 | E41: 0 | F41: =E41/100*VLOOKUP($A41,Inputs!$B$5:$G$21,6) -> 0 | G41: 0 | H41: =G41/100*VLOOKUP($A41,Inputs!$B$5:$G$21,6) -> 0
A42: Minerals (w/lasalocid) | B42: =LEFT(A42,40)&" @ $"&FIXED(VLOOKUP(A42,Inputs!$B$5:$G$21,6),2)&" per cwt." -> Minerals (w/lasalocid) @ $50.00 per cwt. | C42: 18 | D42: =C42/100*VLOOKUP($A42,Inputs!$B$5:$G$21,6) -> 9 | E42: 18 | F42: =E42/100*VLOOKUP($A42,Inputs!$B$5:$G$21,6) -> 9 | G42: 18 | H42: =G42/100*VLOOKUP($A42,Inputs!$B$5:$G$21,6) -> 9
A43: Pasture | B43: =LEFT(A43,40)&" @ $"&FIXED(VLOOKUP(A43,Inputs!$B$5:$G$21,2),2)&" per AUM" -> Pasture @ $30.00 per AUM | C43: 0 | D43: =C43*VLOOKUP($A43,Inputs!$B$5:$G$21,2) -> 0 | E43: =2*((E35+F35)/2/1000) -> 2.105 | F43: =E43*VLOOKUP($A43,Inputs!$B$5:$G$21,2) -> 63.15 | G43: =3*((G35+H35)/2/1000) -> 3.1575 | H43: =G43*VLOOKUP($A43,Inputs!$B$5:$G$21,2) -> 94.725
B44: Feed cost per period | D44: =SUM(D38:D43) -> 150.31607 | F44: =SUM(F38:F43) -> 95.485714 | H44: =SUM(H38:H43) -> 155.39143
B45: Average total feed costs | D45: =(D44+F44*2+H44) -> 496.67893
B47: Total feed costs for replacement heifer
...

Sheet Heifer
B2: Replacement Dairy Heifer Budget
B4: Income | D4: Percent sold | E4: Unit | F4: Quantity | G4: Price per unit | H4: Total per heifer sold
C5: ="Springer heifer sales" -> Springer heifer sales | D5: 0.95 | E5: head | G5: 2550 | H5: =G5*D5 -> 2422.5
C6: ="Cull heifer sales" -> Cull heifer sales | D6: 0.025 | E6: pound | F6: 1300 | G6: 1.65 | H6: =D6*G6*F6 -> 53.625
C7: ="Yearling heifer sales" -> Yearling heifer sales | D7: 0.025 | E7: pound | F7: 725 | G7: 1.95 | H7: =D7*G7*F7 -> 35.34375
C8: ="Less death loss (purchased calves)" -> Less death loss (purchased calves) | E8: percent | G8: 0.036 | H8: =-H12*G8 -> -25.2
G9: Total income | H9: =SUM(H5:H8) -> 2486.2688
B11: Operating costs | E11: Unit | F11: Quantity | G11: Price per unit | H11: Total per heifer sold
C12: ="Purchased heifer calf" -> Purchased heifer calf | E12: head | G12: =Inputs!C28 -> 700 | H12: =G12 -> 700
C13: Interest on heifer calf investment | E13: percent | G13: =Inputs!C34 -> 0.075 | H13: =(G12*(1+G8)*G13)*H43/12*1 -> 108.78
C14: Feed (birth to 24 months of age) | H14: ='Heifer feed'!C51 -> 1188.622
C15: ="Labor" -> Labor | E15: hours | F15: 6.46 | G15: 22.5 | H15: =G15*F15 -> 145.35
C16: Veterinary, drugs, and supplies | E16: per heifer | H16: 38
C17: Breeding costs for AI services | E17: per heifer | H17: 18
C18: Transportation and marketing | E18: per heifer | H18: 8
C19: Utilities, fuel, oil | E19: per heifer | H19: 33
C20: Building and equipment repairs | E20: percent | G20: 0.05 | H20: =G20*(H46+H52) -> 22.25
C21: Bedding | E21: per heifer | H21: 19
C22: Miscellaneous | E22: per heifer | H22: 19
C23: ="Operating interest" -> Operating interest | E23: percent | G23: =Inputs!C34 -> 0.075 | H23: =(SUM(H14:H21))/2*G23 -> 55.208327
G24: Total operating costs | H24: =SUM(H12:H23) -> 2355.2104
B26: Ownership costs | H26: Total per heifer sold
C27: Depreciation on buildings and equipment | H27: =(H48+H54)*H43/12 -> 46.35
C28: Interest on buildings and equipment | H28: =(H49+H55)*H43/12 -> 36.7125
C29: Insurance and taxes on buildings and equipment | H29: =(H50+H56+H51+H57)*H43/12 -> 13.475
G30: Total ownership costs | H30: =SUM(H27:H29) -> 96.5375
G32: Total costs | H32: =H24+H30 -> 2451.7479
B34: Income over operating costs | H34: =H9-H24 -> 131.05838
B35: Income over total costs | H35: =H9-H32 -> 34.520879
C37: Total cost/day per heifer sold | G37: =(H32-H12-H13)/(H43*30) -> 2.2818998
C38: Total cost/pound of gain per heifer sold | G38: =(H32-H12-H13)/(F7*D7+F6*(D6+D5)-Inputs!G28*(1+Heifer!G8)) -> 1.3778837
C39: Springer heifer breakeven price per head | G39: =(H32-H6-H7-H8)/D5 -> 2513.6622
B42: Variable cost assumption | E42: Unit | F42: Value | G42: Unit | H42: Value
C43: Months to charge interest | G43: month | H43: 24
B45: Building and equipment investment | F45: Value | G45: Unit | H45: Value
C46: Buildings and improvements | G46: $ per heifer | H46: 375
C47: Salvage value | F47: 0.1 | G47: percent | H47: =H46*F47 -> 37.5
C48: Depreciation | F48: 20 | G48: year | H48: =H46*(1-F47)/F48 -> 16.875
C49: Interest | H49: =((H46+H47)/2*Inputs!C34) -> 15.46875
C50: Insurance rate | F50: 0.0025 | G50: percent | H50: =F50*H46 -> 0.9375
...

Sheet Dairy
B2: Conventional Dairy Budget
B3: 150-cow herd, replacements raised | N3: Sensitivity to milk prices - income over total costs per cwt.
F4: 22,000 lbs. milk sold | J4: 25,000 lbs. milk sold | O4: 22,000 lbs. milk sold | R4: 25,000 lbs. milk sold
B5: Income | F5: per cow | H5: per cwt. | J5: per cow | L5: per cwt. | P5: per cwt. | S5: per cwt.
C6: ="Milk sales @ $"&H55&"/cwt" -> Milk sales @ $21.25/cwt | F6: =H52*H55/100 -> 4674.915 | H6: =F6/$H52*100 -> 21.25 | J6: =J52*$J55/100 -> 5312.5 | L6: =J6/J$52*100 -> 21.25 | N6: =N8*0.9 -> 19.125 | P6: =(($H$52*N6/100)/$H$52*100)+SUM($H$7:$H$10)-$H$39 -> -2.4838314 | S6: =(($J$52*N6/100)/$J$52*100)+SUM($L$7:$L$10)-$L$39 -> -0.8713523
C7: Quality premium | F7: =(H7/100)*H52 -> 0 | H7: 0 | J7: =(L7/100)*J52 -> 0 | L7: 0 | N7: =N8*0.95 -> 20.1875 | P7: =(($H$52*N7/100)/$H$52*100)+SUM($H$7:$H$10)-$H$39 -> -1.4213314 | S7: =(($J$52*N7/100)/$J$52*100)+SUM($L$7:$L$10)-$L$39 -> 0.1911477
C8: Government payments | F8: =(H8/100)*H52 -> 0 | H8: 0 | J8: =(L8/100)*J52 -> 0 | L8: 0 | N8: =H6 -> 21.25 | P8: =(($H$52*N8/100)/$H$52*100)+SUM($H$7:$H$10)-$H$39 -> -0.35883143 | S8: =(($J$52*N8/100)/$J$52*100)+SUM($L$7:$L$10)-$L$39 -> 1.2536477
C9: Calf sales: bulls and surplus heifers | F9: =IF($H$68=0,$H$73*((Inputs!C27+Inputs!C30)/2),($J$73*Inputs!C27)+($L$73*Inputs!C30)) -> 546.4 | H9: =F9/H$52*100 -> 2.4836815 | J9: =IF($H$68=0,$H$73*((Inputs!C27+Inputs!C30)/2),($J$73*Inputs!C27)+($L$73*Inputs!C30)) -> 546.4 | L9: =J9/J$52*100 -> 2.1856 | N9: =N8*1.05 -> 22.3125 | P9: =(($H$52*N9/100)/$H$52*100)+SUM($H$7:$H$10)-$H$39 -> 0.70366857 | S9: =(($J$52*N9/100)/$J$52*100)+SUM($L$7:$L$10)-$L$39 -> 2.3161477
C10: ="Cull cow sales: "&H78&" lbs. x "&H76*100&"% x $"&H77&"/cwt" -> Cull cow sales: 1450 lbs. x 27% x $130/cwt | F10: =$H$78*$H$76*$H$77/100 -> 508.95 | H10: =F10/H$52*100 -> 2.3134512 | J10: =$H$78*$H$76*$H$77/100 -> 508.95 | L10: =J10/J$52*100 -> 2.0358 | N10: =N8*1.1 -> 23.375 | P10: =(($H$52*N10/100)/$H$52*100)+SUM($H$7:$H$10)-$H$39 -> 1.7661686 | S10: =(($J$52*N10/100)/$J$52*100)+SUM($L$7:$L$10)-$L$39 -> 3.3786477
D11: Total income | F11: =SUM(F6:F10) -> 5730.265 | H11: =SUM(H6:H10) -> 26.047133 | J11: =SUM(J6:J10) -> 6367.85 | L11: =SUM(L6:L10) -> 25.4714
B13: Operating costs | F13: per cow | H13: per cwt. | J13: per cow | L13: per cwt.
C14: Feed | F14: =IF($H$68=0,'Cow feed'!D20,'Cow feed'!H20) -> 2818.1693 | H14: =F14/$H$52*100 -> 12.810093 | J14: =IF($H$68=0,'Cow feed'!F20,'Cow feed'!I20) -> 3001.8337 | L14: =J14/J$52*100 -> 12.007335
C15: Labor | F15: =($L58*$H58) -> 675 | H15: =F15/$H$52*100 -> 3.0682376 | J15: =($L58*$J58) -> 675 | L15: =J15/$J$52*100 -> 2.7
C16: Veterinary | F16: 85 | H16: =F16/$H$52*100 -> 0.38637066 | J16: 90 | L16: =J16/$J$52*100 -> 0.36
C17: Supplies | F17: 170 | H17: =F17/$H$52*100 -> 0.77274132 | J17: 175 | L17: =J17/$J$52*100 -> 0.7
C18: Utilities | F18: 92 | H18: =F18/$H$52*100 -> 0.41818942 | J18: 100 | L18: =J18/$J$52*100 -> 0.4
C19: Fuel and oil | F19: 115 | H19: =F19/$H$52*100 -> 0.52273678 | J19: 115 | L19: =J19/$J$52*100 -> 0.46
C20: Milk hauling and promotion | F20: =H52*(H59+H60)/100 -> 263.9952 | H20: =F20/$H$52*100 -> 1.2 | J20: =J52*(J59+J60)/100 -> 300 | L20: =J20/$J$52*100 -> 1.2
C21: Bedding | F21: 130 | H21: =F21/$H$52*100 -> 0.59091983 | J21: 130 | L21: =J21/$J$52*100 -> 0.52
C22: Building and equipment repair | F22: =H61*L93 -> 241.81034 | H22: =F22/$H$52*100 -> 1.0991579 | J22: =F22 -> 241.81034 | L22: =J22/$J$52*100 -> 0.96724138
C23: Custom hire | F23: 68 | H23: =F23/$H$52*100 -> 0.30909653 | J23: 68 | L23: =J23/$J$52*100 -> 0.272
C24: Breeding/genetic charges
C25: Capital replacement | F25: =H62 -> 0 | H25: =F25/$H$52*100 -> 0 | J25: =J62 -> 0 | L25: =J25/$J$52*100 -> 0
C26: Semen, A.I. services, etc. | F26: 60 | H26: =F26/$H$52*100 -> 0.27273223 | J26: 60 | L26: =J26/$J$52*100 -> 0.24
C27: Professional fees (legal, accounting, DHIA, etc.) | F27: 50 | H27: =F27/$H$52*100 -> 0.22727686 | J27: 50 | L27: =J27/$J$52*100 -> 0.2
C28: Miscellaneous | F28: 25 | H28: =F28/$H$52*100 -> 0.11363843 | J28: 25 | L28: =J28/$J$52*100 -> 0.1
C29: Operating interest | F29: =(SUM(F$14:F$28)-F20-F25)*(Inputs!C34/2) -> 169.87424 | H29: =F29/$H$52*100 -> 0.77216966 | J29: =(SUM(J$14:J$28)-J20-J25)*(Inputs!C34/2) -> 177.43665 | L29: =J29/$J$52*100 -> 0.7097466
D30: Total operating costs | F30: =SUM(F14:F29) -> 4963.8491 | H30: =SUM(H14:H29) -> 22.56336 | J30: =SUM(J14:J29) -> 5209.0806 | L30: =SUM(L14:L29) -> 20.836323
B32: Ownership costs | F32: per cow | H32: per cwt. | J32: per cow | L32: per cwt.
C33: Depreciation on bldgs. and equipment | F33: 271 | H33: =F33/$H$52*100 -> 1.2318406 | J33: 271 | L33: =J33/$J$52*100 -> 1.084
C34: Interest on land, bldgs., and equipment | F34: =N92 -> 261.10743 | H34: =F34/$H$52*100 -> 1.1868735 | J34: =F34 -> 261.10743 | L34: =J34/$J$52*100 -> 1.0444297
C35: Interest on breeding stock | F35: =H67*Inputs!C34 -> 191.25 | H35: =F35/$H$52*100 -> 0.86933399 | J35: =F35 -> 191.25 | L35: =J35/$J$52*100 -> 0.765
C36: Insurance & real estate taxes | F36: 122 | H36: =F36/$H$52*100 -> 0.55455554 | J36: 122 | L36: =J36/$J$52*100 -> 0.488
D37: Total ownership costs | F37: =SUM(F33:F36) -> 845.35743 | H37: =SUM(H33:H36) -> 3.8426036 | J37: =SUM(J33:J36) -> 845.35743 | L37: =SUM(L33:L36) -> 3.3814297
D39: Total costs | F39: =F30+F37 -> 5809.2065 | H39: =H30+H37 -> 26.405964 | J39: =J30+J37 -> 6054.4381 | L39: =L30+L37 -> 24.217752
B41: Income over operating costs | F41: =F11-F30 -> 766.41595 | H41: =H11-H30 -> 3.4837722 | J41: =J11-J30 -> 1158.7694 | L41: =L11-L30 -> 4.6350774
B42: Income over total costs | F42: =F11-F39 -> -78.941479 | H42: =H11-H39 -> -0.35883143 | J42: =J11-J39 -> 313.41192 | L42: =L11-L39 -> 1.2536477
H45: Production level (lbs milk sold)
H46: =H52 -> 21999.6 | J46: =J52 -> 25000
B47: Production and cost assumptions | F47: Unit | H47: Value | J47: Value | L47: Value | M47: Unit
...
